CPAN-Testers-Common-Client v0.14 Perl 5 v5.24.4 darwin-2level
- Status
- Pass
- From
- NONAME
- Dist
-
CPAN-Testers-Common-Client v0.14
- Platform
- Perl 5 v5.24.4 darwin-2level
- Date
- 2018-04-25 17:34:01
- ID
- d7d91daa-48ae-11e8-953d-f5ca5a8dd627
This distribution has been tested as part of the CPAN Testers
project, supporting the Perl programming language. See
http://wiki.cpantesters.org/ for more information or email
questions to cpan-testers-discuss@perl.org
--
Dear GARU,
This is a computer-generated report for CPAN-Testers-Common-Client-0.14
on perl 5.24.4, created by App::cpanminus::reporter 0.17 (1.7044).
Thank you for uploading your work to CPAN. Congratulations!
All tests were successful.
Sections of this report:
* Tester comments
* Program output
* Prerequisites
* Environment and other context
------------------------------
TESTER COMMENTS
------------------------------
Additional comments from tester:
none provided
------------------------------
PROGRAM OUTPUT
------------------------------
Output from '':
Building and testing CPAN-Testers-Common-Client-0.14
Manifying 4 pod documents
PERL_DL_NONLAZY=1 "/Users/ether/perl5/perlbrew/perls/24.4/bin/perl" "-MExtUtils::Command::MM" "-MTest::Harness" "-e" "undef *Test::Harness::Switches; test_harness(0, 'blib/lib', 'blib/arch')" t/*.t
t/02-config.t ............... ok
t/03-history.t .............. ok
# Testing CPAN::Testers::Common::Client 0.14
t/00.load.t ................. ok
t/03-undef-prereq-report.t .. ok
t/01-basic.t ................ ok
All tests successful.
Files=5, Tests=96, 2 wallclock secs ( 0.05 usr 0.01 sys + 3.01 cusr 0.46 csys = 3.53 CPU)
Result: PASS
------------------------------
PREREQUISITES
------------------------------
Prerequisite modules loaded:
No requirements found
------------------------------
ENVIRONMENT AND OTHER CONTEXT
------------------------------
Environment variables:
HARNESS_OPTIONS = j5:c
LANG = en_CA.UTF-8
NO_NETWORK_TESTING = 1
PATH = /Users/ether/.perlbrew/libs/24.4@std/bin:/Users/ether/perl5/perlbrew/bin:/Users/ether/perl5/perlbrew/perls/24.4/bin:/Users/ether/bin:/Users/ether/git/misc/install/bourbon/bin:/Users/ether/git/misc/install/generic/bin:/opt/local/bin:/opt/local/sbin:/Users/ether/git/git-hub/lib:/Users/ether/src/CE/devtools:/Users/ether/git/CE/devtools:/Users/ether/src/CE/bin:/Users/ether/git/CE/bin:/usr/local/bin:/usr/bin:/bin:/usr/sbin:/sbin:/opt/local/share/git-core/contrib/workdir
PERL5LIB = /Users/ether/.perlbrew/libs/24.4@std/lib/perl5
PERLBREW_HOME = /Users/ether/.perlbrew
PERLBREW_LIB = std
PERLBREW_MANPATH = /Users/ether/.perlbrew/libs/24.4@std/man:/Users/ether/perl5/perlbrew/perls/24.4/man
PERLBREW_PATH = /Users/ether/.perlbrew/libs/24.4@std/bin:/Users/ether/perl5/perlbrew/bin:/Users/ether/perl5/perlbrew/perls/24.4/bin
PERLBREW_PERL = 24.4
PERLBREW_ROOT = /Users/ether/perl5/perlbrew
PERLBREW_SHELLRC_VERSION = 0.82
PERLBREW_VERSION = 0.82
PERLDOC = -oman
PERLDOC_PAGER = less -sicMr
PERL_AUTOINSTALL_PREFER_CPAN = 1
PERL_INSTALL_QUIET = 1
PERL_LOCAL_LIB_ROOT = /Users/ether/.perlbrew/libs/24.4@std
PERL_MB_OPT = --install_base /Users/ether/.perlbrew/libs/24.4@std
PERL_MM_OPT = INSTALL_BASE=/Users/ether/.perlbrew/libs/24.4@std
PERL_USE_UNSAFE_INC = 0
SHELL = /bin/bash
TERM = xterm-color
TMPDIR = /var/folders/8r/y_1q6y1n56b3dpj2_vqxk83r0000gn/T/
Perl special variables (and OS-specific diagnostics, for MSWin32):
EGID = 20 20 701 12 61 79 80 81 98 399 33 100 204 395 398
EUID = 501
EXECUTABLE_NAME = /Users/ether/perl5/perlbrew/perls/24.4/bin/perl
GID = 20 20 701 12 61 79 80 81 98 399 33 100 204 395 398
UID = 501
Perl module toolchain versions installed:
Module Have
------------------- ----------
CPAN 2.11_01
CPAN::Meta 2.150005
Cwd 3.63_01
ExtUtils::CBuilder 0.280225
ExtUtils::Command 7.10_02
ExtUtils::Install 2.04
ExtUtils::MakeMaker 7.10_02
ExtUtils::Manifest 1.70
ExtUtils::ParseXS 3.31
File::Spec 3.63_01
JSON n/a
JSON::PP 2.27300_01
Module::Build n/a
Module::Signature n/a
Parse::CPAN::Meta 1.4417_001
Test::Harness 3.36_01
Test::More 1.001014
YAML n/a
YAML::Syck n/a
version 0.9916
--
Summary of my perl5 (revision 5 version 24 subversion 4) configuration:
Platform:
osname=darwin, osvers=16.7.0, archname=darwin-2level
uname='darwin bourbon 16.7.0 darwin kernel version 16.7.0: tue jan 30 11:27:06 pst 2018; root:xnu-3789.73.11~1release_x86_64 x86_64 '
config_args='-de -Dprefix=/Users/ether/perl5/perlbrew/perls/24.4 -Dman1dir=none -Dman3dir=none -Aeval:scriptdir=/Users/ether/perl5/perlbrew/perls/24.4/bin'
hint=recommended, useposix=true, d_sigaction=define
useithreads=undef, usemultiplicity=undef
use64bitint=define, use64bitall=define, uselongdouble=undef
usemymalloc=n, bincompat5005=undef
Compiler:
cc='cc', ccflags ='-fno-common -DPERL_DARWIN -mmacosx-version-min=10.12 -fno-strict-aliasing -pipe -fstack-protector-strong -I/usr/local/include -I/opt/local/include -DPERL_USE_SAFE_PUTENV',
optimize='-O3',
cppflags='-fno-common -DPERL_DARWIN -mmacosx-version-min=10.12 -fno-strict-aliasing -pipe -fstack-protector-strong -I/usr/local/include -I/opt/local/include'
ccversion='', gccversion='4.2.1 Compatible Apple LLVM 9.0.0 (clang-900.0.39.2)', gccosandvers=''
intsize=4, longsize=8, ptrsize=8, doublesize=8, byteorder=12345678, doublekind=3
d_longlong=define, longlongsize=8, d_longdbl=define, longdblsize=16, longdblkind=3
ivtype='long', ivsize=8, nvtype='double', nvsize=8, Off_t='off_t', lseeksize=8
alignbytes=8, prototype=define
Linker and Libraries:
ld='cc', ldflags =' -mmacosx-version-min=10.12 -fstack-protector-strong -L/usr/local/lib -L/opt/local/lib'
libpth=/usr/local/lib /Applications/Xcode.app/Contents/Developer/Toolchains/XcodeDefault.xctoolchain/usr/lib/clang/9.0.0/lib /Applications/Xcode.app/Contents/Developer/Toolchains/XcodeDefault.xctoolchain/usr/lib /usr/lib /opt/local/lib
libs=-lpthread -lgdbm -ldbm -ldl -lm -lutil -lc
perllibs=-lpthread -ldl -lm -lutil -lc
libc=, so=dylib, useshrplib=false, libperl=libperl.a
gnulibc_version=''
Dynamic Linking:
dlsrc=dl_dlopen.xs, dlext=bundle, d_dlsymun=undef, ccdlflags=' '
cccdlflags=' ', lddlflags=' -mmacosx-version-min=10.12 -bundle -undefined dynamic_lookup -L/usr/local/lib -L/opt/local/lib -fstack-protector-strong'
Characteristics of this binary (from libperl):
Compile-time options: HAS_TIMES PERLIO_LAYERS PERL_COPY_ON_WRITE
PERL_DONT_CREATE_GVSV
PERL_HASH_FUNC_ONE_AT_A_TIME_HARD PERL_MALLOC_WRAP
PERL_PRESERVE_IVUV PERL_USE_SAFE_PUTENV
USE_64_BIT_ALL USE_64_BIT_INT USE_LARGE_FILES
USE_LOCALE USE_LOCALE_COLLATE USE_LOCALE_CTYPE
USE_LOCALE_NUMERIC USE_LOCALE_TIME USE_PERLIO
USE_PERL_ATOF
Locally applied patches:
Devel::PatchPerl 1.48
Built under darwin
Compiled at Apr 25 2018 10:26:39
%ENV:
PERL5LIB="/Users/ether/.perlbrew/libs/24.4@std/lib/perl5"
PERLBREW_HOME="/Users/ether/.perlbrew"
PERLBREW_LIB="std"
PERLBREW_MANPATH="/Users/ether/.perlbrew/libs/24.4@std/man:/Users/ether/perl5/perlbrew/perls/24.4/man"
PERLBREW_PATH="/Users/ether/.perlbrew/libs/24.4@std/bin:/Users/ether/perl5/perlbrew/bin:/Users/ether/perl5/perlbrew/perls/24.4/bin"
PERLBREW_PERL="24.4"
PERLBREW_ROOT="/Users/ether/perl5/perlbrew"
PERLBREW_SHELLRC_VERSION="0.82"
PERLBREW_VERSION="0.82"
PERLDOC="-oman"
PERLDOC_PAGER="less -sicMr"
PERL_AUTOINSTALL_PREFER_CPAN="1"
PERL_INSTALL_QUIET="1"
PERL_LOCAL_LIB_ROOT="/Users/ether/.perlbrew/libs/24.4@std"
PERL_MB_OPT="--install_base /Users/ether/.perlbrew/libs/24.4@std"
PERL_MM_OPT="INSTALL_BASE=/Users/ether/.perlbrew/libs/24.4@std"
PERL_USE_UNSAFE_INC="0"
@INC:
/Users/ether/.perlbrew/libs/24.4@std/lib/perl5/darwin-2level
/Users/ether/.perlbrew/libs/24.4@std/lib/perl5
/Users/ether/perl5/perlbrew/perls/24.4/lib/site_perl/5.24.4/darwin-2level
/Users/ether/perl5/perlbrew/perls/24.4/lib/site_perl/5.24.4
/Users/ether/perl5/perlbrew/perls/24.4/lib/5.24.4/darwin-2level
/Users/ether/perl5/perlbrew/perls/24.4/lib/5.24.4
.