Math-Matrix v0.94 Perl 5 v5.18.2 MSWin32-x86-multi-thread

Status
Pass
From
Alexandr Ciornii (CHORNY)
Dist
Math-Matrix v0.94
Platform
Perl 5 v5.18.2 MSWin32-x86-multi-thread
Date
2021-01-13 18:15:00
ID
d79dd8be-6bf5-1014-bf2d-011ef1e54d19
This distribution has been tested as part of the CPAN Testers
project, supporting the Perl programming language.  See
http://wiki.cpantesters.org/ for more information or email
questions to cpan-testers-discuss@perl.org


--
Dear Peter John Acklam,

This is a computer-generated report for Math-Matrix-0.94
on perl 5.18.2, created by CPAN-Reporter-1.2018.

Thank you for uploading your work to CPAN.  Congratulations!
All tests were successful.

Sections of this report:

    * Tester comments
    * Program output
    * Prerequisites
    * Environment and other context

------------------------------
TESTER COMMENTS
------------------------------

Additional comments from tester:

this report is from an automated smoke testing program
and was not reviewed by a human for accuracy

------------------------------
PROGRAM OUTPUT
------------------------------

Output from 'C:\strawberry182\c\bin\dmake.exe test':

C:\strawberry182\perl\bin\perl.exe "-MExtUtils::Command::MM" "-MTest::Harness" "-e" "undef *Test::Harness::Switches; test_harness(0, 'blib\lib', 'blib\arch')" t/*.t
t/00-signature.t ................... skipped: Set the environment variable TEST_SIGNATURE to enable this test.
t/01-load.t ........................ ok
t/abs-sign.t ....................... ok
t/absolute.t ....................... ok
t/add.t ............................ ok
t/adjugate.t ....................... ok
t/all.t ............................ ok
t/any.t ............................ ok
t/as_array.t ....................... ok
t/as_string.t ...................... ok
t/bandwidth.t ...................... ok
t/basic.t .......................... ok
t/blkdiag.t ........................ ok
t/catcol-math-complex.t ............ ok
t/catcol-math-real.t ............... ok
t/catcol.t ......................... ok
t/catrow-math-complex.t ............ ok
t/catrow-math-real.t ............... ok
t/catrow.t ......................... ok
t/ceil.t ........................... ok
t/chol.t ........................... ok
t/clone-math-complex.t ............. ok
t/clone-math-real.t ................ ok
t/clone.t .......................... ok
t/cofactor.t ....................... ok
t/cofactormatrix.t ................. ok
t/concat-math-complex.t ............ ok
t/concat-math-real.t ............... ok
t/concat.t ......................... ok
t/constant-zeros-ones-inf-nan.t .... ok
t/cross_product.t .................. ok
t/cumall.t ......................... ok
t/cumany.t ......................... ok
t/cummean.t ........................ ok
t/cumprod.t ........................ ok
t/cumsum.t ......................... ok
t/delcol.t ......................... ok
t/delrow.t ......................... ok
t/det-determinant-detr.t ........... ok
t/diagonal.t ....................... ok
t/diff.t ........................... ok
t/dot_product.t .................... ok
t/exchg.t .......................... ok
t/extension.t ...................... ok
t/felim_xxx.t ...................... ok
t/find-is_finite-is_inf-is_nan.t ... ok
t/flip.t ........................... ok
t/fliplr.t ......................... ok
t/flipud.t ......................... ok
t/floor.t .......................... ok
t/getcol.t ......................... ok
t/getrow.t ......................... ok
t/hypot.t .......................... ok
t/id-eye-new_identity.t ............ ok
t/int.t ............................ ok
t/is_xxx.t ......................... ok
t/kron.t ........................... ok
t/madd.t ........................... ok
t/map.t ............................ ok
t/max.t ............................ ok
t/mean.t ........................... ok
t/median.t ......................... ok
t/meq-mne.t ........................ ok
t/min.t ............................ ok
t/minor.t .......................... ok
t/minormatrix.t .................... ok
t/minv-inv.t ....................... ok
t/mldiv.t .......................... ok
t/mmul.t ........................... ok
t/mmuladd.t ........................ ok
t/mpinv-pinv.t ..................... ok
t/mpow-pow.t ....................... ok
t/mrdiv.t .......................... ok
t/msub.t ........................... ok
t/mul.t ............................ ok
t/neg.t ............................ ok
t/new.t ............................ ok
t/new_from_cols.t .................. ok
t/new_from_rows.t .................. ok
t/new_from_sub.t ................... ok
t/normalize.t ...................... ok
t/outer_product.t .................. ok
t/prod.t ........................... ok
t/rand.t ........................... ok
t/randi.t .......................... ok
t/randn.t .......................... ok
t/repelm.t ......................... ok
t/repmat.t ......................... ok
t/reshape-math-complex.t ........... ok
t/reshape-math-real.t .............. ok
t/reshape.t ........................ ok
t/rot180.t ......................... ok
t/rot270.t ......................... ok
t/rot90.t .......................... ok
t/sadd.t ........................... ok
t/sapply-math-complex.t ............ ok
t/sapply-math-real.t ............... ok
t/sapply.t ......................... ok
t/scalar.t ......................... ok
t/sdiv-sldiv-srdiv.t ............... ok
t/seq-sne-sle-slt-sge-sgt-scmp.t ... ok
t/sinv.t ........................... ok
t/size-nrow-ncol-npag-ndim-nelm.t .. ok
t/slice-math-complex.t ............. ok
t/slice-math-real.t ................ ok
t/slice.t .......................... ok
t/smul.t ........................... ok
t/splicecol.t ...................... ok
t/splicerow.t ...................... ok
t/spow.t ........................... ok
t/ssub.t ........................... ok
t/sub.t ............................ ok
t/sum.t ............................ ok
t/swaprc.t ......................... ok
t/to_col.t ......................... ok
t/to_permmat.t ..................... ok
t/to_permvec.t ..................... ok
t/to_row.t ......................... ok
t/transpose-math-complex.t ......... ok
t/transpose-math-real.t ............ ok
t/transpose.t ...................... ok
t/tril.t ........................... ok
t/triu.t ........................... ok
t/vecnorm.t ........................ ok
t/version.t ........................ ok
All tests successful.
Files=125, Tests=3517, 27 wallclock secs ( 0.70 usr +  0.24 sys =  0.94 CPU)
Result: PASS

------------------------------
PREREQUISITES
------------------------------

Prerequisite modules loaded:

requires:

    Module              Need Have    
    ------------------- ---- --------
    Carp                0    1.32    
    Math::Trig          1.06 1.23    
    Scalar::Util        1    1.38    

build_requires:

    Module              Need Have    
    ------------------- ---- --------
    Test::More          0.82 1.001002

configure_requires:

    Module              Need Have    
    ------------------- ---- --------
    ExtUtils::MakeMaker 6.58 6.84    


------------------------------
ENVIRONMENT AND OTHER CONTEXT
------------------------------

Environment variables:

    AUTOMATED_TESTING = 1
    COMSPEC = C:\WINDOWS\system32\cmd.exe
    NUMBER_OF_PROCESSORS = 1
    PATH = C:\WINDOWS\system32;C:\WINDOWS;C:\WINDOWS\System32\Wbem;C:\strawberry182\c\bin;C:\strawberry182\perl\site\bin;C:\strawberry182\perl\bin
    PERL5LIB = 
    PERL5OPT = 
    PERL5_CPANPLUS_IS_RUNNING = 1064
    PERL5_CPAN_IS_RUNNING = 1064
    PERL5_CPAN_IS_RUNNING_IN_RECURSION = 1832,1064
    PERL_CR_SMOKER_CURRENT = Math-Matrix-0.94
    PERL_CR_SMOKER_RUNONCE = 1
    PERL_EXTUTILS_AUTOINSTALL = --defaultdeps
    PERL_HASH_SEED = 0x11111111
    PERL_MM_USE_DEFAULT = 1
    PROCESSOR_IDENTIFIER = x86 Family 18 Model 1 Stepping 0, AuthenticAMD
    TEMP = C:\DOCUME~1\c\LOCALS~1\Temp
    TERM = dumb

Perl special variables (and OS-specific diagnostics, for MSWin32):

    $^X = C:\strawberry182\perl\bin\perl.exe
    $UID/$EUID = 0 / 0
    $GID = 0
    $EGID = 0
    Win32::GetOSName = WinXP/.Net
    Win32::GetOSVersion = Service Pack 3, 5, 1, 2600, 2, 3, 0, 256, 1
    Win32::FsType = NTFS
    Win32::IsAdminUser = 1

Perl module toolchain versions installed:

    Module              Have    
    ------------------- --------
    CPAN                2.16    
    CPAN::Meta          2.133380
    Cwd                 3.40    
    ExtUtils::CBuilder  0.280212
    ExtUtils::Command   1.18    
    ExtUtils::Install   1.59    
    ExtUtils::MakeMaker 6.84    
    ExtUtils::Manifest  1.63    
    ExtUtils::ParseXS   3.22    
    File::Spec          3.40    
    JSON                2.90    
    JSON::PP            2.27203 
    Module::Build       0.4203  
    Module::Signature   n/a     
    Parse::CPAN::Meta   1.4414  
    Test::Harness       3.30    
    Test::More          1.001002
    YAML                0.90    
    YAML::Syck          1.27    
    version             0.9904  


--

Summary of my perl5 (revision 5 version 18 subversion 2) configuration:
   
  Platform:
    osname=MSWin32, osvers=6.2, archname=MSWin32-x86-multi-thread
    uname='Win32 strawberry-perl-no64 5.18.2.1 #1 Tue Jan  7 19:43:33 2014 i386'
    config_args='undef'
    hint=recommended, useposix=true, d_sigaction=undef
    useithreads=define, usemultiplicity=define
    useperlio=define, d_sfio=undef, uselargefiles=define, usesocks=undef
    use64bitint=undef, use64bitall=undef, uselongdouble=undef
    usemymalloc=n, bincompat5005=undef
  Compiler:
    cc='gcc', ccflags =' -s -O2 -DWIN32  -DPERL_TEXTMODE_SCRIPTS -DPERL_IMPLICIT_CONTEXT -DPERL_IMPLICIT_SYS -DUSE_PERLIO -fno-strict-aliasing -mms-bitfields',
    optimize='-s -O2',
    cppflags='-DWIN32'
    ccversion='', gccversion='4.7.3', gccosandvers=''
    intsize=4, longsize=4, ptrsize=4, doublesize=8, byteorder=1234
    d_longlong=define, longlongsize=8, d_longdbl=define, longdblsize=12
    ivtype='long', ivsize=4, nvtype='double', nvsize=8, Off_t='long long', lseeksize=8
    alignbytes=8, prototype=define
  Linker and Libraries:
    ld='g++', ldflags ='-s -L"C:\strawberry182\perl\lib\CORE" -L"C:\strawberry182\c\lib"'
    libpth=C:\strawberry182\c\lib C:\strawberry182\c\i686-w64-mingw32\lib C:\strawberry182\c\lib\gcc\i686-w64-mingw32\4.7.3
    libs=-lmoldname -lkernel32 -luser32 -lgdi32 -lwinspool -lcomdlg32 -ladvapi32 -lshell32 -lole32 -loleaut32 -lnetapi32 -luuid -lws2_32 -lmpr -lwinmm -lversion -lodbc32 -lodbccp32 -lcomctl32
    perllibs=-lmoldname -lkernel32 -luser32 -lgdi32 -lwinspool -lcomdlg32 -ladvapi32 -lshell32 -lole32 -loleaut32 -lnetapi32 -luuid -lws2_32 -lmpr -lwinmm -lversion -lodbc32 -lodbccp32 -lcomctl32
    libc=, so=dll, useshrplib=true, libperl=libperl518.a
    gnulibc_version=''
  Dynamic Linking:
    dlsrc=dl_win32.xs, dlext=dll, d_dlsymun=undef, ccdlflags=' '
    cccdlflags=' ', lddlflags='-mdll -s -L"C:\strawberry182\perl\lib\CORE" -L"C:\strawberry182\c\lib"'


Characteristics of this binary (from libperl): 
  Compile-time options: HAS_TIMES HAVE_INTERP_INTERN MULTIPLICITY
                        PERLIO_LAYERS PERL_DONT_CREATE_GVSV
                        PERL_HASH_FUNC_ONE_AT_A_TIME_HARD
                        PERL_IMPLICIT_CONTEXT PERL_IMPLICIT_SYS
                        PERL_MALLOC_WRAP PERL_PRESERVE_IVUV PERL_SAWAMPERSAND
                        USE_ITHREADS USE_LARGE_FILES USE_LOCALE
                        USE_LOCALE_COLLATE USE_LOCALE_CTYPE
                        USE_LOCALE_NUMERIC USE_PERLIO USE_PERL_ATOF
  Built under MSWin32
  Compiled at Jan  7 2014 19:51:54
  %ENV:
    PERL5_CPANPLUS_IS_RUNNING="1064"
    PERL5_CPAN_IS_RUNNING="1064"
    PERL5_CPAN_IS_RUNNING_IN_RECURSION="1832,1064"
    PERL_CR_SMOKER_CURRENT="Math-Matrix-0.94"
    PERL_CR_SMOKER_RUNONCE="1"
    PERL_EXTUTILS_AUTOINSTALL="--defaultdeps"
    PERL_HASH_SEED="0x11111111"
    PERL_MM_USE_DEFAULT="1"
  @INC:
    C:/strawberry182/perl/site/lib
    C:/strawberry182/perl/vendor/lib
    C:/strawberry182/perl/lib
    .