HTTP-Promise vv0.5.3 Perl 5 v5.38.2 x86_64-linux-multi-ld

Status
Pass
From
Andreas J. König (ANDK)
Dist
HTTP-Promise vv0.5.3
Platform
Perl 5 v5.38.2 x86_64-linux-multi-ld
Date
2025-03-21 09:57:04
ID
d79d6ab6-063a-11f0-a398-d0f3be34a1d4
This distribution has been tested as part of the CPAN Testers
project, supporting the Perl programming language.  See
http://wiki.cpantesters.org/ for more information or email
questions to cpan-testers-discuss@perl.org


--
Dear Jacques Deguest,

This is a computer-generated report for HTTP-Promise-v0.5.3
on perl 5.38.2, created by CPAN-Reporter-1.2019.

Thank you for uploading your work to CPAN.  Congratulations!
All tests were successful.

Sections of this report:

    * Tester comments
    * Program output
    * Prerequisites
    * Environment and other context

------------------------------
TESTER COMMENTS
------------------------------

Additional comments from tester:

this report is from an automated smoke testing program
and was not reviewed by a human for accuracy

------------------------------
PROGRAM OUTPUT
------------------------------

Output from '/usr/bin/make test':

PERL_DL_NONLAZY=1 "/home/sand/src/perl/repoperls/installed-perls/host/k93msid/v5.38.2/1d53/bin/perl" "-MExtUtils::Command::MM" "-MTest::Harness" "-e" "undef *Test::Harness::Switches; test_harness(0, 'blib/lib', 'blib/arch')" t/*.t
t/01.load.t ................ ok
Bad request within package HTTP::Promise::Parser at line 455 in file lib/HTTP/Promise/Parser.pm
Trace begun at lib/HTTP/Promise/Parser.pm line 455
	HTTP::Promise::Parser::parse_headers('HTTP::Promise::Parser', 'SCALAR(0x5573e1dd3830)') called at lib/HTTP/Promise/Parser.pm line 786
	HTTP::Promise::Parser::parse_request_pp('HTTP::Promise::Parser', 'SCALAR(0x5573e1dd3830)') called at t/02.parser.t line 190
	main::__ANON__ at /home/sand/src/perl/repoperls/installed-perls/host/k93msid/v5.38.2/1d53/lib/site_perl/5.38.2/Test/Builder.pm line 374
	eval {...} at /home/sand/src/perl/repoperls/installed-perls/host/k93msid/v5.38.2/1d53/lib/site_perl/5.38.2/Test/Builder.pm line 374
	Test::Builder::subtest('Test::Builder=HASH(0x5573dfdeadc8)', 'request', 'CODE(0x5573e1dc7458)') called at /home/sand/src/perl/repoperls/installed-perls/host/k93msid/v5.38.2/1d53/lib/site_perl/5.38.2/Test/More.pm line 831
	Test::More::subtest('request', 'CODE(0x5573e1dc7458)') called at t/02.parser.t line 203
Bad request within package HTTP::Promise::Parser at line 455 in file lib/HTTP/Promise/Parser.pm
Trace begun at lib/HTTP/Promise/Parser.pm line 455
	HTTP::Promise::Parser::parse_headers('HTTP::Promise::Parser', 'SCALAR(0x5573e1dd3830)') called at lib/HTTP/Promise/Parser.pm line 786
	HTTP::Promise::Parser::parse_request_pp('HTTP::Promise::Parser', 'SCALAR(0x5573e1dd3830)') called at t/02.parser.t line 190
	main::__ANON__ at /home/sand/src/perl/repoperls/installed-perls/host/k93msid/v5.38.2/1d53/lib/site_perl/5.38.2/Test/Builder.pm line 374
	eval {...} at /home/sand/src/perl/repoperls/installed-perls/host/k93msid/v5.38.2/1d53/lib/site_perl/5.38.2/Test/Builder.pm line 374
	Test::Builder::subtest('Test::Builder=HASH(0x5573dfdeadc8)', 'request', 'CODE(0x5573e1dc7458)') called at /home/sand/src/perl/repoperls/installed-perls/host/k93msid/v5.38.2/1d53/lib/site_perl/5.38.2/Test/More.pm line 831
	Test::More::subtest('request', 'CODE(0x5573e1dc7458)') called at t/02.parser.t line 203
Bad Request-Line within package HTTP::Promise::Parser at line 450 in file lib/HTTP/Promise/Parser.pm
Trace begun at lib/HTTP/Promise/Parser.pm line 450
	HTTP::Promise::Parser::parse_headers('HTTP::Promise::Parser', 'SCALAR(0x5573e1dd3830)') called at lib/HTTP/Promise/Parser.pm line 786
	HTTP::Promise::Parser::parse_request_pp('HTTP::Promise::Parser', 'SCALAR(0x5573e1dd3830)') called at t/02.parser.t line 190
	main::__ANON__ at /home/sand/src/perl/repoperls/installed-perls/host/k93msid/v5.38.2/1d53/lib/site_perl/5.38.2/Test/Builder.pm line 374
	eval {...} at /home/sand/src/perl/repoperls/installed-perls/host/k93msid/v5.38.2/1d53/lib/site_perl/5.38.2/Test/Builder.pm line 374
	Test::Builder::subtest('Test::Builder=HASH(0x5573dfdeadc8)', 'request', 'CODE(0x5573e1dc7458)') called at /home/sand/src/perl/repoperls/installed-perls/host/k93msid/v5.38.2/1d53/lib/site_perl/5.38.2/Test/More.pm line 831
	Test::More::subtest('request', 'CODE(0x5573e1dc7458)') called at t/02.parser.t line 203
Incomplete request, call again when there is more data. within package HTTP::Promise::Parser at line 414 in file lib/HTTP/Promise/Parser.pm
Trace begun at lib/HTTP/Promise/Parser.pm line 414
	HTTP::Promise::Parser::parse_headers('HTTP::Promise::Parser', 'SCALAR(0x5573e1dd3830)') called at lib/HTTP/Promise/Parser.pm line 786
	HTTP::Promise::Parser::parse_request_pp('HTTP::Promise::Parser', 'SCALAR(0x5573e1dd3830)') called at t/02.parser.t line 190
	main::__ANON__ at /home/sand/src/perl/repoperls/installed-perls/host/k93msid/v5.38.2/1d53/lib/site_perl/5.38.2/Test/Builder.pm line 374
	eval {...} at /home/sand/src/perl/repoperls/installed-perls/host/k93msid/v5.38.2/1d53/lib/site_perl/5.38.2/Test/Builder.pm line 374
	Test::Builder::subtest('Test::Builder=HASH(0x5573dfdeadc8)', 'request', 'CODE(0x5573e1dc7458)') called at /home/sand/src/perl/repoperls/installed-perls/host/k93msid/v5.38.2/1d53/lib/site_perl/5.38.2/Test/More.pm line 831
	Test::More::subtest('request', 'CODE(0x5573e1dc7458)') called at t/02.parser.t line 203
Bad request within package HTTP::Promise::Parser at line 455 in file lib/HTTP/Promise/Parser.pm
Trace begun at lib/HTTP/Promise/Parser.pm line 455
	HTTP::Promise::Parser::parse_headers('HTTP::Promise::Parser', 'SCALAR(0x5573e1dd3830)') called at lib/HTTP/Promise/Parser.pm line 786
	HTTP::Promise::Parser::parse_request_pp('HTTP::Promise::Parser', 'SCALAR(0x5573e1dd3830)') called at t/02.parser.t line 190
	main::__ANON__ at /home/sand/src/perl/repoperls/installed-perls/host/k93msid/v5.38.2/1d53/lib/site_perl/5.38.2/Test/Builder.pm line 374
	eval {...} at /home/sand/src/perl/repoperls/installed-perls/host/k93msid/v5.38.2/1d53/lib/site_perl/5.38.2/Test/Builder.pm line 374
	Test::Builder::subtest('Test::Builder=HASH(0x5573dfdeadc8)', 'request', 'CODE(0x5573e1dc7458)') called at /home/sand/src/perl/repoperls/installed-perls/host/k93msid/v5.38.2/1d53/lib/site_perl/5.38.2/Test/More.pm line 831
	Test::More::subtest('request', 'CODE(0x5573e1dc7458)') called at t/02.parser.t line 203
Bad Request-Line within package HTTP::Promise::Parser at line 450 in file lib/HTTP/Promise/Parser.pm
Trace begun at lib/HTTP/Promise/Parser.pm line 450
	HTTP::Promise::Parser::parse_headers('HTTP::Promise::Parser', 'SCALAR(0x5573e1dd3830)') called at lib/HTTP/Promise/Parser.pm line 786
	HTTP::Promise::Parser::parse_request_pp('HTTP::Promise::Parser', 'SCALAR(0x5573e1dd3830)') called at t/02.parser.t line 190
	main::__ANON__ at /home/sand/src/perl/repoperls/installed-perls/host/k93msid/v5.38.2/1d53/lib/site_perl/5.38.2/Test/Builder.pm line 374
	eval {...} at /home/sand/src/perl/repoperls/installed-perls/host/k93msid/v5.38.2/1d53/lib/site_perl/5.38.2/Test/Builder.pm line 374
	Test::Builder::subtest('Test::Builder=HASH(0x5573dfdeadc8)', 'request', 'CODE(0x5573e1dc7458)') called at /home/sand/src/perl/repoperls/installed-perls/host/k93msid/v5.38.2/1d53/lib/site_perl/5.38.2/Test/More.pm line 831
	Test::More::subtest('request', 'CODE(0x5573e1dc7458)') called at t/02.parser.t line 203
Incomplete request, call again when there is more data. within package HTTP::Promise::Parser at line 414 in file lib/HTTP/Promise/Parser.pm
Trace begun at lib/HTTP/Promise/Parser.pm line 414
	HTTP::Promise::Parser::parse_headers('HTTP::Promise::Parser', 'SCALAR(0x5573e1dd3830)') called at lib/HTTP/Promise/Parser.pm line 786
	HTTP::Promise::Parser::parse_request_pp('HTTP::Promise::Parser', 'SCALAR(0x5573e1dd3830)') called at t/02.parser.t line 190
	main::__ANON__ at /home/sand/src/perl/repoperls/installed-perls/host/k93msid/v5.38.2/1d53/lib/site_perl/5.38.2/Test/Builder.pm line 374
	eval {...} at /home/sand/src/perl/repoperls/installed-perls/host/k93msid/v5.38.2/1d53/lib/site_perl/5.38.2/Test/Builder.pm line 374
	Test::Builder::subtest('Test::Builder=HASH(0x5573dfdeadc8)', 'request', 'CODE(0x5573e1dc7458)') called at /home/sand/src/perl/repoperls/installed-perls/host/k93msid/v5.38.2/1d53/lib/site_perl/5.38.2/Test/More.pm line 831
	Test::More::subtest('request', 'CODE(0x5573e1dc7458)') called at t/02.parser.t line 203
Bad request within package HTTP::Promise::Parser at line 476 in file lib/HTTP/Promise/Parser.pm
Trace begun at lib/HTTP/Promise/Parser.pm line 476
	HTTP::Promise::Parser::parse_headers('HTTP::Promise::Parser', 'SCALAR(0x5573e1dd3830)') called at lib/HTTP/Promise/Parser.pm line 786
	HTTP::Promise::Parser::parse_request_pp('HTTP::Promise::Parser', 'SCALAR(0x5573e1dd3830)') called at t/02.parser.t line 190
	main::__ANON__ at /home/sand/src/perl/repoperls/installed-perls/host/k93msid/v5.38.2/1d53/lib/site_perl/5.38.2/Test/Builder.pm line 374
	eval {...} at /home/sand/src/perl/repoperls/installed-perls/host/k93msid/v5.38.2/1d53/lib/site_perl/5.38.2/Test/Builder.pm line 374
	Test::Builder::subtest('Test::Builder=HASH(0x5573dfdeadc8)', 'request', 'CODE(0x5573e1dc7458)') called at /home/sand/src/perl/repoperls/installed-perls/host/k93msid/v5.38.2/1d53/lib/site_perl/5.38.2/Test/More.pm line 831
	Test::More::subtest('request', 'CODE(0x5573e1dc7458)') called at t/02.parser.t line 203
Bad Request-Line within package HTTP::Promise::Parser at line 450 in file lib/HTTP/Promise/Parser.pm
Trace begun at lib/HTTP/Promise/Parser.pm line 450
	HTTP::Promise::Parser::parse_headers('HTTP::Promise::Parser', 'SCALAR(0x5573e1dd3830)') called at lib/HTTP/Promise/Parser.pm line 786
	HTTP::Promise::Parser::parse_request_pp('HTTP::Promise::Parser', 'SCALAR(0x5573e1dd3830)') called at t/02.parser.t line 190
	main::__ANON__ at /home/sand/src/perl/repoperls/installed-perls/host/k93msid/v5.38.2/1d53/lib/site_perl/5.38.2/Test/Builder.pm line 374
	eval {...} at /home/sand/src/perl/repoperls/installed-perls/host/k93msid/v5.38.2/1d53/lib/site_perl/5.38.2/Test/Builder.pm line 374
	Test::Builder::subtest('Test::Builder=HASH(0x5573dfdeadc8)', 'request', 'CODE(0x5573e1dc7458)') called at /home/sand/src/perl/repoperls/installed-perls/host/k93msid/v5.38.2/1d53/lib/site_perl/5.38.2/Test/More.pm line 831
	Test::More::subtest('request', 'CODE(0x5573e1dc7458)') called at t/02.parser.t line 203
Bad request within package HTTP::Promise::Parser at line 788 in file lib/HTTP/Promise/Parser.pm
Trace begun at lib/HTTP/Promise/Parser.pm line 788
	HTTP::Promise::Parser::parse_request_pp('HTTP::Promise::Parser', 'SCALAR(0x5573e1dd3830)') called at t/02.parser.t line 190
	main::__ANON__ at /home/sand/src/perl/repoperls/installed-perls/host/k93msid/v5.38.2/1d53/lib/site_perl/5.38.2/Test/Builder.pm line 374
	eval {...} at /home/sand/src/perl/repoperls/installed-perls/host/k93msid/v5.38.2/1d53/lib/site_perl/5.38.2/Test/Builder.pm line 374
	Test::Builder::subtest('Test::Builder=HASH(0x5573dfdeadc8)', 'request', 'CODE(0x5573e1dc7458)') called at /home/sand/src/perl/repoperls/installed-perls/host/k93msid/v5.38.2/1d53/lib/site_perl/5.38.2/Test/More.pm line 831
	Test::More::subtest('request', 'CODE(0x5573e1dc7458)') called at t/02.parser.t line 203
Bad Response-Line within package HTTP::Promise::Parser at line 450 in file lib/HTTP/Promise/Parser.pm
Trace begun at lib/HTTP/Promise/Parser.pm line 450
	HTTP::Promise::Parser::parse_headers('HTTP::Promise::Parser', 'SCALAR(0x5573e1de5f70)', 'HASH(0x5573e21bc630)') called at lib/HTTP/Promise/Parser.pm line 840
	HTTP::Promise::Parser::parse_response_pp('HTTP::Promise::Parser', 'SCALAR(0x5573e1de5f70)') called at t/02.parser.t line 287
	main::__ANON__ at /home/sand/src/perl/repoperls/installed-perls/host/k93msid/v5.38.2/1d53/lib/site_perl/5.38.2/Test/Builder.pm line 374
	eval {...} at /home/sand/src/perl/repoperls/installed-perls/host/k93msid/v5.38.2/1d53/lib/site_perl/5.38.2/Test/Builder.pm line 374
	Test::Builder::subtest('Test::Builder=HASH(0x5573dfdeadc8)', 'response', 'CODE(0x5573e1dd3980)') called at /home/sand/src/perl/repoperls/installed-perls/host/k93msid/v5.38.2/1d53/lib/site_perl/5.38.2/Test/More.pm line 831
	Test::More::subtest('response', 'CODE(0x5573e1dd3980)') called at t/02.parser.t line 300
Incomplete request, call again when there is more data. within package HTTP::Promise::Parser at line 414 in file lib/HTTP/Promise/Parser.pm
Trace begun at lib/HTTP/Promise/Parser.pm line 414
	HTTP::Promise::Parser::parse_headers('HTTP::Promise::Parser', 'SCALAR(0x5573e1de5f70)', 'HASH(0x5573e21c54e0)') called at lib/HTTP/Promise/Parser.pm line 840
	HTTP::Promise::Parser::parse_response_pp('HTTP::Promise::Parser', 'SCALAR(0x5573e1de5f70)') called at t/02.parser.t line 287
	main::__ANON__ at /home/sand/src/perl/repoperls/installed-perls/host/k93msid/v5.38.2/1d53/lib/site_perl/5.38.2/Test/Builder.pm line 374
	eval {...} at /home/sand/src/perl/repoperls/installed-perls/host/k93msid/v5.38.2/1d53/lib/site_perl/5.38.2/Test/Builder.pm line 374
	Test::Builder::subtest('Test::Builder=HASH(0x5573dfdeadc8)', 'response', 'CODE(0x5573e1dd3980)') called at /home/sand/src/perl/repoperls/installed-perls/host/k93msid/v5.38.2/1d53/lib/site_perl/5.38.2/Test/More.pm line 831
	Test::More::subtest('response', 'CODE(0x5573e1dd3980)') called at t/02.parser.t line 300
Bad Response-Line within package HTTP::Promise::Parser at line 450 in file lib/HTTP/Promise/Parser.pm
Trace begun at lib/HTTP/Promise/Parser.pm line 450
	HTTP::Promise::Parser::parse_headers('HTTP::Promise::Parser', 'SCALAR(0x5573e1de5f70)', 'HASH(0x5573e21d5338)') called at lib/HTTP/Promise/Parser.pm line 840
	HTTP::Promise::Parser::parse_response_pp('HTTP::Promise::Parser', 'SCALAR(0x5573e1de5f70)') called at t/02.parser.t line 287
	main::__ANON__ at /home/sand/src/perl/repoperls/installed-perls/host/k93msid/v5.38.2/1d53/lib/site_perl/5.38.2/Test/Builder.pm line 374
	eval {...} at /home/sand/src/perl/repoperls/installed-perls/host/k93msid/v5.38.2/1d53/lib/site_perl/5.38.2/Test/Builder.pm line 374
	Test::Builder::subtest('Test::Builder=HASH(0x5573dfdeadc8)', 'response', 'CODE(0x5573e1dd3980)') called at /home/sand/src/perl/repoperls/installed-perls/host/k93msid/v5.38.2/1d53/lib/site_perl/5.38.2/Test/More.pm line 831
	Test::More::subtest('response', 'CODE(0x5573e1dd3980)') called at t/02.parser.t line 300
Incomplete request, call again when there is more data. within package HTTP::Promise::Parser at line 414 in file lib/HTTP/Promise/Parser.pm
Trace begun at lib/HTTP/Promise/Parser.pm line 414
	HTTP::Promise::Parser::parse_headers('HTTP::Promise::Parser', 'SCALAR(0x5573e1de5f70)', 'HASH(0x5573e21d0248)') called at lib/HTTP/Promise/Parser.pm line 840
	HTTP::Promise::Parser::parse_response_pp('HTTP::Promise::Parser', 'SCALAR(0x5573e1de5f70)') called at t/02.parser.t line 287
	main::__ANON__ at /home/sand/src/perl/repoperls/installed-perls/host/k93msid/v5.38.2/1d53/lib/site_perl/5.38.2/Test/Builder.pm line 374
	eval {...} at /home/sand/src/perl/repoperls/installed-perls/host/k93msid/v5.38.2/1d53/lib/site_perl/5.38.2/Test/Builder.pm line 374
	Test::Builder::subtest('Test::Builder=HASH(0x5573dfdeadc8)', 'response', 'CODE(0x5573e1dd3980)') called at /home/sand/src/perl/repoperls/installed-perls/host/k93msid/v5.38.2/1d53/lib/site_perl/5.38.2/Test/More.pm line 831
	Test::More::subtest('response', 'CODE(0x5573e1dd3980)') called at t/02.parser.t line 300
Bad response within package HTTP::Promise::Parser at line 476 in file lib/HTTP/Promise/Parser.pm
Trace begun at lib/HTTP/Promise/Parser.pm line 476
	HTTP::Promise::Parser::parse_headers('HTTP::Promise::Parser', 'SCALAR(0x5573e1de5f70)', 'HASH(0x5573e21d4b70)') called at lib/HTTP/Promise/Parser.pm line 840
	HTTP::Promise::Parser::parse_response_pp('HTTP::Promise::Parser', 'SCALAR(0x5573e1de5f70)') called at t/02.parser.t line 287
	main::__ANON__ at /home/sand/src/perl/repoperls/installed-perls/host/k93msid/v5.38.2/1d53/lib/site_perl/5.38.2/Test/Builder.pm line 374
	eval {...} at /home/sand/src/perl/repoperls/installed-perls/host/k93msid/v5.38.2/1d53/lib/site_perl/5.38.2/Test/Builder.pm line 374
	Test::Builder::subtest('Test::Builder=HASH(0x5573dfdeadc8)', 'response', 'CODE(0x5573e1dd3980)') called at /home/sand/src/perl/repoperls/installed-perls/host/k93msid/v5.38.2/1d53/lib/site_perl/5.38.2/Test/More.pm line 831
	Test::More::subtest('response', 'CODE(0x5573e1dd3980)') called at t/02.parser.t line 300
t/02.parser.t .............. ok
Basic authorisation user name cannot contain ':'. within package HTTP::Promise::Headers at line 634 in file lib/HTTP/Promise/Headers.pm
Trace begun at lib/HTTP/Promise/Headers.pm line 634
	HTTP::Promise::Headers::error('HTTP::Promise::Headers=HASH(0x55e9d54d73c0)', 'Basic authorisation user name cannot contain \':\'.') called at lib/HTTP/Promise/Headers.pm line 1481
	HTTP::Promise::Headers::_basic_auth('HTTP::Promise::Headers=HASH(0x55e9d54d73c0)', 'Authorization', 'u2:p') called at lib/HTTP/Promise/Headers.pm line 258
	HTTP::Promise::Headers::authorization_basic('HTTP::Promise::Headers=HASH(0x55e9d54d73c0)', 'u2:p') called at t/03.headers.t line 433
Too late to run CHECK block at /home/sand/src/perl/repoperls/installed-perls/host/k93msid/v5.38.2/1d53/lib/site_perl/5.38.2/DateTime/TimeZone/Catalog/Extend.pm line 492.
t/03.headers.t ............. ok
No headers data could be retrieved in the first 1 bytes of data read. within package HTTP::Promise::Parser at line 294 in file lib/HTTP/Promise/Parser.pm
Trace begun at lib/HTTP/Promise/Parser.pm line 294
	HTTP::Promise::Parser::parse_fh('HTTP::Promise::Parser=HASH(0x55b6ed566e68)', 'Module::Generic::Scalar::IO=GLOB(0x55b6ed80fd90)') called at lib/HTTP/Promise/Parser.pm line 223
	HTTP::Promise::Parser::parse('HTTP::Promise::Parser=HASH(0x55b6ed566e68)', 'SCALAR(0x55b6ec6293d8)') called at lib/HTTP/Promise/Message.pm line 835
	HTTP::Promise::Message::parse('HTTP::Promise::Message', '^J', 'debug', 0) called at t/04.message.t line 96
Bad request within package HTTP::Promise::Parser at line 455 in file lib/HTTP/Promise/Parser.pm
Trace begun at lib/HTTP/Promise/Parser.pm line 455
	HTTP::Promise::Parser::parse_headers('HTTP::Promise::Parser=HASH(0x55b6ed747788)', 'SCALAR(0x55b6ed77acb0)', 'HASH(0x55b6ed747338)') called at lib/HTTP/Promise/Parser.pm line 307
	HTTP::Promise::Parser::parse_fh('HTTP::Promise::Parser=HASH(0x55b6ed747788)', 'Module::Generic::Scalar::IO=GLOB(0x55b6ed816160)') called at lib/HTTP/Promise/Parser.pm line 223
	HTTP::Promise::Parser::parse('HTTP::Promise::Parser=HASH(0x55b6ed747788)', 'SCALAR(0x55b6ec6293d8)') called at lib/HTTP/Promise/Message.pm line 835
	HTTP::Promise::Message::parse('HTTP::Promise::Message', '^J^J', 'debug', 0) called at t/04.message.t line 99
No headers data could be retrieved in the first 3 bytes of data read. within package HTTP::Promise::Parser at line 294 in file lib/HTTP/Promise/Parser.pm
Trace begun at lib/HTTP/Promise/Parser.pm line 294
	HTTP::Promise::Parser::parse_fh('HTTP::Promise::Parser=HASH(0x55b6ed8143f0)', 'Module::Generic::Scalar::IO=GLOB(0x55b6ed81fe10)') called at lib/HTTP/Promise/Parser.pm line 223
	HTTP::Promise::Parser::parse('HTTP::Promise::Parser=HASH(0x55b6ed8143f0)', 'SCALAR(0x55b6ec6293d8)') called at lib/HTTP/Promise/Message.pm line 835
	HTTP::Promise::Message::parse('HTTP::Promise::Message', 'foo', 'debug', 0) called at t/04.message.t line 105
No headers data could be retrieved in the first 11 bytes of data read. within package HTTP::Promise::Parser at line 294 in file lib/HTTP/Promise/Parser.pm
Trace begun at lib/HTTP/Promise/Parser.pm line 294
	HTTP::Promise::Parser::parse_fh('HTTP::Promise::Parser=HASH(0x55b6ed6e9228)', 'Module::Generic::Scalar::IO=GLOB(0x55b6ed854128)') called at lib/HTTP/Promise/Parser.pm line 223
	HTTP::Promise::Parser::parse('HTTP::Promise::Parser=HASH(0x55b6ed6e9228)', 'SCALAR(0x55b6ec6293d8)') called at lib/HTTP/Promise/Message.pm line 835
	HTTP::Promise::Message::parse('HTTP::Promise::Message', 'foo_bar: 1^J', 'debug', 0) called at t/04.message.t line 111
Incomplete request, call again when there is more data. within package HTTP::Promise::Parser at line 414 in file lib/HTTP/Promise/Parser.pm
Trace begun at lib/HTTP/Promise/Parser.pm line 414
	HTTP::Promise::Parser::parse_headers('HTTP::Promise::Parser=HASH(0x55b6ed854980)', 'SCALAR(0x55b6ed77acb0)', 'HASH(0x55b6ed856698)') called at lib/HTTP/Promise/Parser.pm line 307
	HTTP::Promise::Parser::parse_fh('HTTP::Promise::Parser=HASH(0x55b6ed854980)', 'Module::Generic::Scalar::IO=GLOB(0x55b6ed825120)') called at lib/HTTP/Promise/Parser.pm line 223
	HTTP::Promise::Parser::parse('HTTP::Promise::Parser=HASH(0x55b6ed854980)', 'SCALAR(0x55b6ec6293d8)') called at lib/HTTP/Promise/Message.pm line 835
	HTTP::Promise::Message::parse('HTTP::Promise::Message', 'foo: 1^Jfoo', 'debug', 0) called at t/04.message.t line 115
No headers data could be retrieved in the first 10 bytes of data read. within package HTTP::Promise::Parser at line 294 in file lib/HTTP/Promise/Parser.pm
Trace begun at lib/HTTP/Promise/Parser.pm line 294
	HTTP::Promise::Parser::parse_fh('HTTP::Promise::Parser=HASH(0x55b6ed854980)', 'Module::Generic::Scalar::IO=GLOB(0x55b6ed825120)') called at lib/HTTP/Promise/Parser.pm line 223
	HTTP::Promise::Parser::parse('HTTP::Promise::Parser=HASH(0x55b6ed854980)', 'SCALAR(0x55b6ec6293d8)') called at lib/HTTP/Promise/Message.pm line 835
	HTTP::Promise::Message::parse('HTTP::Promise::Message', 'foo: 1^Jfoo', 'debug', 0) called at t/04.message.t line 115
Incomplete request, call again when there is more data. within package HTTP::Promise::Parser at line 414 in file lib/HTTP/Promise/Parser.pm
Trace begun at lib/HTTP/Promise/Parser.pm line 414
	HTTP::Promise::Parser::parse_headers('HTTP::Promise::Parser=HASH(0x55b6ed854de8)', 'SCALAR(0x55b6ed77acb0)', 'HASH(0x55b6ed86ab40)') called at lib/HTTP/Promise/Parser.pm line 307
	HTTP::Promise::Parser::parse_fh('HTTP::Promise::Parser=HASH(0x55b6ed854de8)', 'Module::Generic::Scalar::IO=GLOB(0x55b6ed84bb28)') called at lib/HTTP/Promise/Parser.pm line 223
	HTTP::Promise::Parser::parse('HTTP::Promise::Parser=HASH(0x55b6ed854de8)', 'SCALAR(0x55b6ec6293d8)') called at lib/HTTP/Promise/Message.pm line 835
	HTTP::Promise::Message::parse('HTTP::Promise::Message', '  abc^Jfoo: 1^J', 'debug', 0) called at t/04.message.t line 154
No headers data could be retrieved in the first 13 bytes of data read. within package HTTP::Promise::Parser at line 294 in file lib/HTTP/Promise/Parser.pm
Trace begun at lib/HTTP/Promise/Parser.pm line 294
	HTTP::Promise::Parser::parse_fh('HTTP::Promise::Parser=HASH(0x55b6ed854de8)', 'Module::Generic::Scalar::IO=GLOB(0x55b6ed84bb28)') called at lib/HTTP/Promise/Parser.pm line 223
	HTTP::Promise::Parser::parse('HTTP::Promise::Parser=HASH(0x55b6ed854de8)', 'SCALAR(0x55b6ec6293d8)') called at lib/HTTP/Promise/Message.pm line 835
	HTTP::Promise::Message::parse('HTTP::Promise::Message', '  abc^Jfoo: 1^J', 'debug', 0) called at t/04.message.t line 154
No headers data could be retrieved in the first 9 bytes of data read. within package HTTP::Promise::Parser at line 294 in file lib/HTTP/Promise/Parser.pm
Trace begun at lib/HTTP/Promise/Parser.pm line 294
	HTTP::Promise::Parser::parse_fh('HTTP::Promise::Parser=HASH(0x55b6ed874528)', 'Module::Generic::Scalar::IO=GLOB(0x55b6ed793018)') called at lib/HTTP/Promise/Parser.pm line 223
	HTTP::Promise::Parser::parse('HTTP::Promise::Parser=HASH(0x55b6ed874528)', 'SCALAR(0x55b6ec6293d8)') called at lib/HTTP/Promise/Message.pm line 835
	HTTP::Promise::Message::parse('HTTP::Promise::Message', ' foo : 1^J', 'debug', 0) called at t/04.message.t line 157
Incomplete request, call again when there is more data. within package HTTP::Promise::Parser at line 414 in file lib/HTTP/Promise/Parser.pm
Trace begun at lib/HTTP/Promise/Parser.pm line 414
	HTTP::Promise::Parser::parse_headers('HTTP::Promise::Parser=HASH(0x55b6ed8547b8)', 'SCALAR(0x55b6ed77acb0)', 'HASH(0x55b6ed850700)') called at lib/HTTP/Promise/Parser.pm line 307
	HTTP::Promise::Parser::parse_fh('HTTP::Promise::Parser=HASH(0x55b6ed8547b8)', 'Module::Generic::Scalar::IO=GLOB(0x55b6ed842c78)') called at lib/HTTP/Promise/Parser.pm line 223
	HTTP::Promise::Parser::parse('HTTP::Promise::Parser=HASH(0x55b6ed8547b8)', 'SCALAR(0x55b6ec6293d8)') called at lib/HTTP/Promise/Message.pm line 835
	HTTP::Promise::Message::parse('HTTP::Promise::Message', '^Jfoo: bar^J', 'debug', 0) called at t/04.message.t line 160
No headers data could be retrieved in the first 10 bytes of data read. within package HTTP::Promise::Parser at line 294 in file lib/HTTP/Promise/Parser.pm
Trace begun at lib/HTTP/Promise/Parser.pm line 294
	HTTP::Promise::Parser::parse_fh('HTTP::Promise::Parser=HASH(0x55b6ed8547b8)', 'Module::Generic::Scalar::IO=GLOB(0x55b6ed842c78)') called at lib/HTTP/Promise/Parser.pm line 223
	HTTP::Promise::Parser::parse('HTTP::Promise::Parser=HASH(0x55b6ed8547b8)', 'SCALAR(0x55b6ec6293d8)') called at lib/HTTP/Promise/Message.pm line 835
	HTTP::Promise::Message::parse('HTTP::Promise::Message', '^Jfoo: bar^J', 'debug', 0) called at t/04.message.t line 160
Only one part allowed for message/http; boundary=aaa content within package HTTP::Promise::Message at line 889 in file lib/HTTP/Promise/Message.pm
Trace begun at lib/HTTP/Promise/Message.pm line 889
	HTTP::Promise::Message::parts('HTTP::Promise::Message=HASH(0x55b6ed88c360)', 'HTTP::Promise::Message=HASH(0x55b6eec5f4d8)', 'HTTP::Promise::Message=HASH(0x55b6ed917308)') called at t/04.message.t line 331
Warning: no part name set for this part No. 1
Warning: no part name set for this part No. 2
Warning: no part name set for this part No. 1
Cannot encode multipart/* messages within package HTTP::Promise::Message at line 708 in file lib/HTTP/Promise/Message.pm
Trace begun at lib/HTTP/Promise/Message.pm line 708
	HTTP::Promise::Message::encode(undef) called at t/04.message.t line 428
Cannot encode message/* messages within package HTTP::Promise::Message at line 709 in file lib/HTTP/Promise/Message.pm
Trace begun at lib/HTTP/Promise/Message.pm line 709
	HTTP::Promise::Message::encode(undef) called at t/04.message.t line 431
UTF-8 "\xFF" does not map to Unicode at lib/HTTP/Promise/Entity.pm line 1222. within package HTTP::Promise::Entity at line 1239 in file lib/HTTP/Promise/Entity.pm
Trace begun at lib/HTTP/Promise/Entity.pm line 1239
	HTTP::Promise::Entity::io_encoding('HTTP::Promise::Entity=HASH(0x55b6ef0cc870)', 'charset_strict', 1) called at t/04.message.t line 545
UTF-8 "\xFF" does not map to Unicode at lib/HTTP/Promise/Entity.pm line 1222. within package HTTP::Promise::Entity at line 1239 in file lib/HTTP/Promise/Entity.pm
Trace begun at lib/HTTP/Promise/Entity.pm line 1239
	HTTP::Promise::Entity::io_encoding('HTTP::Promise::Entity=HASH(0x55b6ef0cc870)', 'body', 'HTTP::Promise::Body::Scalar=SCALAR(0x55b6ef0b79a8)', 'charset_strict', 1) called at lib/HTTP/Promise/Message.pm line 544
	HTTP::Promise::Message::decoded_content('HTTP::Promise::Message=HASH(0x55b6ef0ce660)', 'charset_strict', 1) called at t/04.message.t line 547
Decoding provided "foobar" is unsupported. within package HTTP::Promise::Stream at line 666 in file lib/HTTP/Promise/Stream.pm
Trace begun at lib/HTTP/Promise/Stream.pm line 666
	HTTP::Promise::Stream::init('HTTP::Promise::Stream=HASH(0x55b6eee8d090)', 'HTTP::Promise::Body::Scalar=SCALAR(0x55b6ef0b79a8)', 'decoding', 'foobar', 'fatal', 0, 'debug', undef) called at /home/sand/src/perl/repoperls/installed-perls/host/k93msid/v5.38.2/1d53/lib/site_perl/5.38.2/Module/Generic.pm line 359
	Module::Generic::new('HTTP::Promise::Stream', 'HTTP::Promise::Body::Scalar=SCALAR(0x55b6ef0b79a8)', 'decoding', 'foobar', 'fatal', 0, 'debug', undef) called at lib/HTTP/Promise/Entity.pm line 705
	HTTP::Promise::Entity::decode_body('HTTP::Promise::Entity=HASH(0x55b6ef0cc870)', 'Module::Generic::Array=ARRAY(0x55b6ef0c79d8)', 'HASH(0x55b6eee8caf0)') called at lib/HTTP/Promise/Message.pm line 517
	HTTP::Promise::Message::decode_content('HTTP::Promise::Message=HASH(0x55b6ef0ce660)', 'HASH(0x55b6eee8caf0)') called at lib/HTTP/Promise/Message.pm line 530
	HTTP::Promise::Message::decoded_content('HTTP::Promise::Message=HASH(0x55b6ef0ce660)') called at t/04.message.t line 551
# $@ is 'Decoding provided "foobar" is unsupported. within package HTTP::Promise::Stream at line 666 in file lib/HTTP/Promise/Stream.pm
# Trace begun at lib/HTTP/Promise/Stream.pm line 666
# 	HTTP::Promise::Stream::init('HTTP::Promise::Stream=HASH(0x55b6ef1945a0)', 'HTTP::Promise::Body::Scalar=SCALAR(0x55b6ef0b79a8)', 'decoding', 'foobar', 'fatal', 1, 'debug', undef) called at /home/sand/src/perl/repoperls/installed-perls/host/k93msid/v5.38.2/1d53/lib/site_perl/5.38.2/Module/Generic.pm line 359
# 	Module::Generic::new('HTTP::Promise::Stream', 'HTTP::Promise::Body::Scalar=SCALAR(0x55b6ef0b79a8)', 'decoding', 'foobar', 'fatal', 1, 'debug', undef) called at lib/HTTP/Promise/Entity.pm line 705
# 	HTTP::Promise::Entity::decode_body('HTTP::Promise::Entity=HASH(0x55b6ef0cc870)', 'Module::Generic::Array=ARRAY(0x55b6ef194348)', 'HASH(0x55b6ef18b660)') called at lib/HTTP/Promise/Message.pm line 517
# 	HTTP::Promise::Message::decode_content('HTTP::Promise::Message=HASH(0x55b6ef0ce660)', 'HASH(0x55b6ef18b660)') called at lib/HTTP/Promise/Message.pm line 530
# 	HTTP::Promise::Message::decoded_content('HTTP::Promise::Message=HASH(0x55b6ef0ce660)', 'raise_error', 1) called at t/04.message.t line 558
# 	eval {...} at t/04.message.t line 557
# '
HTTP::Promise::Message content must be bytes within package HTTP::Promise::Message at line 1071 in file lib/HTTP/Promise/Message.pm
Trace begun at lib/HTTP/Promise/Message.pm line 1071
	HTTP::Promise::Message::_utf8_downgrade('HTTP::Promise::Message=HASH(0x55b6ef1914e0)', '☺') called at lib/HTTP/Promise/Message.pm line 114
	HTTP::Promise::Message::init('HTTP::Promise::Message=HASH(0x55b6ef1914e0)', 'ARRAY(0x55b6ef0c7ac8)', '☺', 'HASH(0x55b6ef18d548)') called at /home/sand/src/perl/repoperls/installed-perls/host/k93msid/v5.38.2/1d53/lib/site_perl/5.38.2/Module/Generic.pm line 359
	Module::Generic::new('HTTP::Promise::Message', 'ARRAY(0x55b6ef0c7ac8)', '☺', 'HASH(0x55b6ef18d548)') called at t/04.message.t line 565
HTTP::Promise::Message content must be bytes within package HTTP::Promise::Message at line 1071 in file lib/HTTP/Promise/Message.pm
Trace begun at lib/HTTP/Promise/Message.pm line 1071
	HTTP::Promise::Message::_utf8_downgrade('HTTP::Promise::Message=HASH(0x55b6ef191540)', '☺') called at lib/HTTP/Promise/Message.pm line 166
	HTTP::Promise::Message::add_content('HTTP::Promise::Message=HASH(0x55b6ef191540)', '☺') called at t/04.message.t line 569
HTTP::Promise::Message content must be bytes within package HTTP::Promise::Message at line 1071 in file lib/HTTP/Promise/Message.pm
Trace begun at lib/HTTP/Promise/Message.pm line 1071
	HTTP::Promise::Message::_utf8_downgrade('HTTP::Promise::Message=HASH(0x55b6ef191540)', '☺') called at lib/HTTP/Promise/Message.pm line 402
	HTTP::Promise::Message::content('HTTP::Promise::Message=HASH(0x55b6ef191540)', '☺') called at t/04.message.t line 572
Unable to decode 14 bytes of data into the stream with deflate and input 'SCALAR(0x55b6ef18cfd8)' and output '/tmp/3B7BA55A-0633-11F0-A332-A368432843C9': Header Error: CRC mismatch. within package HTTP::Promise::Stream at line 902 in file lib/HTTP/Promise/Stream.pm
Trace begun at lib/HTTP/Promise/Stream.pm line 902
	HTTP::Promise::Stream::read('HTTP::Promise::Stream=HASH(0x55b6ef1ed250)', 'Module::Generic::Scalar=SCALAR(0x55b6ef1ca020)') called at lib/HTTP/Promise/Entity.pm line 709
	HTTP::Promise::Entity::decode_body('HTTP::Promise::Entity=HASH(0x55b6ef1ca1e8)', 'Module::Generic::Array=ARRAY(0x55b6ef0ce060)', 'HASH(0x55b6ef1acfc8)') called at lib/HTTP/Promise/Message.pm line 517
	HTTP::Promise::Message::decode_content('HTTP::Promise::Message=HASH(0x55b6ef1fb6a8)', 'HASH(0x55b6ef1acfc8)') called at lib/HTTP/Promise/Message.pm line 530
	HTTP::Promise::Message::decoded_content('HTTP::Promise::Message=HASH(0x55b6ef1fb6a8)') called at t/04.message.t line 627
Encoding provided "not-an-encoding" is unsupported. within package HTTP::Promise::Stream at line 662 in file lib/HTTP/Promise/Stream.pm
Trace begun at lib/HTTP/Promise/Stream.pm line 662
	HTTP::Promise::Stream::init('HTTP::Promise::Stream=HASH(0x55b6ef1efd50)', 'HTTP::Promise::Body::Scalar=SCALAR(0x55b6ef1eeec8)', 'encoding', 'not-an-encoding') called at /home/sand/src/perl/repoperls/installed-perls/host/k93msid/v5.38.2/1d53/lib/site_perl/5.38.2/Module/Generic.pm line 359
	Module::Generic::new('HTTP::Promise::Stream', 'HTTP::Promise::Body::Scalar=SCALAR(0x55b6ef1eeec8)', 'encoding', 'not-an-encoding') called at lib/HTTP/Promise/Entity.pm line 1056
	HTTP::Promise::Entity::encode_body('HTTP::Promise::Entity=HASH(0x55b6ef1ef5b8)', 'Module::Generic::Array=ARRAY(0x55b6ef180168)') called at lib/HTTP/Promise/Message.pm line 727
	HTTP::Promise::Message::encode(undef, 'not-an-encoding') called at t/04.message.t line 697
Bad header argument: bad-header within package HTTP::Promise::Message at line 81 in file lib/HTTP/Promise/Message.pm
Trace begun at lib/HTTP/Promise/Message.pm line 81
	HTTP::Promise::Message::init('HTTP::Promise::Message=HASH(0x55b6ef200be0)', 'bad-header') called at /home/sand/src/perl/repoperls/installed-perls/host/k93msid/v5.38.2/1d53/lib/site_perl/5.38.2/Module/Generic.pm line 359
	Module::Generic::new('HTTP::Promise::Message', 'bad-header') called at t/04.message.t line 718
Decoding provided "foo" is unsupported. within package HTTP::Promise::Stream at line 666 in file lib/HTTP/Promise/Stream.pm
Trace begun at lib/HTTP/Promise/Stream.pm line 666
	HTTP::Promise::Stream::init('HTTP::Promise::Stream=HASH(0x55b6ef245800)', 'HTTP::Promise::Body::Scalar=SCALAR(0x55b6ef209960)', 'decoding', 'foo', 'fatal', 0, 'debug', undef) called at /home/sand/src/perl/repoperls/installed-perls/host/k93msid/v5.38.2/1d53/lib/site_perl/5.38.2/Module/Generic.pm line 359
	Module::Generic::new('HTTP::Promise::Stream', 'HTTP::Promise::Body::Scalar=SCALAR(0x55b6ef209960)', 'decoding', 'foo', 'fatal', 0, 'debug', undef) called at lib/HTTP/Promise/Entity.pm line 705
	HTTP::Promise::Entity::decode_body('HTTP::Promise::Entity=HASH(0x55b6ef0c78a0)', 'Module::Generic::Array=ARRAY(0x55b6ef245860)') called at lib/HTTP/Promise/Message.pm line 499
	HTTP::Promise::Message::decode('HTTP::Promise::Message=HASH(0x55b6ef209ba0)') called at t/04.message.t line 723
I was expecting a string or a scalar reference, but instead got ARRAY within package HTTP::Promise::Message at line 399 in file lib/HTTP/Promise/Message.pm
Trace begun at lib/HTTP/Promise/Message.pm line 399
	HTTP::Promise::Message::content('HTTP::Promise::Message=HASH(0x55b6ef0c7978)', 'ARRAY(0x55b6ef209f00)') called at t/04.message.t line 731
t/04.message.t ............. ok
URI value provided 'HASH(0x55e2ce1132f0)' does not look like an URI, so I do not know what to do with it: Cannot use a reference as an URI. Received 'HASH(0x55e2ce1132f0)' at /home/sand/src/perl/repoperls/installed-perls/host/k93msid/v5.38.2/1d53/lib/site_perl/5.38.2/Module/Generic.pm line 5357. within package HTTP::Promise::Request at line 379 in file lib/HTTP/Promise/Request.pm
Trace begun at lib/HTTP/Promise/Request.pm line 379
	HTTP::Promise::Request::uri('HTTP::Promise::Request=HASH(0x55e2cd5b5fc8)', 'HASH(0x55e2ce1132f0)') called at t/05.request.t line 78
URI value provided 'ARRAY(0x55e2ce0b9128)' does not look like an URI, so I do not know what to do with it: Cannot use a reference as an URI. Received 'ARRAY(0x55e2ce0b9128)' at /home/sand/src/perl/repoperls/installed-perls/host/k93msid/v5.38.2/1d53/lib/site_perl/5.38.2/Module/Generic.pm line 5357. within package HTTP::Promise::Request at line 379 in file lib/HTTP/Promise/Request.pm
Trace begun at lib/HTTP/Promise/Request.pm line 379
	HTTP::Promise::Request::uri('HTTP::Promise::Request=HASH(0x55e2cd5b5fc8)', 'ARRAY(0x55e2ce0b9128)') called at t/05.request.t line 81
Unable to open file "/tmp/loop_over_bdir-2639088-RiEiNC/HTTP-Promise-v0.5.3-0/unknown": Unable to open file "/tmp/loop_over_bdir-2639088-RiEiNC/HTTP-Promise-v0.5.3-0/unknown" with arguments: '<': Bad file descriptor within package Module::Generic::File::IO at line 54 in file /home/sand/src/perl/repoperls/installed-perls/host/k93msid/v5.38.2/1d53/lib/site_perl/5.38.2/Module/Generic/File/IO.pm
Trace begun at /home/sand/src/perl/repoperls/installed-perls/host/k93msid/v5.38.2/1d53/lib/site_perl/5.38.2/Module/Generic/File/IO.pm line 54
	Module::Generic::File::IO::new('Module::Generic::File::IO', '/tmp/loop_over_bdir-2639088-RiEiNC/HTTP-Promise-v0.5.3-0/unknown', '<') called at /home/sand/src/perl/repoperls/installed-perls/host/k93msid/v5.38.2/1d53/lib/site_perl/5.38.2/Module/Generic/File.pm line 2513
	eval {...} at /home/sand/src/perl/repoperls/installed-perls/host/k93msid/v5.38.2/1d53/lib/site_perl/5.38.2/Module/Generic/File.pm line 2512
	Module::Generic::File::open('Module::Generic::File=HASH(0x55e2ce11c9c8)', '<') called at lib/HTTP/Promise/Parser.pm line 221
	HTTP::Promise::Parser::parse('HTTP::Promise::Parser=HASH(0x55e2ce1129a8)', 'unknown', 'HASH(0x55e2ce143e78)') called at lib/HTTP/Promise/Request.pm line 333
	HTTP::Promise::Request::parse('HTTP::Promise::Request', 'unknown') called at t/05.request.t line 117 within package Module::Generic::File at line 2519 in file /home/sand/src/perl/repoperls/installed-perls/host/k93msid/v5.38.2/1d53/lib/site_perl/5.38.2/Module/Generic/File.pm
Trace begun at /home/sand/src/perl/repoperls/installed-perls/host/k93msid/v5.38.2/1d53/lib/site_perl/5.38.2/Module/Generic/File.pm line 2519
	Module::Generic::File::open('Module::Generic::File=HASH(0x55e2ce11c9c8)', '<') called at lib/HTTP/Promise/Parser.pm line 221
	HTTP::Promise::Parser::parse('HTTP::Promise::Parser=HASH(0x55e2ce1129a8)', 'unknown', 'HASH(0x55e2ce143e78)') called at lib/HTTP/Promise/Request.pm line 333
	HTTP::Promise::Request::parse('HTTP::Promise::Request', 'unknown') called at t/05.request.t line 117
Invalid parameters received. I was expecting either an hash reference or at least a method and a valid uri, but instead got: 'get', '/', 'HTTP::Promise::Headers=HASH(0x55e2ce14a348)', 'HASH(0x55e2ce0dcc28)' within package HTTP::Promise::Request at line 91 in file lib/HTTP/Promise/Request.pm
Trace begun at lib/HTTP/Promise/Request.pm line 91
	HTTP::Promise::Request::init('HTTP::Promise::Request=HASH(0x55e2ce16fae8)', 'get', 'URI::_generic=SCALAR(0x55e2ce13a218)', 'HTTP::Promise::Headers=HASH(0x55e2ce14a348)', 'HASH(0x55e2ce0dcc28)') called at /home/sand/src/perl/repoperls/installed-perls/host/k93msid/v5.38.2/1d53/lib/site_perl/5.38.2/Module/Generic.pm line 359
	Module::Generic::new('HTTP::Promise::Request', 'get', 'URI::_generic=SCALAR(0x55e2ce13a218)', 'HTTP::Promise::Headers=HASH(0x55e2ce14a348)', 'HASH(0x55e2ce0dcc28)') called at lib/HTTP/Promise/Parser.pm line 344
	HTTP::Promise::Parser::parse_fh('HTTP::Promise::Parser=HASH(0x55e2ce1130c8)', 'Module::Generic::Scalar::IO=GLOB(0x55e2ce0a4840)', 'HASH(0x55e2ce144e80)') called at lib/HTTP/Promise/Parser.pm line 223
	HTTP::Promise::Parser::parse('HTTP::Promise::Parser=HASH(0x55e2ce1130c8)', 'SCALAR(0x55e2ce158140)', 'HASH(0x55e2ce144e80)') called at lib/HTTP/Promise/Request.pm line 333
	HTTP::Promise::Request::parse('HTTP::Promise::Request', 'SCALAR(0x55e2ce158140)', 'debug', 0) called at t/05.request.t line 119
t/05.request.t ............. ok
Only supported charset is 'utf-8'. within package HTTP::Promise::Headers::ContentDisposition at line 132 in file lib/HTTP/Promise/Headers/ContentDisposition.pm
Trace begun at lib/HTTP/Promise/Headers/ContentDisposition.pm line 132
	HTTP::Promise::Headers::ContentDisposition::filename_charset('HTTP::Promise::Headers::ContentDisposition=HASH(0x55f83eb5bdd0)', 'US-ASCII') called at lib/HTTP/Promise/Headers/ContentDisposition.pm line 108
	HTTP::Promise::Headers::ContentDisposition::filename('HTTP::Promise::Headers::ContentDisposition=HASH(0x55f83eb5bdd0)') called at lib/HTTP/Promise/Response.pm line 179
	HTTP::Promise::Response::filename('HTTP::Promise::Response=HASH(0x55f83ea66998)') called at t/06.response.t line 230
Error encoding content disposition file name from 'NOT-A-CHARSET' to 'locale_fs': Unknown encoding 'NOT-A-CHARSET' at lib/HTTP/Promise/Headers.pm line 515.
 at lib/HTTP/Promise/Headers/Generic.pm line 56.
Only supported charset is 'utf-8'. within package HTTP::Promise::Headers::ContentDisposition at line 132 in file lib/HTTP/Promise/Headers/ContentDisposition.pm
Trace begun at lib/HTTP/Promise/Headers/ContentDisposition.pm line 132
	HTTP::Promise::Headers::ContentDisposition::filename_charset('HTTP::Promise::Headers::ContentDisposition=HASH(0x55f83eb5bb90)', 'NOT-A-CHARSET') called at lib/HTTP/Promise/Headers/ContentDisposition.pm line 108
	HTTP::Promise::Headers::ContentDisposition::filename('HTTP::Promise::Headers::ContentDisposition=HASH(0x55f83eb5bb90)') called at lib/HTTP/Promise/Response.pm line 179
	HTTP::Promise::Response::filename('HTTP::Promise::Response=HASH(0x55f83ea66998)') called at t/06.response.t line 232
Only supported charset is 'utf-8'. within package HTTP::Promise::Headers::ContentDisposition at line 132 in file lib/HTTP/Promise/Headers/ContentDisposition.pm
Trace begun at lib/HTTP/Promise/Headers/ContentDisposition.pm line 132
	HTTP::Promise::Headers::ContentDisposition::filename_charset('HTTP::Promise::Headers::ContentDisposition=HASH(0x55f83eb825c0)', 'US-ASCII') called at lib/HTTP/Promise/Headers/ContentDisposition.pm line 108
	HTTP::Promise::Headers::ContentDisposition::filename('HTTP::Promise::Headers::ContentDisposition=HASH(0x55f83eb825c0)') called at lib/HTTP/Promise/Response.pm line 179
	HTTP::Promise::Response::filename('HTTP::Promise::Response=HASH(0x55f83ea66998)') called at t/06.response.t line 234
Only supported charset is 'utf-8'. within package HTTP::Promise::Headers::ContentDisposition at line 132 in file lib/HTTP/Promise/Headers/ContentDisposition.pm
Trace begun at lib/HTTP/Promise/Headers/ContentDisposition.pm line 132
	HTTP::Promise::Headers::ContentDisposition::filename_charset('HTTP::Promise::Headers::ContentDisposition=HASH(0x55f83eb6dba8)', 'US-ASCII') called at lib/HTTP/Promise/Headers/ContentDisposition.pm line 108
	HTTP::Promise::Headers::ContentDisposition::filename('HTTP::Promise::Headers::ContentDisposition=HASH(0x55f83eb6dba8)') called at lib/HTTP/Promise/Response.pm line 179
	HTTP::Promise::Response::filename('HTTP::Promise::Response=HASH(0x55f83ea66998)') called at t/06.response.t line 236
t/06.response.t ............ ok
Unknown encoding provided "unknown". within package HTTP::Promise::Stream at line 835 in file lib/HTTP/Promise/Stream.pm
Trace begun at lib/HTTP/Promise/Stream.pm line 835
	HTTP::Promise::Stream::encoding2suffix('HTTP::Promise::Stream=HASH(0x5583c4b77f50)', 'Module::Generic::Array=ARRAY(0x5583c521a370)') called at t/07.stream-suffix.t line 71
	main::__ANON__ at /home/sand/src/perl/repoperls/installed-perls/host/k93msid/v5.38.2/1d53/lib/site_perl/5.38.2/Test2/API.pm line 718
	eval {...} at /home/sand/src/perl/repoperls/installed-perls/host/k93msid/v5.38.2/1d53/lib/site_perl/5.38.2/Test2/API.pm line 718
	Test2::API::run_subtest('suffix', 'CODE(0x5583c395c620)', 'HASH(0x5583c3934388)') called at /home/sand/src/perl/repoperls/installed-perls/host/k93msid/v5.38.2/1d53/lib/site_perl/5.38.2/Test2/Tools/Subtest.pm line 34
	Test2::Tools::Subtest::subtest_buffered('suffix', 'CODE(0x5583c395c620)') called at t/07.stream-suffix.t line 81
t/07.stream-suffix.t ....... ok
t/07.stream.t .............. ok
t/07.stream_b64.t .......... ok
t/07.stream_quotedprint.t .. ok
t/07.stream_uu.t ........... ok
t/08.status.t .............. ok
t/09.mime.t ................ ok
t/10.entity_body.t ......... ok
t/11.entity_part.t ......... ok
t/12.entity_parser.t ....... ok
t/12.parser.t .............. ok
t/13.header_fields.t ....... ok
t/14.reader.t .............. ok
t/15.body_form.t ........... ok
t/16.form-data.t ........... ok
t/17.serialisation.t ....... ok
t/90.coverage.t ............ skipped: These tests are for author or release candidate testing
t/91.pod.t ................. skipped: These tests are for author or release candidate testing
t/92.manifest.t ............ skipped: Author tests not required for installation
t/93.signature.t ........... skipped: Set the environment variable AUTHOR_TESTING to enable this test.
t/99.kwalitee.t ............ skipped: These tests are for author or release candidate testing
All tests successful.
Files=27, Tests=1019, 59 wallclock secs ( 0.22 usr  0.08 sys + 45.08 cusr  3.80 csys = 49.18 CPU)
Result: PASS

------------------------------
PREREQUISITES
------------------------------

Prerequisite modules loaded:

requires:

    Module                     Need       Have      
    -------------------------- ---------- ----------
    constant                   0          1.33      
    Cookie                     v0.3.5     v0.3.5    
    CryptX                     0.078      0.084     
    Cwd                        0          3.89      
    Data::UUID                 1.226      1.227     
    DateTime                   1.59       1.65      
    DateTime::Format::Strptime 1.79       1.79      
    DateTime::TimeZone         2.60       2.60      
    Encode                     3.19       3.21      
    Errno                      0          1.37      
    Fcntl                      0          1.15      
    File::MMagic               1.30       1.30      
    HTTP::Parser2::XS          0.01       0.01      
    HTTP::XSHeaders            0.400005   0.400005  
    IO::File                   0          1.52      
    JSON                       4.10       4.10      
    JSON::XS                   4.03       4.03      
    Module::Generic            v0.37.5    v0.37.6   
    parent                     0          0.244     
    perl                       5.026001   5.038002  
    Promise::Me                v0.5.0     v0.5.0    
    Regexp::Common             2017060201 2024080801
    Scalar::Util               1.63       1.68      
    Socket                     2.037      2.038     
    strict                     0          1.12      
    Symbol                     0          1.09      
    Time::HiRes                1.9764     1.9775    
    URI                        5.21       5.29      
    URI::Encode::XS            0.11       0.11      
    URI::Escape::XS            0.14       0.14      
    URL::Encode::XS            0.03       0.03      
    Want                       0.29       0.29      
    warnings                   0          1.65      

build_requires:

    Module                     Need       Have      
    -------------------------- ---------- ----------
    ExtUtils::MakeMaker        0          7.70      
    lib                        0          0.65      
    Test2::IPC                 1.302190   1.302204  
    Test2::V0                  0.000145   1.302204  
    Test::More                 1.302162   1.302204  
    Test::Pod                  1.52       1.52      
    utf8                       0          1.25      

configure_requires:

    Module                     Need       Have      
    -------------------------- ---------- ----------
    ExtUtils::MakeMaker        0          7.70      


------------------------------
ENVIRONMENT AND OTHER CONTEXT
------------------------------

Environment variables:

    AUTOMATED_TESTING = 1
    LANG = en_US.UTF-8
    LANGUAGE = en_US:en
    PATH = /home/sand/bin:/usr/local/bin:/usr/bin:/bin:/usr/games:/usr/local/perl/bin:/usr/X11/bin:/sbin:/usr/sbin
    PERL5LIB = 
    PERL5OPT = 
    PERL5_CPANPLUS_IS_RUNNING = 1399582
    PERL5_CPAN_IS_RUNNING = 1399582
    PERL_CANARY_STABILITY_NOPROMPT = 1
    PERL_MM_USE_DEFAULT = 1
    PERL_USE_UNSAFE_INC = 1
    SHELL = /usr/bin/zsh
    TERM = screen

Perl special variables (and OS-specific diagnostics, for MSWin32):

    $^X = /home/sand/src/perl/repoperls/installed-perls/host/k93msid/v5.38.2/1d53/bin/perl
    $UID/$EUID = 1005 / 1005
    $GID = 1005 1005
    $EGID = 1005 1005

Perl module toolchain versions installed:

    Module              Have    
    ------------------- --------
    CPAN                2.38    
    CPAN::Meta          2.150010
    Cwd                 3.89    
    ExtUtils::CBuilder  0.280238
    ExtUtils::Command   7.70    
    ExtUtils::Install   2.22    
    ExtUtils::MakeMaker 7.70    
    ExtUtils::Manifest  1.73    
    ExtUtils::ParseXS   3.51    
    File::Spec          3.88    
    JSON                4.10    
    JSON::PP            4.16    
    Module::Build       0.4234  
    Module::Signature   0.88    
    Parse::CPAN::Meta   2.150010
    Test2               1.302204
    Test::Harness       3.51_01 
    Test::More          1.302204
    YAML                1.30    
    YAML::Syck          1.34    
    version             0.9930  


--

Summary of my perl5 (revision 5 version 38 subversion 2) configuration:
  Commit id: 55dd2f792ffc8cefe614350a411f785374281b24
  Platform:
    osname=linux
    osvers=6.5.0-4-amd64
    archname=x86_64-linux-multi-ld
    uname='linux k93msid 6.5.0-4-amd64 #1 smp preempt_dynamic debian 6.5.10-1 (2023-11-03) x86_64 gnulinux '
    config_args='-Dprefix=/home/sand/src/perl/repoperls/installed-perls/host/k93msid/v5.38.2/1d53 -Dmyhostname=k93msid -Dinstallusrbinperl=n -Uversiononly -Dusedevel -des -Ui_db -Dlibswanted=cl pthread socket inet nsl gdbm dbm malloc dl ld sun m crypt sec util c cposix posix ucb BSD gdbm_compat -Uuseithreads -Duselongdouble -DEBUGGING=both -Dusemultiplicity'
    hint=recommended
    useposix=true
    d_sigaction=define
    useithreads=undef
    usemultiplicity=define
    use64bitint=define
    use64bitall=define
    uselongdouble=define
    usemymalloc=n
    default_inc_excludes_dot=define
  Compiler:
    cc='cc'
    ccflags ='-fwrapv -DDEBUGGING -fno-strict-aliasing -pipe -fstack-protector-strong -I/usr/local/include -D_LARGEFILE_SOURCE -D_FILE_OFFSET_BITS=64 -D_FORTIFY_SOURCE=2'
    optimize='-O2 -g'
    cppflags='-fwrapv -DDEBUGGING -fno-strict-aliasing -pipe -fstack-protector-strong -I/usr/local/include'
    ccversion=''
    gccversion='13.2.0'
    gccosandvers=''
    intsize=4
    longsize=8
    ptrsize=8
    doublesize=8
    byteorder=12345678
    doublekind=3
    d_longlong=define
    longlongsize=8
    d_longdbl=define
    longdblsize=16
    longdblkind=3
    ivtype='long'
    ivsize=8
    nvtype='long double'
    nvsize=16
    Off_t='off_t'
    lseeksize=8
    alignbytes=16
    prototype=define
  Linker and Libraries:
    ld='cc'
    ldflags =' -fstack-protector-strong -L/usr/local/lib'
    libpth=/usr/local/lib /usr/lib/x86_64-linux-gnu /usr/lib /usr/lib64
    libs=-lpthread -lnsl -ldl -lm -lcrypt -lutil -lc
    perllibs=-lpthread -lnsl -ldl -lm -lcrypt -lutil -lc
    libc=/lib/x86_64-linux-gnu/libc.so.6
    so=so
    useshrplib=false
    libperl=libperl.a
    gnulibc_version='2.37'
  Dynamic Linking:
    dlsrc=dl_dlopen.xs
    dlext=so
    d_dlsymun=undef
    ccdlflags='-Wl,-E'
    cccdlflags='-fPIC'
    lddlflags='-shared -O2 -g -L/usr/local/lib -fstack-protector-strong'


Characteristics of this binary (from libperl): 
  Compile-time options:
    DEBUGGING
    HAS_LONG_DOUBLE
    HAS_STRTOLD
    HAS_TIMES
    MULTIPLICITY
    PERLIO_LAYERS
    PERL_COPY_ON_WRITE
    PERL_DONT_CREATE_GVSV
    PERL_HASH_FUNC_SIPHASH13
    PERL_HASH_USE_SBOX32
    PERL_MALLOC_WRAP
    PERL_OP_PARENT
    PERL_PRESERVE_IVUV
    PERL_TRACK_MEMPOOL
    PERL_USE_DEVEL
    PERL_USE_SAFE_PUTENV
    USE_64_BIT_ALL
    USE_64_BIT_INT
    USE_LARGE_FILES
    USE_LOCALE
    USE_LOCALE_COLLATE
    USE_LOCALE_CTYPE
    USE_LOCALE_NUMERIC
    USE_LOCALE_TIME
    USE_LONG_DOUBLE
    USE_PERLIO
    USE_PERL_ATOF
  Built under linux
  Compiled at Nov 30 2023 01:21:58
  %ENV:
    PERL5LIB=""
    PERL5OPT=""
    PERL5_CPANPLUS_IS_RUNNING="1399582"
    PERL5_CPAN_IS_RUNNING="1399582"
    PERL_CANARY_STABILITY_NOPROMPT="1"
    PERL_MM_USE_DEFAULT="1"
    PERL_USE_UNSAFE_INC="1"
  @INC:
    /home/sand/src/perl/repoperls/installed-perls/host/k93msid/v5.38.2/1d53/lib/site_perl/5.38.2/x86_64-linux-multi-ld
    /home/sand/src/perl/repoperls/installed-perls/host/k93msid/v5.38.2/1d53/lib/site_perl/5.38.2
    /home/sand/src/perl/repoperls/installed-perls/host/k93msid/v5.38.2/1d53/lib/5.38.2/x86_64-linux-multi-ld
    /home/sand/src/perl/repoperls/installed-perls/host/k93msid/v5.38.2/1d53/lib/5.38.2
    .