Forks-Queue v0.11 Perl 5 v5.10.1 x86_64-linux-thread-multi

Status
Pass
From
David Cantrell (DCANTRELL)
Dist
Forks-Queue v0.11
Platform
Perl 5 v5.10.1 x86_64-linux-thread-multi
Date
2019-08-30 12:51:10
ID
d79b4f8a-cb24-11e9-a46c-bb5c052d0de1
This distribution has been tested as part of the CPAN Testers
project, supporting the Perl programming language.  See
http://wiki.cpantesters.org/ for more information or email
questions to cpan-testers-discuss@perl.org


--
Dear Marty O'Brien,

This is a computer-generated report for Forks-Queue-0.11
on perl 5.10.1, created by CPAN-Reporter-1.2018.

Thank you for uploading your work to CPAN.  Congratulations!
All tests were successful.

Sections of this report:

    * Tester comments
    * Program output
    * Prerequisites
    * Environment and other context

------------------------------
TESTER COMMENTS
------------------------------

Additional comments from tester:

this report is from an automated smoke testing program
and was not reviewed by a human for accuracy

------------------------------
PROGRAM OUTPUT
------------------------------

Output from '/usr/bin/make test':

PERL_DL_NONLAZY=1 "/home/david/cpantesting/perl-5.10.1/bin/perl" "-MExtUtils::Command::MM" "-MTest::Harness" "-e" "undef *Test::Harness::Switches; test_harness(0, 'blib/lib', 'blib/arch')" t/[0-9]*.t
Name "Forks::Queue::OPTS" used only once: possible typo at t/00-load.t line 10.
# Forks::Queue test on linux 5.010001
t/00-load.t ............. ok

Forks::Queue: put call from process 24979 after end call from process 24979! at t/exercises.tt line 66.
t/01-fifo-file.t ........ ok

Forks::Queue: put call from process 25065 after end call from process 25065! at t/exercises.tt line 66.
t/01-fifo-shmem.t ....... ok

Forks::Queue: put call from process 25099 after end call from process 25099 at t/exercises.tt line 66.
t/01-fifo-sqlite.t ...... ok

Forks::Queue: put call from process 25291 after end call from process 25291! at t/exercises.tt line 175.
t/02-lifo-file.t ........ ok

Forks::Queue: put call from process 25354 after end call from process 25354! at t/exercises.tt line 175.
t/02-lifo-shmem.t ....... ok

Forks::Queue: put call from process 25415 after end call from process 25415 at t/exercises.tt line 175.
t/02-lifo-sqlite.t ...... ok
t/03-forks-file.t ....... ok
t/03-forks-shmem.t ...... ok
t/03-forks-sqlite.t ..... ok
# put time=5.01208996772766s
t/04-blocking-file.t .... ok
# put time=5.01718306541443s
t/04-blocking-shmem.t ... ok
# put time=5.24031901359558s
t/04-blocking-sqlite.t .. ok

Forks::Queue: queue buffer is full and 1 items were not added at t/exercises.tt line 217.
Forks::Queue: queue buffer is full and 2 items were not added at t/exercises.tt line 223.
t/05-limits-file.t ...... ok

Forks::Queue: queue buffer is full and 1 items were not added at t/exercises.tt line 217.
Forks::Queue: queue buffer is full and 2 items were not added at t/exercises.tt line 223.
t/05-limits-shmem.t ..... ok

Forks::Queue: queue buffer is full and 1 items were not added at t/exercises.tt line 217.
Forks::Queue: queue buffer is full and 2 items were not added at t/exercises.tt line 223.
t/05-limits-sqlite.t .... ok
t/06-peek-file.t ........ ok
t/06-peek-shmem.t ....... ok
t/06-peek-sqlite.t ...... ok

Forks::Queue: Queue file /tmp/q7f already exists. Expect trouble if another process created this file. at t/exercises.tt line 391.
t/07-join-file.t ........ ok
# t/07-join-shmem.t: temp dir is /dev/shm

Forks::Queue: Queue file /dev/shm/q7m already exists. Expect trouble if another process created this file. at t/exercises.tt line 391.
t/07-join-shmem.t ....... ok

Forks::Queue: sqlite db file /tmp/q7s already exists! at t/exercises.tt line 391.
DBD::SQLite::db do failed: table the_queue already exists at /home/david/cpantesting/perl-5.10.1/.cpan/build/Forks-Queue-0.11-BmXhcU/blib/lib/Forks/Queue/SQLite.pm line 95.
Forks::Queue::SQLite: error creating init table at t/exercises.tt line 391.
Forks::Queue::SQLite: db initialization failed at t/exercises.tt line 391.
t/07-join-sqlite.t ...... ok
t/10-eol.t .............. ok
t/11-clear.t ............ ok
t/12-list.t ............. ok
t/13-extract.t .......... ok
t/14-extract-lifo.t ..... ok
Forks::Queue: queue buffer is full and 2 items were not inserted at t/15-insert.t line 37.
t/15-insert.t ........... ok
Forks::Queue: queue buffer is full and 2 items were not inserted at t/16-insert-lifo.t line 37.
t/16-insert-lifo.t ...... ok
Forks::Queue: queue buffer is full and 10 items were not added at t/17-limit.t line 15.
Forks::Queue: queue buffer is full and 3 items were not added at t/17-limit.t line 49.
# $q->limit as an lvalue will not work for impl=File, v5.010001
Forks::Queue: queue buffer is full and 10 items were not added at t/17-limit.t line 15.
Forks::Queue: queue buffer is full and 3 items were not added at t/17-limit.t line 49.
# $q->limit as an lvalue will not work for impl=Shmem, v5.010001
Forks::Queue: queue buffer is full and 10 items were not added at t/17-limit.t line 15.
Forks::Queue: queue buffer is full and 3 items were not added at t/17-limit.t line 49.
# $q->limit as an lvalue will not work for impl=SQLite, v5.010001
t/17-limit.t ............ ok
t/18-timed.t ............ ok
t/20-threads.t .......... ok
t/21-threads-basic.t .... ok
t/23-threads-peek.t ..... ok
t/24-threads-errs.t ..... ok
t/25-threads-extract.t .. ok
t/26-threads-insert.t ... ok
t/29-threads-ended.t .... ok
t/30-threads-timed.t .... ok
All tests successful.
Files=39, Tests=1750, 375 wallclock secs ( 0.34 usr  0.06 sys + 14.37 cusr  1.79 csys = 16.56 CPU)
Result: PASS

------------------------------
PREREQUISITES
------------------------------

Prerequisite modules loaded:

requires:

    Module              Need Have  
    ------------------- ---- ------
    File::Temp          0    0.22  
    JSON                2.0  4.02  
    Time::HiRes         0    1.9719

build_requires:

    Module              Need Have  
    ------------------- ---- ------
    ExtUtils::MakeMaker 0    7.34  

configure_requires:

    Module              Need Have  
    ------------------- ---- ------
    ExtUtils::MakeMaker 0    7.34  


------------------------------
ENVIRONMENT AND OTHER CONTEXT
------------------------------

Environment variables:

    AUTOMATED_TESTING = 1
    LANG = en_US.UTF-8
    NONINTERACTIVE_TESTING = 1
    PATH = /usr/local/bin:/usr/bin:/bin:/usr/local/games:/usr/games
    PERL = 5.10.1
    PERL5LIB = 
    PERL5OPT = 
    PERL5_CPANPLUS_IS_RUNNING = 22784
    PERL5_CPAN_IS_RUNNING = 22784
    PERLVER = 5.10.1
    PERL_INLINE_DIRECTORY = /home/david/.Inline-5.10.1
    PERL_MM_USE_DEFAULT = 1
    PERL_USE_UNSAFE_INC = 0
    SHELL = /bin/bash
    TERM = screen

Perl special variables (and OS-specific diagnostics, for MSWin32):

    $^X = /home/david/cpantesting/perl-5.10.1/bin/perl
    $UID/$EUID = 1000 / 1000
    $GID = 1000 27 1000
    $EGID = 1000 27 1000

Perl module toolchain versions installed:

    Module              Have    
    ------------------- --------
    CPAN                1.9402  
    CPAN::Meta          2.143240
    Cwd                 3.30    
    ExtUtils::CBuilder  0.280231
    ExtUtils::Command   7.34    
    ExtUtils::Install   2.06    
    ExtUtils::MakeMaker 7.34    
    ExtUtils::Manifest  1.70    
    ExtUtils::ParseXS   3.35    
    File::Spec          3.30    
    JSON                4.02    
    JSON::PP            4.02    
    Module::Build       0.4229  
    Module::Signature   n/a     
    Parse::CPAN::Meta   1.4414  
    Test::Harness       3.42    
    Test::More          1.302167
    YAML                1.27    
    YAML::Syck          1.31    
    version             0.9924  


--

Summary of my perl5 (revision 5 version 10 subversion 1) configuration:
   
  Platform:
    osname=linux, osvers=4.9.0-8-amd64, archname=x86_64-linux-thread-multi
    uname='linux pigsty 4.9.0-8-amd64 #1 smp debian 4.9.144-3 (2019-02-02) x86_64 gnulinux '
    config_args='-de -Duse64bitall -Dusethreads -Dprefix=/home/david/cpantesting/perl-5.10.1 -A ccflags=-fwrapv'
    hint=recommended, useposix=true, d_sigaction=define
    useithreads=define, usemultiplicity=define
    useperlio=define, d_sfio=undef, uselargefiles=define, usesocks=undef
    use64bitint=define, use64bitall=define, uselongdouble=undef
    usemymalloc=n, bincompat5005=undef
  Compiler:
    cc='cc', ccflags ='-D_REENTRANT -D_GNU_SOURCE -fwrapv -fno-strict-aliasing -pipe -fstack-protector -I/usr/local/include -D_LARGEFILE_SOURCE -D_FILE_OFFSET_BITS=64',
    optimize='-O2',
    cppflags='-D_REENTRANT -D_GNU_SOURCE -fwrapv -fno-strict-aliasing -pipe -fstack-protector -I/usr/local/include'
    ccversion='', gccversion='6.3.0 20170516', gccosandvers=''
    intsize=4, longsize=8, ptrsize=8, doublesize=8, byteorder=12345678
    d_longlong=define, longlongsize=8, d_longdbl=define, longdblsize=16
    ivtype='long', ivsize=8, nvtype='double', nvsize=8, Off_t='off_t', lseeksize=8
    alignbytes=8, prototype=define
  Linker and Libraries:
    ld='cc', ldflags =' -fstack-protector -L/usr/local/lib'
    libpth=/usr/local/lib /lib/x86_64-linux-gnu /lib/../lib /usr/lib/x86_64-linux-gnu /usr/lib/../lib /lib /usr/lib
    libs=-lnsl -ldb -ldl -lm -lcrypt -lutil -lpthread -lc
    perllibs=-lnsl -ldl -lm -lcrypt -lutil -lpthread -lc
    libc=libc-2.24.so, so=so, useshrplib=false, libperl=libperl.a
    gnulibc_version='2.24'
  Dynamic Linking:
    dlsrc=dl_dlopen.xs, dlext=so, d_dlsymun=undef, ccdlflags='-Wl,-E'
    cccdlflags='-fPIC', lddlflags='-shared -O2 -L/usr/local/lib -fstack-protector'


Characteristics of this binary (from libperl): 
  Compile-time options: MULTIPLICITY PERL_DONT_CREATE_GVSV
                        PERL_IMPLICIT_CONTEXT PERL_MALLOC_WRAP USE_64_BIT_ALL
                        USE_64_BIT_INT USE_ITHREADS USE_LARGE_FILES
                        USE_PERLIO USE_REENTRANT_API
  Locally applied patches:
	Devel::PatchPerl 1.56
  Built under linux
  Compiled at Apr 25 2019 16:19:42
  %ENV:
    PERL="5.10.1"
    PERL5LIB=""
    PERL5OPT=""
    PERL5_CPANPLUS_IS_RUNNING="22784"
    PERL5_CPAN_IS_RUNNING="22784"
    PERLVER="5.10.1"
    PERL_INLINE_DIRECTORY="/home/david/.Inline-5.10.1"
    PERL_MM_USE_DEFAULT="1"
    PERL_USE_UNSAFE_INC="0"
  @INC:
    /home/david/cpantesting/perl-5.10.1/lib/5.10.1/x86_64-linux-thread-multi
    /home/david/cpantesting/perl-5.10.1/lib/5.10.1
    /home/david/cpantesting/perl-5.10.1/lib/site_perl/5.10.1/x86_64-linux-thread-multi
    /home/david/cpantesting/perl-5.10.1/lib/site_perl/5.10.1
    .