overload-open v1.9.6 Perl 5 v5.18.4 x86_64-linux-thread-multi
- Status
- Pass
- From
- Nigel Horne
- Dist
-
overload-open v1.9.6
- Platform
- Perl 5 v5.18.4 x86_64-linux-thread-multi
- Date
- 2020-01-23 00:46:50
- ID
- d797a6ce-3d79-11ea-81bc-fd49b518dca7
This distribution has been tested as part of the CPAN Testers
project, supporting the Perl programming language. See
http://wiki.cpantesters.org/ for more information or email
questions to cpan-testers-discuss@perl.org
--
Dear Samantha McVey,
This is a computer-generated report for overload-open-1.9.6
on perl 5.18.4, created by CPAN-Reporter-1.2018.
Thank you for uploading your work to CPAN. Congratulations!
All tests were successful.
Sections of this report:
* Tester comments
* Program output
* Prerequisites
* Environment and other context
------------------------------
TESTER COMMENTS
------------------------------
Additional comments from tester:
this report is from an automated smoke testing program
and was not reviewed by a human for accuracy
------------------------------
PROGRAM OUTPUT
------------------------------
Output from '/usr/bin/make test':
"/home/smoker/perl5/perlbrew/perls/perl-5.18.4-thread/bin/perl5.18.4" -MExtUtils::Command::MM -e 'cp_nonempty' -- open.bs blib/arch/auto/overload/open/open.bs 644
PERL_DL_NONLAZY=1 "/home/smoker/perl5/perlbrew/perls/perl-5.18.4-thread/bin/perl5.18.4" "-MExtUtils::Command::MM" "-MTest::Harness" "-e" "undef *Test::Harness::Switches; test_harness(1, 'blib/lib', 'blib/arch')" t/*.t
t/00-use.t ...................
ok 1 - use overload::open;
1..1
ok
t/01-callback.t ..............
ok 1 - Print does not die
ok 2 - open does not die
ok 3 - gets defined value from fh read
ok 4 - file has correct content
1..4
ok
t/02-record-opened.t .........
ok 1 - did not register we opened the file called '/tmp/testwrapper.745470/Rf3xon4Mec'
ok 2 - Print does not die
ok 3 - open does not die
ok 4 - file has correct content
ok 5 - recorded that we opened the test file from three argument open
ok 6 - correct number of keys after opened the test file twice
ok 7 - correct number of keys after opened filename2.txt once
ok 8 - stored filename2.txt from two argument open
1..8
ok
t/03-disable-xs-functions.t ..
ok 1 - open dies when you try and hook
1..1
ok
(in cleanup) Died at t/04-record-opened.t line 77.
(in cleanup) Died at t/04-record-opened.t line 76.
t/04-record-opened.t .........
ok 1 - file opened with open() is in open hash
ok 2 - file opened with sysopen() is in sysopen hash
ok 3 - Correct number of keys in sysopen hash
ok 4 - Correct number of keys in open hash
ok 5 - Does not die when calling sysopen inside string eval
ok 6 - Does not die when calling open inside string eval
ok 7 - file opened with open() is in open hash
ok 8 - file opened with sysopen() is in sysopen hash
ok 9 - Correct number of keys in sysopen hash
ok 10 - Correct number of keys in open hash
ok 11 - Does not die when calling sysopen inside string eval
ok 12 - Does not die when calling open inside string eval
1..12
ok
All tests successful.
Files=5, Tests=26, 2 wallclock secs ( 0.03 usr 0.01 sys + 0.44 cusr 0.07 csys = 0.55 CPU)
Result: PASS
------------------------------
PREREQUISITES
------------------------------
Prerequisite modules loaded:
configure_requires:
Module Need Have
------------------- ---- --------
ExtUtils::MakeMaker 7.34 7.34
Module::Metadata 0 1.000011
------------------------------
ENVIRONMENT AND OTHER CONTEXT
------------------------------
Environment variables:
AUTOMATED_TESTING = 1
HARNESS_OPTIONS = j2
NONINTERACTIVE_TESTING = 1
PATH = /home/smoker/perl5/perlbrew/bin:/home/smoker/perl5/perlbrew/perls/perl-5.18.4-thread/bin:/usr/local/sbin:/usr/local/bin:/usr/sbin:/usr/bin:/sbin:/bin
PERL5LIB =
PERL5OPT =
PERL5_CPANPLUS_IS_RUNNING = 745481
PERL5_CPAN_IS_RUNNING = 745481
PERLBREW_HOME = /home/smoker/.perlbrew
PERLBREW_MANPATH = /home/smoker/perl5/perlbrew/perls/perl-5.18.4-thread/man
PERLBREW_PATH = /home/smoker/perl5/perlbrew/bin:/home/smoker/perl5/perlbrew/perls/perl-5.18.4-thread/bin
PERLBREW_PERL = perl-5.18.4-thread
PERLBREW_ROOT = /home/smoker/perl5/perlbrew
PERLBREW_SHELLRC_VERSION = 0.86
PERLBREW_VERSION = 0.86
PERL_MM_USE_DEFAULT = 1
PERL_USE_UNSAFE_INC = 1
SHELL = /bin/bash
TERM = xterm
TMPDIR = /tmp/testwrapper.745470
Perl special variables (and OS-specific diagnostics, for MSWin32):
$^X = /home/smoker/perl5/perlbrew/perls/perl-5.18.4-thread/bin/perl5.18.4
$UID/$EUID = 1000 / 1000
$GID = 1000
$EGID = 1000
Perl module toolchain versions installed:
Module Have
------------------- --------
CPAN 2.22
CPAN::Meta 2.143240
Cwd 3.75
ExtUtils::CBuilder 0.280210
ExtUtils::Command 7.34
ExtUtils::Install 2.06
ExtUtils::MakeMaker 7.34
ExtUtils::Manifest 1.70
ExtUtils::ParseXS 3.18
File::Spec 3.75
JSON 4.00
JSON::PP 2.27203
Module::Build 0.4003
Module::Signature n/a
Parse::CPAN::Meta 1.4414
Test::Harness 3.42
Test::More 1.302160
YAML 1.27
YAML::Syck 1.31
version 0.9902
--
Summary of my perl5 (revision 5 version 18 subversion 4) configuration:
Platform:
osname=linux, osvers=4.16.0-2-amd64, archname=x86_64-linux-thread-multi
uname='linux 2e1879bbf423 4.16.0-2-amd64 #1 smp debian 4.16.16-2 (2018-06-22) x86_64 gnulinux '
config_args='-de -Dprefix=/home/smoker/perl5/perlbrew/perls/perl-5.18.4-thread -Dusedevel -Dusethreads -Accflags=-O2 -pipe -Wall -Wextra -mtune=native -march=native -Aeval:scriptdir=/home/smoker/perl5/perlbrew/perls/perl-5.18.4-thread/bin'
hint=recommended, useposix=true, d_sigaction=define
useithreads=define, usemultiplicity=define
useperlio=define, d_sfio=undef, uselargefiles=define, usesocks=undef
use64bitint=define, use64bitall=define, uselongdouble=undef
usemymalloc=n, bincompat5005=undef
Compiler:
cc='cc', ccflags ='-D_REENTRANT -D_GNU_SOURCE -O2 -pipe -Wall -Wextra -mtune=native -march=native -fno-strict-aliasing -fstack-protector -I/usr/local/include -D_LARGEFILE_SOURCE -D_FILE_OFFSET_BITS=64',
optimize='-O2',
cppflags='-D_REENTRANT -D_GNU_SOURCE -O2 -pipe -Wall -Wextra -mtune=native -march=native -fno-strict-aliasing -fstack-protector -I/usr/local/include'
ccversion='', gccversion='6.3.0 20170516', gccosandvers=''
intsize=4, longsize=8, ptrsize=8, doublesize=8, byteorder=12345678
d_longlong=define, longlongsize=8, d_longdbl=define, longdblsize=16
ivtype='long', ivsize=8, nvtype='double', nvsize=8, Off_t='off_t', lseeksize=8
alignbytes=8, prototype=define
Linker and Libraries:
ld='cc', ldflags =' -fstack-protector -L/usr/local/lib'
libpth=/usr/local/lib /lib/x86_64-linux-gnu /lib/../lib /usr/lib/x86_64-linux-gnu /usr/lib/../lib /lib /usr/lib
libs=-lnsl -ldl -lm -lcrypt -lutil -lpthread -lc
perllibs=-lnsl -ldl -lm -lcrypt -lutil -lpthread -lc
libc=libc-2.24.so, so=so, useshrplib=false, libperl=libperl.a
gnulibc_version='2.24'
Dynamic Linking:
dlsrc=dl_dlopen.xs, dlext=so, d_dlsymun=undef, ccdlflags='-Wl,-E'
cccdlflags='-fPIC', lddlflags='-shared -O2 -L/usr/local/lib -fstack-protector'
Characteristics of this binary (from libperl):
Compile-time options: HAS_TIMES MULTIPLICITY PERLIO_LAYERS
PERL_DONT_CREATE_GVSV
PERL_HASH_FUNC_ONE_AT_A_TIME_HARD
PERL_IMPLICIT_CONTEXT PERL_MALLOC_WRAP
PERL_PRESERVE_IVUV PERL_SAWAMPERSAND PERL_USE_DEVEL
USE_64_BIT_ALL USE_64_BIT_INT USE_ITHREADS
USE_LARGE_FILES USE_LOCALE USE_LOCALE_COLLATE
USE_LOCALE_CTYPE USE_LOCALE_NUMERIC USE_PERLIO
USE_PERL_ATOF USE_REENTRANT_API
Locally applied patches:
Devel::PatchPerl 1.52
Built under linux
Compiled at Jan 19 2019 22:02:11
%ENV:
PERL5LIB=""
PERL5OPT=""
PERL5_CPANPLUS_IS_RUNNING="745481"
PERL5_CPAN_IS_RUNNING="745481"
PERLBREW_HOME="/home/smoker/.perlbrew"
PERLBREW_MANPATH="/home/smoker/perl5/perlbrew/perls/perl-5.18.4-thread/man"
PERLBREW_PATH="/home/smoker/perl5/perlbrew/bin:/home/smoker/perl5/perlbrew/perls/perl-5.18.4-thread/bin"
PERLBREW_PERL="perl-5.18.4-thread"
PERLBREW_ROOT="/home/smoker/perl5/perlbrew"
PERLBREW_SHELLRC_VERSION="0.86"
PERLBREW_VERSION="0.86"
PERL_MM_USE_DEFAULT="1"
PERL_USE_UNSAFE_INC="1"
@INC:
/home/smoker/perl5/perlbrew/perls/perl-5.18.4-thread/lib/site_perl/5.18.4/x86_64-linux-thread-multi
/home/smoker/perl5/perlbrew/perls/perl-5.18.4-thread/lib/site_perl/5.18.4
/home/smoker/perl5/perlbrew/perls/perl-5.18.4-thread/lib/5.18.4/x86_64-linux-thread-multi
/home/smoker/perl5/perlbrew/perls/perl-5.18.4-thread/lib/5.18.4
.