Crypt-OpenSSL-PKCS10 v0.35 Perl 5 v5.18.4 i686-linux-64int

Status
Pass
From
Chris Williams (BINGOS)
Dist
Crypt-OpenSSL-PKCS10 v0.35
Platform
Perl 5 v5.18.4 i686-linux-64int
Date
2025-02-06 11:38:10
ID
d78d087a-e47e-11ef-98b0-b3c3213a625c
This distribution has been tested as part of the CPAN Testers
project, supporting the Perl programming language.  See
http://wiki.cpantesters.org/ for more information or email
questions to cpan-testers-discuss@perl.org


--

Dear TIMLEGGE,

This is a computer-generated error report created automatically by
CPANPLUS, version 0.9914. Testers personal comments may appear
at the end of this report.


Thank you for uploading your work to CPAN.  Congratulations!
All tests were successful.

TEST RESULTS:

Below is the error stack from stage 'make test':

"/home/cpan/pit/64bit/perl-5.18.4/bin/perl" -MExtUtils::Command::MM -e 'cp_nonempty' -- PKCS10.bs blib/arch/auto/Crypt/OpenSSL/PKCS10/PKCS10.bs 644
PERL_DL_NONLAZY=1 "/home/cpan/pit/64bit/perl-5.18.4/bin/perl" "-MExtUtils::Command::MM" "-MTest::Harness" "-e" "undef *Test::Harness::Switches; test_harness(0, 'blib/lib', 'blib/arch')" t/*.t
# OpenSSL 3.0.11 19 Sep 2023 (Library: OpenSSL 3.0.11 19 Sep 2023)
t/00-openssl-version.t .. ok
t/10-rsa-keys.t ......... ok
t/20-ec.t ............... ok
t/30-ec-keys.t .......... ok
t/author-pod-spell.t .... skipped: these tests are for testing by the author
t/author-pod-syntax.t ... skipped: these tests are for testing by the author
-----BEGIN CERTIFICATE REQUEST-----
MIIBPzCBqQIBADAAMIGfMA0GCSqGSIb3DQEBAQUAA4GNADCBiQKBgQC8wQRPuFCx
uaSy+Y7quL2tHgMosLr/io5H8bLvIBCSd7mI8KUsbu+MgZ+zJ4/X4fbNnoGR4ZDN
CB2NIHPa9r7evO8N9Xhcd1sxoOZuJUMOns8pWi/onukkVLTTyN2rPPH+61FDAF/1
/zlY98czRs6v76RXtwRwAClj1HPKfYu/lQIDAQABoAAwDQYJKoZIhvcNAQELBQAD
gYEAHQZiZ5oXpghllv38V8dyQia1dtwQgxJwARdjJqtPaGlfuN4llif92Wq5wX1T
E2aZTCBrDQt0EK7dHfYxlqeSQouncCC7HbYYy1qa+7pCwlzaMuk6uEBWDGq238kg
xEB0uOqs7ltlgcyIdiqRbdZ19VVucXAT+boHxecX+ba6ISM=
-----END CERTIFICATE REQUEST-----
-----BEGIN PRIVATE KEY-----
MIICdwIBADANBgkqhkiG9w0BAQEFAASCAmEwggJdAgEAAoGBALzBBE+4ULG5pLL5
juq4va0eAyiwuv+Kjkfxsu8gEJJ3uYjwpSxu74yBn7Mnj9fh9s2egZHhkM0IHY0g
c9r2vt687w31eFx3WzGg5m4lQw6ezylaL+ie6SRUtNPI3as88f7rUUMAX/X/OVj3
xzNGzq/vpFe3BHAAKWPUc8p9i7+VAgMBAAECgYBSyfIjKTuziDJ2EcGesCL5sIVA
LqwGc3ZOlfOesJi0NXEaYDqCT7IgFaa/RKXx0XmX3GMGYkJJu7qCcO5/5uP2Oxvu
tYLJAVI0h4mQkhFP10YZBzvJ7XS0y1Jugxj08KILJCmjtx2JJDePFck9UYe1o+OP
t1z9sCfilKAIS6H+YQJBAOfEqkw6aKo+fWtoOyxTCM7jDVVWqiHul7MNhutldcN+
Sia9wJKmepjhKYWItlPKmsXsupYzM2DUZ2CpWItXDa0CQQDQfRB54ERBkpn+BrUu
DavW8NFnAtMEwJr4PliCYoE/25GWdqM9eFwdlgHjuFr+PvwYr/eWB8s7MGBYX3xp
3OaJAkEA4h0KkCgD6OPidKFR6aJw23bEkVdl0Ij30yYFVS69P6a8LSO+9tQYk4JI
ghCo4QKvER4tw0/cdkGDQdi1m+uoWQJACVCNG+TZJ9TU7HSAQ754nvHDaUbHBr9U
LSMb8TdVbvTwXDiQsn5eHzREgVgLOLC3sqKp/Rn8Cnju1QPvGwuzgQJBALphM+OJ
WBQJd++6+JVYSFZj36jr3IHQ3J0MUHZw6lUyXIGhB1MjrS1/5ILv/d8RhQ27eCVW
BQObtivLcaUUBjI=
-----END PRIVATE KEY-----


Public-Key: (1024 bit)
Modulus:
    00:bc:c1:04:4f:b8:50:b1:b9:a4:b2:f9:8e:ea:b8:
    bd:ad:1e:03:28:b0:ba:ff:8a:8e:47:f1:b2:ef:20:
    10:92:77:b9:88:f0:a5:2c:6e:ef:8c:81:9f:b3:27:
    8f:d7:e1:f6:cd:9e:81:91:e1:90:cd:08:1d:8d:20:
    73:da:f6:be:de:bc:ef:0d:f5:78:5c:77:5b:31:a0:
    e6:6e:25:43:0e:9e:cf:29:5a:2f:e8:9e:e9:24:54:
    b4:d3:c8:dd:ab:3c:f1:fe:eb:51:43:00:5f:f5:ff:
    39:58:f7:c7:33:46:ce:af:ef:a4:57:b7:04:70:00:
    29:63:d4:73:ca:7d:8b:bf:95
Exponent: 65537 (0x10001)

-----BEGIN CERTIFICATE REQUEST-----
MIIBPzCBqQIBADAAMIGfMA0GCSqGSIb3DQEBAQUAA4GNADCBiQKBgQCzXb3moVNG
0HtbdWhGREAdBEenzPR0l/GHXpa9GSiX1n3LIiXhaWakNsnOHbWNEcKl0EeYHnSc
T6zqzDWTilI4Jg8lfDw2wW9QipJ3U/z+J7DOrW5+wbMqi30D6MkjK6qZE7sG6RVp
1s5nJujTBH3SU7UF5Qcs4eF0+GrbvY3nUwIDAQABoAAwDQYJKoZIhvcNAQELBQAD
gYEAMmp55eq3I7BVxdy3YikVtbKszvdPuTShSHHn0E+8g4p2EsduL1Wc3llEr374
PAOUOc+c6+KvJ8Xe40C1oSctOEING6XZFhNbxF2Kkquwja5lkpAoAle4yOAqTotC
U7Xl50rjuhpa3SZrD71gLdMWFEdx6b/Y2KUf3cRl4/UmjU4=
-----END CERTIFICATE REQUEST-----

Public-Key: (1024 bit)
Modulus:
    00:b3:5d:bd:e6:a1:53:46:d0:7b:5b:75:68:46:44:
    40:1d:04:47:a7:cc:f4:74:97:f1:87:5e:96:bd:19:
    28:97:d6:7d:cb:22:25:e1:69:66:a4:36:c9:ce:1d:
    b5:8d:11:c2:a5:d0:47:98:1e:74:9c:4f:ac:ea:cc:
    35:93:8a:52:38:26:0f:25:7c:3c:36:c1:6f:50:8a:
    92:77:53:fc:fe:27:b0:ce:ad:6e:7e:c1:b3:2a:8b:
    7d:03:e8:c9:23:2b:aa:99:13:bb:06:e9:15:69:d6:
    ce:67:26:e8:d3:04:7d:d2:53:b5:05:e5:07:2c:e1:
    e1:74:f8:6a:db:bd:8d:e7:53
Exponent: 65537 (0x10001)

rsa
-----BEGIN PUBLIC KEY-----
MIGfMA0GCSqGSIb3DQEBAQUAA4GNADCBiQKBgQCzXb3moVNG0HtbdWhGREAdBEen
zPR0l/GHXpa9GSiX1n3LIiXhaWakNsnOHbWNEcKl0EeYHnScT6zqzDWTilI4Jg8l
fDw2wW9QipJ3U/z+J7DOrW5+wbMqi30D6MkjK6qZE7sG6RVp1s5nJujTBH3SU7UF
5Qcs4eF0+GrbvY3nUwIDAQAB
-----END PUBLIC KEY-----

-----BEGIN CERTIFICATE REQUEST-----
MIIBPzCBqQIBADAAMIGfMA0GCSqGSIb3DQEBAQUAA4GNADCBiQKBgQCvB6nxJXXk
+wBrDK2bLrT0rtUgg6oU0FSUdT5YdWfofaNfpYYqYgQ3XNAWpp4/icBCrG/KlZLA
C0Z8oSUvlpPlY7lqZUsw/ji7IuUAWT1oCh8YBD6kbJN24F+k69eq9F8VQF4vd01+
Aedy4Oi3rR2FEy2eklenEgt0E1VcwGDb+wIDAQABoAAwDQYJKoZIhvcNAQEMBQAD
gYEAFVPTDoJCgYGBFkj1RRagIlyN8VyNqQ+5U3+MEkIqkI58qfdpZVFgTmPXfDKJ
sdnVAF+QRgNNZh4m67YhEGsO2U20oJtseHIXPdedv1hZZsg3EfWCIZflXx0NW4Rd
wush1Rxn//wVw9sywT94J52qUAir8hqGVJTLWBQxIH3j9Cs=
-----END CERTIFICATE REQUEST-----

Public-Key: (1024 bit)
Modulus:
    00:af:07:a9:f1:25:75:e4:fb:00:6b:0c:ad:9b:2e:
    b4:f4:ae:d5:20:83:aa:14:d0:54:94:75:3e:58:75:
    67:e8:7d:a3:5f:a5:86:2a:62:04:37:5c:d0:16:a6:
    9e:3f:89:c0:42:ac:6f:ca:95:92:c0:0b:46:7c:a1:
    25:2f:96:93:e5:63:b9:6a:65:4b:30:fe:38:bb:22:
    e5:00:59:3d:68:0a:1f:18:04:3e:a4:6c:93:76:e0:
    5f:a4:eb:d7:aa:f4:5f:15:40:5e:2f:77:4d:7e:01:
    e7:72:e0:e8:b7:ad:1d:85:13:2d:9e:92:57:a7:12:
    0b:74:13:55:5c:c0:60:db:fb
Exponent: 65537 (0x10001)

rsa
-----BEGIN PUBLIC KEY-----
MIGfMA0GCSqGSIb3DQEBAQUAA4GNADCBiQKBgQCvB6nxJXXk+wBrDK2bLrT0rtUg
g6oU0FSUdT5YdWfofaNfpYYqYgQ3XNAWpp4/icBCrG/KlZLAC0Z8oSUvlpPlY7lq
ZUsw/ji7IuUAWT1oCh8YBD6kbJN24F+k69eq9F8VQF4vd01+Aedy4Oi3rR2FEy2e
klenEgt0E1VcwGDb+wIDAQAB
-----END PUBLIC KEY-----

-----BEGIN CERTIFICATE REQUEST-----
MIICJzCCAZACAQAwKTELMAkGA1UEBhMCUk8xDDAKBgNVBAoMA1VUSTEMMAoGA1UE
CwwDc3NpMIGfMA0GCSqGSIb3DQEBAQUAA4GNADCBiQKBgQCdJP4E4mxM/dy+wntf
Seo8PtkFRoBf6pYJfkblxIvCdTXokW/YjaANvRoEsvFdPPUviQeGuoIiHch28J67
ke5vLrqaF3wg9evMEqs1H2FEUvHobtnRgcdVF03a8hVitfILDMd2YJbzLrERECU1
T4ffiIhCoFaRbO6Un+T1mDa71QIDAQABoIG9MIG6BgkqhkiG9w0BCQ4xgawwgakw
DgYDVR0PAQH/BAQDAgWgMC4GA1UdJQQnMCUGCCsGAQUFBwMBBglghkgBhvhCBAEG
CisGAQQBgjcKAwMGAisEMBwGA1UdEQQVMBOBEXN0ZXZlQG9wZW5zc2wub3JnMB0G
A1UdDgQWBBQiISHF1KFf2fuPVNB/DMgkwqVwNjAZBgMqAwMEEhYQTXkgbmV3IGV4
dGVuc2lvbjAPBgMqAwQECB4GAGEAYgBjMA0GCSqGSIb3DQEBCwUAA4GBAIUo2Amy
LfIpGcaBuGh1uDxTtDJSuGQFz9/aBOR1zatiZ2Cw4vKzxZNN/zNiHD8Ws/6FOu8d
SrnFlCdlSY8cMAGHo8KK9mrJcEdoge3w6/GhKAxda93XAbbbDqj1VCDY5bFrprW3
lxB/sEquAj5dT+w3VgPTQ/c4kwym/DLaiia+
-----END CERTIFICATE REQUEST-----
Public-Key: (1024 bit)
Modulus:
    00:9d:24:fe:04:e2:6c:4c:fd:dc:be:c2:7b:5f:49:
    ea:3c:3e:d9:05:46:80:5f:ea:96:09:7e:46:e5:c4:
    8b:c2:75:35:e8:91:6f:d8:8d:a0:0d:bd:1a:04:b2:
    f1:5d:3c:f5:2f:89:07:86:ba:82:22:1d:c8:76:f0:
    9e:bb:91:ee:6f:2e:ba:9a:17:7c:20:f5:eb:cc:12:
    ab:35:1f:61:44:52:f1:e8:6e:d9:d1:81:c7:55:17:
    4d:da:f2:15:62:b5:f2:0b:0c:c7:76:60:96:f3:2e:
    b1:11:10:25:35:4f:87:df:88:88:42:a0:56:91:6c:
    ee:94:9f:e4:f5:98:36:bb:d5
Exponent: 65537 (0x10001)

-----BEGIN PUBLIC KEY-----
MIGfMA0GCSqGSIb3DQEBAQUAA4GNADCBiQKBgQCdJP4E4mxM/dy+wntfSeo8PtkF
RoBf6pYJfkblxIvCdTXokW/YjaANvRoEsvFdPPUviQeGuoIiHch28J67ke5vLrqa
F3wg9evMEqs1H2FEUvHobtnRgcdVF03a8hVitfILDMd2YJbzLrERECU1T4ffiIhC
oFaRbO6Un+T1mDa71QIDAQAB
-----END PUBLIC KEY-----

t/Mytest.t .............. ok
t/release-kwalitee.t .... skipped: these tests are for release candidate testing
t/release-meta-json.t ... skipped: these tests are for release candidate testing
All tests successful.
Files=9, Tests=102, 26 wallclock secs ( 0.03 usr  0.01 sys + 26.11 cusr  0.14 csys = 26.29 CPU)
Result: PASS


PREREQUISITES:

Here is a list of prerequisites you specified and versions we
managed to load:

	  Module Name                        Have     Want
	  Crypt::OpenSSL::Guess              0.15     0.11
	  Crypt::OpenSSL::RSA                0.33        0
	  Exporter                           5.68        0
	  File::Slurper                     0.014        0
	  File::Spec::Functions              3.75        0
	  File::Temp                       0.2311        0
	  Import::Into                   1.002005        0
	  Test::Lib                         0.003        0
	  Test::More                     1.302199        0
	  XSLoader                           0.16        0

Perl module toolchain versions installed:
	Module Name                        Have
	CPANPLUS                         0.9914
	CPANPLUS::Dist::Build              0.90
	Cwd                                3.75
	ExtUtils::CBuilder             0.280236
	ExtUtils::Command                  7.70
	ExtUtils::Install                  2.22
	ExtUtils::MakeMaker                7.70
	ExtUtils::Manifest                 1.75
	ExtUtils::ParseXS                  3.51
	File::Spec                         3.75
	Module::Build                    0.4234
	Pod::Parser                        1.60
	Pod::Simple                        3.28
	Test2                          1.302199
	Test::Harness                      3.48
	Test::More                     1.302199
	version                          0.9932

******************************** NOTE ********************************
The comments above are created mechanically, possibly without manual
checking by the sender.  As there are many people performing automatic
tests on each upload to CPAN, it is likely that you will receive
identical messages about the same problem.

If you believe that the message is mistaken, please reply to the first
one with correction and/or additional informations, and do not take
it personally.  We appreciate your patience. :)
**********************************************************************

Additional comments:


This report was machine-generated by CPANPLUS::Dist::YACSmoke 1.08.
Powered by minismokebox version 0.68

CPANPLUS is prefering Build.PL

------------------------------
ENVIRONMENT AND OTHER CONTEXT
------------------------------

Environment variables:

    AUTOMATED_TESTING = 1
    LANG = en_GB.UTF-8
    LANGUAGE = en_GB:en
    NONINTERACTIVE_TESTING = 1
    PATH = /usr/local/bin:/usr/bin:/bin:/usr/local/games:/usr/games
    PERL5LIB = /home/cpan/pit/jail/nhBNfl5zh6/lib/perl5:/home/cpan/pit/64bit/conf/perl-5.18.4/.cpanplus/5.18.4/build/jB61OqZeUu/Crypt-OpenSSL-PKCS10-0.35/blib/lib:/home/cpan/pit/64bit/conf/perl-5.18.4/.cpanplus/5.18.4/build/jB61OqZeUu/Crypt-OpenSSL-PKCS10-0.35/blib/arch
    PERL5_CPANPLUS_IS_RUNNING = 22165
    PERL5_CPANPLUS_IS_VERSION = 0.9914
    PERL5_MINISMOKEBOX = 0.68
    PERL5_YACSMOKE_BASE = /home/cpan/pit/64bit/conf/perl-5.18.4
    PERL_EXTUTILS_AUTOINSTALL = --defaultdeps
    PERL_LOCAL_LIB_ROOT = /home/cpan/pit/jail/nhBNfl5zh6
    PERL_MB_OPT = --install_base "/home/cpan/pit/jail/nhBNfl5zh6"
    PERL_MM_OPT = INSTALL_BASE=/home/cpan/pit/jail/nhBNfl5zh6
    PERL_MM_USE_DEFAULT = 1
    SHELL = /bin/bash
    TERM = screen.xterm-256color

Perl special variables (and OS-specific diagnostics, for MSWin32):

    Perl: $^X = /home/cpan/pit/64bit/perl-5.18.4/bin/perl
    UID:  $<  = 1001
    EUID: $>  = 1001
    GID:  $(  = 1001 1001
    EGID: $)  = 1001 1001


-------------------------------


--

Summary of my perl5 (revision 5 version 18 subversion 4) configuration:
   
  Platform:
    osname=linux, osvers=5.10.0-12-686, archname=i686-linux-64int
    uname='linux dagobah 5.10.0-12-686 #1 smp debian 5.10.103-1 (2022-03-07) i686 gnulinux '
    config_args='-des -Dprefix=/home/cpan/pit/64bit/perl-5.18.4 -Duse64bitint'
    hint=recommended, useposix=true, d_sigaction=define
    useithreads=undef, usemultiplicity=undef
    useperlio=define, d_sfio=undef, uselargefiles=define, usesocks=undef
    use64bitint=define, use64bitall=undef, uselongdouble=undef
    usemymalloc=n, bincompat5005=undef
  Compiler:
    cc='cc', ccflags ='-fwrapv -fno-strict-aliasing -pipe -fstack-protector -I/usr/local/include -D_LARGEFILE_SOURCE -D_FILE_OFFSET_BITS=64',
    optimize='-O2',
    cppflags='-fwrapv -fno-strict-aliasing -pipe -fstack-protector -I/usr/local/include'
    ccversion='', gccversion='10.2.1 20210110', gccosandvers=''
    intsize=4, longsize=4, ptrsize=4, doublesize=8, byteorder=12345678
    d_longlong=define, longlongsize=8, d_longdbl=define, longdblsize=12
    ivtype='long long', ivsize=8, nvtype='double', nvsize=8, Off_t='off_t', lseeksize=8
    alignbytes=4, prototype=define
  Linker and Libraries:
    ld='cc', ldflags =' -fstack-protector -L/usr/local/lib'
    libpth=/usr/local/lib /lib/i386-linux-gnu /lib/../lib /usr/lib/i386-linux-gnu /usr/lib/../lib /lib /usr/lib /lib64 /usr/lib64
    libs=-lnsl -lgdbm -ldl -lm -lcrypt -lutil -lc
    perllibs=-lnsl -ldl -lm -lcrypt -lutil -lc
    libc=libc-2.31.so, so=so, useshrplib=false, libperl=libperl.a
    gnulibc_version='2.31'
  Dynamic Linking:
    dlsrc=dl_dlopen.xs, dlext=so, d_dlsymun=undef, ccdlflags='-Wl,-E'
    cccdlflags='-fPIC', lddlflags='-shared -O2 -L/usr/local/lib -fstack-protector'


Characteristics of this binary (from libperl): 
  Compile-time options: HAS_TIMES PERLIO_LAYERS PERL_DONT_CREATE_GVSV
                        PERL_HASH_FUNC_ONE_AT_A_TIME_HARD PERL_MALLOC_WRAP
                        PERL_PRESERVE_IVUV PERL_SAWAMPERSAND USE_64_BIT_INT
                        USE_LARGE_FILES USE_LOCALE USE_LOCALE_COLLATE
                        USE_LOCALE_CTYPE USE_LOCALE_NUMERIC USE_PERLIO
                        USE_PERL_ATOF
  Locally applied patches:
	Devel::PatchPerl 2.08
  Built under linux
  Compiled at Mar 18 2022 20:49:34
  %ENV:
    PERL5LIB="/home/cpan/pit/jail/nhBNfl5zh6/lib/perl5:/home/cpan/pit/64bit/conf/perl-5.18.4/.cpanplus/5.18.4/build/jB61OqZeUu/Crypt-OpenSSL-PKCS10-0.35/blib/lib:/home/cpan/pit/64bit/conf/perl-5.18.4/.cpanplus/5.18.4/build/jB61OqZeUu/Crypt-OpenSSL-PKCS10-0.35/blib/arch"
    PERL5_CPANPLUS_IS_RUNNING="22165"
    PERL5_CPANPLUS_IS_VERSION="0.9914"
    PERL5_MINISMOKEBOX="0.68"
    PERL5_YACSMOKE_BASE="/home/cpan/pit/64bit/conf/perl-5.18.4"
    PERL_EXTUTILS_AUTOINSTALL="--defaultdeps"
    PERL_LOCAL_LIB_ROOT="/home/cpan/pit/jail/nhBNfl5zh6"
    PERL_MB_OPT="--install_base "/home/cpan/pit/jail/nhBNfl5zh6""
    PERL_MM_OPT="INSTALL_BASE=/home/cpan/pit/jail/nhBNfl5zh6"
    PERL_MM_USE_DEFAULT="1"
  @INC:
    /home/cpan/pit/jail/nhBNfl5zh6/lib/perl5/5.18.4/i686-linux-64int
    /home/cpan/pit/jail/nhBNfl5zh6/lib/perl5/5.18.4
    /home/cpan/pit/jail/nhBNfl5zh6/lib/perl5/i686-linux-64int
    /home/cpan/pit/jail/nhBNfl5zh6/lib/perl5
    /home/cpan/pit/64bit/conf/perl-5.18.4/.cpanplus/5.18.4/build/jB61OqZeUu/Crypt-OpenSSL-PKCS10-0.35/blib/lib
    /home/cpan/pit/64bit/conf/perl-5.18.4/.cpanplus/5.18.4/build/jB61OqZeUu/Crypt-OpenSSL-PKCS10-0.35/blib/arch
    /home/cpan/pit/64bit/perl-5.18.4/lib/site_perl/5.18.4/i686-linux-64int
    /home/cpan/pit/64bit/perl-5.18.4/lib/site_perl/5.18.4
    /home/cpan/pit/64bit/perl-5.18.4/lib/5.18.4/i686-linux-64int
    /home/cpan/pit/64bit/perl-5.18.4/lib/5.18.4
    .