String-Palindrome v1.01 Perl 5 v5.8.7 darwin-2level

Status
Pass
From
Chris Williams (BINGOS)
Dist
String-Palindrome v1.01
Platform
Perl 5 v5.8.7 darwin-2level
Date
2010-08-26 02:22:58
ID
d78146b6-b0b8-11df-8246-59ba6e8696e0
This distribution has been tested as part of the CPAN Testers
project, supporting the Perl programming language.  See
http://wiki.cpantesters.org/ for more information or email
questions to cpan-testers-discuss@perl.org


--

Dear LESPEA,
    
This is a computer-generated error report created automatically by
CPANPLUS, version 0.9006. Testers personal comments may appear 
at the end of this report.

MAKE TEST passed:
t/00-compile.t ............... ok
t/01-func_test.t ............. ok
t/author-critic.t ............ skipped: these tests are for testing by the author
t/release-check-changes.t .... skipped: these tests are for release candidate testing
t/release-distmeta.t ......... skipped: these tests are for release candidate testing
t/release-has-version.t ...... skipped: these tests are for release candidate testing
t/release-kwalitee.t ......... skipped: these tests are for release candidate testing
t/release-minimum-version.t .. skipped: these tests are for release candidate testing
t/release-pod-coverage.t ..... skipped: these tests are for release candidate testing
t/release-pod-syntax.t ....... skipped: these tests are for release candidate testing
t/release-portability.t ...... skipped: these tests are for release candidate testing
t/release-synopsis.t ......... skipped: these tests are for release candidate testing
t/release-unused-vars.t ...... skipped: these tests are for release candidate testing
All tests successful.
Files=13, Tests=70,  4 wallclock secs ( 0.66 usr  0.27 sys +  2.14 cusr  0.54 csys =  3.61 CPU)
Result: PASS

[MSG] [Thu Aug 26 03:27:20 2010] Sending test report for 'String-Palindrome-1.01'

This report was machine-generated by CPANPLUS::Dist::YACSmoke 0.58.
Powered by minismokebox version 0.28

------------------------------
ENVIRONMENT AND OTHER CONTEXT
------------------------------

Environment variables:

    AUTOMATED_TESTING = 1
    PATH = /bin:/sbin:/usr/bin:/usr/sbin:/usr/local/bin:/usr/local/sbin
    PERL5LIB = :/Volumes/Media/smoke/thr/conf/perl-5.8.7/.cpanplus/5.8.7/build/String-Palindrome-1.01/blib/lib:/Volumes/Media/smoke/thr/conf/perl-5.8.7/.cpanplus/5.8.7/build/String-Palindrome-1.01/blib/arch
    PERL5_CPANPLUS_IS_RUNNING = 3219
    PERL5_CPANPLUS_IS_VERSION = 0.9006
    PERL5_MINISMOKEBOX = 0.28
    PERL5_YACSMOKE_BASE = /Volumes/Media/smoke/thr/conf/perl-5.8.7
    PERL_EXTUTILS_AUTOINSTALL = --defaultdeps
    PERL_MM_USE_DEFAULT = 1
    SHELL = /bin/bash
    TERM = screen

Perl special variables (and OS-specific diagnostics, for MSWin32):

    Perl: $^X = /Volumes/Media/smoke/thr/perl-5.8.7/bin/perl
    UID:  $<  = 502
    EUID: $>  = 502
    GID:  $(  = 502 502
    EGID: $)  = 502 502


-------------------------------


--

Summary of my perl5 (revision 5 version 8 subversion 7) configuration:
  Platform:
    osname=darwin, osvers=8.11.0, archname=darwin-2level
    uname='darwin afalglas.bingosnet.co.uk 8.11.0 darwin kernel version 8.11.0: wed oct 10 18:26:00 pdt 2007; root:xnu-792.24.17~1release_ppc power macintosh powerpc '
    config_args='-de -Dprefix=/Volumes/Media/smoke/thr/perl-5.8.7 -Dsuethreads'
    hint=recommended, useposix=true, d_sigaction=define
    usethreads=undef use5005threads=undef useithreads=undef usemultiplicity=undef
    useperlio=define d_sfio=undef uselargefiles=define usesocks=undef
    use64bitint=undef use64bitall=undef uselongdouble=undef
    usemymalloc=n, bincompat5005=undef
  Compiler:
    cc='cc', ccflags ='-fno-common -DPERL_DARWIN -no-cpp-precomp -fno-strict-aliasing -pipe -I/usr/local/include',
    optimize='-O3',
    cppflags='-no-cpp-precomp -fno-common -DPERL_DARWIN -no-cpp-precomp -fno-strict-aliasing -pipe -I/usr/local/include'
    ccversion='', gccversion='4.0.1 (Apple Computer, Inc. build 5367)', gccosandvers=''
    intsize=4, longsize=4, ptrsize=4, doublesize=8, byteorder=4321
    d_longlong=define, longlongsize=8, d_longdbl=define, longdblsize=16
    ivtype='long', ivsize=4, nvtype='double', nvsize=8, Off_t='off_t', lseeksize=8
    alignbytes=8, prototype=define
  Linker and Libraries:
    ld='env MACOSX_DEPLOYMENT_TARGET=10.3 cc', ldflags =' -L/usr/local/lib'
    libpth=/usr/local/lib /usr/lib
    libs=-ldbm -ldl -lm -lc
    perllibs=-ldl -lm -lc
    libc=/usr/lib/libc.dylib, so=dylib, useshrplib=false, libperl=libperl.a
    gnulibc_version=''
  Dynamic Linking:
    dlsrc=dl_dlopen.xs, dlext=bundle, d_dlsymun=undef, ccdlflags=' '
    cccdlflags=' ', lddlflags=' -bundle -undefined dynamic_lookup -L/usr/local/lib'


Characteristics of this binary (from libperl): 
  Compile-time options: USE_LARGE_FILES
  Built under darwin
  Compiled at Jun 27 2009 08:41:37
  %ENV:
    PERL5LIB=":/Volumes/Media/smoke/thr/conf/perl-5.8.7/.cpanplus/5.8.7/build/String-Palindrome-1.01/blib/lib:/Volumes/Media/smoke/thr/conf/perl-5.8.7/.cpanplus/5.8.7/build/String-Palindrome-1.01/blib/arch"
    PERL5_CPANPLUS_IS_RUNNING="3219"
    PERL5_CPANPLUS_IS_VERSION="0.9006"
    PERL5_MINISMOKEBOX="0.28"
    PERL5_YACSMOKE_BASE="/Volumes/Media/smoke/thr/conf/perl-5.8.7"
    PERL_EXTUTILS_AUTOINSTALL="--defaultdeps"
    PERL_MM_USE_DEFAULT="1"
  @INC:
    /Volumes/Media/smoke/thr/conf/perl-5.8.7/.cpanplus/5.8.7/build/String-Palindrome-1.01/blib/lib
    /Volumes/Media/smoke/thr/conf/perl-5.8.7/.cpanplus/5.8.7/build/String-Palindrome-1.01/blib/arch
    /Volumes/Media/smoke/thr/perl-5.8.7/lib/5.8.7/darwin-2level
    /Volumes/Media/smoke/thr/perl-5.8.7/lib/5.8.7
    /Volumes/Media/smoke/thr/perl-5.8.7/lib/site_perl/5.8.7/darwin-2level
    /Volumes/Media/smoke/thr/perl-5.8.7/lib/site_perl/5.8.7
    /Volumes/Media/smoke/thr/perl-5.8.7/lib/site_perl
    .