Report for Class-Accessor-Installer-1.100880

Back
From: metabase:user:0b91ce32-3676-11e1-a1bc-bfed0df65b4f
Subject: FAIL Class-Accessor-Installer-1.100880 v5.14.2 GNU/Linux
Date: 2012-05-26T23:52:24Z

This distribution has been tested as part of the CPAN Testers
project, supporting the Perl programming language.  See
http://wiki.cpantesters.org/ for more information or email
questions to cpan-testers-discuss@perl.org


--
Dear Marcel Gruenauer,

This is a computer-generated report for Class-Accessor-Installer-1.100880
on perl 5.14.2, created by CPAN-Reporter-1.2006.

Thank you for uploading your work to CPAN.  However, there was a problem
testing your distribution.

If you think this report is invalid, please consult the CPAN Testers Wiki
for suggestions on how to avoid getting FAIL reports for missing library
or binary dependencies, unsupported operating systems, and so on:

http://wiki.cpantesters.org/wiki/CPANAuthorNotes

Sections of this report:

    * Tester comments
    * Program output
    * Prerequisites
    * Environment and other context

------------------------------
TESTER COMMENTS
------------------------------

Additional comments from tester:

none provided

------------------------------
PROGRAM OUTPUT
------------------------------

Output from '/usr/bin/make test':

PERL_DL_NONLAZY=1 /opt/perl32-5.14.2/bin/perl "-MExtUtils::Command::MM" "-e" "test_harness(0, 'blib/lib', 'blib/arch')" t/*.t
t/00-compile.................ok     3875 ms
t/000-report-versions........# Testing with Perl 5.014002, /opt/perl32-5.14.2/bin/perl
#     Carp version is 1.25
#     English version is 1.04
#     ExtUtils::MakeMaker version is 6.62
#     File::Find version is 1.19
#     File::Temp version is 0.22
#     Scalar::Util version is 1.25
#     Sub::Name version is 0.05
#     Test::More version is 0.98
#     UNIVERSAL::require version is 0.13
#     parent version is 0.225
ok     4542 ms
t/01_misc....................ok      767 ms
t/author-critic..............
#   Failed test 'Test::Perl::Critic for "blib/lib/Class/Accessor/Installer.pm"'
#   at /opt/perl32-5.14.2/lib/site_perl/5.14.2/Test/Perl/Critic.pm line 110.
# 
# Perl::Critic found these violations in "blib/lib/Class/Accessor/Installer.pm":
# Variable, subroutine, and package names have to be in CamelCase at line 12, column 1.  (no explanation).  (Severity: 5)
# Variable, subroutine, and package names have to be in CamelCase at line 13, column 9.  (no explanation).  (Severity: 5)
# Variable, subroutine, and package names have to be in CamelCase at line 13, column 16.  (no explanation).  (Severity: 5)
# Variable, subroutine, and package names have to be in CamelCase at line 14, column 9.  (no explanation).  (Severity: 5)
# Variable, subroutine, and package names have to be in CamelCase at line 14, column 19.  (no explanation).  (Severity: 5)
# Variable, subroutine, and package names have to be in CamelCase at line 14, column 26.  (no explanation).  (Severity: 5)
# Variable, subroutine, and package names have to be in CamelCase at line 14, column 35.  (no explanation).  (Severity: 5)
# Variable, subroutine, and package names have to be in CamelCase at line 15, column 21.  (no explanation).  (Severity: 5)
# Variable, subroutine, and package names have to be in CamelCase at line 16, column 9.  (no explanation).  (Severity: 5)
# Variable, subroutine, and package names have to be in CamelCase at line 16, column 24.  (no explanation).  (Severity: 5)
# Variable, subroutine, and package names have to be in CamelCase at line 16, column 33.  (no explanation).  (Severity: 5)
# Variable, subroutine, and package names have to be in CamelCase at line 18, column 5.  (no explanation).  (Severity: 5)
# Variable, subroutine, and package names have to be in CamelCase at line 18, column 14.  (no explanation).  (Severity: 5)
# Variable, subroutine, and package names have to be in CamelCase at line 18, column 32.  (no explanation).  (Severity: 5)
# Variable, subroutine, and package names have to be in CamelCase at line 19, column 8.  (no explanation).  (Severity: 5)
# Variable, subroutine, and package names have to be in CamelCase at line 20, column 9.  (no explanation).  (Severity: 5)
# Variable, subroutine, and package names have to be in CamelCase at line 21, column 12.  (no explanation).  (Severity: 5)
# Variable, subroutine, and package names have to be in CamelCase at line 22, column 14.  (no explanation).  (Severity: 5)
# Variable, subroutine, and package names have to be in CamelCase at line 22, column 31.  (no explanation).  (Severity: 5)
# Variable, subroutine, and package names have to be in CamelCase at line 23, column 17.  (no explanation).  (Severity: 5)
# Variable, subroutine, and package names have to be in CamelCase at line 25, column 12.  (no explanation).  (Severity: 5)
# Variable, subroutine, and package names have to be in CamelCase at line 25, column 19.  (no explanation).  (Severity: 5)
# Stricture disabled at line 26, column 9.  See page 429 of PBP.  (Severity: 5)
# Variable, subroutine, and package names have to be in CamelCase at line 27, column 9.  (no explanation).  (Severity: 5)
# Variable, subroutine, and package names have to be in CamelCase at line 27, column 21.  (no explanation).  (Severity: 5)
# Variable, subroutine, and package names have to be in CamelCase at line 27, column 39.  (no explanation).  (Severity: 5)
# Variable, subroutine, and package names have to be in CamelCase at line 27, column 45.  (no explanation).  (Severity: 5)
# Variable, subroutine, and package names have to be in CamelCase at line 27, column 57.  (no explanation).  (Severity: 5)
# Variable, subroutine, and package names have to be in CamelCase at line 28, column 67.  (no explanation).  (Severity: 5)
# Variable, subroutine, and package names have to be in CamelCase at line 32, column 1.  (no explanation).  (Severity: 5)
# Variable, subroutine, and package names have to be in CamelCase at line 33, column 9.  (no explanation).  (Severity: 5)
# Variable, subroutine, and package names have to be in CamelCase at line 33, column 16.  (no explanation).  (Severity: 5)
# Method invokation should use "()" at line 37, column 23.  Use "->MethodName()" instead of "->MethodName".  (Severity: 5)
# Use of "require" is not allowed at line 37, column 25.  Use Require() method of MainObject instead.  (Severity: 5)
# Variable, subroutine, and package names have to be in CamelCase at line 39, column 8.  (no explanation).  (Severity: 5)
# Variable, subroutine, and package names have to be in CamelCase at line 39, column 26.  (no explanation).  (Severity: 5)
# Variable, subroutine, and package names have to be in CamelCase at line 40, column 21.  (no explanation).  (Severity: 5)
# Variable, subroutine, and package names have to be in CamelCase at line 41, column 9.  (no explanation).  (Severity: 5)
# Variable, subroutine, and package names have to be in CamelCase at line 41, column 24.  (no explanation).  (Severity: 5)
# Variable, subroutine, and package names have to be in CamelCase at line 41, column 33.  (no explanation).  (Severity: 5)
# Variable, subroutine, and package names have to be in CamelCase at line 43, column 8.  (no explanation).  (Severity: 5)
# Variable, subroutine, and package names have to be in CamelCase at line 43, column 23.  (no explanation).  (Severity: 5)
# Variable, subroutine, and package names have to be in CamelCase at line 44, column 5.  (no explanation).  (Severity: 5)
# Variable, subroutine, and package names have to be in CamelCase at line 44, column 14.  (no explanation).  (Severity: 5)
# Variable, subroutine, and package names have to be in CamelCase at line 44, column 32.  (no explanation).  (Severity: 5)
# Variable, subroutine, and package names have to be in CamelCase at line 45, column 8.  (no explanation).  (Severity: 5)
# Variable, subroutine, and package names have to be in CamelCase at line 45, column 29.  (no explanation).  (Severity: 5)
# Variable, subroutine, and package names have to be in CamelCase at line 46, column 16.  (no explanation).  (Severity: 5)
# Variable, subroutine, and package names have to be in CamelCase at line 46, column 23.  (no explanation).  (Severity: 5)
# Variable, subroutine, and package names have to be in CamelCase at line 46, column 46.  (no explanation).  (Severity: 5)
# Variable, subroutine, and package names have to be in CamelCase at line 48, column 30.  (no explanation).  (Severity: 5)
# Variable, subroutine, and package names have to be in CamelCase at line 49, column 30.  (no explanation).  (Severity: 5)
# Variable, subroutine, and package names have to be in CamelCase at line 51, column 30.  (no explanation).  (Severity: 5)
# Variable, subroutine, and package names have to be in CamelCase at line 52, column 30.  (no explanation).  (Severity: 5)
# Variable, subroutine, and package names have to be in CamelCase at line 53, column 14.  (no explanation).  (Severity: 5)
# Variable, subroutine, and package names have to be in CamelCase at line 53, column 43.  (no explanation).  (Severity: 5)
# Looks like you failed 1 test of 1.
dubious
	Test returned status 1 (wstat 256, 0x100)
DIED. FAILED test 1
	Failed 1/1 tests, 0.00% okay
t/release-check-changes......ok     2900 ms
t/release-dist-manifest......# Distribution files are missing in MANIFEST:
# MYMETA.yml
# MYMETA.json

#   Failed test 'All files are listed in MANIFEST or skipped'
#   at t/release-dist-manifest.t line 16.
# Looks like you failed 1 test of 4.
dubious
	Test returned status 1 (wstat 256, 0x100)
DIED. FAILED test 2
	Failed 1/4 tests, 75.00% okay
t/release-has-version........ok     4684 ms
t/release-kwalitee...........ok    30985 ms
t/release-meta-yaml..........ok     1740 ms
t/release-minimum-version....ok    63696 ms
t/release-pod-coverage.......ok     3980 ms
t/release-pod-spell..........ok     7095 ms
t/release-pod-syntax.........ok     2079 ms
t/release-portability........ok     2466 ms
t/release-synopsis...........ok     1297 ms
t/release-unused-vars........ok     2234 ms
Failed Test               Stat Wstat Total Fail  List of Failed
-------------------------------------------------------------------------------
t/author-critic.t            1   256     1    1  1
t/release-dist-manifest.t    1   256     4    1  2
Failed 2/16 test scripts. 2/60 subtests failed.
Files=16, Tests=60, 200 wallclock secs (20.79 cusr +  1.34 csys = 22.13 CPU)
Failed 2/16 test programs. 2/60 subtests failed.
make: *** [test_dynamic] Error 255

------------------------------
PREREQUISITES
------------------------------

Prerequisite modules loaded:

requires:

    Module              Need Have 
    ------------------- ---- -----
    Carp                0    1.25 
    English             0    1.04 
    File::Find          0    1.19 
    File::Temp          0    0.22 
    parent              0    0.225
    Scalar::Util        0    1.25 
    Sub::Name           0    0.05 
    Test::More          0.88 0.98 
    UNIVERSAL::require  0    0.13 

configure_requires:

    Module              Need Have 
    ------------------- ---- -----
    ExtUtils::MakeMaker 6.11 6.62 


------------------------------
ENVIRONMENT AND OTHER CONTEXT
------------------------------

Environment variables:

    AUTHOR_TESTING = 1
    LANG = en_US.UTF-8
    PATH = /usr/kerberos/sbin:/usr/kerberos/bin:/usr/local/sbin:/usr/local/bin:/sbin:/bin:/usr/sbin:/usr/bin:/opt/real/RealPlayer:/root/bin:/opt/real/RealPlayer
    PERL5LIB = 
    PERL5OPT = 
    PERL5_CPANPLUS_IS_RUNNING = 14383
    PERL5_CPAN_IS_RUNNING = 14383
    PERL_AUTOINSTALL = defaultdeps
    PERL_EXTUTILS_AUTOINSTALL = --defaultdeps
    PERL_MM_USE_DEFAULT = 1
    SHELL = /bin/bash
    TERM = xterm

Perl special variables (and OS-specific diagnostics, for MSWin32):

    $^X = /opt/perl32-5.14.2/bin/perl
    $UID/$EUID = 0 / 0
    $GID = 0 0 1 2 3 4 6 10
    $EGID = 0 0 1 2 3 4 6 10

Perl module toolchain versions installed:

    Module              Have    
    ------------------- --------
    CPAN                1.9800  
    CPAN::Meta          2.120921
    Cwd                 3.33    
    ExtUtils::CBuilder  0.280205
    ExtUtils::Command   1.17    
    ExtUtils::Install   1.54    
    ExtUtils::MakeMaker 6.62    
    ExtUtils::Manifest  1.60    
    ExtUtils::ParseXS   3.15    
    File::Spec          3.33    
    JSON                2.53    
    JSON::PP            2.27200 
    Module::Build       0.40    
    Module::Signature   0.68    
    Parse::CPAN::Meta   1.4404  
    Test::Harness       2.64    
    Test::More          0.98    
    YAML                0.81    
    YAML::Syck          1.20    
    version             0.99    


--

Summary of my perl5 (revision 5 version 14 subversion 2) configuration:
   
  Platform:
    osname=linux, osvers=2.6.18-1.2798.fc6, archname=i686-linux-thread-multi
    uname='linux localhost.localdomain 2.6.18-1.2798.fc6 #1 smp mon oct 16 14:37:32 edt 2006 i686 i686 i386 gnulinux '
    config_args='-Dcc=gcc -Dprefix=/opt/perl32-5.14.2 -DDEBUGGING'
    hint=recommended, useposix=true, d_sigaction=define
    useithreads=define, usemultiplicity=define
    useperlio=define, d_sfio=undef, uselargefiles=undef, usesocks=undef
    use64bitint=undef, use64bitall=undef, uselongdouble=undef
    usemymalloc=n, bincompat5005=undef
  Compiler:
    cc='gcc', ccflags ='-D_REENTRANT -D_GNU_SOURCE -DDEBUGGING -fno-strict-aliasing -pipe -fstack-protector -I/usr/local/include',
    optimize='-O2 -g',
    cppflags='-D_REENTRANT -D_GNU_SOURCE -DDEBUGGING -fno-strict-aliasing -pipe -fstack-protector -I/usr/local/include'
    ccversion='', gccversion='4.1.1 20061011 (Red Hat 4.1.1-30)', gccosandvers=''
    intsize=4, longsize=4, ptrsize=4, doublesize=8, byteorder=1234
    d_longlong=define, longlongsize=8, d_longdbl=define, longdblsize=12
    ivtype='long', ivsize=4, nvtype='double', nvsize=8, Off_t='off_t', lseeksize=4
    alignbytes=4, prototype=define
  Linker and Libraries:
    ld='gcc', ldflags =' -fstack-protector -L/usr/local/lib'
    libpth=/usr/local/lib /lib /usr/lib
    libs=-lnsl -lgdbm -ldb -ldl -lm -lcrypt -lutil -lpthread -lc
    perllibs=-lnsl -ldl -lm -lcrypt -lutil -lpthread -lc
    libc=/lib/libc-2.5.so, so=so, useshrplib=true, libperl=libperl.so
    gnulibc_version='2.5'
  Dynamic Linking:
    dlsrc=dl_dlopen.xs, dlext=so, d_dlsymun=undef, ccdlflags='-Wl,-E -Wl,-rpath,/opt/perl32-5.14.2/lib/5.14.2/i686-linux-thread-multi/CORE'
    cccdlflags='-fPIC', lddlflags='-shared -O2 -g -L/usr/local/lib -fstack-protector'


Characteristics of this binary (from libperl): 
  Compile-time options: DEBUGGING MULTIPLICITY PERL_DONT_CREATE_GVSV
                        PERL_IMPLICIT_CONTEXT PERL_MALLOC_WRAP
                        PERL_PRESERVE_IVUV PERL_TRACK_MEMPOOL USE_ITHREADS
                        USE_PERLIO USE_PERL_ATOF USE_REENTRANT_API
  Built under linux
  Compiled at Apr 21 2012 22:37:13
  %ENV:
    PERL5LIB=""
    PERL5OPT=""
    PERL5_CPANPLUS_IS_RUNNING="14383"
    PERL5_CPAN_IS_RUNNING="14383"
    PERL_AUTOINSTALL="defaultdeps"
    PERL_EXTUTILS_AUTOINSTALL="--defaultdeps"
    PERL_MM_USE_DEFAULT="1"
  @INC:
    /opt/perl32-5.14.2/lib/site_perl/5.14.2/i686-linux-thread-multi
    /opt/perl32-5.14.2/lib/site_perl/5.14.2
    /opt/perl32-5.14.2/lib/5.14.2/i686-linux-thread-multi
    /opt/perl32-5.14.2/lib/5.14.2
    .