Report for Acme-TLDR-0.004

Back
From: metabase:user:314402c4-2aae-11df-837a-5e0a49663a4f
Subject: PASS Acme-TLDR-0.004 v5.22.0 FreeBSD
Date: 2015-06-10T06:28:00Z

This distribution has been tested as part of the CPAN Testers
project, supporting the Perl programming language.  See
http://wiki.cpantesters.org/ for more information or email
questions to cpan-testers-discuss@perl.org


--
Dear Stanislaw Pusep,

This is a computer-generated report for Acme-TLDR-0.004
on perl 5.22.0, created by CPAN-Reporter-1.2014.

Thank you for uploading your work to CPAN.  Congratulations!
All tests were successful.

Sections of this report:

    * Tester comments
    * Program output
    * Prerequisites
    * Environment and other context

------------------------------
TESTER COMMENTS
------------------------------

Additional comments from tester:

none provided

------------------------------
PROGRAM OUTPUT
------------------------------

Output from '/usr/bin/make test':

PERL_DL_NONLAZY=1 "/usr/perl5.22.0p/bin/perl5.22.0" "-MExtUtils::Command::MM" "-MTest::Harness" "-e" "undef *Test::Harness::Switches; test_harness(0, 'blib/lib', 'blib/arch')" t/*.t
t/00-compile.t ............... ok
# Acme::TLDR v0.004, Perl 5.022000, /usr/perl5.22.0p/bin/perl5.22.0
t/00-load.t .................. ok
ExtUtils::Installed cache: /home/cpansand/.Acme-TLDR-10084b23d89f83c682caee1cc80d22d2.cache
no cache found; generating
AAAA::Crypt::DH                                                  => AAAA::C::DH
ACME::MyFirstModule::SETHS                                       => ACME::MyFM::SETHS
API::Zendesk                                                     => API::Z
Acme::AutoloadAll                                                => A::AAll
Acme::CPANAuthors                                                => A::CPANA
Acme::CPANAuthors::GitHub                                        => A::CPANA::GitHub
Acme::CPANAuthors::Israeli                                       => A::CPANA::I
Acme::Enc                                                        => A::Enc
Acme::MetaSyntactic                                              => A::MS
Acme::MetaSyntactic::Themes                                      => A::MS::T
Acme::MyFirsdtModule::AKENNY                                     => A::MyFM::AKENNY
Acme::MyFirstModule::APIERRE                                     => A::MyFM::APIERRE
Acme::MyFirstModule::DPAKPERL                                    => A::MyFM::DPAKPERL
Acme::MyFirstModule::DRPENGUIN                                   => A::MyFM::DRPENGUIN
Acme::MyFirstModule::ITCharlie                                   => A::MyFM::ITC
Acme::MyFirstModule::MCMILLHJ                                    => A::MyFM::MCMILLHJ
Acme::MyFirstModule::SADAMS                                      => A::MyFM::SADAMS
Acme::PERLANCAR::Test                                            => A::PERLANCAR::T
Algorithm::AM                                                    => A::AM
Algorithm::BloomFilter                                           => A::BF
Algorithm::C3                                                    => A::C3
Algorithm::Combinatorics                                         => A::C
Algorithm::ConsistentHash::Ketama                                => A::CH::K
Algorithm::Cron                                                  => *undef*
Algorithm::DecisionTree                                          => A::DT
Algorithm::Dependency                                            => A::D
Algorithm::Diff                                                  => *undef*
Algorithm::IRCSRP2                                               => A::IRCSRP2
Alien::Base                                                      => A::B
Alien::FFI                                                       => A::FFI
Alien::GSL                                                       => A::GSL
Alien::IUP                                                       => A::IUP
Alien::LIBSVM                                                    => A::LIBSVM
Alien::SVN                                                       => A::SVN
Alien::SeleniumRC                                                => A::SRC
Alien::unibilium                                                 => A::u
Amon2                                                            => A2
Amon2::Plugin::Web::FillInForm                                   => A2::P::Web::FInF
Any::Moose                                                       => Any::M
Any::URI::Escape                                                 => Any::URI::E
AnyDBM_File                                                      => AnyDBM_F
AnyEvent                                                         => AnyE
AnyEvent::AIO                                                    => AnyE::AIO
AnyEvent::Filesys::Notify                                        => AnyE::F::N
AnyEvent::Future                                                 => AnyE::F
AnyEvent::HTTP                                                   => AnyE::HTTP
AnyEvent::HTTP::LWP::UserAgent                                   => AnyE::HTTP::LWP::UA
AnyEvent::ReadLine::Gnu                                          => AnyE::RL::Gnu
AnyEvent::SSH2                                                   => AnyE::SSH2
AnyEvent::SlackRTM                                               => AnyE::SRTM
AnyEvent::WebSocket::Client                                      => AnyE::WebS::C
AnyEvent::XMPP                                                   => AnyE::XMPP
Apache::Log::Parser                                              => A::Log::P
Apache::LogFormat::Compiler                                      => A::LogF::C
Apache::Session                                                  => A::S
Apache::Test                                                     => A::T
App-Git-Workflow                                                 => App-Git-W
App-Git-Workflow-Command-BranchConflicts                         => App-Git-W-C-BC
App-Git-Workflow-Command-SinceRelease                            => App-Git-W-C-SR
App::Basis                                                       => App::B
App::BoolFindGrep                                                => App::BFG
App::CPAN::Dependents                                            => App::CPAN::D
App::Cache                                                       => App::C
App::ChangeShebang                                               => App::CS
App::Cpan                                                        => *undef*
App::Cronjob                                                     => *undef*
App::Daemon                                                      => App::D
App::DuckPAN                                                     => App::DPAN
App::Followme                                                    => App::F
App::GitGrepPerlStatement                                        => App::GitGPS
App::Koyomi                                                      => App::K
App::MultiSsh                                                    => App::MSsh
App::Multigit                                                    => App::M
App::MusicTools                                                  => App::MT
App::Notifier::Client                                            => App::N::C
App::Prove                                                       => App::P
App::Prove::State                                                => App::P::S
App::Prove::State::Result                                        => App::P::S::R
App::Prove::State::Result::Test                                  => App::P::S::R::T
App::ShellCompleter::YoutubeDl                                   => App::SC::YDl
App::ShellCompleter::cpanm                                       => App::SC::c
App::VOJournal                                                   => App::VOJ
App::Validation::Automation                                      => App::V::A
App::XML::DocBook::Builder                                       => App::XML::DocB::B
App::calendr                                                     => App::c
App::cpanminus                                                   => *undef*
App::lcpan                                                       => App::l
App::whichpm                                                     => App::w
AppConfig                                                        => AppC
Archive::Any                                                     => A::Any
Archive::Any::Lite                                               => A::Any::L
Archive::Extract                                                 => A::E
Archive::Tar                                                     => A::Tar
Archive::Tar::Constant                                           => A::Tar::C
Archive::Tar::File                                               => A::Tar::F
Archive::Tar::Wrapper                                            => A::Tar::W
Archive::Zip                                                     => A::Zip
Array::Diff                                                      => *undef*
Array::RefElem                                                   => A::RefE
Array::Utils                                                     => A::U
Astro::Coord::ECI                                                => A::C::ECI
Astro::FITS::Header                                              => A::FITS::H
Astro::SpaceTrack                                                => A::ST
Astro::Utils                                                     => *undef*
Attribute::Handlers                                              => A::H
Attribute::Util                                                  => *undef*
Authen::DecHpwd                                                  => A::DecH
Authen::Passphrase                                               => A::P
Authen::SASL                                                     => A::SASL
Authen::Simple                                                   => *undef*
Authen::Simple::SSH                                              => A::S::SSH
AutoLoader                                                       => AL
AutoSplit                                                        => AS
B::CallChecker                                                   => B::CC
B::Compiling                                                     => B::C
B::Concise                                                       => *undef*
B::Debug                                                         => B::D
B::Deparse                                                       => *undef*
B::Generate                                                      => B::G
B::Hooks::EndOfScope                                             => B::H::EndOfS
B::Hooks::OP::Check                                              => B::H::OP::C
B::Hooks::OP::PPAddr                                             => B::H::OP::PPA
B::Hooks::Parser                                                 => B::H::P
B::Keywords                                                      => B::K
B::Op_private                                                    => B::O
B::Showlex                                                       => B::S
B::Terse                                                         => B::T
B::Utils                                                         => B::U
B::Xref                                                          => B::X
BackPAN::Index                                                   => BPAN::I
Bit::Vector                                                      => Bit::V
Bot::Backbone                                                    => Bot::B
Box::Calc                                                        => Box::C
Browser::Open                                                    => *undef*
Bundle::Siebel::MonitoringTools                                  => B::S::MT
Business::AuthorizeNet::CIM                                      => B::ANet::CIM
Business::CreditCard                                             => *undef*
Business::Fixflo                                                 => B::F
Business::RO::CIF                                                => B::RO::CIF
CGI::Expand                                                      => CGI::E
CGI::Info                                                        => CGI::I
CGI::Minimal                                                     => CGI::M
CGI::Simple                                                      => CGI::S
CGI::Struct                                                      => *undef*
CPAN::Author                                                     => CPAN::A
CPAN::Bundle                                                     => CPAN::B
CPAN::CacheMgr                                                   => CPAN::CMgr
CPAN::Changes                                                    => CPAN::C
CPAN::Complete                                                   => *undef*
CPAN::Debug                                                      => CPAN::D
CPAN::DeferredCode                                               => CPAN::DC
CPAN::DistnameInfo                                               => CPAN::DI
CPAN::Distribution                                               => *undef*
CPAN::Distroprefs                                                => *undef*
CPAN::Distrostatus                                               => *undef*
CPAN::Exception::RecursiveDependency                             => CPAN::E::RD
CPAN::Exception::blocked_urllist                                 => CPAN::E::b
CPAN::Exception::yaml_not_installed                              => CPAN::E::y
CPAN::Exception::yaml_process_error                              => *undef*
CPAN::FTP::netrc                                                 => CPAN::FTP::n
CPAN::FirstTime                                                  => CPAN::FT
CPAN::HTTP::Client                                               => CPAN::HTTP::C
CPAN::HTTP::Credentials                                          => *undef*
CPAN::HandleConfig                                               => CPAN::HC
CPAN::Index                                                      => CPAN::I
CPAN::InfoObj                                                    => CPAN::IObj
CPAN::Kwalify                                                    => CPAN::K
CPAN::LWP::UserAgent                                             => CPAN::LWP::UA
CPAN::Meta                                                       => CPAN::M
CPAN::Meta::Check                                                => CPAN::M::C
CPAN::Meta::Converter                                            => *undef*
CPAN::Meta::Feature                                              => CPAN::M::F
CPAN::Meta::History                                              => CPAN::M::H
CPAN::Meta::Merge                                                => CPAN::M::M
CPAN::Meta::Prereqs                                              => CPAN::M::P
CPAN::Meta::Requirements                                         => CPAN::M::R
CPAN::Meta::Spec                                                 => CPAN::M::S
CPAN::Meta::Validator                                            => CPAN::M::V
CPAN::Meta::YAML                                                 => CPAN::M::YAML
CPAN::Mini                                                       => *undef*
CPAN::Mirrors                                                    => *undef*
CPAN::Module                                                     => *undef*
CPAN::ParseDistribution                                          => CPAN::PD
CPAN::Perl::Releases                                             => CPAN::P::R
CPAN::Plugin                                                     => CPAN::P
CPAN::Plugin::Specfile                                           => CPAN::P::S
CPAN::Prompt                                                     => *undef*
CPAN::Queue                                                      => CPAN::Q
CPAN::Reporter                                                   => CPAN::R
CPAN::Shell                                                      => CPAN::S
CPAN::Tarzip                                                     => CPAN::T
CPAN::Uploader                                                   => CPAN::U
CPAN::Version                                                    => CPAN::V
CSS::Minifier::XS                                                => CSS::M::XS
CSS::Scopifier                                                   => CSS::S
CSS::Simple                                                      => *undef*
CSS::Tiny                                                        => CSS::T
Cache::Cache                                                     => C::C
Cache::FastMmap                                                  => C::FM
Cache::LRU                                                       => C::LRU
Cache::Memcached                                                 => C::M
Calendar::Bahai                                                  => C::B
Calendar::Hijri                                                  => C::H
Calendar::Persian                                                => C::P
Calendar::Saka                                                   => C::S
Canary::Stability                                                => *undef*
Capture::Tiny                                                    => C::T
Carp::Always                                                     => C::A
Carp::Assert                                                     => *undef*
Carp::Assert::More                                               => C::A::M
Carp::Clan                                                       => *undef*
Carp::Heavy                                                      => *undef*
Catalyst::Action::REST                                           => C::A::REST
Catalyst::Action::RenderView                                     => C::A::RV
Catalyst::ActionRole::MethodSignatureDependencyInjection         => C::AR::MSDI
Catalyst::ActionSignatures                                       => C::AS
Catalyst::Authentication::Store::DBIx::Class                     => C::A::S::DBIx::C
Catalyst::Authentication::Store::UserXML                         => C::A::S::UXML
Catalyst::Component::InstancePerContext                          => C::C::IPerC
Catalyst::ComponentRole::PathFrom                                => C::CR::PF
Catalyst::Controller::AutoAssets                                 => C::C::AA
Catalyst::Controller::SimpleCAS                                  => C::C::SCAS
Catalyst::Devel                                                  => C::D
Catalyst::Helper::View::Bootstrap                                => C::H::V::B
Catalyst::Model::Adaptor                                         => C::M::A
Catalyst::Model::DBIC::Schema                                    => C::M::DBIC::S
Catalyst::Plugin::ActionPaths                                    => C::P::AP
Catalyst::Plugin::Authentication                                 => C::P::A
Catalyst::Plugin::Authorization::Roles                           => C::P::A::R
Catalyst::Plugin::ConfigLoader                                   => C::P::CL
Catalyst::Plugin::ErrorCatcher                                   => C::P::EC
Catalyst::Plugin::MapComponentDependencies                       => C::P::MapCD
Catalyst::Plugin::Session                                        => C::P::S
Catalyst::Plugin::Session::State::Cookie                         => C::P::S::S::C
Catalyst::Plugin::Session::Store::DBIC                           => C::P::S::S::DBIC
Catalyst::Plugin::Session::Store::Delegate                       => C::P::S::S::D
Catalyst::Plugin::Session::Store::File                           => C::P::S::S::F
Catalyst::Plugin::SmartURI                                       => C::P::SURI
Catalyst::Plugin::StackTrace                                     => C::P::ST
Catalyst::Plugin::Static::Simple                                 => C::P::S::S
Catalyst::Runtime                                                => C::R
Catalyst::View::ByCode                                           => C::V::ByC
Catalyst::View::TT                                               => C::V::TT
Catalyst::View::XSLT                                             => C::V::XSLT
CatalystX::AppBuilder                                            => CX::AppB
CatalystX::Component::Traits                                     => CX::C::T
CatalystX::InjectComponent                                       => CX::IC
Class::Accessor                                                  => *undef*
Class::Accessor::Chained                                         => C::A::C
Class::Accessor::Grouped                                         => C::A::G
Class::Accessor::Lite                                            => C::A::L
Class::Accessor::Lite::Lazy                                      => C::A::L::L
Class::Accessor::Lvalue                                          => *undef*
Class::C3                                                        => C::C3
Class::C3::Adopt::NEXT                                           => C::C3::A::NEXT
Class::C3::Componentised                                         => C::C3::C
Class::Container                                                 => *undef*
Class::Data::Inheritable                                         => C::D::I
Class::Discover                                                  => *undef*
Class::ErrorHandler                                              => C::EH
Class::Factory::Util                                             => C::F::U
Class::ISA                                                       => C::ISA
Class::InsideOut                                                 => C::IOut
Class::Inspector                                                 => C::I
Class::Iterator                                                  => *undef*
Class::Load                                                      => C::L
Class::Load::XS                                                  => C::L::XS
Class::Loader                                                    => *undef*
Class::Method::Modifiers                                         => C::M::M
Class::MethodMaker                                               => C::MM
Class::Mix                                                       => C::Mix
Class::Null                                                      => C::N
Class::Singleton                                                 => *undef*
Class::Struct                                                    => *undef*
Class::Tiny                                                      => *undef*
Class::Unload                                                    => C::U
Class::Usul                                                      => *undef*
Class::XSAccessor                                                => C::XSA
Clone::PP                                                        => C::PP
Clownfish::CFC                                                   => C::CFC
Color::ANSI::Util                                                => C::ANSI::U
Compiler::Lexer                                                  => *undef*
Complete::Bash                                                   => *undef*
Complete::Bash::History                                          => C::B::H
Complete::Fish                                                   => C::F
Complete::Getopt::Long                                           => C::G::L
Complete::Module                                                 => *undef*
Complete::Path                                                   => *undef*
Complete::Tcsh                                                   => *undef*
Complete::Util                                                   => *undef*
Complete::Zsh                                                    => C::Zsh
Compress::Bzip2                                                  => C::B2
Compress::Raw::Bzip2                                             => C::Raw::B2
Compress::Raw::Zlib                                              => C::Raw::Z
Compress::Zlib                                                   => C::Z
Conductrics::Agent                                               => *undef*
Config::Any                                                      => C::Any
Config::App                                                      => C::App
Config::Auto                                                     => *undef*
Config::AutoConf                                                 => C::AC
Config::Extensions                                               => C::E
Config::Find                                                     => *undef*
Config::General                                                  => C::G
Config::INI                                                      => C::INI
Config::INI::Reader::Ordered                                     => C::INI::R::O
Config::IOD::Reader                                              => C::IOD::R
Config::IniFiles                                                 => C::IniF
Config::MVP                                                      => C::MVP
Config::MVP::Reader::INI                                         => C::MVP::R::INI
Config::MVP::Slicer                                              => C::MVP::S
Config::MVP::Writer::INI                                         => C::MVP::W::INI
Config::Onion                                                    => C::O
Config::Perl::V                                                  => C::P::V
Config::Properties                                               => *undef*
Config::Simple                                                   => *undef*
Config::Tiny                                                     => *undef*
Const::Fast                                                      => *undef*
Constant::FromGlobal                                             => C::FG
Context::Preserve                                                => *undef*
Convert::ASCII::Armour                                           => C::ASCII::A
Convert::ASN1                                                    => C::ASN1
Convert::Base32                                                  => C::B32
Convert::Base32::Crockford                                       => C::B32::C
Convert::PEM                                                     => C::PEM
Convert::UU                                                      => C::UU
Cookie::Baker                                                    => *undef*
Cpanel::JSON::XS                                                 => C::JSON::XS
Crypt::Blowfish                                                  => *undef*
Crypt::CAST5_PP                                                  => C::CAST5_PP
Crypt::CBC                                                       => C::CBC
Crypt::DES                                                       => C::DES
Crypt::DES_EDE3                                                  => C::DES_EDE3
Crypt::DH                                                        => C::DH
Crypt::DH::GMP                                                   => C::DH::GMP
Crypt::DSA                                                       => C::DSA
Crypt::DSA::GMP                                                  => C::DSA::GMP
Crypt::Eksblowfish                                               => *undef*
Crypt::IDEA                                                      => C::IDEA
Crypt::Lite                                                      => *undef*
Crypt::MySQL                                                     => C::MySQL
Crypt::OpenPGP                                                   => C::OPGP
Crypt::OpenSSL::AES                                              => C::OSSL::AES
Crypt::OpenSSL::RSA                                              => C::OSSL::RSA
Crypt::OpenSSL::Random                                           => C::OSSL::R
Crypt::Passwd::XS                                                => C::P::XS
Crypt::PasswdMD5                                                 => C::PMD5
Crypt::Primes                                                    => *undef*
Crypt::RC4                                                       => C::RC4
Crypt::RIPEMD160                                                 => C::RIPEMD160
Crypt::RSA                                                       => C::RSA
Crypt::Random                                                    => *undef*
Crypt::Random::Seed                                              => C::R::S
Crypt::Random::Source                                            => *undef*
Crypt::Random::TESHA2                                            => C::R::TESHA2
Crypt::Rijndael                                                  => *undef*
Crypt::SSLeay                                                    => C::SSL
Crypt::SaltedHash                                                => C::SH
Crypt::Twofish                                                   => *undef*
Crypt::Twofish2                                                  => C::T2
Crypt::URandom                                                   => C::UR
Crypt::UnixCrypt_XS                                              => C::UCXS
CryptX                                                           => CX
Cwd::Guard                                                       => Cwd::G
DBD::SQLite                                                      => DBD::SQL
DBICx::Sugar                                                     => DBICx::S
DBICx::TestDatabase                                              => DBICx::TD
DBIx::Class                                                      => DBIx::C
DBIx::Class::Candy                                               => DBIx::C::C
DBIx::Class::DynamicDefault                                      => DBIx::C::DD
DBIx::Class::Helpers                                             => DBIx::C::H
DBIx::Class::InflateColumn::Authen::Passphrase                   => DBIx::C::IC::A::P
DBIx::Class::InflateColumn::Object::Enum                         => DBIx::C::IC::O::E
DBIx::Class::IntrospectableM2M                                   => DBIx::C::IM2M
DBIx::Class::PassphraseColumn                                    => DBIx::C::PC
DBIx::Class::Schema::Diff                                        => DBIx::C::S::D
DBIx::Class::Schema::Loader                                      => DBIx::C::S::L
DBIx::Class::Schema::Versioned::Inline                           => DBIx::C::S::V::I
DBIx::Class::TimeStamp                                           => DBIx::C::TS
DBIx::Connector                                                  => *undef*
DBIx::Diff::Schema                                               => DBIx::D::S
DBIx::Inspector                                                  => DBIx::I
DBIx::Introspector                                               => *undef*
DBIx::Schema::Annotate                                           => DBIx::S::A
DBIx::Simple                                                     => DBIx::S
DBIx::TransactionManager                                         => DBIx::TM
DBM::Deep                                                        => DBM::D
DBM_Filter                                                       => DBM_F
DBM_Filter::compress                                             => DBM_F::c
DBM_Filter::encode                                               => DBM_F::e
DBM_Filter::int32                                                => DBM_F::int32
DBM_Filter::null                                                 => DBM_F::n
DBM_Filter::utf8                                                 => DBM_F::utf8
DB_File                                                          => DB_F
DPKG::Parse                                                      => DPKG::P
Daemon::Daemonize                                                => D::D
Dancer2                                                          => D2
Dancer2::Plugin::Adapter                                         => D2::P::A
Dancer2::Plugin::Auth::Extensible                                => D2::P::A::E
Dancer2::Plugin::Auth::Extensible::Provider::DBIC                => D2::P::A::E::P::DBIC
Dancer2::Plugin::DBIC                                            => D2::P::DBIC
Dancer2::Template::TemplateFlute                                 => D2::T::TF
Dancer::Plugin::PageHistory                                      => D::P::PH
Dancer::Plugin::ValidateTiny                                     => D::P::VT
Data::Buffer                                                     => D::B
Data::Check::Structure                                           => D::C::S
Data::Clean::JSON                                                => D::C::JSON
Data::Clone                                                      => D::C
Data::Compare                                                    => *undef*
Data::Context                                                    => *undef*
Data::DPath                                                      => D::DP
Data::Debug                                                      => *undef*
Data::Dmp                                                        => D::Dmp
Data::Dump                                                       => *undef*
Data::Dump::OneLine                                              => D::D::OneL
Data::DumpXML                                                    => D::DXML
Data::Dumper                                                     => *undef*
Data::Dumper::Concise                                            => D::D::C
Data::Entropy                                                    => D::E
Data::Float                                                      => D::F
Data::Formula                                                    => *undef*
Data::GUID                                                       => D::GUID
Data::Header::Fields                                             => D::H::F
Data::IEEE754                                                    => D::IEEE754
Data::Integer                                                    => D::I
Data::MessagePack                                                => D::MP
Data::ModeMerge                                                  => D::MM
Data::Munge                                                      => D::M
Data::Object                                                     => D::O
Data::OptList                                                    => D::OptL
Data::Page                                                       => D::P
Data::Page::NoTotalEntries                                       => D::P::NoTE
Data::Pageset                                                    => *undef*
Data::Partial::Google                                            => D::P::G
Data::Perl                                                       => *undef*
Data::PowerSet                                                   => D::PSet
Data::Printer                                                    => *undef*
Data::Printer::Filter::PDL                                       => D::P::F::PDL
Data::Random                                                     => D::R
Data::Record                                                     => *undef*
Data::Rmap                                                       => *undef*
Data::Sah                                                        => D::Sah
Data::Sah::From::JSONSchema                                      => D::Sah::F::JSONS
Data::Sah::Normalize                                             => D::Sah::N
Data::Sah::Terse                                                 => D::Sah::T
Data::Sah::Util::Type                                            => D::Sah::U::T
Data::Section                                                    => D::S
Data::Section::Simple                                            => D::S::S
Data::Serializer                                                 => *undef*
Data::Stream::Bulk                                               => D::S::B
Data::Structure::Util                                            => D::S::U
Data::Transformer                                                => D::T
Data::Transpose                                                  => *undef*
Data::UUID                                                       => D::UUID
Data::Util                                                       => D::U
Data::Validate::IP                                               => D::V::IP
Data::Validator                                                  => D::V
Data::Visitor                                                    => *undef*
Data::asXML                                                      => D::asXML
Date::Bahai::Simple                                              => D::B::S
Date::Calc                                                       => *undef*
Date::Easter                                                     => *undef*
Date::Hijri                                                      => D::H
Date::Hijri::Simple                                              => D::H::S
Date::Holidays::SK                                               => D::H::SK
Date::Manip                                                      => *undef*
Date::Parse                                                      => *undef*
Date::Persian::Simple                                            => D::P::S
Date::Saka::Simple                                               => *undef*
Date::Simple                                                     => *undef*
Date::Utils                                                      => *undef*
DateTime                                                         => DT
DateTime::Calendar::Hebrew                                       => DT::C::H
DateTime::Calendar::Hijri                                        => *undef*
DateTime::Calendar::Julian                                       => DT::C::J
DateTime::Calendar::Mayan                                        => DT::C::M
DateTime::Calendar::Pataphysical                                 => DT::C::P
DateTime::Event::ICal                                            => DT::E::ICal
DateTime::Event::Recurrence                                      => DT::E::R
DateTime::Event::Sunrise                                         => DT::E::S
DateTime::Format::Builder                                        => DT::F::B
DateTime::Format::Duration                                       => DT::F::D
DateTime::Format::Epoch                                          => DT::F::E
DateTime::Format::Flexible                                       => DT::F::F
DateTime::Format::HTTP                                           => DT::F::HTTP
DateTime::Format::ICal                                           => DT::F::ICal
DateTime::Format::ISO8601                                        => DT::F::ISO8601
DateTime::Format::Mail                                           => DT::F::M
DateTime::Format::MySQL                                          => DT::F::MySQL
DateTime::Format::Natural                                        => DT::F::N
DateTime::Format::Pg                                             => DT::F::Pg
DateTime::Format::SQLite                                         => DT::F::SQL
DateTime::Format::Strptime                                       => DT::F::S
DateTime::Format::W3CDTF                                         => DT::F::W3CDTF
DateTime::Locale                                                 => DT::L
DateTime::Set                                                    => DT::Set
DateTime::TimeZone                                               => DT::TZ
DateTime::Tiny                                                   => DT::T
DateTimeX::Easy                                                  => DTX::E
DefHash                                                          => DefH
Desktop::Detect                                                  => *undef*
Devel::Autoflush                                                 => D::A
Devel::Backtrace                                                 => *undef*
Devel::CallChecker                                               => D::CC
Devel::Caller                                                    => *undef*
Devel::CheckBin                                                  => D::CBin
Devel::CheckCompiler                                             => *undef*
Devel::CheckLib                                                  => D::CLib
Devel::CheckOS                                                   => D::COS
Devel::Cycle                                                     => *undef*
Devel::Declare                                                   => *undef*
Devel::Declare::Parser                                           => D::D::P
Devel::FindPerl                                                  => D::FP
Devel::GlobalDestruction                                         => D::GD
Devel::Hide                                                      => *undef*
Devel::LexAlias                                                  => D::LexA
Devel::OverloadInfo                                              => D::OI
Devel::PPPort                                                    => D::PPP
Devel::PartialDump                                               => D::PD
Devel::Peek                                                      => *undef*
Devel::REPL                                                      => D::REPL
Devel::Refcount                                                  => *undef*
Devel::SelfStubber                                               => D::SS
Devel::SimpleTrace                                               => D::ST
Devel::StackTrace                                                => *undef*
Devel::StackTrace::AsHTML                                        => D::ST::AsHTML
Devel::StackTrace::WithLexicals                                  => D::ST::WL
Devel::Symdump                                                   => *undef*
Device::SerialPort                                               => D::SP
Digest::BubbleBabble                                             => D::BB
Digest::CRC                                                      => D::CRC
Digest::HMAC                                                     => D::HMAC
Digest::JHash                                                    => D::JH
Digest::MD2                                                      => D::MD2
Digest::MD4                                                      => D::MD4
Digest::MD5                                                      => D::MD5
Digest::MD5::File                                                => D::MD5::F
Digest::Perl::MD5                                                => D::P::MD5
Digest::SHA                                                      => D::SHA
Digest::SHA1                                                     => D::SHA1
Digest::base                                                     => D::b
Digest::file                                                     => D::f
Dir::Self                                                        => Dir::S
DirHandle                                                        => DirH
Directory::Scratch                                               => *undef*
Dispatch::Class                                                  => *undef*
Dist::CheckConflicts                                             => *undef*
Dist::Util                                                       => *undef*
Dist::Zilla                                                      => D::Z
Dist::Zilla::Config::Slicer                                      => D::Z::C::S
Dist::Zilla::Plugin::AbstractFromPOD                             => D::Z::P::AFPOD
Dist::Zilla::Plugin::Authority                                   => D::Z::P::A
Dist::Zilla::Plugin::AuthorityFromModule                         => D::Z::P::AFM
Dist::Zilla::Plugin::AutoMetaResources                           => D::Z::P::AMR
Dist::Zilla::Plugin::Bootstrap::lib                              => D::Z::P::B::lib
Dist::Zilla::Plugin::Bugtracker                                  => D::Z::P::B
Dist::Zilla::Plugin::BumpVersionAfterRelease                     => D::Z::P::BVAR
Dist::Zilla::Plugin::ChangeStats::Git                            => D::Z::P::CS::Git
Dist::Zilla::Plugin::CheckChangeLog                              => D::Z::P::CCLog
Dist::Zilla::Plugin::CheckChangesHasContent                      => D::Z::P::CCHasC
Dist::Zilla::Plugin::CheckExtraTests                             => D::Z::P::CET
Dist::Zilla::Plugin::CheckIssues                                 => D::Z::P::CI
Dist::Zilla::Plugin::CheckMetaResources                          => D::Z::P::CMR
Dist::Zilla::Plugin::CheckPrereqsIndexed                         => D::Z::P::CPI
Dist::Zilla::Plugin::CheckSelfDependency                         => D::Z::P::CSD
Dist::Zilla::Plugin::CheckStrictVersion                          => D::Z::P::CSV
Dist::Zilla::Plugin::CheckVersionIncrement                       => D::Z::P::CVI
Dist::Zilla::Plugin::CoalescePod                                 => D::Z::P::CPod
Dist::Zilla::Plugin::CoderwallEndorse                            => D::Z::P::CE
Dist::Zilla::Plugin::Config::Git                                 => D::Z::P::C::Git
Dist::Zilla::Plugin::ContributorsFile                            => D::Z::P::CF
Dist::Zilla::Plugin::ContributorsFromGit                         => D::Z::P::CFGit
Dist::Zilla::Plugin::CopyFilesFromBuild                          => D::Z::P::CFFB
Dist::Zilla::Plugin::CopyFilesFromRelease                        => D::Z::P::CFFR
Dist::Zilla::Plugin::Covenant                                    => D::Z::P::C
Dist::Zilla::Plugin::DOAP                                        => D::Z::P::DOAP
Dist::Zilla::Plugin::DynamicPrereqs                              => D::Z::P::DP
Dist::Zilla::Plugin::GenerateFile::ShareDir                      => D::Z::P::GF::SDir
Dist::Zilla::Plugin::Git                                         => D::Z::P::Git
Dist::Zilla::Plugin::Git::Contributors                           => D::Z::P::Git::C
Dist::Zilla::Plugin::Git::Describe                               => D::Z::P::Git::D
Dist::Zilla::Plugin::Git::PushInitial                            => D::Z::P::Git::PI
Dist::Zilla::Plugin::Git::Remote::Check                          => D::Z::P::Git::R::C
Dist::Zilla::Plugin::GitHub                                      => D::Z::P::GitHub
Dist::Zilla::Plugin::GithubMeta                                  => D::Z::P::GM
Dist::Zilla::Plugin::HelpWanted                                  => D::Z::P::HW
Dist::Zilla::Plugin::InsertCopyright                             => D::Z::P::IC
Dist::Zilla::Plugin::InsertExample                               => D::Z::P::IE
Dist::Zilla::Plugin::InstallGuide                                => D::Z::P::IG
Dist::Zilla::Plugin::InstallRelease                              => D::Z::P::IR
Dist::Zilla::Plugin::Keywords                                    => D::Z::P::K
Dist::Zilla::Plugin::LicenseFromModule                           => D::Z::P::LFM
Dist::Zilla::Plugin::MakeMaker::Awesome                          => D::Z::P::MM::A
Dist::Zilla::Plugin::MakeMaker::Fallback                         => D::Z::P::MM::F
Dist::Zilla::Plugin::ManifestInRoot                              => D::Z::P::MInR
Dist::Zilla::Plugin::MatchManifest                               => D::Z::P::MM
Dist::Zilla::Plugin::Meta::Dynamic::Config                       => D::Z::P::M::D::C
Dist::Zilla::Plugin::MetaProvides                                => D::Z::P::MP
Dist::Zilla::Plugin::MetaProvides::Class                         => D::Z::P::MP::C
Dist::Zilla::Plugin::MetaProvides::FromFile                      => D::Z::P::MP::FF
Dist::Zilla::Plugin::MetaProvides::Package                       => D::Z::P::MP::P
Dist::Zilla::Plugin::MinimumPerl                                 => *undef*
Dist::Zilla::Plugin::ModuleBuildTiny                             => D::Z::P::MBT
Dist::Zilla::Plugin::ModuleBuildTiny::Fallback                   => D::Z::P::MBT::F
Dist::Zilla::Plugin::MojibakeTests                               => D::Z::P::MT
Dist::Zilla::Plugin::NextVersion::Semantic                       => D::Z::P::NV::S
Dist::Zilla::Plugin::OurPkgVersion                               => D::Z::P::OurPkgV
Dist::Zilla::Plugin::PerlTidy                                    => D::Z::P::PT
Dist::Zilla::Plugin::PkgVersion::Block                           => D::Z::P::PkgV::B
Dist::Zilla::Plugin::PodWeaver                                   => D::Z::P::PodW
Dist::Zilla::Plugin::Prepender                                   => D::Z::P::P
Dist::Zilla::Plugin::Prereqs::AuthorDeps                         => D::Z::P::P::AD
Dist::Zilla::Plugin::PromptIfStale                               => D::Z::P::PIfS
Dist::Zilla::Plugin::ReadmeAnyFromPod                            => D::Z::P::RAnyFPod
Dist::Zilla::Plugin::ReadmeFromPod                               => D::Z::P::RFPod
Dist::Zilla::Plugin::ReadmeMarkdownFromPod                       => D::Z::P::RMFPod
Dist::Zilla::Plugin::ReportVersions::Tiny                        => D::Z::P::RV::T
Dist::Zilla::Plugin::Repository                                  => D::Z::P::R
Dist::Zilla::Plugin::RequiresExternal                            => D::Z::P::RE
Dist::Zilla::Plugin::RewriteVersion::Transitional                => *undef*
Dist::Zilla::Plugin::Run                                         => D::Z::P::Run
Dist::Zilla::Plugin::SchwartzRatio                               => D::Z::P::SR
Dist::Zilla::Plugin::Signature                                   => D::Z::P::S
Dist::Zilla::Plugin::TaskWeaver                                  => D::Z::P::TW
Dist::Zilla::Plugin::Test::CPAN::Changes                         => D::Z::P::T::CPAN::C
Dist::Zilla::Plugin::Test::CPAN::Meta::JSON                      => D::Z::P::T::CPAN::M::JSON
Dist::Zilla::Plugin::Test::CleanNamespaces                       => D::Z::P::T::CN
Dist::Zilla::Plugin::Test::Compile                               => D::Z::P::T::C
Dist::Zilla::Plugin::Test::DistManifest                          => D::Z::P::T::DM
Dist::Zilla::Plugin::Test::EOL                                   => D::Z::P::T::EOL
Dist::Zilla::Plugin::Test::Kwalitee                              => D::Z::P::T::K
Dist::Zilla::Plugin::Test::MinimumVersion                        => D::Z::P::T::MV
Dist::Zilla::Plugin::Test::NoTabs                                => D::Z::P::T::NoT
Dist::Zilla::Plugin::Test::Perl::Critic                          => D::Z::P::T::P::C
Dist::Zilla::Plugin::Test::Pod::LinkCheck                        => D::Z::P::T::Pod::LC
Dist::Zilla::Plugin::Test::Pod::No404s                           => D::Z::P::T::Pod::No404s
Dist::Zilla::Plugin::Test::PodSpelling                           => D::Z::P::T::PodS
Dist::Zilla::Plugin::Test::Portability                           => D::Z::P::T::P
Dist::Zilla::Plugin::Test::ReportPrereqs                         => D::Z::P::T::RP
Dist::Zilla::Plugin::Test::Synopsis                              => D::Z::P::T::S
Dist::Zilla::Plugin::Test::Version                               => D::Z::P::T::V
Dist::Zilla::Plugin::TravisCI::StatusBadge                       => D::Z::P::TCI::SB
Dist::Zilla::Plugin::Twitter                                     => D::Z::P::T
Dist::Zilla::Plugin::VerifyPhases                                => D::Z::P::VP
Dist::Zilla::PluginBundle::Author::ETHER                         => D::Z::PB::A::ETHER
Dist::Zilla::PluginBundle::Author::Plicease                      => D::Z::PB::A::P
Dist::Zilla::PluginBundle::FAYLAND                               => D::Z::PB::FAYLAND
Dist::Zilla::PluginBundle::Git::CheckFor                         => D::Z::PB::Git::CFor
Dist::Zilla::PluginBundle::NGLENN                                => D::Z::PB::NGLENN
Dist::Zilla::Plugins::CJM                                        => D::Z::P::CJM
Dist::Zilla::Role::Bootstrap                                     => D::Z::R::B
Dist::Zilla::Role::DynamicConfig                                 => D::Z::R::DC
Dist::Zilla::Role::File::ChangeNotification                      => D::Z::R::F::CN
Dist::Zilla::Role::MetaCPANInterfacer                            => D::Z::R::MCPANI
Dist::Zilla::Role::ModuleMetadata                                => D::Z::R::MM
Dist::Zilla::Role::PluginBundle::PluginRemover                   => D::Z::R::PB::PR
Dist::Zilla::Role::RegisterStash                                 => D::Z::R::RS
Dist::Zilla::Role::Stash::Plugins                                => D::Z::R::S::P
Dist::Zilla::Stash::PodWeaver                                    => D::Z::S::PodW
Dist::Zilla::TravisCI                                            => D::Z::TCI
Dist::Zilla::Util::ConfigDumper                                  => D::Z::U::CD
Dist::Zilla::Util::Git::Wrapper                                  => D::Z::U::Git::W
Dist::Zilla::Util::Test::KENTNL                                  => D::Z::U::T::KENTNL
Dist::Zilla::UtilRole::MaybeZilla                                => D::Z::UR::MZ
Dist::Zooky                                                      => *undef*
DynaLoader                                                       => DL
DynaLoader::Functions                                            => DL::F
ETL::Yertl                                                       => ETL::Y
Email::Abstract                                                  => E::A
Email::Address                                                   => *undef*
Email::Date::Format                                              => E::D::F
Email::MIME                                                      => E::MIME
Email::MIME::ContentType                                         => E::MIME::CT
Email::MIME::CreateHTML                                          => E::MIME::CHTML
Email::MIME::Encodings                                           => E::MIME::E
Email::MessageID                                                 => E::MID
Email::Send                                                      => E::S
Email::Sender                                                    => *undef*
Email::Simple                                                    => *undef*
Email::Valid                                                     => E::V
Encode::Alias                                                    => *undef*
Encode::Byte                                                     => E::B
Encode::CJKConstants                                             => E::CJKC
Encode::CN                                                       => E::CN
Encode::CN::HZ                                                   => E::CN::HZ
Encode::Config                                                   => E::C
Encode::EBCDIC                                                   => E::EBCDIC
Encode::Encoder                                                  => E::E
Encode::Encoding                                                 => *undef*
Encode::GSM0338                                                  => E::GSM0338
Encode::Guess                                                    => E::G
Encode::JP                                                       => E::JP
Encode::JP::H2Z                                                  => E::JP::H2Z
Encode::JP::JIS7                                                 => E::JP::JIS7
Encode::KR                                                       => E::KR
Encode::KR::2022_KR                                              => E::KR::2022_KR
Encode::Locale                                                   => E::L
Encode::MIME::Header                                             => E::MIME::H
Encode::MIME::Header::ISO_2022_JP                                => E::MIME::H::ISO_2022_JP
Encode::MIME::Name                                               => E::MIME::N
Encode::Symbol                                                   => *undef*
Encode::TW                                                       => E::TW
Encode::Unicode                                                  => E::U
Encode::Unicode::UTF7                                            => E::U::UTF7
Encoding::FixLatin                                               => E::FixL
Env::Path                                                        => Env::P
Error::TryCatch                                                  => E::TryC
Eval::Closure                                                    => *undef*
Event::Notify                                                    => E::N
Excel::CloneXLSX::Format                                         => E::CXLSX::F
Excel::Writer::XLSX                                              => E::W::XLSX
Exception::Class                                                 => *undef*
Exception::Class::DBI                                            => E::C::DBI
Exception::Class::TryCatch                                       => E::C::TryC
Exception::Tiny                                                  => E::T
Expect::Simple                                                   => *undef*
Experian::IDAuth                                                 => E::IDA
Exporter::ConditionalSubs                                        => E::CS
Exporter::Declare                                                => E::D
Exporter::Easy                                                   => *undef*
Exporter::Heavy                                                  => E::H
Exporter::Lite                                                   => *undef*
Exporter::Tiny                                                   => *undef*
ExtUtils::CBuilder                                               => ExtU::CB
ExtUtils::CBuilder::Base                                         => ExtU::CB::B
ExtUtils::CBuilder::Platform::Unix                               => ExtU::CB::P::U
ExtUtils::CBuilder::Platform::VMS                                => ExtU::CB::P::VMS
ExtUtils::CBuilder::Platform::Windows                            => ExtU::CB::P::W
ExtUtils::CBuilder::Platform::Windows::BCC                       => ExtU::CB::P::W::BCC
ExtUtils::CBuilder::Platform::Windows::GCC                       => ExtU::CB::P::W::GCC
ExtUtils::CBuilder::Platform::Windows::MSVC                      => ExtU::CB::P::W::MSVC
ExtUtils::CBuilder::Platform::aix                                => ExtU::CB::P::aix
ExtUtils::CBuilder::Platform::android                            => ExtU::CB::P::a
ExtUtils::CBuilder::Platform::cygwin                             => ExtU::CB::P::c
ExtUtils::CBuilder::Platform::darwin                             => ExtU::CB::P::d
ExtUtils::CBuilder::Platform::dec_osf                            => *undef*
ExtUtils::CBuilder::Platform::os2                                => ExtU::CB::P::os2
ExtUtils::CChecker                                               => ExtU::CC
ExtUtils::Command                                                => ExtU::C
ExtUtils::Command::MM                                            => ExtU::C::MM
ExtUtils::Config                                                 => *undef*
ExtUtils::Constant                                               => *undef*
ExtUtils::Constant::Base                                         => ExtU::C::B
ExtUtils::Constant::ProxySubs                                    => ExtU::C::PS
ExtUtils::Constant::Utils                                        => ExtU::C::U
ExtUtils::Constant::XS                                           => ExtU::C::XS
ExtUtils::CppGuess                                               => ExtU::CppG
ExtUtils::Depends                                                => ExtU::D
ExtUtils::Embed                                                  => ExtU::E
ExtUtils::F77                                                    => ExtU::F77
ExtUtils::HasCompiler                                            => ExtU::HasC
ExtUtils::Helpers                                                => ExtU::H
ExtUtils::Install                                                => ExtU::I
ExtUtils::InstallPaths                                           => ExtU::IP
ExtUtils::Installed                                              => *undef*
ExtUtils::LibBuilder                                             => ExtU::LibB
ExtUtils::Liblist                                                => ExtU::L
ExtUtils::Liblist::Kid                                           => ExtU::L::Kid
ExtUtils::MM                                                     => ExtU::MM
ExtUtils::MM_AIX                                                 => ExtU::MM_AIX
ExtUtils::MM_Any                                                 => ExtU::MM_Any
ExtUtils::MM_BeOS                                                => ExtU::MM_BeOS
ExtUtils::MM_Cygwin                                              => ExtU::MM_C
ExtUtils::MM_DOS                                                 => ExtU::MM_DOS
ExtUtils::MM_Darwin                                              => ExtU::MM_D
ExtUtils::MM_MacOS                                               => ExtU::MM_MacOS
ExtUtils::MM_NW5                                                 => ExtU::MM_NW5
ExtUtils::MM_OS2                                                 => ExtU::MM_OS2
ExtUtils::MM_QNX                                                 => ExtU::MM_QNX
ExtUtils::MM_UWIN                                                => ExtU::MM_UWIN
ExtUtils::MM_Unix                                                => ExtU::MM_U
ExtUtils::MM_VMS                                                 => ExtU::MM_VMS
ExtUtils::MM_VOS                                                 => ExtU::MM_VOS
ExtUtils::MM_Win32                                               => ExtU::MM_Win32
ExtUtils::MM_Win95                                               => ExtU::MM_Win95
ExtUtils::MY                                                     => ExtU::MY
ExtUtils::MakeMaker                                              => *undef*
ExtUtils::MakeMaker::CPANfile                                    => ExtU::MM::CPAN
ExtUtils::MakeMaker::Config                                      => ExtU::MM::C
ExtUtils::MakeMaker::Locale                                      => ExtU::MM::L
ExtUtils::MakeMaker::version                                     => ExtU::MM::v
ExtUtils::MakeMaker::version::regex                              => ExtU::MM::v::r
ExtUtils::MakeMaker::version::vpp                                => ExtU::MM::v::vpp
ExtUtils::Manifest                                               => ExtU::M
ExtUtils::Miniperl                                               => *undef*
ExtUtils::Mkbootstrap                                            => *undef*
ExtUtils::Mksymlists                                             => *undef*
ExtUtils::Packlist                                               => ExtU::P
ExtUtils::ParseXS                                                => ExtU::PXS
ExtUtils::ParseXS::Constants                                     => ExtU::PXS::C
ExtUtils::ParseXS::CountLines                                    => ExtU::PXS::CL
ExtUtils::ParseXS::Eval                                          => ExtU::PXS::E
ExtUtils::ParseXS::Utilities                                     => ExtU::PXS::U
ExtUtils::PkgConfig                                              => ExtU::PkgC
ExtUtils::Typemaps                                               => ExtU::T
ExtUtils::Typemaps::Cmd                                          => ExtU::T::Cmd
ExtUtils::Typemaps::Default                                      => ExtU::T::D
ExtUtils::Typemaps::InputMap                                     => ExtU::T::IMap
ExtUtils::Typemaps::OutputMap                                    => ExtU::T::OMap
ExtUtils::Typemaps::Type                                         => ExtU::T::T
ExtUtils::XSSymSet                                               => ExtU::XSSymSet
ExtUtils::XSpp                                                   => ExtU::XSpp
ExtUtils::testlib                                                => ExtU::t
FFI::CheckLib                                                    => FFI::CLib
FFI::Platypus                                                    => FFI::P
Feed::Find                                                       => F::F
Fennec::Lite                                                     => F::L
File::BOM                                                        => F::BOM
File::BaseDir                                                    => F::BDir
File::Basename                                                   => F::B
File::ChangeNotify                                               => F::CN
File::Compare                                                    => F::C
File::ConfigDir                                                  => F::CDir
File::Copy                                                       => *undef*
File::Copy::Recursive                                            => F::C::R
File::DataClass                                                  => F::DC
File::DesktopEntry                                               => F::DE
File::DirCompare                                                 => F::DirC
File::DosGlob                                                    => F::DosG
File::Fetch                                                      => *undef*
File::Find                                                       => *undef*
File::Find::Age                                                  => F::F::Age
File::Find::Iterator                                             => F::F::I
File::Find::Object                                               => F::F::O
File::Find::Object::Rule                                         => F::F::O::R
File::Find::Rule                                                 => F::F::R
File::Find::Rule::Perl                                           => F::F::R::P
File::Format::CRD                                                => F::F::CRD
File::Gettext                                                    => F::G
File::Glob                                                       => *undef*
File::GlobMapper                                                 => F::GM
File::Grep                                                       => *undef*
File::HomeDir                                                    => F::HDir
File::Listing                                                    => *undef*
File::MMagic                                                     => F::MM
File::Map                                                        => F::Map
File::MimeInfo                                                   => F::MI
File::Path                                                       => F::P
File::Path::Tiny                                                 => F::P::T
File::Pid                                                        => F::Pid
File::Policy                                                     => *undef*
File::ReadBackwards                                              => F::RB
File::Remove                                                     => F::R
File::RotateLogs                                                 => F::RL
File::Share                                                      => F::S
File::ShareDir                                                   => F::SDir
File::ShareDir::Install                                          => F::SDir::I
File::ShareDir::ProjectDistDir                                   => F::SDir::PDDir
File::ShareDir::Tarball                                          => F::SDir::T
File::Slurp                                                      => *undef*
File::Slurp::Tiny                                                => F::S::T
File::Slurper                                                    => *undef*
File::Sort                                                       => *undef*
File::Spec                                                       => *undef*
File::Spec::Cygwin                                               => F::S::C
File::Spec::Epoc                                                 => F::S::E
File::Spec::Functions                                            => F::S::F
File::Spec::Mac                                                  => F::S::Mac
File::Spec::OS2                                                  => F::S::OS2
File::Spec::Unix                                                 => F::S::U
File::Spec::VMS                                                  => F::S::VMS
File::Spec::Win32                                                => F::S::Win32
File::Temp                                                       => F::T
File::Touch                                                      => *undef*
File::Type                                                       => *undef*
File::UnixAuth                                                   => F::UA
File::Which                                                      => F::W
File::chdir                                                      => F::c
File::chmod                                                      => *undef*
File::chmod::Recursive                                           => F::c::R
File::is                                                         => F::is
File::pushd                                                      => F::p
File::stat                                                       => F::s
FileCache                                                        => FC
FileHandle                                                       => FH
Filesys::Cap                                                     => F::Cap
Filesys::Notify::KQueue                                          => F::N::KQ
Filesys::Notify::Simple                                          => F::N::S
Filter::Include                                                  => F::I
Filter::Simple                                                   => *undef*
Filter::Util::Call                                               => F::U::C
Finance::Bank::ID::BCA                                           => F::B::ID::BCA
Finance::Bank::SK::SLSP::Notification                            => F::B::SK::SLSP::N
Finance::Quote                                                   => F::Q
Finance::Quote::Grab                                             => F::Q::G
Find::Lib                                                        => F::Lib
FindBin                                                          => FBin
FindBin::Real                                                    => FBin::R
FindBin::libs                                                    => FBin::l
Flickr::API                                                      => F::API
Font::AFM                                                        => F::AFM
Font::TTF                                                        => F::TTF
Function::Fallback::CoreOrPP                                     => F::F::COrPP
GDBM_File                                                        => GDBM_F
Game::Life::NDim                                                 => G::L::NDim
Games::2048                                                      => G::2048
Games::Cards::Pair                                               => G::C::P
Games::Domino                                                    => G::D
Games::Go::AGA::Parse                                            => G::Go::AGA::P
Games::Go::AGA::TDListDB                                         => G::Go::AGA::TDLDB
Gen::Test::Rinci::FuncResult                                     => Gen::T::R::FR
Geo::Coder::Google                                               => Geo::C::G
Geo::Converter::dms2dd                                           => Geo::C::dms2dd
Geo::Coordinates::OSGB                                           => Geo::C::OSGB
Geo::ShapeFile                                                   => Geo::SF
Geo::Shapefile::Writer                                           => Geo::S::W
Geo::UK::Postcode::CodePointOpen                                 => Geo::UK::P::CPO
Geo::UK::Postcode::Regex                                         => Geo::UK::P::R
Getopt::Alt                                                      => G::Alt
Getopt::Long                                                     => G::L
Getopt::Long::Complete                                           => G::L::C
Getopt::Long::Descriptive                                        => G::L::D
Getopt::Long::Negate::EN                                         => G::L::N::EN
Getopt::Long::Util                                               => G::L::U
Getopt::Lucid                                                    => *undef*
Getopt::Std                                                      => G::Std
Git::CPAN::Patch                                                 => Git::CPAN::P
Git::Hooks                                                       => Git::H
Git::Mailmap                                                     => Git::M
Git::MoreHooks                                                   => Git::MH
Git::Repository                                                  => Git::R
Git::Repository::Plugin::AUTOLOAD                                => Git::R::P::AUTOLOAD
Git::Wrapper                                                     => Git::W
Graph::Graph6                                                    => G::G6
GraphViz                                                         => GViz
Grapheme::Ngram                                                  => G::N
Group::Git                                                       => G::Git
HAL::Tiny                                                        => HAL::T
HEP::Names::LaTeX                                                => HEP::N::LaTeX
HOI::Comprehensions                                              => HOI::C
HOI::Match                                                       => HOI::M
HOP::Lexer                                                       => HOP::L
HOP::Stream                                                      => HOP::S
HPC::Runner                                                      => HPC::R
HPC::Runner::Slurm                                               => HPC::R::S
HTML-TableExtract                                                => HTML-TE
HTML::AutoTag                                                    => HTML::ATag
HTML::Encoding                                                   => HTML::E
HTML::FillInForm                                                 => HTML::FInF
HTML::FillInForm::Lite                                           => HTML::FInF::L
HTML::Form                                                       => HTML::F
HTML::Form::ForceValue                                           => HTML::F::FV
HTML::FormHandler                                                => HTML::FH
HTML::Format                                                     => *undef*
HTML::FormatText::WithLinks                                      => HTML::FT::WL
HTML::HTML5::Entities                                            => HTML::HTML5::E
HTML::HTML5::Parser                                              => HTML::HTML5::P
HTML::HTML5::Sanity                                              => HTML::HTML5::S
HTML::Latemp::GenMakeHelpers                                     => HTML::L::GenMH
HTML::Latemp::NavLinks::GenHtml                                  => HTML::L::NavL::GenH
HTML::Latemp::News                                               => HTML::L::N
HTML::Links::Localize                                            => HTML::L::L
HTML::Mason                                                      => HTML::M
HTML::Packer                                                     => HTML::P
HTML::Parser                                                     => *undef*
HTML::Perlinfo                                                   => *undef*
HTML::QuickTable                                                 => HTML::QT
HTML::Restrict                                                   => HTML::R
HTML::Selector::XPath                                            => HTML::S::XP
HTML::Tagset                                                     => HTML::T
HTML::Tidy                                                       => *undef*
HTML::TokeParser::Simple                                         => HTML::TP::S
HTML::Tree                                                       => *undef*
HTML::TreeBuilder::LibXML                                        => HTML::TB::LibXML
HTML::TreeBuilder::XPath                                         => HTML::TB::XP
HTML::Widgets::NavMenu                                           => HTML::W::NavM
HTML::Widgets::NavMenu::ToJSON                                   => HTML::W::NavM::ToJSON
HTTP::Async                                                      => HTTP::A
HTTP::Body                                                       => HTTP::B
HTTP::BrowserDetect                                              => HTTP::BD
HTTP::CookieMonster                                              => HTTP::CM
HTTP::Cookies                                                    => HTTP::C
HTTP::Daemon                                                     => HTTP::D
HTTP::Date                                                       => *undef*
HTTP::Headers::Fast                                              => HTTP::H::F
HTTP::Lite                                                       => HTTP::L
HTTP::Message                                                    => HTTP::M
HTTP::Negotiate                                                  => HTTP::N
HTTP::OAIPMH::Validator                                          => HTTP::OAIPMH::V
HTTP::Parser::XS                                                 => HTTP::P::XS
HTTP::Request::AsCGI                                             => HTTP::R::AsCGI
HTTP::Response::Stringable                                       => HTTP::R::S
HTTP::Server::Simple                                             => HTTP::S::S
HTTP::Server::Simple::PSGI                                       => HTTP::S::S::PSGI
HTTP::Session2                                                   => HTTP::S2
HTTP::Thin                                                       => HTTP::T
HTTP::Tiny                                                       => *undef*
HTTP::Tiny::Mech                                                 => HTTP::T::M
HTTP::Tiny::Multipart                                            => *undef*
HTTP::Tiny::UA                                                   => HTTP::T::UA
HTTP::Tiny::UNIX                                                 => HTTP::T::UNIX
HackaMol                                                         => HMol
HackaMol::X::Calculator                                          => HMol::X::C
HackaMol::X::Roles::ExtensionRole                                => HMol::X::R::ER
HackaMol::X::Vina                                                => HMol::X::V
Hash::FieldHash                                                  => H::FH
Hash::Flatten                                                    => H::F
Hash::Layout                                                     => H::L
Hash::Merge                                                      => H::M
Hash::Merge::Simple                                              => H::M::S
Hash::MoreUtils                                                  => H::MU
Hash::MultiValue                                                 => H::MV
Hash::Path                                                       => H::P
Hash::Util                                                       => H::U
Hash::Util::FieldHash                                            => H::U::FH
Hash::Util::FieldHash::Compat                                    => H::U::FH::C
Hook::LexWrap                                                    => H::LexW
I18N::Collate                                                    => I18N::C
I18N::LangTags                                                   => I18N::LT
I18N::LangTags::Detect                                           => I18N::LT::D
I18N::LangTags::List                                             => I18N::LT::L
I18N::Langinfo                                                   => I18N::L
IO::All::Securftp                                                => IO::All::S
IO::Async                                                        => IO::A
IO::Async::SSL                                                   => IO::A::SSL
IO::Capture                                                      => IO::C
IO::Capture::Extended                                            => IO::C::E
IO::CaptureOutput                                                => IO::CO
IO::Compress::Adapter::Bzip2                                     => IO::C::A::B2
IO::Compress::Adapter::Deflate                                   => IO::C::A::D
IO::Compress::Adapter::Identity                                  => IO::C::A::I
IO::Compress::Base                                               => IO::C::B
IO::Compress::Base::Common                                       => IO::C::B::C
IO::Compress::Bzip2                                              => IO::C::B2
IO::Compress::Deflate                                            => IO::C::D
IO::Compress::Gzip                                               => IO::C::G
IO::Compress::Gzip::Constants                                    => IO::C::G::C
IO::Compress::RawDeflate                                         => IO::C::RawD
IO::Compress::Zip                                                => IO::C::Zip
IO::Compress::Zip::Constants                                     => IO::C::Zip::C
IO::Compress::Zlib::Constants                                    => IO::C::Z::C
IO::Compress::Zlib::Extra                                        => IO::C::Z::E
IO::File                                                         => IO::F
IO::Handle                                                       => IO::H
IO::Handle::Util                                                 => IO::H::U
IO::Interactive                                                  => IO::I
IO::Interactive::Tiny                                            => IO::I::T
IO::KQueue                                                       => IO::KQ
IO::Pipe                                                         => IO::P
IO::Pipely                                                       => *undef*
IO::Poll                                                         => *undef*
IO::Prompt                                                       => *undef*
IO::Prompt::I18N                                                 => IO::P::I18N
IO::Prompt::Tiny                                                 => IO::P::T
IO::Seekable                                                     => IO::S
IO::Select                                                       => *undef*
IO::SessionData                                                  => IO::SD
IO::Socket                                                       => *undef*
IO::Socket::INET                                                 => IO::S::INET
IO::Socket::IP                                                   => IO::S::IP
IO::Socket::SSL                                                  => IO::S::SSL
IO::Socket::Socks                                                => IO::S::S
IO::Socket::UNIX                                                 => IO::S::UNIX
IO::String                                                       => *undef*
IO::Stringy                                                      => *undef*
IO::TieCombine                                                   => IO::TieC
IO::Uncompress::Adapter::Bunzip2                                 => IO::U::A::B2
IO::Uncompress::Adapter::Identity                                => IO::U::A::I
IO::Uncompress::Adapter::Inflate                                 => *undef*
IO::Uncompress::AnyInflate                                       => IO::U::AnyI
IO::Uncompress::AnyUncompress                                    => IO::U::AnyU
IO::Uncompress::Base                                             => IO::U::B
IO::Uncompress::Bunzip2                                          => IO::U::B2
IO::Uncompress::Gunzip                                           => IO::U::G
IO::Uncompress::Inflate                                          => IO::U::I
IO::Uncompress::RawInflate                                       => IO::U::RawI
IO::Uncompress::Unzip                                            => IO::U::U
IO::Zlib                                                         => IO::Z
IOD::Examples                                                    => IOD::E
IPC::Open2                                                       => IPC::O2
IPC::Open3                                                       => IPC::O3
IPC::Open3::Callback                                             => IPC::O3::C
IPC::PerlSSH                                                     => IPC::PSSH
IPC::SRLock                                                      => IPC::SRL
IPC::Semaphore                                                   => IPC::S
IPC::ShareLite                                                   => IPC::SL
IPC::SharedMem                                                   => IPC::SMem
IPC::System::Options                                             => IPC::S::O
IPC::System::Simple                                              => IPC::S::S
IRC::Toolkit                                                     => IRC::T
IRC::Utils                                                       => IRC::U
Image::PNG::Libpng                                               => I::PNG::L
Image::Size                                                      => I::S
Import::Base                                                     => I::B
Import::Into                                                     => I::I
Inline::C                                                        => I::C
Iterator::Simple                                                 => *undef*
Iterator::Simple::Lookahead                                      => I::S::L
Iterator::Util                                                   => I::U
JIP::ClassField                                                  => JIP::CF
JIP::LockFile                                                    => JIP::LF
JIP::LockSocket                                                  => JIP::LS
JSON::MaybeXS                                                    => JSON::MXS
JSON::PP::Boolean                                                => JSON::PP::B
JSON::Tiny                                                       => JSON::T
JSON::Util                                                       => JSON::U
JSON::WebToken                                                   => JSON::WebT
JavaScript::Minifier                                             => JS::M
JavaScript::Minifier::XS                                         => JS::M::XS
JavaScript::Packer                                               => JS::P
KinoSearch1                                                      => KS1
Kwiki::Cache                                                     => K::C
LWP::MediaTypes                                                  => LWP::MT
LWP::Protocol::http::SocketUnixAlt                               => LWP::P::h::SUAlt
LWP::Protocol::https                                             => LWP::P::h
LWP::UserAgent::Determined                                       => LWP::UA::D
LWP::UserAgent::Patch::FilterMirror                              => LWP::UA::P::FM
Lego::From::PNG                                                  => L::F::PNG
Lexical::Persistence                                             => L::P
Lexical::SealRequireHints                                        => L::SRH
Lingua::EN::FindNumber                                           => L::EN::FN
Lingua::EN::Inflect                                              => L::EN::I
Lingua::EN::Inflect::Number                                      => L::EN::I::N
Lingua::EN::Inflect::Phrase                                      => L::EN::I::P
Lingua::EN::Number::IsOrdinal                                    => L::EN::N::IsO
Lingua::EN::Numbers::Ordinate                                    => L::EN::N::O
Lingua::EN::PluralToSingular                                     => L::EN::PToS
Lingua::EN::Squeeze                                              => L::EN::S
Lingua::EN::Tagger                                               => L::EN::T
Lingua::EN::Words2Nums                                           => L::EN::W2N
Lingua::PT::Stemmer                                              => L::PT::S
Lingua::Sentence                                                 => L::S
Lingua::Stem                                                     => *undef*
Lingua::Stem::Fr                                                 => L::S::Fr
Lingua::Stem::It                                                 => L::S::It
Lingua::Stem::Ru                                                 => L::S::Ru
Lingua::Stem::Snowball                                           => L::S::S
Lingua::Stem::Snowball::Da                                       => L::S::S::Da
Lingua::Stem::Snowball::No                                       => L::S::S::No
Lingua::Stem::Snowball::Se                                       => L::S::S::Se
Lingua::StopWords                                                => L::SW
Lingua::Word::Parser                                             => L::W::P
List::AllUtils                                                   => L::AllU
List::BinarySearch                                               => L::BS
List::BinarySearch::XS                                           => L::BS::XS
List::Compare                                                    => L::C
List::Flatten                                                    => L::F
List::Member                                                     => L::M
List::MoreUtils                                                  => L::MU
List::NSect                                                      => L::NS
List::Objects::Types                                             => L::O::T
List::Objects::WithUtils                                         => L::O::WU
List::Pairwise                                                   => *undef*
List::Slice                                                      => *undef*
List::Util                                                       => L::U
List::Util::XS                                                   => L::U::XS
List::UtilsBy                                                    => L::UBy
Locale::Codes                                                    => *undef*
Locale::Codes::Constants                                         => L::C::C
Locale::Codes::Country                                           => *undef*
Locale::Codes::Country_Codes                                     => L::C::CC
Locale::Codes::Country_Retired                                   => L::C::CR
Locale::Codes::Currency                                          => *undef*
Locale::Codes::Currency_Codes                                    => *undef*
Locale::Codes::Currency_Retired                                  => *undef*
Locale::Codes::LangExt                                           => L::C::LExt
Locale::Codes::LangExt_Codes                                     => L::C::LEC
Locale::Codes::LangExt_Retired                                   => L::C::LER
Locale::Codes::LangFam                                           => L::C::LFam
Locale::Codes::LangFam_Codes                                     => L::C::LFC
Locale::Codes::LangFam_Retired                                   => L::C::LFR
Locale::Codes::LangVar                                           => L::C::LVar
Locale::Codes::LangVar_Codes                                     => L::C::LVC
Locale::Codes::LangVar_Retired                                   => L::C::LVR
Locale::Codes::Language                                          => L::C::L
Locale::Codes::Language_Codes                                    => L::C::LC
Locale::Codes::Language_Retired                                  => L::C::LR
Locale::Codes::Script                                            => L::C::S
Locale::Codes::Script_Codes                                      => L::C::SC
Locale::Codes::Script_Retired                                    => L::C::SR
Locale::Country                                                  => *undef*
Locale::Currency                                                 => *undef*
Locale::Language                                                 => L::L
Locale::Maketext                                                 => *undef*
Locale::Maketext::Guts                                           => L::M::G
Locale::Maketext::GutsLoader                                     => L::M::GL
Locale::Maketext::Lexicon                                        => L::M::L
Locale::Maketext::Lexicon::CSV                                   => L::M::L::CSV
Locale::Maketext::Simple                                         => L::M::S
Locale::Script                                                   => *undef*
Locale::TextDomain::UTF8                                         => L::TD::UTF8
LockFile::Simple                                                 => LF::S
Log::Any::Adapter::Callback                                      => Log::Any::A::C
Log::Any::Adapter::ScreenColoredLevel                            => Log::Any::A::SCL
Log::Contextual                                                  => Log::C
Log::Contextual::LogDispatchouli                                 => Log::C::LogD
Log::Dispatch                                                    => Log::D
Log::Dispatch::Array                                             => Log::D::A
Log::Dispatch::Config                                            => Log::D::C
Log::Dispatchouli                                                => *undef*
Log::Handler                                                     => Log::H
Log::LTSV::Instance                                              => Log::LTSV::I
Log::Log4perl                                                    => Log::Log4
Log::Message                                                     => Log::M
Log::Message::Simple                                             => Log::M::S
Log::Minimal                                                     => *undef*
Log::Trace                                                       => Log::T
Logfile::Rotate                                                  => L::R
Logwatch::RecordTree                                             => L::RT
MIME::Base64                                                     => MIME::B64
MIME::Charset                                                    => MIME::C
MIME::Lite                                                       => MIME::L
MIME::QuotedPrint                                                => MIME::QP
MIME::Tools                                                      => MIME::T
MIME::Types                                                      => *undef*
MRO::Compat                                                      => MRO::C
Mail::DKIM                                                       => M::DKIM
Mail::DMARC                                                      => M::DMARC
Mail::Sender                                                     => M::S
Mail::Sendmail                                                   => *undef*
Map::Tube                                                        => Map::T
Map::Tube::Barcelona                                             => Map::T::B
Map::Tube::CLI                                                   => Map::T::CLI
Markdown::To::POD                                                => M::To::POD
Marpa::R2                                                        => M::R2
Math::Base::Convert                                              => M::B::C
Math::BaseCalc                                                   => M::BC
Math::BigFloat                                                   => M::BigF
Math::BigFloat::Trace                                            => M::BigF::T
Math::BigInt                                                     => M::BigInt
Math::BigInt::Calc                                               => M::BigInt::C
Math::BigInt::CalcEmu                                            => M::BigInt::CEmu
Math::BigInt::FastCalc                                           => M::BigInt::FC
Math::BigInt::GMP                                                => M::BigInt::GMP
Math::BigInt::Random                                             => M::BigInt::R
Math::BigInt::Trace                                              => M::BigInt::T
Math::BigRat                                                     => M::BigRat
Math::Cartesian::Product                                         => M::C::P
Math::Complex                                                    => M::C
Math::Derivative                                                 => M::D
Math::GMP                                                        => M::GMP
Math::Int128                                                     => M::Int128
Math::Int64                                                      => M::Int64
Math::LongDouble                                                 => M::LD
Math::Matrix                                                     => M::M
Math::Pari                                                       => M::P
Math::Polygon                                                    => *undef*
Math::Prime::Util::GMP                                           => M::P::U::GMP
Math::Random                                                     => M::R
Math::Random::ISAAC                                              => M::R::ISAAC
Math::Random::MT::Auto                                           => M::R::MT::A
Math::Random::Normal::Leva                                       => M::R::N::L
Math::Random::Secure                                             => M::R::S
Math::Round                                                      => *undef*
Math::Trig                                                       => M::T
Math::Vector::Real                                               => M::V::R
Math::Vector::Real::Random                                       => M::V::R::R
Math::Vector::Real::XS                                           => M::V::R::XS
Math::Vector::Real::kdTree                                       => M::V::R::kdT
MaxMind::DB::Common                                              => MaxM::DB::C
MaxMind::DB::Reader                                              => MaxM::DB::R
MediaWiki::CleanupHTML                                           => MW::CHTML
Memoize::AnyDBM_File                                             => M::AnyDBM_F
Memoize::Expire                                                  => M::E
Memoize::ExpireFile                                              => M::EF
Memoize::ExpireLRU                                               => M::ELRU
Memoize::ExpireTest                                              => M::ET
Memoize::NDBM_File                                               => M::NDBM_F
Memoize::SDBM_File                                               => M::SDBM_F
Memoize::Storable                                                => *undef*
Meta::Builder                                                    => M::B
MetaCPAN::API                                                    => MCPAN::API
MetaCPAN::Client                                                 => MCPAN::C
Method::Signatures                                               => *undef*
Method::Signatures::Simple                                       => M::S::S
Mixin::Linewise                                                  => M::L
Mock::Quick                                                      => M::Q
Modern::Perl                                                     => *undef*
Module::Build                                                    => *undef*
Module::Build::SysPath                                           => M::B::SysP
Module::Build::Tiny                                              => M::B::T
Module::Build::WithXSpp                                          => M::B::WXSpp
Module::Build::XSUtil                                            => M::B::XSU
Module::CPANTS::Analyse                                          => M::CPANTS::A
Module::CPANfile                                                 => M::CPAN
Module::Compile                                                  => *undef*
Module::CoreList                                                 => M::CL
Module::CoreList::More                                           => M::CL::M
Module::CoreList::TieHashDelta                                   => M::CL::TieHD
Module::CoreList::Utils                                          => M::CL::U
Module::Data                                                     => *undef*
Module::ExtractUse                                               => M::EUse
Module::Find                                                     => M::F
Module::Implementation                                           => M::I
Module::Install                                                  => *undef*
Module::Install::AuthorTests                                     => M::I::AT
Module::Install::AutoLicense                                     => M::I::AL
Module::Install::ReadmeFromPod                                   => M::I::RFPod
Module::Install::ReadmeMarkdownFromPod                           => M::I::RMFPod
Module::List                                                     => *undef*
Module::Load                                                     => *undef*
Module::Load::Conditional                                        => M::L::C
Module::Loaded                                                   => *undef*
Module::Locate                                                   => *undef*
Module::Manifest                                                 => *undef*
Module::Metadata                                                 => *undef*
Module::Metadata::corpus::BOMTest::UTF16BE                       => M::M::c::BOMT::UTF16BE
Module::Metadata::corpus::BOMTest::UTF16LE                       => M::M::c::BOMT::UTF16LE
Module::Metadata::corpus::BOMTest::UTF8                          => M::M::c::BOMT::UTF8
Module::Patch                                                    => *undef*
Module::Path                                                     => *undef*
Module::Path::More                                               => M::P::M
Module::Pluggable                                                => *undef*
Module::Provision                                                => *undef*
Module::Runtime                                                  => *undef*
Module::Runtime::Conflicts                                       => M::R::C
Module::ScanDeps                                                 => M::SD
Module::Signature                                                => *undef*
Module::Util                                                     => M::U
Module::Want                                                     => M::W
Module::XSOrPP                                                   => M::XSOrPP
Mojo::IRC                                                        => M::IRC
Mojo::Reactor::POE                                               => M::R::POE
Mojo::Snoo                                                       => *undef*
Mojo::UserAgent::DigestAuth                                      => M::UA::DA
Mojo::Webqq                                                      => *undef*
MojoX::AlmostJSON                                                => MX::AJSON
Mojolicious::Plugin::AssetPack                                   => M::P::AP
Mojolicious::Plugin::ConsoleLogger                               => M::P::CL
Mojolicious::Plugin::DBInfo                                      => M::P::DBI
Mojolicious::Plugin::DevexpressHelpers                           => M::P::DH
Mojolicious::Plugin::HostMeta                                    => M::P::HM
Mojolicious::Plugin::MethodOverride                              => M::P::MO
Mojolicious::Plugin::MountPSGI                                   => M::P::MPSGI
Mojolicious::Plugin::Piwik                                       => M::P::P
Mojolicious::Plugin::Restify                                     => M::P::R
Mojolicious::Plugin::RevealJS                                    => M::P::RJS
Mojolicious::Plugin::Util::Callback                              => M::P::U::C
Mojolicious::Plugin::Util::Endpoint                              => M::P::U::E
Mojolicious::Plugin::XML::Loy                                    => M::P::XML::Loy
Mojolicious::Plugin::XRD                                         => M::P::XRD
Monkey::Patch::Action                                            => M::P::A
MooX::Aliases                                                    => MooX::A
MooX::ConfigFromFile                                             => MooX::CFF
MooX::File::ConfigDir                                            => MooX::F::CDir
MooX::HandlesVia                                                 => MooX::HVia
MooX::Options                                                    => MooX::O
MooX::Role::POE::Emitter                                         => MooX::R::POE::E
MooX::Role::Pluggable                                            => MooX::R::P
MooX::Singleton                                                  => MooX::S
MooX::StrictConstructor                                          => MooX::SC
MooX::Types::MooseLike                                           => MooX::T::ML
MooX::Types::MooseLike::Numeric                                  => MooX::T::ML::N
MooX::late                                                       => MooX::l
Moose::Autobox                                                   => M::A
MooseX::Aliases                                                  => MX::A
MooseX::App                                                      => MX::App
MooseX::ArrayRef                                                 => MX::ARef
MooseX::AttributeShortcuts                                       => MX::AS
MooseX::ClassAttribute                                           => MX::CA
MooseX::ConfigFromFile                                           => MX::CFF
MooseX::Daemonize                                                => MX::D
MooseX::Declare                                                  => *undef*
MooseX::Emulate::Class::Accessor::Fast                           => MX::E::C::A::F
MooseX::Event                                                    => MX::E
MooseX::Getopt                                                   => MX::G
MooseX::Getopt::Usage                                            => MX::G::U
MooseX::Has::Sugar                                               => MX::Has::S
MooseX::LazyRequire                                              => MX::LR
MooseX::Log::Log4perl                                            => MX::Log::Log4
MooseX::MarkAsMethods                                            => MX::MAsM
MooseX::Meta::TypeConstraint::ForceCoercion                      => MX::M::TC::FC
MooseX::Meta::TypeConstraint::Mooish                             => MX::M::TC::M
MooseX::Method::Signatures                                       => MX::M::S
MooseX::MethodAttributes                                         => MX::MA
MooseX::MultiInitArg                                             => MX::MIArg
MooseX::NonMoose                                                 => MX::NonM
MooseX::Object::Pluggable                                        => MX::O::P
MooseX::OneArgNew                                                => MX::OneArgNew
MooseX::Params::Validate                                         => MX::P::V
MooseX::Role::Parameterized                                      => MX::R::P
MooseX::Role::Tempdir                                            => MX::R::T
MooseX::Role::WithOverloading                                    => MX::R::WO
MooseX::SemiAffordanceAccessor                                   => MX::SAA
MooseX::SetOnce                                                  => MX::SetO
MooseX::SimpleConfig                                             => MX::SC
MooseX::Singleton                                                => MX::S
MooseX::SlurpyConstructor                                        => *undef*
MooseX::StrictConstructor                                        => *undef*
MooseX::Traits                                                   => MX::T
MooseX::Traits::Pluggable                                        => MX::T::P
MooseX::Types                                                    => *undef*
MooseX::Types::Common                                            => MX::T::C
MooseX::Types::DateTime                                          => MX::T::DT
MooseX::Types::DateTime::MoreCoercions                           => MX::T::DT::MC
MooseX::Types::LoadableClass                                     => MX::T::LC
MooseX::Types::Path::Class                                       => MX::T::P::C
MooseX::Types::Path::Tiny                                        => MX::T::P::T
MooseX::Types::Perl                                              => *undef*
MooseX::Types::Stringlike                                        => MX::T::S
MooseX::Types::Structured                                        => *undef*
MooseX::Types::URI                                               => MX::T::URI
MooseX::WithCache                                                => MX::WC
Moped::Msg                                                       => M::Msg
MouseX::Types                                                    => *undef*
Mozilla::CA                                                      => M::CA
Music::AtonalUtil                                                => M::AU
Music::Canon                                                     => *undef*
Music::Chord::Note                                               => M::C::N
Music::Chord::Positions                                          => *undef*
Music::LilyPondUtil                                              => M::LPU
Music::PitchNum                                                  => M::PNum
Music::Scala                                                     => *undef*
Music::Scales                                                    => *undef*
Music::Tempo                                                     => *undef*
Music::Tension                                                   => *undef*
MySQL::DateFormat                                                => MySQL::DF
NDBM_File                                                        => NDBM_F
Net-JBoss                                                        => Net-JB
Net::Amazon::DirectConnect                                       => Net::A::DC
Net::Amazon::EC2                                                 => Net::A::EC2
Net::Amazon::HadoopEC2                                           => Net::A::HEC2
Net::Amazon::Signature::V4                                       => Net::A::S::V4
Net::Async::HTTP                                                 => Net::A::HTTP
Net::Async::Ping                                                 => Net::A::P
Net::Config                                                      => Net::C
Net::Domain                                                      => Net::D
Net::FTP::dataconn                                               => Net::FTP::d
Net::Gnats                                                       => Net::G
Net::Google::Analytics::MeasurementProtocol                      => Net::G::A::MP
Net::Graylog::Client                                             => Net::G::C
Net::Hadoop::YARN                                                => Net::H::YARN
Net::IDN::Encode                                                 => Net::IDN::E
Net::IDN::Nameprep                                               => Net::IDN::N
Net::IP::Identifier                                              => Net::IP::I
Net::IP::Minimal                                                 => Net::IP::M
Net::Kubernetes                                                  => Net::K
Net::Netrc                                                       => Net::N
Net::OAuth                                                       => Net::OA
Net::OpenID::Common                                              => Net::OID::C
Net::OpenID::Consumer                                            => *undef*
Net::OpenID::Server                                              => Net::OID::S
Net::OpenSSH                                                     => Net::OSSH
Net::Ping                                                        => Net::P
Net::SFTP::Foreign                                               => Net::SFTP::F
Net::SSH::Perl                                                   => Net::SSH::P
Net::SSH::Perl::ProxiedIPC                                       => Net::SSH::P::PIPC
Net::SSH::Perl::WithSocks                                        => Net::SSH::P::WS
Net::SSLeay                                                      => Net::SSL
Net::Server                                                      => Net::S
Net::Stomp                                                       => *undef*
Net::Time                                                        => Net::T
Net::Travis::API                                                 => Net::T::API
Net::Twitter                                                     => *undef*
Net::WebSocket::Server                                           => Net::WebS::S
Net::Works                                                       => Net::W
Net::Xero                                                        => Net::X
Net::hostent                                                     => Net::h
Net::netent                                                      => Net::n
Net::protoent                                                    => Net::p
Net::servent                                                     => Net::s
NetAddr::IP                                                      => NetA::IP
Number::Compare                                                  => N::C
Number::Format                                                   => N::F
Number::Phone                                                    => N::P
Number::Phone::RO                                                => N::P::RO
Number::ZipCode::JP                                              => N::ZipC::JP
OAuth::Lite2                                                     => OA::L2
ODBM_File                                                        => ODBM_F
OIDC::Lite                                                       => OIDC::L
OLE::Storage_Lite                                                => OLE::SL
OS2::ExtAttr                                                     => OS2::ExtA
OS2::Process                                                     => OS2::P
Object::Accessor                                                 => O::A
Object::Enum                                                     => O::E
Object::Event                                                    => *undef*
Object::ID                                                       => O::ID
Object::InsideOut                                                => O::IOut
Object::Pluggable                                                => O::P
Object::Signature                                                => O::S
Object::Simple                                                   => *undef*
Object::Tiny                                                     => O::T
PDF::Table                                                       => PDF::T
PDF::TextBlock                                                   => PDF::TB
PERLANCAR::File::HomeDir                                         => PERLANCAR::F::HDir
POE::Component::IRC                                              => POE::C::IRC
POE::Component::Logger                                           => POE::C::L
POE::Component::Syndicator                                       => POE::C::S
POE::Filter::IRCD                                                => POE::F::IRCD
POE::Filter::IRCv3                                               => POE::F::IRCv3
POE::Filter::Stomp                                               => POE::F::S
POE::Loop::AnyEvent                                              => POE::L::AnyE
POE::Loop::Prima                                                 => POE::L::P
POE::Test::Loops                                                 => POE::T::L
POEx::IRC::Backend                                               => POEx::IRC::B
POEx::IRC::Client::Lite                                          => POEx::IRC::C::L
POSIX::strftime::Compiler                                        => POSIX::s::C
PPIx::Regexp                                                     => PPIx::R
PPIx::Utilities                                                  => PPIx::U
Package::Constants                                               => P::C
Package::DeprecationManager                                      => P::DM
Package::MoreUtil                                                => P::MU
Package::Stash                                                   => P::S
Package::Stash::XS                                               => P::S::XS
Package::Variant                                                 => P::V
PadWalker                                                        => PadW
Parallel::ForkManager                                            => P::FM
Params::Check                                                    => *undef*
Params::Classify                                                 => *undef*
Params::Coerce                                                   => *undef*
Params::Util                                                     => P::U
Params::Validate                                                 => *undef*
Parse::CPAN::Meta                                                => P::CPAN::M
Parse::CPAN::Packages::Fast                                      => P::CPAN::P::F
Parse::File::Taxonomy                                            => P::F::T
Parse::IRC                                                       => P::IRC
Parse::Lex                                                       => P::Lex
Parse::MIME                                                      => P::MIME
Parse::Method::Signatures                                        => P::M::S
Parse::Range                                                     => P::R
Parse::RecDescent                                                => P::RecD
Parse::Syslog::Line                                              => P::S::L
Parse::Template                                                  => P::T
Parse::Yapp                                                      => P::Y
ParseUtil::Domain                                                => PU::D
Path::Class                                                      => *undef*
Path::FindDev                                                    => P::FDev
Path::IsDev                                                      => P::IsDev
Path::Iterator::Rule                                             => P::I::R
Path::Resolve                                                    => *undef*
Path::ScanINC                                                    => P::SINC
Path::Tiny                                                       => *undef*
PepXML::Parser                                                   => PepXML::P
Perinci::Access::Base                                            => P::A::B
Perinci::Access::HTTP::Client                                    => P::A::HTTP::C
Perinci::Access::Lite                                            => P::A::L
Perinci::Access::Simple::Client                                  => P::A::S::C
Perinci::AccessUtil                                              => P::AU
Perinci::CmdLine::Any                                            => P::CmdL::Any
Perinci::CmdLine::Dump                                           => P::CmdL::D
Perinci::CmdLine::Help                                           => P::CmdL::H
Perinci::CmdLine::Lite                                           => P::CmdL::L
Perinci::CmdLine::Util                                           => P::CmdL::U
Perinci::Examples                                                => P::E
Perinci::Object                                                  => P::O
Perinci::Sub::ArgEntity                                          => P::Sub::ArgE
Perinci::Sub::CoerceArgs                                         => P::Sub::CA
Perinci::Sub::Complete                                           => P::Sub::C
Perinci::Sub::ConvertArgs::Argv                                  => P::Sub::CA::A
Perinci::Sub::ConvertArgs::Array                                 => *undef*
Perinci::Sub::DepChecker                                         => P::Sub::DepC
Perinci::Sub::GetArgs::Argv                                      => P::Sub::GetA::A
Perinci::Sub::GetArgs::Array                                     => *undef*
Perinci::Sub::Normalize                                          => P::Sub::N
Perinci::Sub::To::CLIDocData                                     => P::Sub::To::CLIDocD
Perinci::Sub::Util                                               => P::Sub::U
Perl6::Export::Attrs                                             => P6::E::A
Perl6::Junction                                                  => P6::J
Perl6::Slurp                                                     => P6::S
Perl::Critic                                                     => *undef*
Perl::Critic::Moose                                              => P::C::M
Perl::Lexer                                                      => P::L
Perl::Lint                                                       => *undef*
Perl::MinimumVersion                                             => P::MV
Perl::OSType                                                     => P::OST
Perl::PrereqScanner                                              => P::PS
Perl::PrereqScanner::NotQuiteLite                                => P::PS::NotQL
Perl::Tidy                                                       => *undef*
Perl::Version                                                    => *undef*
Perl::osnames                                                    => P::o
PerlIO                                                           => PIO
PerlIO::Layers                                                   => PIO::L
PerlIO::encoding                                                 => PIO::e
PerlIO::gzip                                                     => PIO::g
PerlIO::mmap                                                     => PIO::m
PerlIO::scalar                                                   => PIO::s
PerlIO::utf8_strict                                              => PIO::utf8
PerlIO::via                                                      => PIO::via
PerlIO::via::QuotedPrint                                         => PIO::via::QP
PerlX::Maybe                                                     => PX::M
Pg::Explain                                                      => Pg::E
Plack::App::Proxy                                                => P::App::P
Plack::Middleware::Cache                                         => P::M::C
Plack::Middleware::ETag                                          => P::M::ETag
Plack::Middleware::FixMissingBodyInRedirect                      => P::M::FixMBInR
Plack::Middleware::Header                                        => P::M::H
Plack::Middleware::MethodOverride                                => P::M::MO
Plack::Middleware::ProxyMap                                      => P::M::PMap
Plack::Middleware::RemoveRedundantBody                           => P::M::RRB
Plack::Middleware::ReverseProxy                                  => P::M::RP
Plack::Middleware::Session                                       => *undef*
Plack::Test::Agent                                               => P::T::A
Plack::Test::ExternalServer                                      => P::T::ES
Pod::Checker                                                     => Pod::C
Pod::Coverage                                                    => *undef*
Pod::Coverage::TrustPod                                          => Pod::C::TPod
Pod::Elemental                                                   => Pod::E
Pod::Elemental::MakeSelector                                     => Pod::E::MS
Pod::Elemental::PerlMunger                                       => Pod::E::PM
Pod::Elemental::Transformer::List                                => Pod::E::T::L
Pod::Elemental::Transformer::WikiDoc                             => Pod::E::T::WDoc
Pod::Escapes                                                     => *undef*
Pod::Eventual                                                    => *undef*
Pod::Find                                                        => Pod::F
Pod::Functions                                                   => *undef*
Pod::Functions::Functions                                        => Pod::F::F
Pod::Html                                                        => Pod::H
Pod::InputObjects                                                => Pod::IO
Pod::Markdown                                                    => Pod::M
Pod::ParseLink                                                   => Pod::PL
Pod::ParseUtils                                                  => Pod::PU
Pod::Parser                                                      => Pod::P
Pod::Perldoc                                                     => *undef*
Pod::Perldoc::BaseTo                                             => Pod::P::BTo
Pod::Perldoc::GetOptsOO                                          => Pod::P::GetOOO
Pod::Perldoc::ToANSI                                             => Pod::P::ToANSI
Pod::Perldoc::ToChecker                                          => Pod::P::ToC
Pod::Perldoc::ToMan                                              => Pod::P::ToMan
Pod::Perldoc::ToNroff                                            => Pod::P::ToN
Pod::Perldoc::ToPod                                              => Pod::P::ToPod
Pod::Perldoc::ToRtf                                              => Pod::P::ToRtf
Pod::Perldoc::ToTerm                                             => Pod::P::ToT
Pod::Perldoc::ToText                                             => *undef*
Pod::Perldoc::ToTk                                               => Pod::P::ToTk
Pod::Perldoc::ToXml                                              => Pod::P::ToXml
Pod::PlainText                                                   => Pod::PT
Pod::Readme                                                      => Pod::R
Pod::Select                                                      => Pod::S
Pod::Simple                                                      => *undef*
Pod::Simple::BlackBox                                            => Pod::S::BBox
Pod::Simple::Checker                                             => Pod::S::C
Pod::Simple::Debug                                               => Pod::S::D
Pod::Simple::DumpAsText                                          => Pod::S::DAsT
Pod::Simple::DumpAsXML                                           => Pod::S::DAsXML
Pod::Simple::HTML                                                => Pod::S::HTML
Pod::Simple::HTMLBatch                                           => Pod::S::HTMLB
Pod::Simple::HTMLLegacy                                          => Pod::S::HTMLL
Pod::Simple::LinkSection                                         => Pod::S::LS
Pod::Simple::Methody                                             => Pod::S::M
Pod::Simple::Progress                                            => Pod::S::P
Pod::Simple::PullParser                                          => Pod::S::PP
Pod::Simple::PullParserEndToken                                  => Pod::S::PPEndT
Pod::Simple::PullParserStartToken                                => Pod::S::PPST
Pod::Simple::PullParserTextToken                                 => Pod::S::PPTT
Pod::Simple::PullParserToken                                     => Pod::S::PPT
Pod::Simple::RTF                                                 => Pod::S::RTF
Pod::Simple::Search                                              => Pod::S::S
Pod::Simple::SimpleTree                                          => Pod::S::ST
Pod::Simple::Text                                                => Pod::S::T
Pod::Simple::TextContent                                         => Pod::S::TC
Pod::Simple::TiedOutFH                                           => Pod::S::TOutFH
Pod::Simple::Transcode                                           => *undef*
Pod::Simple::TranscodeDumb                                       => Pod::S::TD
Pod::Simple::TranscodeSmart                                      => Pod::S::TS
Pod::Simple::XHTML                                               => Pod::S::XHTML
Pod::Simple::XMLOutStream                                        => Pod::S::XMLOutS
Pod::Spell                                                       => *undef*
Pod::Strip                                                       => *undef*
Pod::Text                                                        => Pod::T
Pod::Text::Color                                                 => Pod::T::C
Pod::Text::Overstrike                                            => Pod::T::O
Pod::Text::Termcap                                               => Pod::T::T
Pod::Usage                                                       => Pod::U
Pod::Usage::Return                                               => Pod::U::R
Pod::Weaver                                                      => Pod::W
Pod::Weaver::Plugin::AppendPrepend                               => Pod::W::P::AP
Pod::Weaver::Plugin::EnsureUniqueSections                        => Pod::W::P::EUS
Pod::Weaver::Plugin::StopWords                                   => Pod::W::P::SW
Pod::Weaver::Role::AddTextToSection                              => Pod::W::R::AddTToS
Pod::Weaver::Role::DetectPerinciCmdLineScript                    => Pod::W::R::DPCmdLS
Pod::Weaver::Role::DumpPerinciCmdLineScript                      => *undef*
Pod::Weaver::Role::SectionText::SelfCompletion                   => Pod::W::R::ST::SC
Pod::Weaver::Section::Bugs::DefaultRT                            => Pod::W::S::B::DRT
Pod::Weaver::Section::Completion::GetoptLongComplete             => Pod::W::S::C::GLC
Pod::Weaver::Section::Completion::GetoptLongSubcommand           => Pod::W::S::C::GLS
Pod::Weaver::Section::Completion::PerinciCmdLine                 => Pod::W::S::C::PCmdL
Pod::Weaver::Section::Contributors                               => Pod::W::S::C
Pod::Weaver::Section::Homepage::DefaultCPAN                      => Pod::W::S::H::DCPAN
Pod::Weaver::Section::Source::DefaultGitHub                      => Pod::W::S::S::DGitHub
Pod::Weaver::Section::Support                                    => Pod::W::S::S
Pod::WikiDoc                                                     => Pod::WDoc
Pod::Wordlist::hanekomu                                          => Pod::W::h
Probe::Perl                                                      => P::P
Proc::ChildError                                                 => P::CE
Proc::Daemon                                                     => P::D
Proc::Find                                                       => P::F
Proc::ProcessTable                                               => P::PT
Proc::Simple                                                     => *undef*
Process::Status                                                  => *undef*
Progress::Any                                                    => P::Any
Progress::Any::Output::TermProgressBarColor                      => P::Any::O::TPBarC
Protocol::HTTP2                                                  => P::HTTP2
Protocol::WebSocket                                              => P::WebS
RDF::DOAP::Lite                                                  => RDF::DOAP::L
RDF::Query                                                       => RDF::Q
RDF::RDFa::Parser                                                => RDF::RDFa::P
RDF::Trine                                                       => RDF::T
Regexp::Common                                                   => R::C
Regexp::Common::Other                                            => R::C::O
Regexp::Lexer                                                    => R::L
Regexp::RegGrp                                                   => R::RegGrp
Regexp::Stringify                                                => R::S
Return::MultiLevel                                               => R::ML
Return::Value                                                    => R::V
Role::HasMessage                                                 => R::HasM
Role::Identifiable                                               => R::I
Role::Tiny                                                       => R::T
Router::Boom                                                     => R::B
SDBM_File                                                        => SDBM_F
SHARYANTO::Utils                                                 => SHARYANTO::U
SOAP::Lite                                                       => SOAP::L
SQL::Abstract                                                    => SQL::A
SQL::Maker                                                       => SQL::M
SQL::QueryMaker                                                  => SQL::QM
SQL::Schema::Versioned                                           => SQL::S::V
SQL::Statement                                                   => SQL::S
SQL::Translator                                                  => SQL::T
SVN::RaWeb::Light                                                => SVN::RaWeb::L
SVN::_Core                                                       => SVN::_C
Safe::Hole                                                       => S::H
Safe::Isa                                                        => S::Isa
Scalar::Does                                                     => S::D
Scalar::String                                                   => S::S
Scalar::Util                                                     => S::U
Scalar::Util::Numeric                                            => S::U::N
Scalar::Util::Numeric::PP                                        => S::U::N::PP
Scope::Guard                                                     => S::G
Scope::Upper                                                     => *undef*
Search::Dict                                                     => *undef*
Search::Elasticsearch                                            => S::E
Search::OpenSearch                                               => S::OS
Search::Query                                                    => S::Q
Search::Tools                                                    => S::T
SelectSaver                                                      => SS
Selenium::Remote::Driver                                         => S::R::D
SelfLoader                                                       => SL
Sereal::Decoder                                                  => *undef*
Sereal::Encoder                                                  => *undef*
Server::Starter                                                  => *undef*
Session::Token                                                   => *undef*
Set::Equivalence                                                 => Set::E
Set::Infinite                                                    => Set::I
Set::Intersection                                                => *undef*
Set::Object                                                      => Set::O
Set::Scalar                                                      => Set::S
Shell::Config::Generate                                          => S::C::G
Shell::Guess                                                     => *undef*
Smart::Args                                                      => S::A
Socket6                                                          => S6
Software::License                                                => S::L
Software::License::CCpack                                        => S::L::CC
Sort::Key                                                        => S::Key
Sort::Key::IPv4                                                  => S::Key::IPv4
Sort::Key::Top                                                   => S::Key::Top
Sort::Naturally                                                  => S::N
Sort::SQL                                                        => S::SQL
Sort::Versions                                                   => S::V
SourceCode::LineCounter::Perl                                    => SC::LC::P
Spork::Shlomify                                                  => *undef*
Spreadsheet::HTML                                                => S::HTML
Spreadsheet::ParseExcel                                          => S::PE
Spreadsheet::Read                                                => S::R
Spreadsheet::ReadSXC                                             => S::RSXC
Statistics::Basic                                                => S::B
Statistics::Descriptive                                          => *undef*
Storable::AMF                                                    => S::AMF
Stream::Buffered                                                 => *undef*
String::CRC32                                                    => S::CRC32
String::CamelCase                                                => S::CC
String::Clean                                                    => S::C
String::Cushion                                                  => *undef*
String::Diff                                                     => *undef*
String::Elide::Parts                                             => S::E::P
String::Errf                                                     => *undef*
String::Escape                                                   => *undef*
String::Flogger                                                  => S::F
String::Format                                                   => *undef*
String::Formatter                                                => *undef*
String::Ident                                                    => S::I
String::Indent                                                   => *undef*
String::Interpolate                                              => *undef*
String::LineNumber                                               => S::LN
String::PerlQuote                                                => S::PQ
String::Random                                                   => *undef*
String::RewritePrefix                                            => S::RP
String::ShellQuote                                               => S::SQ
String::ToIdentifier::EN                                         => S::ToI::EN
String::Tokenizer                                                => *undef*
String::Trim                                                     => *undef*
String::Trim::More                                               => S::T::M
String::Truncate                                                 => *undef*
String::Wildcard::Bash                                           => S::W::B
Struct::Dumb                                                     => *undef*
Sub::Delete                                                      => Sub::D
Sub::Exporter                                                    => Sub::E
Sub::Exporter::ForMethods                                        => Sub::E::ForM
Sub::Exporter::GlobExporter                                      => Sub::E::GE
Sub::Exporter::Progressive                                       => Sub::E::P
Sub::Identify                                                    => Sub::I
Sub::Infix                                                       => *undef*
Sub::Install                                                     => *undef*
Sub::Iterator                                                    => *undef*
Sub::Name                                                        => Sub::N
Sub::Override                                                    => Sub::O
Sub::Uplevel                                                     => Sub::U
Sub::Util                                                        => *undef*
Subclass::Of                                                     => S::Of
Syntax::Keyword::Junction                                        => S::K::J
Sys::CpuAffinity                                                 => Sys::CpuA
Sys::CpuLoadX                                                    => Sys::CpuLX
Sys::Hostname                                                    => Sys::H
Sys::Hostname::Long                                              => Sys::H::L
Sys::Path                                                        => Sys::P
Sys::Syslog                                                      => Sys::S
Sys::Syslog::Win32                                               => Sys::S::Win32
Sysadm::Install                                                  => *undef*
System::Command                                                  => *undef*
TAP::Base                                                        => TAP::B
TAP::Formatter::Base                                             => TAP::F::B
TAP::Formatter::Color                                            => TAP::F::C
TAP::Formatter::Console                                          => *undef*
TAP::Formatter::Console::ParallelSession                         => TAP::F::C::PS
TAP::Formatter::Console::Session                                 => TAP::F::C::S
TAP::Formatter::File                                             => TAP::F::F
TAP::Formatter::File::Session                                    => TAP::F::F::S
TAP::Formatter::Session                                          => TAP::F::S
TAP::Harness                                                     => TAP::H
TAP::Harness::Env                                                => TAP::H::Env
TAP::Object                                                      => TAP::O
TAP::Parser                                                      => TAP::P
TAP::Parser::Aggregator                                          => TAP::P::A
TAP::Parser::Grammar                                             => TAP::P::G
TAP::Parser::Iterator                                            => TAP::P::I
TAP::Parser::Iterator::Array                                     => TAP::P::I::A
TAP::Parser::Iterator::Process                                   => TAP::P::I::P
TAP::Parser::Iterator::Stream                                    => TAP::P::I::S
TAP::Parser::IteratorFactory                                     => TAP::P::IF
TAP::Parser::Multiplexer                                         => TAP::P::M
TAP::Parser::Result                                              => TAP::P::R
TAP::Parser::Result::Bailout                                     => TAP::P::R::B
TAP::Parser::Result::Comment                                     => TAP::P::R::C
TAP::Parser::Result::Plan                                        => TAP::P::R::P
TAP::Parser::Result::Pragma                                      => *undef*
TAP::Parser::Result::Test                                        => TAP::P::R::T
TAP::Parser::Result::Unknown                                     => TAP::P::R::U
TAP::Parser::Result::Version                                     => TAP::P::R::V
TAP::Parser::Result::YAML                                        => TAP::P::R::YAML
TAP::Parser::ResultFactory                                       => TAP::P::RF
TAP::Parser::Scheduler                                           => TAP::P::S
TAP::Parser::Scheduler::Job                                      => TAP::P::S::Job
TAP::Parser::Scheduler::Spinner                                  => TAP::P::S::S
TAP::Parser::Source                                              => *undef*
TAP::Parser::SourceHandler                                       => TAP::P::SH
TAP::Parser::SourceHandler::Executable                           => TAP::P::SH::E
TAP::Parser::SourceHandler::File                                 => TAP::P::SH::F
TAP::Parser::SourceHandler::Handle                               => TAP::P::SH::H
TAP::Parser::SourceHandler::Perl                                 => TAP::P::SH::P
TAP::Parser::SourceHandler::RawTAP                               => TAP::P::SH::RawTAP
TAP::Parser::YAMLish::Reader                                     => TAP::P::YAML::R
TAP::Parser::YAMLish::Writer                                     => TAP::P::YAML::W
TAP::SimpleOutput                                                => TAP::SO
TOML::Parser                                                     => TOML::P
Tail::Tool                                                       => T::T
Tapper::Base                                                     => T::B
Tapper::Cmd                                                      => T::Cmd
Tapper::Config                                                   => T::C
Tapper::Fake                                                     => T::F
Tapper::MCP                                                      => T::MCP
Tapper::Model                                                    => T::M
Tapper::Producer                                                 => T::P
Tapper::Reports::DPath                                           => T::R::DP
Tapper::Schema                                                   => T::S
Tapper::TAP::Harness                                             => T::TAP::H
Task::Biodiverse::NoGUI                                          => T::B::NoGUI
Task::Calendar                                                   => *undef*
Task::Latemp                                                     => T::L
Task::Test::Run::AllPlugins                                      => T::T::Run::AllP
Task::Weaken                                                     => T::W
Template::Alloy                                                  => T::A
Template::Flute                                                  => *undef*
Template::Preprocessor::TTML                                     => T::P::TTML
Template::Timer                                                  => *undef*
Template::Tiny                                                   => *undef*
Template::Toolkit::Simple                                        => T::T::S
Term::ANSIColor                                                  => T::ANSIC
Term::ANSIColor::Markup                                          => T::ANSIC::M
Term::ANSIScreen                                                 => T::ANSIS
Term::Cap                                                        => T::Cap
Term::Choose                                                     => *undef*
Term::Choose::Util                                               => T::C::U
Term::Complete                                                   => *undef*
Term::Encoding                                                   => T::E
Term::ProgressBar                                                => T::PBar
Term::ProgressBar::Quiet                                         => T::PBar::Q
Term::ProgressBar::Simple                                        => T::PBar::S
Term::ReadKey                                                    => T::RKey
Term::ReadLine                                                   => T::RL
Term::ReadLine::Gnu                                              => T::RL::Gnu
Term::ReadLine::Simple                                           => T::RL::S
Term::ReadPassword                                               => T::RP
Term::Screen                                                     => *undef*
Term::Screen::Lite                                               => T::S::L
Term::Size::Any                                                  => T::S::Any
Term::Size::Perl                                                 => T::S::P
Term::Spinner                                                    => *undef*
Term::UI                                                         => T::UI
Term::YAP                                                        => T::YAP
Test::API                                                        => T::API
Test::AllModules                                                 => T::AllM
Test::Assertions                                                 => *undef*
Test::Base                                                       => *undef*
Test::Bits                                                       => *undef*
Test::Builder                                                    => *undef*
Test::Builder::IO::Scalar                                        => T::B::IO::S
Test::Builder::Module                                            => T::B::M
Test::Builder::Tester                                            => T::B::T
Test::Builder::Tester::Color                                     => T::B::T::C
Test::CPAN::Meta                                                 => T::CPAN::M
Test::CPAN::Meta::JSON                                           => T::CPAN::M::JSON
Test::Carp                                                       => *undef*
Test::CheckDeps                                                  => T::CD
Test::Class                                                      => *undef*
Test::ClassAPI                                                   => T::CAPI
Test::CleanNamespaces                                            => T::CN
Test::Command                                                    => *undef*
Test::Command::Simple                                            => T::C::S
Test::Compile                                                    => *undef*
Test::Count                                                      => *undef*
Test::Deep                                                       => T::D
Test::Deep::JSON                                                 => T::D::JSON
Test::Deep::JWT                                                  => T::D::JWT
Test::Deep::Matcher                                              => T::D::M
Test::Deep::UnorderedPairs                                       => T::D::UP
Test::Differences                                                => *undef*
Test::Dir                                                        => T::Dir
Test::Dirs                                                       => *undef*
Test::DistManifest                                               => T::DM
Test::EOL                                                        => T::EOL
Test::Exception                                                  => *undef*
Test::Exception::LessClever                                      => T::E::LC
Test::Expect                                                     => *undef*
Test::FailWarnings                                               => T::FW
Test::Fake::HTTPD                                                => T::F::HTTPD
Test::Fatal                                                      => *undef*
Test::File                                                       => *undef*
Test::File::Contents                                             => T::F::C
Test::File::ShareDir                                             => T::F::SDir
Test::Filename                                                   => *undef*
Test::Fixme                                                      => *undef*
Test::Fixture::DBIC::Schema                                      => T::F::DBIC::S
Test::HTML::Content                                              => T::HTML::C
Test::HTTP::Server::Simple                                       => T::HTTP::S::S
Test::Harness                                                    => T::H
Test::Identity                                                   => T::I
Test::Inter                                                      => *undef*
Test::JSON                                                       => T::JSON
Test::JsonAPI::Autodoc                                           => T::JAPI::A
Test::Kwalitee                                                   => T::K
Test::LWP::UserAgent                                             => T::LWP::UA
Test::LeakTrace                                                  => T::LT
Test::Lib                                                        => T::Lib
Test::LoadAllModules                                             => T::LAllM
Test::LongString                                                 => T::LS
Test::Manifest                                                   => *undef*
Test::Memory::Cycle                                              => T::M::C
Test::MinimumVersion                                             => T::MV
Test::Mock::Furl                                                 => T::M::F
Test::Mock::Guard                                                => T::M::G
Test::Mock::LWP::Conditional                                     => T::M::LWP::C
Test::Mock::LWP::Dispatch                                        => T::M::LWP::D
Test::Mock::Wrapper                                              => T::M::W
Test::MockModule                                                 => T::MM
Test::MockObject                                                 => T::MO
Test::MockTime                                                   => T::MT
Test::Modern                                                     => *undef*
Test::Mojibake                                                   => *undef*
Test::Mojo::Role::PSGI                                           => T::M::R::PSGI
Test::Mojo::WithRoles                                            => T::M::WR
Test::Moose::More                                                => T::M::M
Test::More                                                       => *undef*
Test::Most                                                       => *undef*
Test::Name::FromLine                                             => T::N::FL
Test::NoTabs                                                     => T::NoT
Test::NoWarnings                                                 => T::NoW
Test::Number::Delta                                              => T::N::D
Test::Object                                                     => T::O
Test::Output                                                     => *undef*
Test::Perl::Critic                                               => T::P::C
Test::Perl::Critic::Progressive                                  => T::P::C::P
Test::Pod                                                        => T::Pod
Test::Pod::Coverage                                              => T::Pod::C
Test::Pod::LinkCheck                                             => T::Pod::LC
Test::Pod::No404s                                                => T::Pod::No404s
Test::Portability::Files                                         => T::P::F
Test::Refcount                                                   => T::R
Test::Reporter                                                   => *undef*
Test::Requires                                                   => *undef*
Test::Requires::Env                                              => T::R::Env
Test::Requires::Git                                              => T::R::Git
Test::RequiresInternet                                           => T::RI
Test::Roo                                                        => T::Roo
Test::Routine                                                    => *undef*
Test::Run                                                        => T::Run
Test::Run::CmdLine                                               => T::Run::CmdL
Test::Run::Plugin::AlternateInterpreters                         => T::Run::P::AI
Test::Run::Plugin::BreakOnFailure                                => T::Run::P::BOnF
Test::Run::Plugin::ColorFileVerdicts                             => T::Run::P::CFV
Test::Run::Plugin::ColorSummary                                  => T::Run::P::CS
Test::Run::Plugin::TrimDisplayedFilenames                        => T::Run::P::TDF
Test::Script                                                     => *undef*
Test::Script::Run                                                => T::S::Run
Test::SharedFork                                                 => T::SF
Test::Simple                                                     => *undef*
Test::Spec                                                       => *undef*
Test::Spelling                                                   => *undef*
Test::Stream                                                     => *undef*
Test::SubCalls                                                   => T::SubC
Test::Synopsis                                                   => *undef*
Test::TCP                                                        => T::TCP
Test::TempDir::Tiny                                              => T::TDir::T
Test::Tester                                                     => *undef*
Test::Tester::Capture                                            => T::T::C
Test::Tester::CaptureRunner                                      => T::T::CR
Test::Tester::Delegate                                           => T::T::D
Test::Time                                                       => *undef*
Test::Timer                                                      => *undef*
Test::TinyMocker                                                 => T::TM
Test::TrailingSpace                                              => T::TS
Test::Trap                                                       => *undef*
Test::UseAllModules                                              => T::UseAllM
Test::VariousBits                                                => T::VB
Test::Version                                                    => T::V
Test::WWW::Mechanize                                             => T::WWW::M
Test::WWW::Mechanize::PSGI                                       => T::WWW::M::PSGI
Test::Warn                                                       => *undef*
Test::Warnings                                                   => *undef*
Test::WithDB                                                     => T::WDB
Test::Without::Module                                            => T::W::M
Test::XML                                                        => T::XML
Test::XML::Ordered                                               => T::XML::O
Test::YAML                                                       => T::YAML
Test::use::ok                                                    => T::use::ok
Test::utf8                                                       => T::utf8
Text::ANSI::Util                                                 => T::ANSI::U
Text::ASCIITable                                                 => T::ASCIIT
Text::Abbrev                                                     => *undef*
Text::Aligner                                                    => *undef*
Text::Autoformat                                                 => *undef*
Text::Balanced                                                   => *undef*
Text::BibTeX                                                     => T::BibTeX
Text::Brew                                                       => *undef*
Text::CSV                                                        => T::CSV
Text::CSV::Hashify                                               => T::CSV::H
Text::CSV_XS                                                     => T::CSV_XS
Text::Diff                                                       => *undef*
Text::Format                                                     => *undef*
Text::German                                                     => T::G
Text::Glob                                                       => *undef*
Text::Hunspell                                                   => *undef*
Text::Markdown                                                   => *undef*
Text::Morse                                                      => *undef*
Text::ParseWords                                                 => T::PW
Text::Patch                                                      => *undef*
Text::Reform                                                     => *undef*
Text::Roman                                                      => *undef*
Text::SimpleTable                                                => T::ST
Text::SimpleTable::AutoWidth                                     => T::ST::AW
Text::Soundex                                                    => *undef*
Text::Sprintf::Named                                             => T::S::N
Text::Table                                                      => *undef*
Text::Table::Tiny                                                => T::T::T
Text::Tabs                                                       => *undef*
Text::TabularDisplay                                             => T::TD
Text::Template                                                   => *undef*
Text::TestBase                                                   => T::TB
Text::Trim                                                       => *undef*
Text::UnicodeTable::Simple                                       => T::UT::S
Text::Unidecode                                                  => T::U
Text::WagnerFischer                                              => T::WF
Text::WideChar::Util                                             => T::WC::U
Text::Wrap                                                       => *undef*
Text::Wrapper                                                    => *undef*
Text::Xslate                                                     => T::X
Text::sprintfn                                                   => T::s
Thread::Queue                                                    => T::Q
Thread::Semaphore                                                => *undef*
Tie::Array                                                       => Tie::A
Tie::Cache                                                       => Tie::C
Tie::EncryptedHash                                               => Tie::EH
Tie::File                                                        => Tie::F
Tie::Handle                                                      => Tie::H
Tie::Handle::Scalar                                              => Tie::H::S
Tie::Hash                                                        => *undef*
Tie::Hash::Attribute                                             => Tie::H::A
Tie::Hash::LRU                                                   => Tie::H::LRU
Tie::Hash::NamedCapture                                          => Tie::H::NC
Tie::IxHash                                                      => Tie::IxH
Tie::Memoize                                                     => Tie::M
Tie::RefHash                                                     => Tie::RefH
Tie::Scalar                                                      => Tie::S
Tie::StdHandle                                                   => Tie::StdH
Tie::SubstrHash                                                  => Tie::SH
Tie::ToObject                                                    => Tie::ToO
Time::Duration                                                   => *undef*
Time::Duration::Parse                                            => T::D::P
Time::Elapsed                                                    => *undef*
Time::HiRes                                                      => T::HiRes
Time::Local                                                      => *undef*
Time::Mock                                                       => *undef*
Time::Piece                                                      => *undef*
Time::Seconds                                                    => *undef*
Time::Stopwatch                                                  => *undef*
Time::Warp                                                       => *undef*
Time::gmtime                                                     => T::g
Time::localtime                                                  => T::l
Time::timegm                                                     => T::t
Time::tm                                                         => T::tm
Tk::HListbox                                                     => Tk::HL
Tk::HMListbox                                                    => Tk::HML
Tk::Wizard                                                       => Tk::W
Travel::Routing::DE::VRR                                         => T::R::DE::VRR
Travel::Status::DE::IRIS                                         => T::S::DE::IRIS
Tree::R                                                          => *undef*
Tree::Simple                                                     => *undef*
Tree::Simple::VisitorFactory                                     => T::S::VF
Try::Tiny                                                        => Try::T
Try::Tiny::ByClass                                               => Try::T::ByC
TryCatch                                                         => TryC
Type::Tie                                                        => T::Tie
Type::Tiny                                                       => *undef*
Types::DBIx::Class                                               => T::DBIx::C
Types::Path::Tiny                                                => T::P::T
Types::PerlVersion                                               => T::PV
Types::Serialiser                                                => *undef*
Types::URI                                                       => T::URI
Types::UUID                                                      => T::UUID
UNIVERSAL::require                                               => UNIVERSAL::r
URI::Encode                                                      => URI::E
URI::Escape::XS                                                  => URI::E::XS
URI::Fetch                                                       => URI::F
URI::Find                                                        => *undef*
URI::FromHash                                                    => URI::FH
URI::NamespaceMap                                                => URI::NMap
URI::Query                                                       => URI::Q
URI::SmartURI                                                    => URI::SURI
URI::Template                                                    => URI::T
URL::Encode                                                      => URL::E
USPS::RateRequest                                                => USPS::RR
UUID::Random                                                     => UUID::R
UUID::Tiny                                                       => UUID::T
Unicode::Collate                                                 => U::C
Unicode::Collate::CJK::Big5                                      => U::C::CJK::Big5
Unicode::Collate::CJK::GB2312                                    => U::C::CJK::GB2312
Unicode::Collate::CJK::JISX0208                                  => U::C::CJK::JISX0208
Unicode::Collate::CJK::Korean                                    => U::C::CJK::K
Unicode::Collate::CJK::Pinyin                                    => U::C::CJK::P
Unicode::Collate::CJK::Stroke                                    => U::C::CJK::S
Unicode::Collate::CJK::Zhuyin                                    => U::C::CJK::Z
Unicode::Collate::Locale                                         => U::C::L
Unicode::EastAsianWidth                                          => U::EAW
Unicode::LineBreak                                               => U::LB
Unicode::Normalize                                               => U::N
Unicode::Stringprep                                              => U::S
Unicode::UCD                                                     => U::UCD
Unicode::UTF8                                                    => U::UTF8
Unix::Process                                                    => U::P
User::grent                                                      => U::g
User::pwent                                                      => U::p
VMS::DCLsym                                                      => VMS::DCL
VMS::Filespec                                                    => VMS::F
VMS::Stdio                                                       => VMS::S
VMware::API::LabManager                                          => VM::API::LabM
Validate::Tiny                                                   => V::T
Validator::Custom                                                => V::C
Variable::Magic                                                  => V::M
Version::Next                                                    => V::N
Version::Util                                                    => V::U
WWW::Amazon::BestSeller                                          => WWW::A::BS
WWW::BackpackTF                                                  => WWW::BTF
WWW::Expand::More                                                => WWW::E::M
WWW::Form::UrlEncoded                                            => WWW::F::UrlE
WWW::Google::WebmasterTools::Download                            => WWW::G::WT::D
WWW::Marvel                                                      => WWW::M
WWW::Mechanize                                                   => *undef*
WWW::Mechanize::Cached                                           => WWW::M::C
WWW::Mechanize::Cached::GZip                                     => WWW::M::C::GZip
WWW::Mechanize::GZip                                             => WWW::M::GZip
WWW::RabbitMQ::Broker                                            => WWW::RMQ::B
WWW::RobotRules                                                  => WWW::RR
WWW::Search                                                      => WWW::S
WWW::Search::Ebay                                                => WWW::S::E
WWW::Search::MSN                                                 => WWW::S::MSN
WWW::Shorten                                                     => *undef*
WWW::Shorten::Simple                                             => WWW::S::S
WWW::UserAgent::Random                                           => WWW::UA::R
WeakRef                                                          => WRef
Web::Detect                                                      => Web::D
Web::Scraper                                                     => Web::S
WebDriver::Tiny                                                  => WebD::T
WebService::Client                                               => WebS::C
WebService::GarminConnect                                        => WebS::GC
WebService::Linode                                               => WebS::L
WebService::SonarQube                                            => WebS::SQ
WebService::Stripe                                               => WebS::S
Webqq::Encryption                                                => W::E
Win32API::File                                                   => Win32API::F
Win32API::File::ExtUtils::Myconst2perl                           => Win32API::F::ExtU::M2
XBase                                                            => XB
XML::Amazon                                                      => XML::A
XML::Atom                                                        => *undef*
XML::Char                                                        => XML::C
XML::CommonNS                                                    => XML::CNS
XML::Feed                                                        => XML::F
XML::Grammar::Fiction                                            => XML::G::F
XML::Grammar::Fortune                                            => *undef*
XML::Grammar::Fortune::Synd                                      => XML::G::F::S
XML::Grammar::ProductsSyndication                                => XML::G::PS
XML::GrammarBase                                                 => XML::GB
XML::Hash::XS                                                    => XML::H::XS
XML::LibXML::Debugging                                           => XML::LibXML::D
XML::LibXML::Simple                                              => XML::LibXML::S
XML::Namespace                                                   => XML::N
XML::NamespaceFactory                                            => XML::NF
XML::NamespaceSupport                                            => XML::NS
XML::Parser                                                      => XML::P
XML::Parser::Lite                                                => XML::P::L
XML::Parser::Lite::Tree                                          => XML::P::L::T
XML::SAX::Base                                                   => XML::SAX::B
XML::SAX::Expat                                                  => XML::SAX::E
XML::SemanticDiff                                                => XML::SD
XML::Simple                                                      => XML::S
XML::Struct                                                      => *undef*
XML::Tiny                                                        => XML::T
XML::Twig                                                        => *undef*
XML::Writer                                                      => XML::W
XML::XPath                                                       => XML::XP
XML::XPathEngine                                                 => XML::XPE
XS::APItest                                                      => XS::API
XS::Object::Magic                                                => XS::O::M
XS::Typemap                                                      => XS::T
XSLoader                                                         => XSL
YAML::Syck                                                       => YAML::S
YAML::Tiny                                                       => YAML::T
Zabbix2::API                                                     => Z2::API
autobox::Core                                                    => a::C
autobox::Junctions                                               => a::J
autodie::Scope::Guard                                            => a::S::G
autodie::Scope::GuardStack                                       => a::S::GS
autodie::ScopeUtil                                               => a::SU
autodie::exception                                               => a::e
autodie::exception::system                                       => a::e::s
autodie::hints                                                   => a::h
autodie::skip                                                    => a::s
bareword::filehandles                                            => b::f
common::sense                                                    => c::s
constant::defer                                                  => c::d
encoding::warnings                                               => e::w
lexical::underscore                                              => l::u
lib::filter                                                      => lib::f
libintl-perl                                                     => l-p
libxml-perl                                                      => *undef*
local::lib                                                       => l::lib
namespace::autoclean                                             => n::a
namespace::clean                                                 => n::c
namespace::sweep                                                 => n::s
overload::numbers                                                => o::n
threads::shared                                                  => t::s
unicore::Name                                                    => u::N
version::regex                                                   => v::r
version::vpp                                                     => v::vpp
warnings::illegalproto                                           => w::i
warnings::register                                               => w::r
t/10-check.t ................. ok
t/author-critic.t ............ skipped: these tests are for testing by the author
t/author-test-eol.t .......... skipped: these tests are for testing by the author
t/release-cpan-changes.t ..... skipped: these tests are for release candidate testing
t/release-dist-manifest.t .... skipped: these tests are for release candidate testing
t/release-distmeta.t ......... skipped: these tests are for release candidate testing
t/release-kwalitee.t ......... skipped: these tests are for release candidate testing
t/release-minimum-version.t .. skipped: these tests are for release candidate testing
t/release-mojibake.t ......... skipped: these tests are for release candidate testing
t/release-no-tabs.t .......... skipped: these tests are for release candidate testing
t/release-pod-coverage.t ..... skipped: these tests are for release candidate testing
t/release-pod-linkcheck.t .... skipped: these tests are for release candidate testing
t/release-pod-syntax.t ....... skipped: these tests are for release candidate testing
t/release-portability.t ...... skipped: these tests are for release candidate testing
t/release-test-version.t ..... skipped: these tests are for release candidate testing
t/release-unused-vars.t ...... skipped: these tests are for release candidate testing
All tests successful.
Files=18, Tests=4, 102 wallclock secs ( 0.27 usr  0.14 sys + 12.11 cusr  9.64 csys = 22.16 CPU)
Result: PASS

------------------------------
PREREQUISITES
------------------------------

Prerequisite modules loaded:

requires:

    Module              Need Have      
    ------------------- ---- ----------
    File::HomeDir       0    1.00      
    List::MoreUtils     0    0.412     
    Module::CoreList    0    5.20150520

build_requires:

    Module              Need Have      
    ------------------- ---- ----------
    ExtUtils::MakeMaker 0    7.04_01   

configure_requires:

    Module              Need Have      
    ------------------- ---- ----------
    ExtUtils::MakeMaker 6.30 7.04_01   


------------------------------
ENVIRONMENT AND OTHER CONTEXT
------------------------------

Environment variables:

    DBIC_NO_WARN_BAD_PERL = 1
    LC_ALL = de_DE.ISO8859-1
    PATH = /usr/local/bin:/usr/bin:/bin:/usr/local/sbin:/usr/sbin:/sbin:/home/cpansand/bin/freebsd10.0:/home/cpansand/bin/sh:/home/cpansand/bin:/usr/games:/home/cpansand/devel:/home/eserte/src/srezic-misc/scripts
    PERL5LIB = 
    PERL5OPT = 
    PERL5_CPANPLUS_IS_RUNNING = 22903
    PERL5_CPAN_IS_RUNNING = 22903
    PERL5_CPAN_IS_RUNNING_IN_RECURSION = 22794,22903
    PERLDOC = -MPod::Perldoc::ToTextOverstrike
    PERL_BATCH = yes
    PERL_CANARY_STABILITY_NOPROMPT = 1
    PERL_CPAN_REPORTER_CONFIG = /var/tmp/cpansmoker-1023/cpanreporter_002_config.ini
    PERL_EXTUTILS_AUTOINSTALL = --defaultdeps
    PERL_HTML_DISPLAY_CLASS = HTML::Display::Mozilla
    SHELL = /usr/local/bin/zsh
    TERM = screen
    TMPDIR = /var/tmp/cpansmoker-1023

Perl special variables (and OS-specific diagnostics, for MSWin32):

    $^X = /usr/perl5.22.0p/bin/perl5.22.0
    $UID/$EUID = 1023 / 1023
    $GID = 1023 1023
    $EGID = 1023 1023

Perl module toolchain versions installed:

    Module              Have    
    ------------------- --------
    CPAN                2.11    
    CPAN::Meta          2.150001
    Cwd                 3.56    
    ExtUtils::CBuilder  0.280221
    ExtUtils::Command   1.20    
    ExtUtils::Install   2.04    
    ExtUtils::MakeMaker 7.04_01 
    ExtUtils::Manifest  1.70    
    ExtUtils::ParseXS   3.28    
    File::Spec          3.56    
    JSON                2.90    
    JSON::PP            2.27300 
    Module::Build       0.4212  
    Module::Signature   0.79    
    Parse::CPAN::Meta   1.4417  
    Test::Harness       3.35    
    Test::More          1.001014
    YAML                1.15    
    YAML::Syck          1.29    
    version             0.9909  


--

Summary of my perl5 (revision 5 version 22 subversion 0) configuration:
   
  Platform:
    osname=freebsd, osvers=10.1-release, archname=amd64-freebsd
    uname='freebsd cvrsnica-freebsd-101.herceg.de 10.1-release freebsd 10.1-release #0 r274401: tue nov 11 21:02:49 utc 2014 root@releng1.nyi.freebsd.org:usrobjusrsrcsysgeneric amd64 '
    config_args='-ds -e -Dprefix=/usr/perl5.22.0p -Dcf_email=srezic@cpan.org'
    hint=recommended, useposix=true, d_sigaction=define
    useithreads=undef, usemultiplicity=undef
    use64bitint=define, use64bitall=define, uselongdouble=undef
    usemymalloc=n, bincompat5005=undef
  Compiler:
    cc='cc', ccflags ='-DHAS_FPSETMASK -DHAS_FLOATINGPOINT_H -fno-strict-aliasing -pipe -fstack-protector -I/usr/local/include -D_FORTIFY_SOURCE=2',
    optimize='-O',
    cppflags='-DHAS_FPSETMASK -DHAS_FLOATINGPOINT_H -fno-strict-aliasing -pipe -fstack-protector -I/usr/local/include'
    ccversion='', gccversion='4.2.1 Compatible FreeBSD Clang 3.4.1 (tags/RELEASE_34/dot1-final 208032)', gccosandvers=''
    intsize=4, longsize=8, ptrsize=8, doublesize=8, byteorder=12345678, doublekind=3
    d_longlong=define, longlongsize=8, d_longdbl=define, longdblsize=16, longdblkind=3
    ivtype='long', ivsize=8, nvtype='double', nvsize=8, Off_t='off_t', lseeksize=8
    alignbytes=8, prototype=define
  Linker and Libraries:
    ld='cc', ldflags ='-pthread -Wl,-E  -fstack-protector -L/usr/local/lib'
    libpth=/usr/lib /usr/local/lib /usr/include/clang/3.4.1 /usr/lib
    libs=-lpthread -lgdbm -lm -lcrypt -lutil -lc
    perllibs=-lpthread -lm -lcrypt -lutil -lc
    libc=, so=so, useshrplib=false, libperl=libperl.a
    gnulibc_version=''
  Dynamic Linking:
    dlsrc=dl_dlopen.xs, dlext=so, d_dlsymun=undef, ccdlflags=' '
    cccdlflags='-DPIC -fPIC', lddlflags='-shared  -L/usr/local/lib -fstack-protector'


Characteristics of this binary (from libperl): 
  Compile-time options: HAS_TIMES PERLIO_LAYERS PERL_DONT_CREATE_GVSV
                        PERL_HASH_FUNC_ONE_AT_A_TIME_HARD PERL_MALLOC_WRAP
                        PERL_NEW_COPY_ON_WRITE PERL_PRESERVE_IVUV
                        USE_64_BIT_ALL USE_64_BIT_INT USE_LARGE_FILES
                        USE_LOCALE USE_LOCALE_COLLATE USE_LOCALE_CTYPE
                        USE_LOCALE_NUMERIC USE_LOCALE_TIME USE_PERLIO
                        USE_PERL_ATOF
  Built under freebsd
  Compiled at Jun  1 2015 20:19:01
  %ENV:
    PERL5LIB=""
    PERL5OPT=""
    PERL5_CPANPLUS_IS_RUNNING="22903"
    PERL5_CPAN_IS_RUNNING="22903"
    PERL5_CPAN_IS_RUNNING_IN_RECURSION="22794,22903"
    PERLDOC="-MPod::Perldoc::ToTextOverstrike"
    PERL_BATCH="yes"
    PERL_CANARY_STABILITY_NOPROMPT="1"
    PERL_CPAN_REPORTER_CONFIG="/var/tmp/cpansmoker-1023/cpanreporter_002_config.ini"
    PERL_EXTUTILS_AUTOINSTALL="--defaultdeps"
    PERL_HTML_DISPLAY_CLASS="HTML::Display::Mozilla"
  @INC:
    /usr/perl5.22.0p/lib/site_perl/5.22.0/amd64-freebsd
    /usr/perl5.22.0p/lib/site_perl/5.22.0
    /usr/perl5.22.0p/lib/5.22.0/amd64-freebsd
    /usr/perl5.22.0p/lib/5.22.0
    .