Back
From: metabase:user:cd035d39-6d5b-1014-ab3a-39c0c09612a1
Subject: PASS DataFlow-Proc-YAML-1.112100 v5.22.0
Date: 2015-11-14T08:07:43Z
This distribution has been tested as part of the CPAN Testers
project, supporting the Perl programming language. See
http://wiki.cpantesters.org/ for more information or email
questions to cpan-testers-discuss@perl.org
--
Dear Alexei Znamensky,
This is a computer-generated report for DataFlow-Proc-YAML-1.112100
on perl 5.22.0, created by CPAN-Reporter-1.2015.
Thank you for uploading your work to CPAN. Congratulations!
All tests were successful.
Sections of this report:
* Tester comments
* Program output
* Prerequisites
* Environment and other context
------------------------------
TESTER COMMENTS
------------------------------
Additional comments from tester:
this report is from an automated smoke testing program
and was not reviewed by a human for accuracy
------------------------------
PROGRAM OUTPUT
------------------------------
Output from 'C:\strawberry\c\bin\dmake.EXE test':
"C:\Strawberry\perl\bin\perl.exe" "-MExtUtils::Command::MM" "-MTest::Harness" "-e" "undef *Test::Harness::Switches; test_harness(0, 'blib\lib', 'blib\arch')" t/*.t
t/00-compile.t ................ skipped: no tests to run
t/00-load.t ................... ok
#
#
# perl: v5.22.0 (wanted 5.006) on MSWin32 from C:\Strawberry\perl\bin\perl.exe
#
# DataFlow => 1.121830 (want 1.112100)
# DataFlow::Proc::Converter => 1.121830 (want any version)
# English => 1.09 (want any version)
# ExtUtils::MakeMaker => 7.1 (want 6.30)
# File::Find => 1.29 (want any version)
# File::Temp => 0.2304 (want any version)
# Moose => 2.1604 (want any version)
# Test::More => 1.001014 (want 0.88)
# Test::UseAllModules => 0.17 (want any version)
# YAML::Any => 1.15 (want any version)
# namespace::autoclean => 0.27 (want any version)
#
# Thanks for using my code. I hope it works for you.
# If not, please try and include this output in the bug report.
# That will help me reproduce the issue and solve you problem.
#
t/000-report-versions-tiny.t .. ok
t/author-critic.t ............. skipped: these tests are for testing by the author
t/release-dist-manifest.t ..... skipped: these tests are for release candidate testing
t/release-distmeta.t .......... skipped: these tests are for release candidate testing
t/release-eol.t ............... skipped: these tests are for release candidate testing
t/release-kwalitee.t .......... skipped: these tests are for release candidate testing
t/release-meta-json.t ......... skipped: these tests are for release candidate testing
t/release-minimum-version.t ... skipped: these tests are for release candidate testing
t/release-mojibake.t .......... skipped: these tests are for release candidate testing
t/release-no-tabs.t ........... skipped: these tests are for release candidate testing
t/release-pod-coverage.t ...... skipped: these tests are for release candidate testing
t/release-pod-linkcheck.t ..... skipped: these tests are for release candidate testing
t/release-pod-syntax.t ........ skipped: these tests are for release candidate testing
t/release-portability.t ....... skipped: these tests are for release candidate testing
t/release-test-version.t ...... skipped: these tests are for release candidate testing
t/release-unused-vars.t ....... skipped: these tests are for release candidate testing
All tests successful.
Files=18, Tests=2, 12 wallclock secs ( 0.19 usr + 0.08 sys = 0.27 CPU)
Result: PASS
------------------------------
PREREQUISITES
------------------------------
Prerequisite modules loaded:
requires:
Module Need Have
------------------------- -------- --------
DataFlow 1.112100 1.121830
DataFlow::Proc::Converter 0 1.121830
Moose 0 2.1604
namespace::autoclean 0 0.27
YAML::Any 0 1.15
build_requires:
Module Need Have
------------------------- -------- --------
English 0 1.09
File::Find 0 1.29
File::Temp 0 0.2304
perl 5.006 5.022000
Test::More 0.88 1.001014
Test::UseAllModules 0 0.17
configure_requires:
Module Need Have
------------------------- -------- --------
ExtUtils::MakeMaker 6.30 7.10
------------------------------
ENVIRONMENT AND OTHER CONTEXT
------------------------------
Environment variables:
AUTOMATED_TESTING = 1
COMSPEC = C:\WINDOWS.0\system32\cmd.exe
NONINTERACTIVE_TESTING = 1
NUMBER_OF_PROCESSORS = 1
PATH = C:\WINDOWS.0\system32;C:\strawberry\c\bin;C:\strawberry\perl\site\bin;C:\strawberry\perl\bin
PERL5LIB = C:\cpan\build\DataFlow-1.121830-NdnRzg/blib/arch;C:\cpan\build\DataFlow-1.121830-NdnRzg/blib/lib;C:\cpan\build\MooseX-Types-IO-0.04-4KXae_/blib/arch;C:\cpan\build\MooseX-Types-IO-0.04-4KXae_/blib/lib;C:\cpan\build\Queue-Base-2.203-_rN1V3/blib/arch;C:\cpan\build\Queue-Base-2.203-_rN1V3/blib/lib;C:\cpan\build\MooseX-OneArgNew-0.005-A_Lspa/blib/arch;C:\cpan\build\MooseX-OneArgNew-0.005-A_Lspa/blib/lib;C:\cpan\build\Moose-Autobox-0.15-PMwnE4/blib/arch;C:\cpan\build\Moose-Autobox-0.15-PMwnE4/blib/lib;C:\cpan\build\autobox-2.83-sD9WZY/blib/arch;C:\cpan\build\autobox-2.83-sD9WZY/blib/lib;C:\cpan\build\MooseX-Attribute-Chained-1.0.1-9GGRSw/blib/arch;C:\cpan\build\MooseX-Attribute-Chained-1.0.1-9GGRSw/blib/lib;C:\cpan\build\Test-UseAllModules-0.17-GTeZoK/blib/arch;C:\cpan\build\Test-UseAllModules-0.17-GTeZoK/blib/lib;C:\cpan\build\MooseX-Aliases-0.11-n8a8FI/blib/arch;C:\cpan\build\MooseX-Aliases-0.11-n8a8FI/blib/lib;C:\cpan\build\Text-CSV-Encoded-0.24-WOSTFp/blib/arch;C:\cpan\build\Text-CSV-Encoded-0.24-WOSTFp/blib/lib
PERL5OPT =
PERL5_CPANPLUS_IS_RUNNING = 792
PERL5_CPAN_IS_RUNNING = 792
PERL5_CPAN_IS_RUNNING_IN_RECURSION = 3820,792
PERL_CR_SMOKER_CURRENT = DataFlow-Proc-YAML-1.112100
PERL_EXTUTILS_AUTOINSTALL = --defaultdeps
PERL_MM_USE_DEFAULT = 1
PROCESSOR_IDENTIFIER = x86 Family 6 Model 14 Stepping 8, GenuineIntel
TEMP = C:\DOKUME~1\smoker\LOKALE~1\Temp
TERM = dumb
Perl special variables (and OS-specific diagnostics, for MSWin32):
$^X = C:\Strawberry\perl\bin\perl.exe
$UID/$EUID = 0 / 0
$GID = 0
$EGID = 0
Win32::GetOSName = WinXP/.Net
Win32::GetOSVersion = Service Pack 3, 5, 1, 2600, 2, 3, 0, 256, 1
Win32::FsType = NTFS
Win32::IsAdminUser = 1
Perl module toolchain versions installed:
Module Have
------------------- --------
CPAN 2.11
CPAN::Meta 2.150005
Cwd 3.56
ExtUtils::CBuilder 0.280224
ExtUtils::Command 7.10
ExtUtils::Install 2.04
ExtUtils::MakeMaker 7.10
ExtUtils::Manifest 1.70
ExtUtils::ParseXS 3.30
File::Spec 3.56
JSON 2.90
JSON::PP 2.27300
Module::Build 0.4214
Module::Signature n/a
Parse::CPAN::Meta 1.4417
Test::Harness 3.35
Test::More 1.001014
YAML 1.15
YAML::Syck n/a
version 0.9912
--
Summary of my perl5 (revision 5 version 22 subversion 0) configuration:
Platform:
osname=MSWin32, osvers=6.3, archname=MSWin32-x86-multi-thread-64int
uname='Win32 strawberry-perl 5.22.0.1 #1 Mon Jun 1 20:04:50 2015 i386'
config_args='undef'
hint=recommended, useposix=true, d_sigaction=undef
useithreads=define, usemultiplicity=define
use64bitint=define, use64bitall=undef, uselongdouble=undef
usemymalloc=n, bincompat5005=undef
Compiler:
cc='gcc', ccflags =' -s -O2 -DWIN32 -DPERL_TEXTMODE_SCRIPTS -DPERL_IMPLICIT_CONTEXT -DPERL_IMPLICIT_SYS -fwrapv -fno-strict-aliasing -mms-bitfields',
optimize='-s -O2',
cppflags='-DWIN32'
ccversion='', gccversion='4.9.2', gccosandvers=''
intsize=4, longsize=4, ptrsize=4, doublesize=8, byteorder=12345678, doublekind=3
d_longlong=define, longlongsize=8, d_longdbl=define, longdblsize=8, longdblkind=3
ivtype='long long', ivsize=8, nvtype='double', nvsize=8, Off_t='long long', lseeksize=8
alignbytes=8, prototype=define
Linker and Libraries:
ld='g++', ldflags ='-s -L"C:\STRAWB~1\perl\lib\CORE" -L"C:\STRAWB~1\c\lib"'
libpth=C:\STRAWB~1\c\lib C:\STRAWB~1\c\i686-w64-mingw32\lib C:\STRAWB~1\c\lib\gcc\i686-w64-mingw32\4.9.2
libs=-lmoldname -lkernel32 -luser32 -lgdi32 -lwinspool -lcomdlg32 -ladvapi32 -lshell32 -lole32 -loleaut32 -lnetapi32 -luuid -lws2_32 -lmpr -lwinmm -lversion -lodbc32 -lodbccp32 -lcomctl32
perllibs=-lmoldname -lkernel32 -luser32 -lgdi32 -lwinspool -lcomdlg32 -ladvapi32 -lshell32 -lole32 -loleaut32 -lnetapi32 -luuid -lws2_32 -lmpr -lwinmm -lversion -lodbc32 -lodbccp32 -lcomctl32
libc=, so=dll, useshrplib=true, libperl=libperl522.a
gnulibc_version=''
Dynamic Linking:
dlsrc=dl_win32.xs, dlext=xs.dll, d_dlsymun=undef, ccdlflags=' '
cccdlflags=' ', lddlflags='-mdll -s -L"C:\STRAWB~1\perl\lib\CORE" -L"C:\STRAWB~1\c\lib"'
Characteristics of this binary (from libperl):
Compile-time options: HAS_TIMES HAVE_INTERP_INTERN MULTIPLICITY
PERLIO_LAYERS PERL_DONT_CREATE_GVSV
PERL_HASH_FUNC_ONE_AT_A_TIME_HARD
PERL_IMPLICIT_CONTEXT PERL_IMPLICIT_SYS
PERL_MALLOC_WRAP PERL_NEW_COPY_ON_WRITE
PERL_PRESERVE_IVUV USE_64_BIT_INT USE_ITHREADS
USE_LARGE_FILES USE_LOCALE USE_LOCALE_COLLATE
USE_LOCALE_CTYPE USE_LOCALE_NUMERIC USE_LOCALE_TIME
USE_PERLIO USE_PERL_ATOF
Built under MSWin32
Compiled at Jun 1 2015 20:09:13
%ENV:
PERL5LIB="C:\cpan\build\DataFlow-1.121830-NdnRzg/blib/arch;C:\cpan\build\DataFlow-1.121830-NdnRzg/blib/lib;C:\cpan\build\MooseX-Types-IO-0.04-4KXae_/blib/arch;C:\cpan\build\MooseX-Types-IO-0.04-4KXae_/blib/lib;C:\cpan\build\Queue-Base-2.203-_rN1V3/blib/arch;C:\cpan\build\Queue-Base-2.203-_rN1V3/blib/lib;C:\cpan\build\MooseX-OneArgNew-0.005-A_Lspa/blib/arch;C:\cpan\build\MooseX-OneArgNew-0.005-A_Lspa/blib/lib;C:\cpan\build\Moose-Autobox-0.15-PMwnE4/blib/arch;C:\cpan\build\Moose-Autobox-0.15-PMwnE4/blib/lib;C:\cpan\build\autobox-2.83-sD9WZY/blib/arch;C:\cpan\build\autobox-2.83-sD9WZY/blib/lib;C:\cpan\build\MooseX-Attribute-Chained-1.0.1-9GGRSw/blib/arch;C:\cpan\build\MooseX-Attribute-Chained-1.0.1-9GGRSw/blib/lib;C:\cpan\build\Test-UseAllModules-0.17-GTeZoK/blib/arch;C:\cpan\build\Test-UseAllModules-0.17-GTeZoK/blib/lib;C:\cpan\build\MooseX-Aliases-0.11-n8a8FI/blib/arch;C:\cpan\build\MooseX-Aliases-0.11-n8a8FI/blib/lib;C:\cpan\build\Text-CSV-Encoded-0.24-WOSTFp/blib/arch;C:\cpan\build\Text-CSV-Encoded-0.24-WOSTFp/blib/lib"
PERL5_CPANPLUS_IS_RUNNING="792"
PERL5_CPAN_IS_RUNNING="792"
PERL5_CPAN_IS_RUNNING_IN_RECURSION="3820,792"
PERL_CR_SMOKER_CURRENT="DataFlow-Proc-YAML-1.112100"
PERL_EXTUTILS_AUTOINSTALL="--defaultdeps"
PERL_MM_USE_DEFAULT="1"
@INC:
C:\cpan\build\DataFlow-1.121830-NdnRzg/blib/arch
C:\cpan\build\DataFlow-1.121830-NdnRzg/blib/lib
C:\cpan\build\MooseX-Types-IO-0.04-4KXae_/blib/arch
C:\cpan\build\MooseX-Types-IO-0.04-4KXae_/blib/lib
C:\cpan\build\Queue-Base-2.203-_rN1V3/blib/arch
C:\cpan\build\Queue-Base-2.203-_rN1V3/blib/lib
C:\cpan\build\MooseX-OneArgNew-0.005-A_Lspa/blib/arch
C:\cpan\build\MooseX-OneArgNew-0.005-A_Lspa/blib/lib
C:\cpan\build\Moose-Autobox-0.15-PMwnE4/blib/arch
C:\cpan\build\Moose-Autobox-0.15-PMwnE4/blib/lib
C:\cpan\build\autobox-2.83-sD9WZY/blib/arch
C:\cpan\build\autobox-2.83-sD9WZY/blib/lib
C:\cpan\build\MooseX-Attribute-Chained-1.0.1-9GGRSw/blib/arch
C:\cpan\build\MooseX-Attribute-Chained-1.0.1-9GGRSw/blib/lib
C:\cpan\build\Test-UseAllModules-0.17-GTeZoK/blib/arch
C:\cpan\build\Test-UseAllModules-0.17-GTeZoK/blib/lib
C:\cpan\build\MooseX-Aliases-0.11-n8a8FI/blib/arch
C:\cpan\build\MooseX-Aliases-0.11-n8a8FI/blib/lib
C:\cpan\build\Text-CSV-Encoded-0.24-WOSTFp/blib/arch
C:\cpan\build\Text-CSV-Encoded-0.24-WOSTFp/blib/lib
C:/Strawberry/perl/site/lib
C:/Strawberry/perl/vendor/lib
C:/Strawberry/perl/lib
.