Report for HTML-Widgets-Index-0.61

Back
From: metabase:user:30f0bd62-2aae-11df-837a-5e0a49663a4f
Subject: PASS HTML-Widgets-Index-0.61 v5.14.3 NetBSD
Date: 2012-11-09T07:26:55Z

This distribution has been tested as part of the CPAN Testers
project, supporting the Perl programming language.  See
http://wiki.cpantesters.org/ for more information or email
questions to cpan-testers-discuss@perl.org


--
Dear Francesc Guasch,

This is a computer-generated report for HTML-Widgets-Index-0.61
on perl 5.14.3, created by CPAN-Reporter-1.2006.

Thank you for uploading your work to CPAN.  Congratulations!
All tests were successful.

Sections of this report:

    * Tester comments
    * Program output
    * Prerequisites
    * Environment and other context

------------------------------
TESTER COMMENTS
------------------------------

Additional comments from tester:

this report is from an automated smoke testing program
and was not reviewed by a human for accuracy

------------------------------
PROGRAM OUTPUT
------------------------------

Output from '/usr/bin/make test':

PERL_DL_NONLAZY=1 /home/sts/cpansmoke/perl-5.14.3/bin/perl "-MExtUtils::Command::MM" "-e" "test_harness(0, 'blib/lib', 'blib/arch')" t/*.t
t/00_base.t ............. ok
DBI connect('test','',...) failed: Can't connect to local MySQL server through socket '/tmp/mysql.sock' (2) at t/10_minim_mysql.t line 30

t/10_minim_mysql.t ...... skipped: (no reason given)
t/20_table_format.t ..... skipped: (no reason given)
t/25_table_js.t ......... skipped: (no reason given)
t/30_teleco.t ........... skipped: (no reason given)
t/32_teleco_children.t .. skipped: (no reason given)
t/35_teleco_js.t ........ skipped: (no reason given)
t/40_auth.t ............. skipped: (no reason given)
t/50_picoxova.t ......... skipped: TODO test #2
t/60_minixova.t ......... skipped: (no reason given)
t/70_nephews.t .......... skipped: TODO
t/99_clean.t ............ skipped: (no reason given)
All tests successful.
Files=12, Tests=1,  2 wallclock secs ( 0.07 usr  0.06 sys +  1.28 cusr  0.40 csys =  1.81 CPU)
Result: PASS
PERL_DL_NONLAZY=1 /home/sts/cpansmoke/perl-5.14.3/bin/perl "-MExtUtils::Command::MM" "-e" "test_harness(0, '../blib/lib', '../blib/arch')" t/*.t
t/00_base.t .. ok
All tests successful.
Files=1, Tests=1,  0 wallclock secs ( 0.05 usr  0.02 sys +  0.02 cusr  0.03 csys =  0.12 CPU)
Result: PASS
PERL_DL_NONLAZY=1 /home/sts/cpansmoke/perl-5.14.3/bin/perl "-I../blib/lib" "-I../blib/arch" test.pl
1..1
# Running under perl version 5.014003 for netbsd
# Current time local: Fri Nov  9 08:26:53 2012
# Current time GMT:   Fri Nov  9 07:26:53 2012
# Using Test.pm version 1.25_02
ok 1
PERL_DL_NONLAZY=1 /home/sts/cpansmoke/perl-5.14.3/bin/perl "-MExtUtils::Command::MM" "-e" "test_harness(0, '../../blib/lib', '../../blib/arch')" t/*.t
t/00_base.t .. ok
All tests successful.
Files=1, Tests=1,  0 wallclock secs ( 0.04 usr  0.01 sys +  0.03 cusr  0.02 csys =  0.10 CPU)
Result: PASS
PERL_DL_NONLAZY=1 /home/sts/cpansmoke/perl-5.14.3/bin/perl "-I../../blib/lib" "-I../../blib/arch" test.pl
1..1
# Running under perl version 5.014003 for netbsd
# Current time local: Fri Nov  9 08:26:53 2012
# Current time GMT:   Fri Nov  9 07:26:53 2012
# Using Test.pm version 1.25_02
ok 1
PERL_DL_NONLAZY=1 /home/sts/cpansmoke/perl-5.14.3/bin/perl "-MExtUtils::Command::MM" "-e" "test_harness(0, '../blib/lib', '../blib/arch')" t/*.t
t/00_base.t .. ok
All tests successful.
Files=1, Tests=2,  0 wallclock secs ( 0.04 usr  0.01 sys +  0.04 cusr  0.00 csys =  0.09 CPU)
Result: PASS
PERL_DL_NONLAZY=1 /home/sts/cpansmoke/perl-5.14.3/bin/perl "-MExtUtils::Command::MM" "-e" "test_harness(0, '../blib/lib', '../blib/arch')" t/*.t
t/00_base.t .. ok
All tests successful.
Files=1, Tests=1,  0 wallclock secs ( 0.06 usr  0.02 sys +  0.01 cusr  0.03 csys =  0.12 CPU)
Result: PASS
PERL_DL_NONLAZY=1 /home/sts/cpansmoke/perl-5.14.3/bin/perl "-I../blib/lib" "-I../blib/arch" test.pl
1..1
ok 1

------------------------------
PREREQUISITES
------------------------------

Prerequisite modules loaded:

requires:

    Module              Need Have   
    ------------------- ---- -------
    DBD::mysql          0.01 4.022  
    HTTP::BrowserDetect 0.97 1.44   

configure_requires:

    Module              Need Have   
    ------------------- ---- -------
    ExtUtils::MakeMaker 0    6.57_05


------------------------------
ENVIRONMENT AND OTHER CONTEXT
------------------------------

Environment variables:

    AUTOMATED_TESTING = 1
    PATH = /home/sts/bin:/bin:/sbin:/usr/bin:/usr/sbin:/usr/X11R7/bin:/usr/X11R6/bin:/usr/pkg/bin:/usr/pkg/sbin:/usr/games:/usr/local/bin:/usr/local/sbin
    PERL5LIB = /home/sts/cpansmoke/perl-5.14.3/cpan/build/HTTP-BrowserDetect-1.44-CoNgQ4/blib/arch:/home/sts/cpansmoke/perl-5.14.3/cpan/build/HTTP-BrowserDetect-1.44-CoNgQ4/blib/lib:/home/sts/cpansmoke/perl-5.14.3/cpan/build/Data-Dump-1.21-RNaffJ/blib/arch:/home/sts/cpansmoke/perl-5.14.3/cpan/build/Data-Dump-1.21-RNaffJ/blib/lib:/home/sts/cpansmoke/perl-5.14.3/cpan/build/DBD-mysql-4.022-p_PkXu/blib/arch:/home/sts/cpansmoke/perl-5.14.3/cpan/build/DBD-mysql-4.022-p_PkXu/blib/lib:/home/sts/cpansmoke/perl-5.14.3/cpan/build/DBI-1.622-0L8hmr/blib/arch:/home/sts/cpansmoke/perl-5.14.3/cpan/build/DBI-1.622-0L8hmr/blib/lib
    PERL5OPT = 
    PERL5_CPANPLUS_IS_RUNNING = 27107
    PERL5_CPAN_IS_RUNNING = 27107
    PERL5_CPAN_IS_RUNNING_IN_RECURSION = 7821,27107
    PERL_CR_SMOKER_CURRENT = HTML-Widgets-Index-0.61
    PERL_EXTUTILS_AUTOINSTALL = --defaultdeps
    PERL_MM_USE_DEFAULT = 1
    SHELL = /usr/pkg/bin/bash
    TERM = screen
    TMPDIR = /home/sts/cpansmoke/tmp

Perl special variables (and OS-specific diagnostics, for MSWin32):

    $^X = /home/sts/cpansmoke/perl-5.14.3/bin/perl
    $UID/$EUID = 1000 / 1000
    $GID = 100 100 0
    $EGID = 100 100 0

Perl module toolchain versions installed:

    Module              Have    
    ------------------- --------
    CPAN                1.9800  
    CPAN::Meta          2.110440
    Cwd                 3.36    
    ExtUtils::CBuilder  0.280203
    ExtUtils::Command   1.17    
    ExtUtils::Install   1.56    
    ExtUtils::MakeMaker 6.57_05 
    ExtUtils::Manifest  1.58    
    ExtUtils::ParseXS   2.2210  
    File::Spec          3.33    
    JSON                2.53    
    JSON::PP            2.27105 
    Module::Build       0.3800  
    Module::Signature   n/a     
    Parse::CPAN::Meta   1.4401  
    Test::Harness       3.23    
    Test::More          0.98    
    YAML                n/a     
    YAML::Syck          n/a     
    version             0.88    


--

Summary of my perl5 (revision 5 version 14 subversion 3) configuration:
   
  Platform:
    osname=netbsd, osvers=6.0, archname=i386-netbsd-thread-multi
    uname='netbsd cpansmoke2 6.0 netbsd 6.0 (xen3_domu) i386 '
    config_args='-des -Dusethreads -Dprefix=/home/sts/cpansmoke/perl-5.14.3'
    hint=recommended, useposix=true, d_sigaction=define
    useithreads=define, usemultiplicity=define
    useperlio=define, d_sfio=undef, uselargefiles=define, usesocks=undef
    use64bitint=undef, use64bitall=undef, uselongdouble=undef
    usemymalloc=n, bincompat5005=undef
  Compiler:
    cc='cc', ccflags ='-fno-strict-aliasing -pipe -fstack-protector -I/usr/pkg/include',
    optimize='-O',
    cppflags='-fno-strict-aliasing -pipe -fstack-protector -I/usr/pkg/include'
    ccversion='', gccversion='4.5.3', gccosandvers=''
    intsize=4, longsize=4, ptrsize=4, doublesize=8, byteorder=1234
    d_longlong=define, longlongsize=8, d_longdbl=define, longdblsize=12
    ivtype='long', ivsize=4, nvtype='double', nvsize=8, Off_t='off_t', lseeksize=8
    alignbytes=4, prototype=define
  Linker and Libraries:
    ld='cc', ldflags =' -Wl,-rpath,/usr/pkg/lib -Wl,-rpath,/usr/local/lib -fstack-protector -L/usr/pkg/lib'
    libpth=/usr/pkg/lib /lib /usr/lib
    libs=-lm -lcrypt -lutil -lc -lposix -lpthread
    perllibs=-lm -lcrypt -lutil -lc -lposix -lpthread
    libc=/lib/libc.so, so=so, useshrplib=false, libperl=libperl.a
    gnulibc_version=''
  Dynamic Linking:
    dlsrc=dl_dlopen.xs, dlext=so, d_dlsymun=undef, ccdlflags='-Wl,-E '
    cccdlflags='-DPIC -fPIC ', lddlflags='--whole-archive -shared  -L/usr/pkg/lib -fstack-protector'


Characteristics of this binary (from libperl): 
  Compile-time options: MULTIPLICITY PERL_DONT_CREATE_GVSV
                        PERL_IMPLICIT_CONTEXT PERL_MALLOC_WRAP
                        PERL_PRESERVE_IVUV USE_ITHREADS USE_LARGE_FILES
                        USE_PERLIO USE_PERL_ATOF USE_REENTRANT_API
  Built under netbsd
  Compiled at Oct 18 2012 11:50:14
  %ENV:
    PERL5LIB="/home/sts/cpansmoke/perl-5.14.3/cpan/build/HTTP-BrowserDetect-1.44-CoNgQ4/blib/arch:/home/sts/cpansmoke/perl-5.14.3/cpan/build/HTTP-BrowserDetect-1.44-CoNgQ4/blib/lib:/home/sts/cpansmoke/perl-5.14.3/cpan/build/Data-Dump-1.21-RNaffJ/blib/arch:/home/sts/cpansmoke/perl-5.14.3/cpan/build/Data-Dump-1.21-RNaffJ/blib/lib:/home/sts/cpansmoke/perl-5.14.3/cpan/build/DBD-mysql-4.022-p_PkXu/blib/arch:/home/sts/cpansmoke/perl-5.14.3/cpan/build/DBD-mysql-4.022-p_PkXu/blib/lib:/home/sts/cpansmoke/perl-5.14.3/cpan/build/DBI-1.622-0L8hmr/blib/arch:/home/sts/cpansmoke/perl-5.14.3/cpan/build/DBI-1.622-0L8hmr/blib/lib"
    PERL5OPT=""
    PERL5_CPANPLUS_IS_RUNNING="27107"
    PERL5_CPAN_IS_RUNNING="27107"
    PERL5_CPAN_IS_RUNNING_IN_RECURSION="7821,27107"
    PERL_CR_SMOKER_CURRENT="HTML-Widgets-Index-0.61"
    PERL_EXTUTILS_AUTOINSTALL="--defaultdeps"
    PERL_MM_USE_DEFAULT="1"
  @INC:
    /home/sts/cpansmoke/perl-5.14.3/cpan/build/HTTP-BrowserDetect-1.44-CoNgQ4/blib/arch
    /home/sts/cpansmoke/perl-5.14.3/cpan/build/HTTP-BrowserDetect-1.44-CoNgQ4/blib/lib
    /home/sts/cpansmoke/perl-5.14.3/cpan/build/Data-Dump-1.21-RNaffJ/blib/arch
    /home/sts/cpansmoke/perl-5.14.3/cpan/build/Data-Dump-1.21-RNaffJ/blib/lib
    /home/sts/cpansmoke/perl-5.14.3/cpan/build/DBD-mysql-4.022-p_PkXu/blib/arch
    /home/sts/cpansmoke/perl-5.14.3/cpan/build/DBD-mysql-4.022-p_PkXu/blib/lib
    /home/sts/cpansmoke/perl-5.14.3/cpan/build/DBI-1.622-0L8hmr/blib/arch
    /home/sts/cpansmoke/perl-5.14.3/cpan/build/DBI-1.622-0L8hmr/blib/lib
    /home/sts/cpansmoke/perl-5.14.3/lib/site_perl/5.14.3/i386-netbsd-thread-multi
    /home/sts/cpansmoke/perl-5.14.3/lib/site_perl/5.14.3
    /home/sts/cpansmoke/perl-5.14.3/lib/5.14.3/i386-netbsd-thread-multi
    /home/sts/cpansmoke/perl-5.14.3/lib/5.14.3
    .