namespace-autoclean v0.31 Perl 5 v5.36.1 x86_64-linux-thread-multi

Status
Pass
From
Andreas J. König (ANDK)
Dist
namespace-autoclean v0.31
Platform
Perl 5 v5.36.1 x86_64-linux-thread-multi
Date
2025-09-05 11:45:37
ID
d70366e0-8a4d-11f0-931c-a6b08968dbd1
This distribution has been tested as part of the CPAN Testers
project, supporting the Perl programming language.  See
http://wiki.cpantesters.org/ for more information or email
questions to cpan-testers-discuss@perl.org


--
Dear Karen Etheridge,

This is a computer-generated report for namespace-autoclean-0.31
on perl 5.36.1, created by CPAN-Reporter-1.2018.

Thank you for uploading your work to CPAN.  Congratulations!
All tests were successful.

Sections of this report:

    * Tester comments
    * Program output
    * Prerequisites
    * Environment and other context

------------------------------
TESTER COMMENTS
------------------------------

Additional comments from tester:

this report is from an automated smoke testing program
and was not reviewed by a human for accuracy

------------------------------
PROGRAM OUTPUT
------------------------------

Output from '/usr/bin/make test':

PERL_DL_NONLAZY=1 "/home/sand/src/perl/repoperls/installed-perls/host/k93msid/v5.36.1/1e0c/bin/perl" "-MExtUtils::Command::MM" "-MTest::Harness" "-e" "undef *Test::Harness::Switches; test_harness(0, 'blib/lib', 'blib/arch')" t/*.t
# 
# Versions for all modules listed in MYMETA.json (including optional ones):
# 
# === Configure Requires ===
# 
#     Module               Want     Have
#     ------------------- ----- --------
#     ExtUtils::MakeMaker   any  7.77_02
#     perl                5.006 5.036001
# 
# === Build Requires ===
# 
#     Module              Want    Have
#     ------------------- ---- -------
#     ExtUtils::MakeMaker  any 7.77_02
# 
# === Test Requires ===
# 
#     Module               Want     Have
#     ------------------- ----- --------
#     Carp                  any     1.52
#     ExtUtils::MakeMaker   any  7.77_02
#     File::Basename        any     2.85
#     File::Spec            any     3.84
#     FindBin               any     1.53
#     Scalar::Util          any     1.70
#     Test::More           0.88 1.302209
#     Test::Needs           any 0.002010
#     constant              any     1.33
#     overload              any     1.35
#     perl                5.006 5.036001
# 
# === Test Recommends ===
# 
#     Module         Want     Have
#     ---------- -------- --------
#     CPAN::Meta 2.120900 2.150010
# 
# === Runtime Requires ===
# 
#     Module                Want     Have
#     -------------------- ----- --------
#     B                      any     1.83
#     B::Hooks::EndOfScope  0.12     0.26
#     List::Util             any     1.70
#     namespace::clean      0.20     0.27
#     perl                 5.006 5.036001
#     strict                 any     1.12
#     warnings               any     1.58
# 
# === Other Modules ===
# 
#     Module                            Have
#     ----------------------------- --------
#     Class::MOP                      2.4000
#     Encode                            3.21
#     Exporter                          5.78
#     File::Temp                      0.2311
#     JSON::PP                          4.16
#     Module::Runtime                  0.016
#     Moo                           2.005005
#     Moose                           2.4000
#     MooseX::Role::Parameterized       1.11
#     MooseX::Role::WithOverloading  missing
#     Mouse                          v2.5.10
#     Mouse::PurePerl                  undef
#     Pod::Coverage                     0.23
#     Role::Tiny                    2.002004
#     Sub::Exporter                    0.989
#     Sub::Install                     0.929
#     Sub::Name                         0.28
#     Sub::Util                         1.70
#     Test::Fatal                      0.017
#     YAML                              1.31
#     autodie                           2.37
#     parent                           0.242
# 
t/00-report-prereqs.t .............. ok
t/also.t ........................... ok
t/basic.t .......................... ok
t/broken_meta.t .................... ok
t/cleanee.t ........................ ok
t/constant.t ....................... ok
t/except.t ......................... ok
t/matchclean.t ..................... ok
t/moo-with-moose.t ................. ok
t/moo.t ............................ ok
t/moose-with-native-overloading.t .. ok
t/moose-withoverloading.t .......... skipped: Need MooseX::Role::WithOverloading
t/moose.t .......................... ok
t/mouse-pp.t ....................... ok
t/mouse.t .......................... ok
t/overload.t ....................... ok
t/sub-install.t .................... ok
t/sub-name.t ....................... ok
All tests successful.

Test Summary Report
-------------------
t/moo.t                          (Wstat: 0 Tests: 30 Failed: 0)
  TODO passed:   11
Files=18, Tests=217, 10 wallclock secs ( 0.10 usr  0.06 sys +  2.92 cusr  1.01 csys =  4.09 CPU)
Result: PASS

------------------------------
PREREQUISITES
------------------------------

Prerequisite modules loaded:

requires:

    Module               Need     Have    
    -------------------- -------- --------
    B                    0        1.83    
    B::Hooks::EndOfScope 0.12     0.26    
    List::Util           0        1.70    
    namespace::clean     0.20     0.27    
    perl                 5.006    5.036001
    strict               0        1.12    
    warnings             0        1.58    

build_requires:

    Module               Need     Have    
    -------------------- -------- --------
    Carp                 0        1.52    
    constant             0        1.33    
    ExtUtils::MakeMaker  0        7.77_02 
    File::Basename       0        2.85    
    File::Spec           0        3.84    
    FindBin              0        1.53    
    overload             0        1.35    
    Scalar::Util         0        1.70    
    Test::More           0.88     1.302209
    Test::Needs          0        0.002010

configure_requires:

    Module               Need     Have    
    -------------------- -------- --------
    ExtUtils::MakeMaker  0        7.77_02 
    perl                 5.006    5.036001

opt_build_requires:

    Module               Need     Have    
    -------------------- -------- --------
    CPAN::Meta           2.120900 2.150010


------------------------------
ENVIRONMENT AND OTHER CONTEXT
------------------------------

Environment variables:

    AUTOMATED_TESTING = 1
    LANG = en_US.UTF-8
    LANGUAGE = en_US:en
    PATH = /home/sand/bin:/usr/local/bin:/usr/bin:/bin:/usr/games:/usr/local/perl/bin:/usr/X11/bin:/sbin:/usr/sbin
    PERL5LIB = 
    PERL5OPT = 
    PERL5_CPANPLUS_IS_RUNNING = 1565465
    PERL5_CPAN_IS_RUNNING = 1565465
    PERL_CANARY_STABILITY_NOPROMPT = 1
    PERL_MM_USE_DEFAULT = 1
    PERL_USE_UNSAFE_INC = 1
    SHELL = /usr/bin/zsh
    TERM = screen

Perl special variables (and OS-specific diagnostics, for MSWin32):

    $^X = /home/sand/src/perl/repoperls/installed-perls/host/k93msid/v5.36.1/1e0c/bin/perl
    $UID/$EUID = 1005 / 1005
    $GID = 1005 1005
    $EGID = 1005 1005

Perl module toolchain versions installed:

    Module              Have    
    ------------------- --------
    CPAN                2.34    
    CPAN::Meta          2.150010
    Cwd                 3.84    
    ExtUtils::CBuilder  0.280236
    ExtUtils::Command   7.77_02 
    ExtUtils::Install   2.20    
    ExtUtils::MakeMaker 7.77_02 
    ExtUtils::Manifest  1.73    
    ExtUtils::ParseXS   3.51    
    File::Spec          3.84    
    JSON                4.10    
    JSON::PP            4.16    
    Module::Build       0.4234  
    Module::Signature   0.93    
    Parse::CPAN::Meta   2.150010
    Test::Harness       3.44    
    Test::More          1.302209
    YAML                1.31    
    YAML::Syck          1.34    
    version             0.9930  


--

Summary of my perl5 (revision 5 version 36 subversion 1) configuration:
  Commit id: 42e3343be621a2b9cdb98befd92de43cc0b7ef3e
  Platform:
    osname=linux
    osvers=6.1.0-7-amd64
    archname=x86_64-linux-thread-multi
    uname='linux k93msid 6.1.0-7-amd64 #1 smp preempt_dynamic debian 6.1.20-1 (2023-03-19) x86_64 gnulinux '
    config_args='-Dprefix=/home/sand/src/perl/repoperls/installed-perls/host/k93msid/v5.36.1/1e0c -Dmyhostname=k93msid -Dinstallusrbinperl=n -Uversiononly -Dusedevel -des -Ui_db -Dlibswanted=cl pthread socket inet nsl gdbm dbm malloc dl ld sun m crypt sec util c cposix posix ucb BSD gdbm_compat -Duseithreads -Uuselongdouble -DEBUGGING=-g'
    hint=recommended
    useposix=true
    d_sigaction=define
    useithreads=define
    usemultiplicity=define
    use64bitint=define
    use64bitall=define
    uselongdouble=undef
    usemymalloc=n
    default_inc_excludes_dot=define
  Compiler:
    cc='cc'
    ccflags ='-D_REENTRANT -D_GNU_SOURCE -fwrapv -fno-strict-aliasing -pipe -fstack-protector-strong -I/usr/local/include -D_LARGEFILE_SOURCE -D_FILE_OFFSET_BITS=64 -D_FORTIFY_SOURCE=2'
    optimize='-O2 -g'
    cppflags='-D_REENTRANT -D_GNU_SOURCE -fwrapv -fno-strict-aliasing -pipe -fstack-protector-strong -I/usr/local/include'
    ccversion=''
    gccversion='12.2.0'
    gccosandvers=''
    intsize=4
    longsize=8
    ptrsize=8
    doublesize=8
    byteorder=12345678
    doublekind=3
    d_longlong=define
    longlongsize=8
    d_longdbl=define
    longdblsize=16
    longdblkind=3
    ivtype='long'
    ivsize=8
    nvtype='double'
    nvsize=8
    Off_t='off_t'
    lseeksize=8
    alignbytes=8
    prototype=define
  Linker and Libraries:
    ld='cc'
    ldflags =' -fstack-protector-strong -L/usr/local/lib'
    libpth=/usr/local/lib /usr/lib/x86_64-linux-gnu /usr/lib /usr/lib64
    libs=-lpthread -lnsl -ldl -lm -lcrypt -lutil -lc
    perllibs=-lpthread -lnsl -ldl -lm -lcrypt -lutil -lc
    libc=/lib/x86_64-linux-gnu/libc.so.6
    so=so
    useshrplib=false
    libperl=libperl.a
    gnulibc_version='2.36'
  Dynamic Linking:
    dlsrc=dl_dlopen.xs
    dlext=so
    d_dlsymun=undef
    ccdlflags='-Wl,-E'
    cccdlflags='-fPIC'
    lddlflags='-shared -O2 -g -L/usr/local/lib -fstack-protector-strong'


Characteristics of this binary (from libperl): 
  Compile-time options:
    HAS_TIMES
    MULTIPLICITY
    PERLIO_LAYERS
    PERL_COPY_ON_WRITE
    PERL_DONT_CREATE_GVSV
    PERL_MALLOC_WRAP
    PERL_OP_PARENT
    PERL_PRESERVE_IVUV
    PERL_USE_DEVEL
    USE_64_BIT_ALL
    USE_64_BIT_INT
    USE_ITHREADS
    USE_LARGE_FILES
    USE_LOCALE
    USE_LOCALE_COLLATE
    USE_LOCALE_CTYPE
    USE_LOCALE_NUMERIC
    USE_LOCALE_TIME
    USE_PERLIO
    USE_PERL_ATOF
    USE_REENTRANT_API
    USE_THREAD_SAFE_LOCALE
  Built under linux
  Compiled at Apr 23 2023 22:57:37
  %ENV:
    PERL5LIB=""
    PERL5OPT=""
    PERL5_CPANPLUS_IS_RUNNING="1565465"
    PERL5_CPAN_IS_RUNNING="1565465"
    PERL_CANARY_STABILITY_NOPROMPT="1"
    PERL_MM_USE_DEFAULT="1"
    PERL_USE_UNSAFE_INC="1"
  @INC:
    /home/sand/src/perl/repoperls/installed-perls/host/k93msid/v5.36.1/1e0c/lib/site_perl/5.36.1/x86_64-linux-thread-multi
    /home/sand/src/perl/repoperls/installed-perls/host/k93msid/v5.36.1/1e0c/lib/site_perl/5.36.1
    /home/sand/src/perl/repoperls/installed-perls/host/k93msid/v5.36.1/1e0c/lib/5.36.1/x86_64-linux-thread-multi
    /home/sand/src/perl/repoperls/installed-perls/host/k93msid/v5.36.1/1e0c/lib/5.36.1
    .