CatalystX-OAuth2 v0.001009 Perl 5 v5.12.5 x86_64-linux

Status
Pass
From
Slaven Rezić (SREZIC)
Dist
CatalystX-OAuth2 v0.001009
Platform
Perl 5 v5.12.5 x86_64-linux
Date
2017-12-13 01:49:21
ID
d6eb7f66-dfa7-11e7-8971-805e6d049d6b
This distribution has been tested as part of the CPAN Testers
project, supporting the Perl programming language.  See
http://wiki.cpantesters.org/ for more information or email
questions to cpan-testers-discuss@perl.org


--
Dear John Napiorkowski,

This is a computer-generated report for CatalystX-OAuth2-0.001009
on perl 5.12.5, created by CPAN-Reporter-1.2018.

Thank you for uploading your work to CPAN.  Congratulations!
All tests were successful.

Sections of this report:

    * Tester comments
    * Program output
    * Prerequisites
    * Environment and other context

------------------------------
TESTER COMMENTS
------------------------------

Additional comments from tester:

none provided

------------------------------
PROGRAM OUTPUT
------------------------------

Output from '/usr/bin/make test':

PERL_DL_NONLAZY=1 "/bbbike/perl-5.12.5/bin/perl5.12.5" "-MExtUtils::Command::MM" "-MTest::Harness" "-e" "undef *Test::Harness::Switches; test_harness(0, 'blib/lib', 'blib/arch')" t/*.t t/integration/*.t t/unit/*.t
t/00-compile.t ........................................ ok
t/author-pod-syntax.t ................................. skipped: these tests are for testing by the author
t/author-synopsis.t ................................... skipped: these tests are for testing by the author
t/integration/100-client-access-protected-resource.t .. ok
[error] Attribute (response_type) is required at /opt/perl-5.12.5/lib/site_perl/5.12.5/x86_64-linux/Moose/Object.pm line 24
	Moose::Object::new('CatalystX::OAuth2::Request::RequestAuth') called at /tmpfs/.cpan-build-cpansand/2017121300/CatalystX-OAuth2-0.001009-16/blib/lib/Catalyst/ActionRole/OAuth2/RequestAuth.pm line 21
	Catalyst::ActionRole::OAuth2::RequestAuth::try {...}  at /opt/perl-5.12.5/lib/site_perl/5.12.5/Try/Tiny.pm line 103
	eval {...} at /opt/perl-5.12.5/lib/site_perl/5.12.5/Try/Tiny.pm line 94
	Try::Tiny::try('CODE(0x4f83588)', 'Try::Tiny::Catch=REF(0x4f7a7e0)') called at /tmpfs/.cpan-build-cpansand/2017121300/CatalystX-OAuth2-0.001009-16/blib/lib/Catalyst/ActionRole/OAuth2/RequestAuth.pm line 31
	Catalyst::ActionRole::OAuth2::RequestAuth::build_oauth2_request('Moose::Meta::Class::__ANON__::SERIAL::11=HASH(0x4cd22d0)', 'AuthServer::Controller::OAuth2::Provider=HASH(0x4bac190)', 'AuthServer=HASH(0x4f0bf28)') called at /tmpfs/.cpan-build-cpansand/2017121300/CatalystX-OAuth2-0.001009-16/blib/lib/CatalystX/OAuth2/ActionRole/RequestInjector.pm line 17
	Class::MOP::Class:::before('Moose::Meta::Class::__ANON__::SERIAL::11=HASH(0x4cd22d0)', 'AuthServer::Controller::OAuth2::Provider=HASH(0x4bac190)', 'AuthServer=HASH(0x4f0bf28)') called at /opt/perl-5.12.5/lib/site_perl/5.12.5/x86_64-linux/Class/MOP/Method/Wrapped.pm line 27
	Moose::Meta::Class::__ANON__::SERIAL::11::_wrapped_execute('Moose::Meta::Class::__ANON__::SERIAL::11=HASH(0x4cd22d0)', 'AuthServer::Controller::OAuth2::Provider=HASH(0x4bac190)', 'AuthServer=HASH(0x4f0bf28)') called at /opt/perl-5.12.5/lib/site_perl/5.12.5/x86_64-linux/Class/MOP/Method/Wrapped.pm line 95
	Moose::Meta::Class::__ANON__::SERIAL::11::execute('Moose::Meta::Class::__ANON__::SERIAL::11=HASH(0x4cd22d0)', 'AuthServer::Controller::OAuth2::Provider=HASH(0x4bac190)', 'AuthServer=HASH(0x4f0bf28)') called at /opt/perl-5.12.5/lib/site_perl/5.12.5/Catalyst.pm line 2052
	eval {...} at /opt/perl-5.12.5/lib/site_perl/5.12.5/Catalyst.pm line 2052
	Catalyst::execute('AuthServer=HASH(0x4f0bf28)', 'AuthServer::Controller::OAuth2::Provider', 'Moose::Meta::Class::__ANON__::SERIAL::11=HASH(0x4cd22d0)') called at /opt/perl-5.12.5/lib/site_perl/5.12.5/Catalyst/Action.pm line 353
	Catalyst::Action::dispatch('Moose::Meta::Class::__ANON__::SERIAL::11=HASH(0x4cd22d0)', 'AuthServer=HASH(0x4f0bf28)') called at /opt/perl-5.12.5/lib/site_perl/5.12.5/Catalyst/ActionChain.pm line 46
	Catalyst::ActionChain::dispatch('Catalyst::ActionChain=HASH(0x4f7e3d0)', 'AuthServer=HASH(0x4f0bf28)') called at /opt/perl-5.12.5/lib/site_perl/5.12.5/Catalyst/Controller.pm line 171
	Catalyst::Controller::_ACTION('AuthServer::Controller::OAuth2::Provider=HASH(0x4bac190)', 'AuthServer=HASH(0x4f0bf28)') called at /opt/perl-5.12.5/lib/site_perl/5.12.5/Catalyst/Action.pm line 358
	Catalyst::Action::execute('Catalyst::Action=HASH(0x4c67da0)', 'AuthServer::Controller::OAuth2::Provider=HASH(0x4bac190)', 'AuthServer=HASH(0x4f0bf28)') called at /opt/perl-5.12.5/lib/site_perl/5.12.5/Catalyst.pm line 2052
	eval {...} at /opt/perl-5.12.5/lib/site_perl/5.12.5/Catalyst.pm line 2052
	Catalyst::execute('AuthServer=HASH(0x4f0bf28)', 'AuthServer::Controller::OAuth2::Provider', 'Catalyst::Action=HASH(0x4c67da0)') called at /opt/perl-5.12.5/lib/site_perl/5.12.5/Catalyst/Action.pm line 353
	Catalyst::Action::dispatch('Catalyst::Action=HASH(0x4c67da0)', 'AuthServer=HASH(0x4f0bf28)') called at /opt/perl-5.12.5/lib/site_perl/5.12.5/Catalyst/Dispatcher.pm line 262
	Catalyst::Dispatcher::_do_forward('Catalyst::Dispatcher=HASH(0x32edcf0)', 'forward', 'AuthServer=HASH(0x4f0bf28)', '_ACTION') called at /opt/perl-5.12.5/lib/site_perl/5.12.5/Catalyst/Dispatcher.pm line 242
	Catalyst::Dispatcher::forward('Catalyst::Dispatcher=HASH(0x32edcf0)', 'AuthServer=HASH(0x4f0bf28)', '_ACTION') called at /opt/perl-5.12.5/lib/site_perl/5.12.5/Catalyst.pm line 477
	Catalyst::forward('AuthServer=HASH(0x4f0bf28)', '_ACTION') called at /opt/perl-5.12.5/lib/site_perl/5.12.5/Catalyst/Controller.pm line 135
	Catalyst::Controller::_DISPATCH('AuthServer::Controller::OAuth2::Provider=HASH(0x4bac190)', 'AuthServer=HASH(0x4f0bf28)') called at /opt/perl-5.12.5/lib/site_perl/5.12.5/Catalyst/Action.pm line 358
	Catalyst::Action::execute('Catalyst::Action=HASH(0x4c40090)', 'AuthServer::Controller::OAuth2::Provider=HASH(0x4bac190)', 'AuthServer=HASH(0x4f0bf28)') called at /opt/perl-5.12.5/lib/site_perl/5.12.5/Catalyst.pm line 2052
	eval {...} at /opt/perl-5.12.5/lib/site_perl/5.12.5/Catalyst.pm line 2052
	Catalyst::execute('AuthServer=HASH(0x4f0bf28)', 'AuthServer::Controller::OAuth2::Provider', 'Catalyst::Action=HASH(0x4c40090)') called at /opt/perl-5.12.5/lib/site_perl/5.12.5/Catalyst/Action.pm line 353
	Catalyst::Action::dispatch('Catalyst::Action=HASH(0x4c40090)', 'AuthServer=HASH(0x4f0bf28)') called at /opt/perl-5.12.5/lib/site_perl/5.12.5/Catalyst/Dispatcher.pm line 262
	Catalyst::Dispatcher::_do_forward('Catalyst::Dispatcher=HASH(0x32edcf0)', 'forward', 'AuthServer=HASH(0x4f0bf28)', '/oauth2/provider/_DISPATCH') called at /opt/perl-5.12.5/lib/site_perl/5.12.5/Catalyst/Dispatcher.pm line 242
	Catalyst::Dispatcher::forward('Catalyst::Dispatcher=HASH(0x32edcf0)', 'AuthServer=HASH(0x4f0bf28)', '/oauth2/provider/_DISPATCH') called at /opt/perl-5.12.5/lib/site_perl/5.12.5/Catalyst.pm line 477
	Catalyst::forward('AuthServer=HASH(0x4f0bf28)', '/oauth2/provider/_DISPATCH') called at /opt/perl-5.12.5/lib/site_perl/5.12.5/Catalyst/Dispatcher.pm line 107
	Catalyst::Dispatcher::dispatch('Catalyst::Dispatcher=HASH(0x32edcf0)', 'AuthServer=HASH(0x4f0bf28)') called at /opt/perl-5.12.5/lib/site_perl/5.12.5/Catalyst.pm line 1998
	Catalyst::dispatch('AuthServer=HASH(0x4f0bf28)') called at /opt/perl-5.12.5/lib/site_perl/5.12.5/x86_64-linux/Class/MOP/Method/Wrapped.pm line 50
	AuthServer::_wrapped_dispatch('AuthServer=HASH(0x4f0bf28)') called at /opt/perl-5.12.5/lib/site_perl/5.12.5/x86_64-linux/Class/MOP/Method/Wrapped.pm line 95
	AuthServer::dispatch('AuthServer=HASH(0x4f0bf28)') called at /opt/perl-5.12.5/lib/site_perl/5.12.5/Catalyst.pm line 2393
	Catalyst::try {...}  at /opt/perl-5.12.5/lib/site_perl/5.12.5/Try/Tiny.pm line 103
	eval {...} at /opt/perl-5.12.5/lib/site_perl/5.12.5/Try/Tiny.pm line 94
	Try::Tiny::try('CODE(0x4f30148)', 'Try::Tiny::Catch=REF(0x4f2fff8)') called at /opt/perl-5.12.5/lib/site_perl/5.12.5/Catalyst.pm line 2402
	Catalyst::handle_request('AuthServer', 'env', 'HASH(0x7fe54b0adbd8)', 'response_cb', 'CODE(0x4f300d0)') called at /opt/perl-5.12.5/lib/site_perl/5.12.5/Catalyst/Engine.pm line 800
	Catalyst::Engine::__ANON__('CODE(0x4f300d0)') called at /opt/perl-5.12.5/lib/site_perl/5.12.5/Plack/Middleware/HTTPExceptions.pm line 32
	Plack::Middleware::HTTPExceptions::try {...}  at /opt/perl-5.12.5/lib/site_perl/5.12.5/Try/Tiny.pm line 103
	eval {...} at /opt/perl-5.12.5/lib/site_perl/5.12.5/Try/Tiny.pm line 94
	Try::Tiny::try('CODE(0x4f2fda0)', 'Try::Tiny::Catch=REF(0x7fe54b0acd08)') called at /opt/perl-5.12.5/lib/site_perl/5.12.5/Plack/Middleware/HTTPExceptions.pm line 41
	Plack::Middleware::HTTPExceptions::__ANON__('CODE(0x4f36328)') called at /opt/perl-5.12.5/lib/site_perl/5.12.5/Plack/Util.pm line 339
	Plack::Util::__ANON__('CODE(0x4f361d8)') called at /opt/perl-5.12.5/lib/site_perl/5.12.5/Plack/Util.pm line 339
	Plack::Util::__ANON__('CODE(0x4f36088)') called at /opt/perl-5.12.5/lib/site_perl/5.12.5/Plack/Util.pm line 339
	Plack::Util::__ANON__('CODE(0x4f35fe0)') called at /opt/perl-5.12.5/lib/site_perl/5.12.5/HTTP/Message/PSGI.pm line 100
	HTTP::Message::PSGI::res_from_psgi('CODE(0x4c54810)') called at /opt/perl-5.12.5/lib/site_perl/5.12.5/HTTP/Message/PSGI.pm line 156
	HTTP::Response::from_psgi('HTTP::Response', 'CODE(0x4c54810)') called at /opt/perl-5.12.5/lib/site_perl/5.12.5/Plack/Test/MockHTTP.pm line 24
	Plack::Test::MockHTTP::try {...}  at /opt/perl-5.12.5/lib/site_perl/5.12.5/Try/Tiny.pm line 98
	eval {...} at /opt/perl-5.12.5/lib/site_perl/5.12.5/Try/Tiny.pm line 94
	Try::Tiny::try('CODE(0x4d18558)', 'Try::Tiny::Catch=REF(0x4f18210)') called at /opt/perl-5.12.5/lib/site_perl/5.12.5/Plack/Test/MockHTTP.pm line 27
	Plack::Test::MockHTTP::request('Plack::Test::MockHTTP=HASH(0x4f2caa0)', 'HTTP::Request=HASH(0x4f2c518)') called at /opt/perl-5.12.5/lib/site_perl/5.12.5/Plack/Test.pm line 38
	Plack::Test::__ANON__('HTTP::Request=HASH(0x4f2c518)') called at /opt/perl-5.12.5/lib/site_perl/5.12.5/Catalyst/Test.pm line 281
	Catalyst::Test::__ANON__('CODE(0x4f2c938)') called at /opt/perl-5.12.5/lib/site_perl/5.12.5/Plack/Test.pm line 38
	Plack::Test::test_psgi('app', 'CODE(0x4f224f8)', 'mangle_response', 'CODE(0x4edcb18)', 'app', 'CODE(0x4f2c650)', 'client', 'CODE(0x4f2c728)') called at /opt/perl-5.12.5/lib/site_perl/5.12.5/Catalyst/Test.pm line 284
	Catalyst::Test::_request('HASH(0x4f22438)', '/request') called at /opt/perl-5.12.5/lib/site_perl/5.12.5/Catalyst/Test.pm line 327
	Catalyst::Test::_local_request('AuthServer', '/request') called at /opt/perl-5.12.5/lib/site_perl/5.12.5/Catalyst/Test.pm line 32
	Catalyst::Test::__ANON__('/request') called at /opt/perl-5.12.5/lib/site_perl/5.12.5/Catalyst/Test.pm line 72
	Catalyst::Test::__ANON__('/request') called at t/unit/100-controller-role-provider.t line 30
bless( {
  "Plugin::ConfigLoader" => {},
  action => bless( {
    args_constraints => [],
    attributes => {
      Args => [
        0
      ],
      Chained => [
        "/oauth2/provider/base"
      ],
      Does => [
        "Catalyst::ActionRole::OAuth2::RequestAuth"
      ],
      PathPart => [
        bless( do{\(my $o = "request")}, 'URI::_generic' )
      ]
    },
    chain => [
      bless( {
        attributes => {
          CaptureArgs => [
            0
          ],
          Chained => [
            "/"
          ],
          PathPart => [
            bless( do{\(my $o = "")}, 'URI::_generic' )
          ]
        },
        class => "AuthServer::Controller::OAuth2::Provider",
        code => sub {
            package AuthServer::Controller::OAuth2::Provider;
            use warnings;
            use strict 'refs';
            
        },
        name => "base",
        namespace => "oauth2/provider",
        number_of_captures => 0,
        reverse => "oauth2/provider/base"
      }, 'Catalyst::Action' ),
      bless( {
        args_constraints => $VAR1->{action}{args_constraints},
        attributes => $VAR1->{action}{attributes},
        class => "AuthServer::Controller::OAuth2::Provider",
        code => sub {
            package AuthServer::Controller::OAuth2::Provider;
            use warnings;
            use strict 'refs';
            
        },
        enable_client_secret => 0,
        name => "request",
        namespace => "oauth2/provider",
        number_of_args => 0,
        reverse => "oauth2/provider/request"
      }, 'Moose::Meta::Class::__ANON__::SERIAL::11' )
    ],
    class => "AuthServer::Controller::OAuth2::Provider",
    code => $VAR1->{action}{chain}[1]{code},
    enable_client_secret => 0,
    name => "request",
    namespace => "oauth2/provider",
    number_of_args => 0,
    reverse => "oauth2/provider/request"
  }, 'Catalyst::ActionChain' ),
  counter => {},
  home => "/tmpfs/.cpan-build-cpansand/2017121300/CatalystX-OAuth2-0.001009-16/t/lib/AuthServer",
  namespace => "oauth2/provider",
  request => bless( {
    _body => 0,
    _log => bless( {
      _body => undef,
      _psgi_errors => *::STDERR,
      abort => undef,
      autoflush => 1,
      level => 31
    }, 'Catalyst::Log' ),
    _path => "request",
    _read_length => 0,
    _read_position => 0,
    _use_hash_multivalue => 0,
    action => "/oauth2/provider/request",
    address => "127.0.0.1",
    arguments => [],
    base => bless( do{\(my $o = "http://localhost/")}, 'URI::http' ),
    body_parameters => {},
    captures => [],
    cookies => {},
    data_handlers => {
      "application/json" => sub {
          package Catalyst;
          use warnings;
          use strict 'refs';
          my($fh, $req) = @_;
          my $parser = Class::Load::load_first_existing_class('JSON::MaybeXS', 'JSON');
          my $slurped;
          return eval {
              do {
                  local $/;
                  $slurped = $fh->getline;
                  $parser->can('decode_json')->($slurped)
              }
          } || 'Catalyst::Exception'->throw(sprintf(q[Error Parsing POST '%s', Error: %s], defined $slurped ? $slurped : 'undef', $@));
      },
      "application/x-www-form-urlencoded" => sub {
          package Catalyst;
          use warnings;
          use strict 'refs';
          my($fh, $req) = @_;
          my $params = $req->_use_hash_multivalue ? $req->body_parameters->mixed : $req->body_parameters;
          Class::Load::load_first_existing_class('CGI::Struct::XS', 'CGI::Struct')->can('build_cgi_struct')->($params);
      }
    },
    env => {
      CONTENT_LENGTH => 0,
      "Catalyst.Stash.v2" => sub {
          package Catalyst::Middleware::Stash;
          use warnings;
          use strict 'refs';
          if (@_) {
              my $new_stash = @_ > 1 ? {@_} : $_[0];
              croak('stash takes a hash or hashref') unless ref $new_stash;
              foreach my $key (keys %$new_stash) {
                  $$stash{$key} = $$new_stash{$key};
              }
          }
          $stash;
      },
      HTTP_HOST => "localhost",
      PATH_INFO => "/request",
      QUERY_STRING => "",
      REMOTE_ADDR => "127.0.0.1",
      REMOTE_HOST => "localhost",
      REMOTE_PORT => 58175,
      REQUEST_METHOD => "GET",
      REQUEST_URI => "/request",
      SCRIPT_NAME => "",
      SERVER_NAME => "localhost",
      SERVER_PORT => 80,
      SERVER_PROTOCOL => "HTTP/1.1",
      "plack.original_request_method" => "GET",
      "psgi.errors" => *::STDERR,
      "psgi.input" => \*{"HTTP::Message::PSGI::\$input"},
      "psgi.multiprocess" => "",
      "psgi.multithread" => "",
      "psgi.nonblocking" => "",
      "psgi.run_once" => 1,
      "psgi.streaming" => 1,
      "psgi.url_scheme" => "http",
      "psgi.version" => [
        1,
        1
      ]
    },
    headers => bless( {
      "::std_case" => {
        cookie => "Cookie"
      },
      "content-length" => 0,
      host => "localhost"
    }, 'HTTP::Headers' ),
    hostname => "localhost",
    match => "/oauth2/provider/request",
    method => "GET",
    parameters => {},
    protocol => "HTTP/1.1",
    query_keywords => "",
    query_parameters => {},
    remote_user => undef,
    secure => 0,
    uploads => {},
    uri => bless( do{\(my $o = "http://localhost/request")}, 'URI::http' )
  }, 'Catalyst::Request' ),
  response => bless( {
    _context => $VAR1,
    _log => $VAR1->{request}{_log},
    body => "warning: response_type/client_id invalid or missing",
    cookies => {},
    encodable_content_type => qr/text|xml$|javascript$/,
    encoding => bless( {
      Name => "utf-8-strict",
      strict_utf8 => 1
    }, 'Encode::utf8' ),
    finalized_headers => 1,
    headers => bless( {}, 'HTTP::Headers' ),
    status => 200
  }, 'Catalyst::Response' ),
  root => bless( {
    dirs => [
      "",
      "tmpfs",
      ".cpan-build-cpansand",
      "2017121300",
      "CatalystX-OAuth2-0.001009-16",
      "t",
      "lib",
      "AuthServer",
      "root"
    ],
    file_spec_class => undef,
    volume => ""
  }, 'Path::Class::Dir' ),
  stack => [],
  stash => {},
  state => 1,
  stats => bless( {
    enable => 0,
    tree => bless( {
      _children => [],
      _depth => -1,
      _height => 1,
      _node => {
        t => [
          "1513129731",
          409932
        ]
      },
      _parent => "root",
      _uid => "0x4f30b98",
      _width => 1
    }, 'Tree::Simple' )
  }, 'Catalyst::Stats' )
}, 'AuthServer' )
t/unit/100-controller-role-provider.t ................. ok
[error] Attribute (response_type) is required at /opt/perl-5.12.5/lib/site_perl/5.12.5/x86_64-linux/Moose/Object.pm line 24
	Moose::Object::new('CatalystX::OAuth2::Request::RequestAuth') called at /tmpfs/.cpan-build-cpansand/2017121300/CatalystX-OAuth2-0.001009-16/blib/lib/Catalyst/ActionRole/OAuth2/RequestAuth.pm line 21
	Catalyst::ActionRole::OAuth2::RequestAuth::try {...}  at /opt/perl-5.12.5/lib/site_perl/5.12.5/Try/Tiny.pm line 103
	eval {...} at /opt/perl-5.12.5/lib/site_perl/5.12.5/Try/Tiny.pm line 94
	Try::Tiny::try('CODE(0x5f00940)', 'Try::Tiny::Catch=REF(0x5ef68c0)') called at /tmpfs/.cpan-build-cpansand/2017121300/CatalystX-OAuth2-0.001009-16/blib/lib/Catalyst/ActionRole/OAuth2/RequestAuth.pm line 31
	Catalyst::ActionRole::OAuth2::RequestAuth::build_oauth2_request('Moose::Meta::Class::__ANON__::SERIAL::11=HASH(0x5c97a48)', 'AuthServer::Controller::OAuth2::Provider=HASH(0x5b734c0)', 'AuthServer=HASH(0x23f4440)') called at /tmpfs/.cpan-build-cpansand/2017121300/CatalystX-OAuth2-0.001009-16/blib/lib/CatalystX/OAuth2/ActionRole/RequestInjector.pm line 17
	Class::MOP::Class:::before('Moose::Meta::Class::__ANON__::SERIAL::11=HASH(0x5c97a48)', 'AuthServer::Controller::OAuth2::Provider=HASH(0x5b734c0)', 'AuthServer=HASH(0x23f4440)') called at /opt/perl-5.12.5/lib/site_perl/5.12.5/x86_64-linux/Class/MOP/Method/Wrapped.pm line 27
	Moose::Meta::Class::__ANON__::SERIAL::11::_wrapped_execute('Moose::Meta::Class::__ANON__::SERIAL::11=HASH(0x5c97a48)', 'AuthServer::Controller::OAuth2::Provider=HASH(0x5b734c0)', 'AuthServer=HASH(0x23f4440)') called at /opt/perl-5.12.5/lib/site_perl/5.12.5/x86_64-linux/Class/MOP/Method/Wrapped.pm line 95
	Moose::Meta::Class::__ANON__::SERIAL::11::execute('Moose::Meta::Class::__ANON__::SERIAL::11=HASH(0x5c97a48)', 'AuthServer::Controller::OAuth2::Provider=HASH(0x5b734c0)', 'AuthServer=HASH(0x23f4440)') called at /opt/perl-5.12.5/lib/site_perl/5.12.5/Catalyst.pm line 2052
	eval {...} at /opt/perl-5.12.5/lib/site_perl/5.12.5/Catalyst.pm line 2052
	Catalyst::execute('AuthServer=HASH(0x23f4440)', 'AuthServer::Controller::OAuth2::Provider', 'Moose::Meta::Class::__ANON__::SERIAL::11=HASH(0x5c97a48)') called at /opt/perl-5.12.5/lib/site_perl/5.12.5/Catalyst/Action.pm line 353
	Catalyst::Action::dispatch('Moose::Meta::Class::__ANON__::SERIAL::11=HASH(0x5c97a48)', 'AuthServer=HASH(0x23f4440)') called at /opt/perl-5.12.5/lib/site_perl/5.12.5/Catalyst/ActionChain.pm line 46
	Catalyst::ActionChain::dispatch('Catalyst::ActionChain=HASH(0x5efbe08)', 'AuthServer=HASH(0x23f4440)') called at /opt/perl-5.12.5/lib/site_perl/5.12.5/Catalyst/Controller.pm line 171
	Catalyst::Controller::_ACTION('AuthServer::Controller::OAuth2::Provider=HASH(0x5b734c0)', 'AuthServer=HASH(0x23f4440)') called at /opt/perl-5.12.5/lib/site_perl/5.12.5/Catalyst/Action.pm line 358
	Catalyst::Action::execute('Catalyst::Action=HASH(0x5c2fe38)', 'AuthServer::Controller::OAuth2::Provider=HASH(0x5b734c0)', 'AuthServer=HASH(0x23f4440)') called at /opt/perl-5.12.5/lib/site_perl/5.12.5/Catalyst.pm line 2052
	eval {...} at /opt/perl-5.12.5/lib/site_perl/5.12.5/Catalyst.pm line 2052
	Catalyst::execute('AuthServer=HASH(0x23f4440)', 'AuthServer::Controller::OAuth2::Provider', 'Catalyst::Action=HASH(0x5c2fe38)') called at /opt/perl-5.12.5/lib/site_perl/5.12.5/Catalyst/Action.pm line 353
	Catalyst::Action::dispatch('Catalyst::Action=HASH(0x5c2fe38)', 'AuthServer=HASH(0x23f4440)') called at /opt/perl-5.12.5/lib/site_perl/5.12.5/Catalyst/Dispatcher.pm line 262
	Catalyst::Dispatcher::_do_forward('Catalyst::Dispatcher=HASH(0x37b7a48)', 'forward', 'AuthServer=HASH(0x23f4440)', '_ACTION') called at /opt/perl-5.12.5/lib/site_perl/5.12.5/Catalyst/Dispatcher.pm line 242
	Catalyst::Dispatcher::forward('Catalyst::Dispatcher=HASH(0x37b7a48)', 'AuthServer=HASH(0x23f4440)', '_ACTION') called at /opt/perl-5.12.5/lib/site_perl/5.12.5/Catalyst.pm line 477
	Catalyst::forward('AuthServer=HASH(0x23f4440)', '_ACTION') called at /opt/perl-5.12.5/lib/site_perl/5.12.5/Catalyst/Controller.pm line 135
	Catalyst::Controller::_DISPATCH('AuthServer::Controller::OAuth2::Provider=HASH(0x5b734c0)', 'AuthServer=HASH(0x23f4440)') called at /opt/perl-5.12.5/lib/site_perl/5.12.5/Catalyst/Action.pm line 358
	Catalyst::Action::execute('Catalyst::Action=HASH(0x5c23198)', 'AuthServer::Controller::OAuth2::Provider=HASH(0x5b734c0)', 'AuthServer=HASH(0x23f4440)') called at /opt/perl-5.12.5/lib/site_perl/5.12.5/Catalyst.pm line 2052
	eval {...} at /opt/perl-5.12.5/lib/site_perl/5.12.5/Catalyst.pm line 2052
	Catalyst::execute('AuthServer=HASH(0x23f4440)', 'AuthServer::Controller::OAuth2::Provider', 'Catalyst::Action=HASH(0x5c23198)') called at /opt/perl-5.12.5/lib/site_perl/5.12.5/Catalyst/Action.pm line 353
	Catalyst::Action::dispatch('Catalyst::Action=HASH(0x5c23198)', 'AuthServer=HASH(0x23f4440)') called at /opt/perl-5.12.5/lib/site_perl/5.12.5/Catalyst/Dispatcher.pm line 262
	Catalyst::Dispatcher::_do_forward('Catalyst::Dispatcher=HASH(0x37b7a48)', 'forward', 'AuthServer=HASH(0x23f4440)', '/oauth2/provider/_DISPATCH') called at /opt/perl-5.12.5/lib/site_perl/5.12.5/Catalyst/Dispatcher.pm line 242
	Catalyst::Dispatcher::forward('Catalyst::Dispatcher=HASH(0x37b7a48)', 'AuthServer=HASH(0x23f4440)', '/oauth2/provider/_DISPATCH') called at /opt/perl-5.12.5/lib/site_perl/5.12.5/Catalyst.pm line 477
	Catalyst::forward('AuthServer=HASH(0x23f4440)', '/oauth2/provider/_DISPATCH') called at /opt/perl-5.12.5/lib/site_perl/5.12.5/Catalyst/Dispatcher.pm line 107
	Catalyst::Dispatcher::dispatch('Catalyst::Dispatcher=HASH(0x37b7a48)', 'AuthServer=HASH(0x23f4440)') called at /opt/perl-5.12.5/lib/site_perl/5.12.5/Catalyst.pm line 1998
	Catalyst::dispatch('AuthServer=HASH(0x23f4440)') called at /opt/perl-5.12.5/lib/site_perl/5.12.5/x86_64-linux/Class/MOP/Method/Wrapped.pm line 50
	AuthServer::_wrapped_dispatch('AuthServer=HASH(0x23f4440)') called at /opt/perl-5.12.5/lib/site_perl/5.12.5/x86_64-linux/Class/MOP/Method/Wrapped.pm line 95
	AuthServer::dispatch('AuthServer=HASH(0x23f4440)') called at /opt/perl-5.12.5/lib/site_perl/5.12.5/Catalyst.pm line 2393
	Catalyst::try {...}  at /opt/perl-5.12.5/lib/site_perl/5.12.5/Try/Tiny.pm line 103
	eval {...} at /opt/perl-5.12.5/lib/site_perl/5.12.5/Try/Tiny.pm line 94
	Try::Tiny::try('CODE(0x5ef1598)', 'Try::Tiny::Catch=REF(0x5eacfb0)') called at /opt/perl-5.12.5/lib/site_perl/5.12.5/Catalyst.pm line 2402
	Catalyst::handle_request('AuthServer', 'env', 'HASH(0x7f29b2950990)', 'response_cb', 'CODE(0x5ead088)') called at /opt/perl-5.12.5/lib/site_perl/5.12.5/Catalyst/Engine.pm line 800
	Catalyst::Engine::__ANON__('CODE(0x5ead088)') called at /opt/perl-5.12.5/lib/site_perl/5.12.5/Plack/Middleware/HTTPExceptions.pm line 32
	Plack::Middleware::HTTPExceptions::try {...}  at /opt/perl-5.12.5/lib/site_perl/5.12.5/Try/Tiny.pm line 103
	eval {...} at /opt/perl-5.12.5/lib/site_perl/5.12.5/Try/Tiny.pm line 94
	Try::Tiny::try('CODE(0x5eacd58)', 'Try::Tiny::Catch=REF(0x5eebba8)') called at /opt/perl-5.12.5/lib/site_perl/5.12.5/Plack/Middleware/HTTPExceptions.pm line 41
	Plack::Middleware::HTTPExceptions::__ANON__('CODE(0x5eacc08)') called at /opt/perl-5.12.5/lib/site_perl/5.12.5/Plack/Util.pm line 339
	Plack::Util::__ANON__('CODE(0x5eacab8)') called at /opt/perl-5.12.5/lib/site_perl/5.12.5/Plack/Util.pm line 339
	Plack::Util::__ANON__('CODE(0x5eac968)') called at /opt/perl-5.12.5/lib/site_perl/5.12.5/Plack/Util.pm line 339
	Plack::Util::__ANON__('CODE(0x5eac8c0)') called at /opt/perl-5.12.5/lib/site_perl/5.12.5/HTTP/Message/PSGI.pm line 100
	HTTP::Message::PSGI::res_from_psgi('CODE(0x7f29b29534c8)') called at /opt/perl-5.12.5/lib/site_perl/5.12.5/HTTP/Message/PSGI.pm line 156
	HTTP::Response::from_psgi('HTTP::Response', 'CODE(0x7f29b29534c8)') called at /opt/perl-5.12.5/lib/site_perl/5.12.5/Plack/Test/MockHTTP.pm line 24
	Plack::Test::MockHTTP::try {...}  at /opt/perl-5.12.5/lib/site_perl/5.12.5/Try/Tiny.pm line 98
	eval {...} at /opt/perl-5.12.5/lib/site_perl/5.12.5/Try/Tiny.pm line 94
	Try::Tiny::try('CODE(0x5cdd8f8)', 'Try::Tiny::Catch=REF(0x5e95a68)') called at /opt/perl-5.12.5/lib/site_perl/5.12.5/Plack/Test/MockHTTP.pm line 27
	Plack::Test::MockHTTP::request('Plack::Test::MockHTTP=HASH(0x5ea91a0)', 'HTTP::Request=HASH(0x5ea5648)') called at /opt/perl-5.12.5/lib/site_perl/5.12.5/Plack/Test.pm line 38
	Plack::Test::__ANON__('HTTP::Request=HASH(0x5ea5648)') called at /opt/perl-5.12.5/lib/site_perl/5.12.5/Catalyst/Test.pm line 281
	Catalyst::Test::__ANON__('CODE(0x5ea9020)') called at /opt/perl-5.12.5/lib/site_perl/5.12.5/Plack/Test.pm line 38
	Plack::Test::test_psgi('app', 'CODE(0x5ea4df0)', 'mangle_response', 'CODE(0x377a218)', 'app', 'CODE(0x5ea8d38)', 'client', 'CODE(0x5ea8e10)') called at /opt/perl-5.12.5/lib/site_perl/5.12.5/Catalyst/Test.pm line 284
	Catalyst::Test::_request('HASH(0x5ea4d30)', '/request') called at /opt/perl-5.12.5/lib/site_perl/5.12.5/Catalyst/Test.pm line 327
	Catalyst::Test::_local_request('AuthServer', '/request') called at /opt/perl-5.12.5/lib/site_perl/5.12.5/Catalyst/Test.pm line 32
	Catalyst::Test::__ANON__('/request') called at /opt/perl-5.12.5/lib/site_perl/5.12.5/Catalyst/Test.pm line 72
	Catalyst::Test::__ANON__('/request') called at t/unit/200-actionrole-request-auth.t line 15
[error] Attribute (response_type) is required at /opt/perl-5.12.5/lib/site_perl/5.12.5/x86_64-linux/Moose/Object.pm line 24
	Moose::Object::new('CatalystX::OAuth2::Request::RequestAuth') called at /tmpfs/.cpan-build-cpansand/2017121300/CatalystX-OAuth2-0.001009-16/blib/lib/Catalyst/ActionRole/OAuth2/RequestAuth.pm line 21
	Catalyst::ActionRole::OAuth2::RequestAuth::try {...}  at /opt/perl-5.12.5/lib/site_perl/5.12.5/Try/Tiny.pm line 103
	eval {...} at /opt/perl-5.12.5/lib/site_perl/5.12.5/Try/Tiny.pm line 94
	Try::Tiny::try('CODE(0x5f00928)', 'Try::Tiny::Catch=REF(0x5fa1560)') called at /tmpfs/.cpan-build-cpansand/2017121300/CatalystX-OAuth2-0.001009-16/blib/lib/Catalyst/ActionRole/OAuth2/RequestAuth.pm line 31
	Catalyst::ActionRole::OAuth2::RequestAuth::build_oauth2_request('Moose::Meta::Class::__ANON__::SERIAL::11=HASH(0x5c97a48)', 'AuthServer::Controller::OAuth2::Provider=HASH(0x5b734c0)', 'AuthServer=HASH(0x23f4440)') called at /tmpfs/.cpan-build-cpansand/2017121300/CatalystX-OAuth2-0.001009-16/blib/lib/CatalystX/OAuth2/ActionRole/RequestInjector.pm line 17
	Class::MOP::Class:::before('Moose::Meta::Class::__ANON__::SERIAL::11=HASH(0x5c97a48)', 'AuthServer::Controller::OAuth2::Provider=HASH(0x5b734c0)', 'AuthServer=HASH(0x23f4440)') called at /opt/perl-5.12.5/lib/site_perl/5.12.5/x86_64-linux/Class/MOP/Method/Wrapped.pm line 27
	Moose::Meta::Class::__ANON__::SERIAL::11::_wrapped_execute('Moose::Meta::Class::__ANON__::SERIAL::11=HASH(0x5c97a48)', 'AuthServer::Controller::OAuth2::Provider=HASH(0x5b734c0)', 'AuthServer=HASH(0x23f4440)') called at /opt/perl-5.12.5/lib/site_perl/5.12.5/x86_64-linux/Class/MOP/Method/Wrapped.pm line 95
	Moose::Meta::Class::__ANON__::SERIAL::11::execute('Moose::Meta::Class::__ANON__::SERIAL::11=HASH(0x5c97a48)', 'AuthServer::Controller::OAuth2::Provider=HASH(0x5b734c0)', 'AuthServer=HASH(0x23f4440)') called at /opt/perl-5.12.5/lib/site_perl/5.12.5/Catalyst.pm line 2052
	eval {...} at /opt/perl-5.12.5/lib/site_perl/5.12.5/Catalyst.pm line 2052
	Catalyst::execute('AuthServer=HASH(0x23f4440)', 'AuthServer::Controller::OAuth2::Provider', 'Moose::Meta::Class::__ANON__::SERIAL::11=HASH(0x5c97a48)') called at /opt/perl-5.12.5/lib/site_perl/5.12.5/Catalyst/Action.pm line 353
	Catalyst::Action::dispatch('Moose::Meta::Class::__ANON__::SERIAL::11=HASH(0x5c97a48)', 'AuthServer=HASH(0x23f4440)') called at /opt/perl-5.12.5/lib/site_perl/5.12.5/Catalyst/ActionChain.pm line 46
	Catalyst::ActionChain::dispatch('Catalyst::ActionChain=HASH(0x5efbe08)', 'AuthServer=HASH(0x23f4440)') called at /opt/perl-5.12.5/lib/site_perl/5.12.5/Catalyst/Controller.pm line 171
	Catalyst::Controller::_ACTION('AuthServer::Controller::OAuth2::Provider=HASH(0x5b734c0)', 'AuthServer=HASH(0x23f4440)') called at /opt/perl-5.12.5/lib/site_perl/5.12.5/Catalyst/Action.pm line 358
	Catalyst::Action::execute('Catalyst::Action=HASH(0x5c2fe38)', 'AuthServer::Controller::OAuth2::Provider=HASH(0x5b734c0)', 'AuthServer=HASH(0x23f4440)') called at /opt/perl-5.12.5/lib/site_perl/5.12.5/Catalyst.pm line 2052
	eval {...} at /opt/perl-5.12.5/lib/site_perl/5.12.5/Catalyst.pm line 2052
	Catalyst::execute('AuthServer=HASH(0x23f4440)', 'AuthServer::Controller::OAuth2::Provider', 'Catalyst::Action=HASH(0x5c2fe38)') called at /opt/perl-5.12.5/lib/site_perl/5.12.5/Catalyst/Action.pm line 353
	Catalyst::Action::dispatch('Catalyst::Action=HASH(0x5c2fe38)', 'AuthServer=HASH(0x23f4440)') called at /opt/perl-5.12.5/lib/site_perl/5.12.5/Catalyst/Dispatcher.pm line 262
	Catalyst::Dispatcher::_do_forward('Catalyst::Dispatcher=HASH(0x37b7a48)', 'forward', 'AuthServer=HASH(0x23f4440)', '_ACTION') called at /opt/perl-5.12.5/lib/site_perl/5.12.5/Catalyst/Dispatcher.pm line 242
	Catalyst::Dispatcher::forward('Catalyst::Dispatcher=HASH(0x37b7a48)', 'AuthServer=HASH(0x23f4440)', '_ACTION') called at /opt/perl-5.12.5/lib/site_perl/5.12.5/Catalyst.pm line 477
	Catalyst::forward('AuthServer=HASH(0x23f4440)', '_ACTION') called at /opt/perl-5.12.5/lib/site_perl/5.12.5/Catalyst/Controller.pm line 135
	Catalyst::Controller::_DISPATCH('AuthServer::Controller::OAuth2::Provider=HASH(0x5b734c0)', 'AuthServer=HASH(0x23f4440)') called at /opt/perl-5.12.5/lib/site_perl/5.12.5/Catalyst/Action.pm line 358
	Catalyst::Action::execute('Catalyst::Action=HASH(0x5c23198)', 'AuthServer::Controller::OAuth2::Provider=HASH(0x5b734c0)', 'AuthServer=HASH(0x23f4440)') called at /opt/perl-5.12.5/lib/site_perl/5.12.5/Catalyst.pm line 2052
	eval {...} at /opt/perl-5.12.5/lib/site_perl/5.12.5/Catalyst.pm line 2052
	Catalyst::execute('AuthServer=HASH(0x23f4440)', 'AuthServer::Controller::OAuth2::Provider', 'Catalyst::Action=HASH(0x5c23198)') called at /opt/perl-5.12.5/lib/site_perl/5.12.5/Catalyst/Action.pm line 353
	Catalyst::Action::dispatch('Catalyst::Action=HASH(0x5c23198)', 'AuthServer=HASH(0x23f4440)') called at /opt/perl-5.12.5/lib/site_perl/5.12.5/Catalyst/Dispatcher.pm line 262
	Catalyst::Dispatcher::_do_forward('Catalyst::Dispatcher=HASH(0x37b7a48)', 'forward', 'AuthServer=HASH(0x23f4440)', '/oauth2/provider/_DISPATCH') called at /opt/perl-5.12.5/lib/site_perl/5.12.5/Catalyst/Dispatcher.pm line 242
	Catalyst::Dispatcher::forward('Catalyst::Dispatcher=HASH(0x37b7a48)', 'AuthServer=HASH(0x23f4440)', '/oauth2/provider/_DISPATCH') called at /opt/perl-5.12.5/lib/site_perl/5.12.5/Catalyst.pm line 477
	Catalyst::forward('AuthServer=HASH(0x23f4440)', '/oauth2/provider/_DISPATCH') called at /opt/perl-5.12.5/lib/site_perl/5.12.5/Catalyst/Dispatcher.pm line 107
	Catalyst::Dispatcher::dispatch('Catalyst::Dispatcher=HASH(0x37b7a48)', 'AuthServer=HASH(0x23f4440)') called at /opt/perl-5.12.5/lib/site_perl/5.12.5/Catalyst.pm line 1998
	Catalyst::dispatch('AuthServer=HASH(0x23f4440)') called at /opt/perl-5.12.5/lib/site_perl/5.12.5/x86_64-linux/Class/MOP/Method/Wrapped.pm line 50
	AuthServer::_wrapped_dispatch('AuthServer=HASH(0x23f4440)') called at /opt/perl-5.12.5/lib/site_perl/5.12.5/x86_64-linux/Class/MOP/Method/Wrapped.pm line 95
	AuthServer::dispatch('AuthServer=HASH(0x23f4440)') called at t/unit/200-actionrole-request-auth.t line 19
[warn] Useless setting a header value after finalize_headers and the response callback has been called. Since we don't support tail headers this will not work as you might expect.
[warn] Useless setting a header value after finalize_headers and the response callback has been called. Since we don't support tail headers this will not work as you might expect.
t/unit/200-actionrole-request-auth.t .................. ok
[warn] Useless setting a header value after finalize_headers and the response callback has been called. Since we don't support tail headers this will not work as you might expect.
[warn] Useless setting a header value after finalize_headers and the response callback has been called. Since we don't support tail headers this will not work as you might expect.
[warn] Useless setting a header value after finalize_headers and the response callback has been called. Since we don't support tail headers this will not work as you might expect.
t/unit/300-actionrole-grant-auth.t .................... ok
t/unit/400-actionrole-auth-token-via-auth-grant.t ..... ok
t/unit/500-actionrole-auth-token-via-refresh-token.t .. ok
[warn] Useless setting a header value after finalize_headers and the response callback has been called. Since we don't support tail headers this will not work as you might expect.
t/unit/600-actionrole-protected-resource.t ............ ok
[error] No default action defined
[warn] Useless setting a header value after finalize_headers and the response callback has been called. Since we don't support tail headers this will not work as you might expect.
[error] No default action defined
t/unit/700-client.t ................................... ok
All tests successful.
Files=11, Tests=153, 14 wallclock secs ( 0.03 usr  0.04 sys + 10.55 cusr  1.30 csys = 11.92 CPU)
Result: PASS

------------------------------
PREREQUISITES
------------------------------

Prerequisite modules loaded:

requires:

    Module                                   Need    Have      
    ---------------------------------------- ------- ----------
    base                                     0       2.23      
    Class::Load                              0       0.24      
    DBIx::Class                              0       0.082840  
    DBIx::Class::ResultSet                   0       0         
    DBIx::Class::Schema                      0       0         
    HTTP::Request::Common                    0       6.13      
    JSON::Any                                0       1.39      
    LWP::UserAgent                           0       6.27      
    Moose                                    0       2.2008    
    Moose::Role                              0       2.2008    
    Moose::Util                              0       2.2008    
    Moose::Util::TypeConstraints             0       2.2008    
    MooseX::NonMoose                         0       0.26      
    MooseX::SetOnce                          0       0.200002  
    MooseX::Types::Common::String            0       0.001013  
    parent                                   0       0.234     
    perl                                     5.006   5.012005  
    Scalar::Util                             0       1.49      
    strict                                   0       1.04      
    Try::Tiny                                0       0.28      
    URI                                      0       1.71      
    warnings                                 0       1.09      

build_requires:

    Module                                   Need    Have      
    ---------------------------------------- ------- ----------
    blib                                     1.01    1.04      
    Catalyst                                 0       5.90115   
    Catalyst::Controller                     0       0         
    Catalyst::Controller::ActionRole         0       0.17      
    Catalyst::Model::DBIC::Schema            0       0.65      
    Catalyst::Plugin::Authentication         0       0.10023   
    Catalyst::Plugin::ConfigLoader           0       0.34      
    Catalyst::Plugin::Session                0       0.40      
    Catalyst::Plugin::Session::State::Cookie 0       0.17      
    Catalyst::Test                           0       0         
    Devel::Dwarn                             0       0         
    ExtUtils::MakeMaker                      0       7.24      
    File::Spec                               0       3.62      
    HTTP::Request                            0       6.13      
    IO::Handle                               0       1.28      
    IPC::Open3                               0       1.05      
    lib                                      0       0.62      
    namespace::autoclean                     0       0.28      
    Plack::Builder                           0       0         
    Plack::Test                              0       0         
    SQL::Translator                          0.11006 0.11023   
    strictures                               1       2.000003  
    Test::Exception                          0       0.43      
    Test::MockObject                         0       1.20150527
    Test::More                               0       1.302118  
    Test::WWW::Mechanize::PSGI               0       0.37      

configure_requires:

    Module                                   Need    Have      
    ---------------------------------------- ------- ----------
    ExtUtils::MakeMaker                      0       7.24      


------------------------------
ENVIRONMENT AND OTHER CONTEXT
------------------------------

Environment variables:

    LANG = C
    LC_ALL = de_DE.UTF-8
    PATH = /usr/local/bin:/usr/bin:/bin:/usr/local/sbin:/usr/sbin:/sbin:/home/cpansand/bin/linux-gnu:/home/cpansand/bin/sh:/home/cpansand/bin:/usr/games:/home/cpansand/devel:/home/eserte/src/srezic-misc/scripts
    PERL5LIB = /home/cpansand/.cpan/build/2017121300/File-PCAP-v0.0.6-16/blib/arch:/home/cpansand/.cpan/build/2017121300/File-PCAP-v0.0.6-16/blib/lib
    PERL5OPT = 
    PERL5_CPANPLUS_IS_RUNNING = 21090
    PERL5_CPAN_IS_RUNNING = 21090
    PERL5_CPAN_IS_RUNNING_IN_RECURSION = 21032,21090
    PERLDOC = -MPod::Perldoc::ToTextOverstrike
    PERL_BATCH = yes
    PERL_CANARY_STABILITY_NOPROMPT = 1
    PERL_CPAN_REPORTER_CONFIG = /var/tmp/cpansmoker-1023/2017121300/cpanreporter_000_config.ini
    PERL_EXTUTILS_AUTOINSTALL = --defaultdeps
    PERL_PARALLEL_SMOKER = yes
    PERL_USE_UNSAFE_INC = 1
    SHELL = /bin/zsh
    TERM = screen
    TMPDIR = /var/tmp/cpansmoker-1023/2017121300

Perl special variables (and OS-specific diagnostics, for MSWin32):

    $^X = /bbbike/perl-5.12.5/bin/perl5.12.5
    $UID/$EUID = 1023 / 1023
    $GID = 1023 1023
    $EGID = 1023 1023

Perl module toolchain versions installed:

    Module              Have    
    ------------------- --------
    CPAN                2.16    
    CPAN::Meta          2.150010
    Cwd                 3.62    
    ExtUtils::CBuilder  0.280230
    ExtUtils::Command   7.24    
    ExtUtils::Install   2.12    
    ExtUtils::MakeMaker 7.24    
    ExtUtils::Manifest  1.70    
    ExtUtils::ParseXS   3.30    
    File::Spec          3.62    
    JSON                2.94    
    JSON::PP            2.27400 
    Module::Build       0.4224  
    Module::Signature   0.81    
    Parse::CPAN::Meta   2.150010
    Test::Harness       3.39    
    Test::More          1.302118
    YAML                1.23    
    YAML::Syck          1.30    
    version             0.9916  


--

Summary of my perl5 (revision 5 version 12 subversion 5) configuration:
   
  Platform:
    osname=linux, osvers=3.16.0-4-amd64, archname=x86_64-linux
    uname='linux eserte 3.16.0-4-amd64 #1 smp debian 3.16.7-ckt25-2 (2016-04-08) x86_64 gnulinux '
    config_args='-ds -e -Dprefix=/opt/perl-5.12.5 -Dcf_email=srezic@cpan.org'
    hint=recommended, useposix=true, d_sigaction=define
    useithreads=undef, usemultiplicity=undef
    useperlio=define, d_sfio=undef, uselargefiles=define, usesocks=undef
    use64bitint=define, use64bitall=define, uselongdouble=undef
    usemymalloc=n, bincompat5005=undef
  Compiler:
    cc='cc', ccflags ='-fno-strict-aliasing -pipe -fstack-protector -I/usr/local/include -D_LARGEFILE_SOURCE -D_FILE_OFFSET_BITS=64',
    optimize='-O2',
    cppflags='-fno-strict-aliasing -pipe -fstack-protector -I/usr/local/include'
    ccversion='', gccversion='4.9.2', gccosandvers=''
    intsize=4, longsize=8, ptrsize=8, doublesize=8, byteorder=12345678
    d_longlong=define, longlongsize=8, d_longdbl=define, longdblsize=16
    ivtype='long', ivsize=8, nvtype='double', nvsize=8, Off_t='off_t', lseeksize=8
    alignbytes=8, prototype=define
  Linker and Libraries:
    ld='cc', ldflags =' -fstack-protector -L/usr/local/lib'
    libpth=/usr/local/lib /lib/x86_64-linux-gnu /lib/../lib /usr/lib/x86_64-linux-gnu /usr/lib/../lib /lib /usr/lib
    libs=-lnsl -lgdbm -ldb -ldl -lm -lcrypt -lutil -lc -lgdbm_compat
    perllibs=-lnsl -ldl -lm -lcrypt -lutil -lc
    libc=libc-2.19.so, so=so, useshrplib=false, libperl=libperl.a
    gnulibc_version='2.19'
  Dynamic Linking:
    dlsrc=dl_dlopen.xs, dlext=so, d_dlsymun=undef, ccdlflags='-Wl,-E'
    cccdlflags='-fPIC', lddlflags='-shared -O2 -L/usr/local/lib -fstack-protector'


Characteristics of this binary (from libperl): 
  Compile-time options: PERL_DONT_CREATE_GVSV PERL_MALLOC_WRAP USE_64_BIT_ALL
                        USE_64_BIT_INT USE_LARGE_FILES USE_PERLIO
                        USE_PERL_ATOF
  Locally applied patches:
	Devel::PatchPerl 1.42
  Built under linux
  Compiled at May  7 2016 10:05:30
  %ENV:
    PERL5LIB="/home/cpansand/.cpan/build/2017121300/File-PCAP-v0.0.6-16/blib/arch:/home/cpansand/.cpan/build/2017121300/File-PCAP-v0.0.6-16/blib/lib"
    PERL5OPT=""
    PERL5_CPANPLUS_IS_RUNNING="21090"
    PERL5_CPAN_IS_RUNNING="21090"
    PERL5_CPAN_IS_RUNNING_IN_RECURSION="21032,21090"
    PERLDOC="-MPod::Perldoc::ToTextOverstrike"
    PERL_BATCH="yes"
    PERL_CANARY_STABILITY_NOPROMPT="1"
    PERL_CPAN_REPORTER_CONFIG="/var/tmp/cpansmoker-1023/2017121300/cpanreporter_000_config.ini"
    PERL_EXTUTILS_AUTOINSTALL="--defaultdeps"
    PERL_PARALLEL_SMOKER="yes"
    PERL_USE_UNSAFE_INC="1"
  @INC:
    /home/cpansand/.cpan/build/2017121300/File-PCAP-v0.0.6-16/blib/arch
    /home/cpansand/.cpan/build/2017121300/File-PCAP-v0.0.6-16/blib/lib
    /opt/perl-5.12.5/lib/site_perl/5.12.5/x86_64-linux
    /opt/perl-5.12.5/lib/site_perl/5.12.5
    /opt/perl-5.12.5/lib/5.12.5/x86_64-linux
    /opt/perl-5.12.5/lib/5.12.5
    .