Back
From: metabase:user:fcf99560-6bf4-1014-86b3-1cf189224fdf
Subject: PASS Class-DBI-Sweet-0.11 v5.16.3
Date: 2013-05-20T21:20:33Z
This distribution has been tested as part of the CPAN Testers
project, supporting the Perl programming language. See
http://wiki.cpantesters.org/ for more information or email
questions to cpan-testers-discuss@perl.org
--
Dear Fred Moyer,
This is a computer-generated report for Class-DBI-Sweet-0.11
on perl 5.16.3, created by CPAN-Reporter-1.2010.
Thank you for uploading your work to CPAN. Congratulations!
All tests were successful.
Sections of this report:
* Tester comments
* Program output
* Prerequisites
* Environment and other context
------------------------------
TESTER COMMENTS
------------------------------
Additional comments from tester:
this report is from an automated smoke testing program
and was not reviewed by a human for accuracy
------------------------------
PROGRAM OUTPUT
------------------------------
Output from 'C:\Perl\bin\perl.exe ./Build test':
Set up gcc environment - 3.4.5 (mingw-vista special r3)
Set up gcc environment - 3.4.5 (mingw-vista special r3)
Set up gcc environment - 3.4.5 (mingw-vista special r3)
t\01use.t ................................ ok
t\02pod.t ................................ skipped: set TEST_POD to enable this test
t\03podcoverage.t ........................ skipped: set TEST_POD to enable this test
t\04join.t ............................... ok
t\05count.t .............................. ok
t\06object_cache.t ....................... ok
Use of uninitialized value $got in numeric eq (==) at (eval in cmp_ok) t\07prefetch.t line 48.
t\07prefetch.t ........................... ok
t\08pager.t .............................. ok
t\09sequence.t ........................... skipped: Need Win32API::GUID for this test
t\cdbi-t-ocache\01-columns.t ............. ok
t\cdbi-t-ocache\03-subclassing.t ......... ok
t\cdbi-t-ocache\05-Query.t ............... ok
t\cdbi-t-ocache\06-hasa.t ................ ok
t\cdbi-t-ocache\08-inheritcols.t ......... ok
t\cdbi-t-ocache\09-has_many.t ............ ok
DBI connect('test','',...) failed: Can't connect to MySQL server on 'localhost' (10061) at t/cdbi-t/testlib/MyBase.pm line 10.
t\cdbi-t-ocache\10-mysql.t ............... skipped: Need MySQL for this test
t\cdbi-t-ocache\11-triggers.t ............ ok
t\cdbi-t-ocache\12-filter.t .............. ok
t\cdbi-t-ocache\13-constraint.t .......... ok
t\cdbi-t-ocache\14-might_have.t .......... ok
t\cdbi-t-ocache\16-reserved.t ............ ok
# Pg connection failed (DBI connect('dbname=template1','postgres',...) failed: could not connect to server: Connection refused (0x0000274D/10061)
# Is the server running on host "???" and accepting
# TCP/IP connections on port 5432?
# could not connect to server: Connection refused (0x0000274D/10061)
# Is the server running on host "???" and accepting
# TCP/IP connections on port 5432? at C:/Perl/site/lib/Ima/DBI.pm line 328.
# ). Set env variables DBD_PG_DBNAME, DBD_PG_USER,
# DBD_PG_PASSWD to enable testing.
t\cdbi-t-ocache\17-data_type.t ........... skipped: Pg connection failed.
t\cdbi-t-ocache\18-has_a.t ............... ok
t\cdbi-t-ocache\19-set_sql.t ............. ok
t\cdbi-t-ocache\21-iterator.t ............ ok
DBI connect('test','',...) failed: Can't connect to MySQL server on 'localhost' (10061) at t/cdbi-t/testlib/MyBase.pm line 10.
t\cdbi-t-ocache\22-deflate_order.t ....... skipped: Need MySQL for this test
t\cdbi-t-ocache\23-cascade.t ............. ok
t\cdbi-t-ocache\24-meta_info.t ........... ok
DBI connect('test','',...) failed: Can't connect to MySQL server on 'localhost' (10061) at t/cdbi-t/testlib/MyBase.pm line 10.
t\cdbi-t-ocache\25-closures_in_meta.t .... skipped: Need MySQL for this test
t\cdbi-t-ocache\97-pod.t ................. ok
t\cdbi-t-ocache\98-failure.t ............. ok
t\cdbi-t-ocache\99-misc.t ................ ok
t\cdbi-t-rescache\01-columns.t ........... ok
t\cdbi-t-rescache\03-subclassing.t ....... ok
t\cdbi-t-rescache\05-Query.t ............. ok
t\cdbi-t-rescache\06-hasa.t .............. ok
t\cdbi-t-rescache\08-inheritcols.t ....... ok
t\cdbi-t-rescache\09-has_many.t .......... ok
DBI connect('test','',...) failed: Can't connect to MySQL server on 'localhost' (10061) at t/cdbi-t/testlib/MyBase.pm line 10.
t\cdbi-t-rescache\10-mysql.t ............. skipped: Need MySQL for this test
t\cdbi-t-rescache\11-triggers.t .......... ok
t\cdbi-t-rescache\12-filter.t ............ ok
t\cdbi-t-rescache\13-constraint.t ........ ok
t\cdbi-t-rescache\14-might_have.t ........ ok
t\cdbi-t-rescache\16-reserved.t .......... ok
# Pg connection failed (DBI connect('dbname=template1','postgres',...) failed: could not connect to server: Connection refused (0x0000274D/10061)
# Is the server running on host "???" and accepting
# TCP/IP connections on port 5432?
# could not connect to server: Connection refused (0x0000274D/10061)
# Is the server running on host "???" and accepting
# TCP/IP connections on port 5432? at C:/Perl/site/lib/Ima/DBI.pm line 328.
# ). Set env variables DBD_PG_DBNAME, DBD_PG_USER,
# DBD_PG_PASSWD to enable testing.
t\cdbi-t-rescache\17-data_type.t ......... skipped: Pg connection failed.
t\cdbi-t-rescache\18-has_a.t ............. ok
t\cdbi-t-rescache\19-set_sql.t ........... ok
t\cdbi-t-rescache\21-iterator.t .......... ok
DBI connect('test','',...) failed: Can't connect to MySQL server on 'localhost' (10061) at t/cdbi-t/testlib/MyBase.pm line 10.
t\cdbi-t-rescache\22-deflate_order.t ..... skipped: Need MySQL for this test
t\cdbi-t-rescache\23-cascade.t ........... ok
t\cdbi-t-rescache\24-meta_info.t ......... ok
DBI connect('test','',...) failed: Can't connect to MySQL server on 'localhost' (10061) at t/cdbi-t/testlib/MyBase.pm line 10.
t\cdbi-t-rescache\25-closures_in_meta.t .. skipped: Need MySQL for this test
t\cdbi-t-rescache\97-pod.t ............... ok
t\cdbi-t-rescache\98-failure.t ........... ok
t\cdbi-t-rescache\99-misc.t .............. ok
t\cdbi-t\01-columns.t .................... ok
t\cdbi-t\02-Film.t ....................... ok
t\cdbi-t\03-subclassing.t ................ ok
t\cdbi-t\04-lazy.t ....................... ok
t\cdbi-t\05-Query.t ...................... ok
t\cdbi-t\06-hasa.t ....................... ok
t\cdbi-t\08-inheritcols.t ................ ok
t\cdbi-t\09-has_many.t ................... ok
DBI connect('test','',...) failed: Can't connect to MySQL server on 'localhost' (10061) at t/cdbi-t/testlib/MyBase.pm line 10.
t\cdbi-t\10-mysql.t ...................... skipped: Need MySQL for this test
t\cdbi-t\11-triggers.t ................... ok
t\cdbi-t\12-filter.t ..................... ok
t\cdbi-t\13-constraint.t ................. ok
t\cdbi-t\14-might_have.t ................. ok
# Pg connection failed (DBI connect('dbname=template1','postgres',...) failed: could not connect to server: Connection refused (0x0000274D/10061)
# Is the server running on host "???" and accepting
# TCP/IP connections on port 5432?
# could not connect to server: Connection refused (0x0000274D/10061)
# Is the server running on host "???" and accepting
# TCP/IP connections on port 5432? at C:/Perl/site/lib/Ima/DBI.pm line 328.
# ). Set env variables DBD_PG_DBNAME, DBD_PG_USER,
# DBD_PG_PASSWD to enable testing.
t\cdbi-t\17-data_type.t .................. skipped: Pg connection failed.
t\cdbi-t\18-has_a.t ...................... ok
t\cdbi-t\19-set_sql.t .................... ok
t\cdbi-t\21-iterator.t ................... ok
DBI connect('test','',...) failed: Can't connect to MySQL server on 'localhost' (10061) at t/cdbi-t/testlib/MyBase.pm line 10.
t\cdbi-t\22-deflate_order.t .............. skipped: Need MySQL for this test
t\cdbi-t\23-cascade.t .................... ok
t\cdbi-t\24-meta_info.t .................. ok
DBI connect('test','',...) failed: Can't connect to MySQL server on 'localhost' (10061) at t/cdbi-t/testlib/MyBase.pm line 10.
t\cdbi-t\25-closures_in_meta.t ........... skipped: Need MySQL for this test
t\cdbi-t\97-pod.t ........................ ok
t\cdbi-t\98-failure.t .................... ok
t\cdbi-t\99-misc.t ....................... ok
All tests successful.
Files=79, Tests=1278, 50 wallclock secs ( 0.61 usr + 0.11 sys = 0.72 CPU)
Result: PASS
------------------------------
PREREQUISITES
------------------------------
Prerequisite modules loaded:
requires:
Module Need Have
------------- ------- ------
Class::DBI v3.0.12 3.0.17
Data::Page 0 2.02
DBD::SQLite 1.08 1.37
DBI 0 1.627
List::Util 0 1.27
SQL::Abstract 1.55 1.73
configure_requires:
Module Need Have
------------- ------- ------
Module::Build 0.38 0.4005
------------------------------
ENVIRONMENT AND OTHER CONTEXT
------------------------------
Environment variables:
AUTOMATED_TESTING = 1
COMSPEC = C:\windows\system32\cmd.exe
NUMBER_OF_PROCESSORS = 4
PATH = C:\Perl\site\bin;C:\Perl\bin;C:\Program Files\Common Files\Microsoft Shared\Windows Live;C:\Program Files (x86)\Common Files\Microsoft Shared\Windows Live;C:\Program Files (x86)\Intel\iCLS Client\;C:\Program Files\Intel\iCLS Client\;C:\windows\system32;C:\windows;C:\windows\System32\Wbem;C:\windows\System32\WindowsPowerShell\v1.0\;C:\Program Files\Intel\Intel(R) Management Engine Components\DAL;C:\Program Files\Intel\Intel(R) Management Engine Components\IPT;C:\Program Files (x86)\Intel\Intel(R) Management Engine Components\DAL;C:\Program Files (x86)\Intel\Intel(R) Management Engine Components\IPT;C:\Program Files (x86)\Windows Live\Shared;C:\Program Files\MySQL\MySQL Server 5.5\bin
PERL5LIB =
PERL5OPT =
PERL5_CPANPLUS_IS_RUNNING = 16380
PERL5_CPAN_IS_RUNNING = 16380
PERL5_CPAN_IS_RUNNING_IN_RECURSION = 8092,16380
PERL_CR_SMOKER_CURRENT = Class-DBI-Sweet-0.11
PERL_EXTUTILS_AUTOINSTALL = --defaultdeps
PERL_MM_USE_DEFAULT = 1
PROCESSOR_IDENTIFIER = Intel64 Family 6 Model 42 Stepping 7, GenuineIntel
TEMP = C:\Users\training\AppData\Local\Temp
Perl special variables (and OS-specific diagnostics, for MSWin32):
$^X = C:\Perl\bin\perl.exe
$UID/$EUID = 0 / 0
$GID = 0
$EGID = 0
Win32::GetOSName = Win7
Win32::GetOSVersion = Service Pack 1, 6, 1, 7601, 2, 1, 0, 768, 1
Win32::FsType = NTFS
Win32::IsAdminUser = 0
Perl module toolchain versions installed:
Module Have
------------------- --------
CPAN 2.00
CPAN::Meta 2.130880
Cwd 3.40
ExtUtils::CBuilder 0.280205
ExtUtils::Command 1.17
ExtUtils::Install 1.54
ExtUtils::MakeMaker 6.66
ExtUtils::Manifest 1.61
ExtUtils::ParseXS 3.18
File::Spec 3.40
JSON 2.57
JSON::PP 2.27200
Module::Build 0.4005
Module::Signature 0.70
Parse::CPAN::Meta 1.4404
Test::Harness 3.26
Test::More 0.98
YAML 0.81
YAML::Syck 1.25
version 0.9902
--
Summary of my perl5 (revision 5 version 16 subversion 3) configuration:
Platform:
osname=MSWin32, osvers=5.2, archname=MSWin32-x86-multi-thread
uname=''
config_args='undef'
hint=recommended, useposix=true, d_sigaction=undef
useithreads=define, usemultiplicity=define
useperlio=define, d_sfio=undef, uselargefiles=define, usesocks=undef
use64bitint=undef, use64bitall=undef, uselongdouble=undef
usemymalloc=n, bincompat5005=undef
Compiler:
cc='C:\Perl\site\bin\gcc.exe', ccflags ='-DNDEBUG -DWIN32 -D_CONSOLE -DNO_STRICT -DPERL_TEXTMODE_SCRIPTS -DUSE_SITECUSTOMIZE -DPERL_IMPLICIT_CONTEXT -DPERL_IMPLICIT_SYS -DUSE_PERLIO -D_USE_32BIT_TIME_T -DHASATTRIBUTE -fno-strict-aliasing -mms-bitfields',
optimize='-O2',
cppflags='-DWIN32'
ccversion='', gccversion='3.4.5 (mingw-vista special r3)', gccosandvers=''
intsize=4, longsize=4, ptrsize=4, doublesize=8, byteorder=1234
d_longlong=undef, longlongsize=8, d_longdbl=define, longdblsize=8
ivtype='long', ivsize=4, nvtype='double', nvsize=8, Off_t='__int64', lseeksize=8
alignbytes=8, prototype=define
Linker and Libraries:
ld='C:\Perl\site\bin\g++.exe', ldflags ='-L"C:\Perl\lib\CORE"'
libpth=\lib
libs=-lkernel32 -luser32 -lgdi32 -lwinspool -lcomdlg32 -ladvapi32 -lshell32 -lole32 -loleaut32 -lnetapi32 -luuid -lws2_32 -lmpr -lwinmm -lversion -lodbc32 -lodbccp32 -lcomctl32 -lmsvcrt
perllibs=-lkernel32 -luser32 -lgdi32 -lwinspool -lcomdlg32 -ladvapi32 -lshell32 -lole32 -loleaut32 -lnetapi32 -luuid -lws2_32 -lmpr -lwinmm -lversion -lodbc32 -lodbccp32 -lcomctl32 -lmsvcrt
libc=msvcrt.lib, so=dll, useshrplib=true, libperl=perl516.lib
gnulibc_version=''
Dynamic Linking:
dlsrc=dl_win32.xs, dlext=dll, d_dlsymun=undef, ccdlflags=' '
cccdlflags=' ', lddlflags='-mdll -L"C:\Perl\lib\CORE"'
Characteristics of this binary (from libperl):
Compile-time options: HAS_TIMES HAVE_INTERP_INTERN MULTIPLICITY
PERLIO_LAYERS PERL_DONT_CREATE_GVSV
PERL_IMPLICIT_CONTEXT PERL_IMPLICIT_SYS
PERL_MALLOC_WRAP PERL_PRESERVE_IVUV PL_OP_SLAB_ALLOC
USE_ITHREADS USE_LARGE_FILES USE_LOCALE
USE_LOCALE_COLLATE USE_LOCALE_CTYPE
USE_LOCALE_NUMERIC USE_PERLIO USE_PERL_ATOF
USE_SITECUSTOMIZE
Locally applied patches:
ActivePerl Build 1603 [296746]
Built under MSWin32
Compiled at Mar 13 2013 11:29:21
%ENV:
PERL5_CPANPLUS_IS_RUNNING="16380"
PERL5_CPAN_IS_RUNNING="16380"
PERL5_CPAN_IS_RUNNING_IN_RECURSION="8092,16380"
PERL_CR_SMOKER_CURRENT="Class-DBI-Sweet-0.11"
PERL_EXTUTILS_AUTOINSTALL="--defaultdeps"
PERL_MM_USE_DEFAULT="1"
@INC:
C:/Perl/site/lib
C:/Perl/lib
.