Report for Reaction-0.002005

Back
From: metabase:user:320bfe00-2aae-11df-837a-5e0a49663a4f
Subject: PASS Reaction-0.002005 v5.12.0 GNU/Linux
Date: 2017-06-19T02:48:56Z

This distribution has been tested as part of the CPAN Testers
project, supporting the Perl programming language.  See
http://wiki.cpantesters.org/ for more information or email
questions to cpan-testers-discuss@perl.org


--
Dear Justin Hunter,

This is a computer-generated report for Reaction-0.002005
on perl 5.12.0, created by CPAN-Reporter-1.2018.

Thank you for uploading your work to CPAN.  Congratulations!
All tests were successful.

Sections of this report:

    * Tester comments
    * Program output
    * Prerequisites
    * Environment and other context

------------------------------
TESTER COMMENTS
------------------------------

Additional comments from tester:

this report is from an automated smoke testing program
and was not reviewed by a human for accuracy

------------------------------
PROGRAM OUTPUT
------------------------------

Output from '/usr/bin/make test':

PERL_DL_NONLAZY=1 "/home/sand/src/perl/repoperls/installed-perls/host/k93msid/v5.12.0/89ad/bin/perl" "-MExtUtils::Command::MM" "-MTest::Harness" "-e" "undef *Test::Harness::Switches; test_harness(0, 'inc', 'blib/lib', 'blib/arch')" t/00componentui_compiles.t t/01app.t t/04load_all.t t/05reflect_attr_from.t t/im_dbic.t t/ui_focus_stack.t t/ui_view.t t/ui_viewport.t t/uncheck_bool_field.t
Class::MOP::load_class is deprecated at /home/sand/src/perl/repoperls/installed-perls/host/k93msid/v5.12.0/89ad/lib/site_perl/5.12.0/x86_64-linux/Class/MOP.pm line 69.
	Class::MOP::load_class("ComponentUI::TestModel") called at /tmp/loop_over_bdir-4869-otpfhx/Reaction-0.002005-0/blib/lib/Catalyst/Model/Reaction/InterfaceModel/DBIC.pm line 24
	Catalyst::Model::Reaction::InterfaceModel::DBIC::COMPONENT("ComponentUI::Model::TestModel", "ComponentUI", HASH(0x563fb0041f38)) called at /home/sand/src/perl/repoperls/installed-perls/host/k93msid/v5.12.0/89ad/lib/site_perl/5.12.0/Catalyst.pm line 3215
	eval {...} called at /home/sand/src/perl/repoperls/installed-perls/host/k93msid/v5.12.0/89ad/lib/site_perl/5.12.0/Catalyst.pm line 3216
	Catalyst::setup_component("ComponentUI", "ComponentUI::Model::TestModel") called at /home/sand/src/perl/repoperls/installed-perls/host/k93msid/v5.12.0/89ad/lib/site_perl/5.12.0/Catalyst.pm line 3193
	Catalyst::__ANON__() called at /home/sand/src/perl/repoperls/installed-perls/host/k93msid/v5.12.0/89ad/lib/site_perl/5.12.0/Catalyst.pm line 3039
	Catalyst::setup_components("ComponentUI") called at /home/sand/src/perl/repoperls/installed-perls/host/k93msid/v5.12.0/89ad/lib/site_perl/5.12.0/Catalyst.pm line 1422
	Catalyst::setup("ComponentUI") called at /tmp/loop_over_bdir-4869-otpfhx/Reaction-0.002005-0/blib/lib/ComponentUI.pm line 32
	require ComponentUI.pm called at t/00componentui_compiles.t line 7
	main::BEGIN() called at /tmp/loop_over_bdir-4869-otpfhx/Reaction-0.002005-0/blib/lib/ComponentUI.pm line 0
	eval {...} called at /tmp/loop_over_bdir-4869-otpfhx/Reaction-0.002005-0/blib/lib/ComponentUI.pm line 0
	eval 'package main;
BEGIN { ${^WARNING_BITS} = $args[-1] if defined $args[-1] }
#line 7 t/00componentui_compiles.t
use ComponentUI @{$args[0]};
1;

;' called at /home/sand/src/perl/repoperls/installed-perls/host/k93msid/v5.12.0/89ad/lib/site_perl/5.12.0/Test/More.pm line 1032
	Test::More::_eval("package main;\x{a}BEGIN { \${^WARNING_BITS} = \$args[-1] if defined"..., ARRAY(0x563fadb15b10), "UUUUUUUUUUUU") called at /home/sand/src/perl/repoperls/installed-perls/host/k93msid/v5.12.0/89ad/lib/site_perl/5.12.0/Test/More.pm line 1007
	Test::More::use_ok("ComponentUI") called at t/00componentui_compiles.t line 7
Class::MOP::load_class is deprecated at /home/sand/src/perl/repoperls/installed-perls/host/k93msid/v5.12.0/89ad/lib/site_perl/5.12.0/x86_64-linux/Class/MOP.pm line 69.
	Class::MOP::load_class("Reaction::InterfaceModel::Object") called at /tmp/loop_over_bdir-4869-otpfhx/Reaction-0.002005-0/blib/lib/Reaction/InterfaceModel/Reflector/DBIC.pm line 149
	Reaction::InterfaceModel::Reflector::DBIC::reflect_schema(Reaction::InterfaceModel::Reflector::DBIC=HASH(0x563fb33d35e0), "model_class", "ComponentUI::TestModel", "schema_class", "RTest::TestDB", "sources", ARRAY(0x563fb329db60)) called at /tmp/loop_over_bdir-4869-otpfhx/Reaction-0.002005-0/blib/lib/ComponentUI/TestModel.pm line 10
	require ComponentUI/TestModel.pm called at /home/sand/src/perl/repoperls/installed-perls/host/k93msid/v5.12.0/89ad/lib/site_perl/5.12.0/Module/Runtime.pm line 317
	Module::Runtime::require_module("ComponentUI::TestModel") called at /home/sand/src/perl/repoperls/installed-perls/host/k93msid/v5.12.0/89ad/lib/site_perl/5.12.0/Class/Load.pm line 174
	Class::Load::try {...} () called at /home/sand/src/perl/repoperls/installed-perls/host/k93msid/v5.12.0/89ad/lib/site_perl/5.12.0/Try/Tiny.pm line 98
	eval {...} called at /home/sand/src/perl/repoperls/installed-perls/host/k93msid/v5.12.0/89ad/lib/site_perl/5.12.0/Try/Tiny.pm line 94
	Try::Tiny::try(CODE(0x563fb3014ae8), Try::Tiny::Catch=REF(0x563fb2f506e0)) called at /home/sand/src/perl/repoperls/installed-perls/host/k93msid/v5.12.0/89ad/lib/site_perl/5.12.0/Class/Load.pm line 180
	Class::Load::try_load_class("ComponentUI::TestModel", undef) called at /home/sand/src/perl/repoperls/installed-perls/host/k93msid/v5.12.0/89ad/lib/site_perl/5.12.0/Class/Load.pm line 35
	Class::Load::load_class("ComponentUI::TestModel") called at /tmp/loop_over_bdir-4869-otpfhx/Reaction-0.002005-0/blib/lib/Catalyst/Model/Reaction/InterfaceModel/DBIC.pm line 24
	Catalyst::Model::Reaction::InterfaceModel::DBIC::COMPONENT("ComponentUI::Model::TestModel", "ComponentUI", HASH(0x563fb0041f38)) called at /home/sand/src/perl/repoperls/installed-perls/host/k93msid/v5.12.0/89ad/lib/site_perl/5.12.0/Catalyst.pm line 3215
	eval {...} called at /home/sand/src/perl/repoperls/installed-perls/host/k93msid/v5.12.0/89ad/lib/site_perl/5.12.0/Catalyst.pm line 3216
	Catalyst::setup_component("ComponentUI", "ComponentUI::Model::TestModel") called at /home/sand/src/perl/repoperls/installed-perls/host/k93msid/v5.12.0/89ad/lib/site_perl/5.12.0/Catalyst.pm line 3193
	Catalyst::__ANON__() called at /home/sand/src/perl/repoperls/installed-perls/host/k93msid/v5.12.0/89ad/lib/site_perl/5.12.0/Catalyst.pm line 3039
	Catalyst::setup_components("ComponentUI") called at /home/sand/src/perl/repoperls/installed-perls/host/k93msid/v5.12.0/89ad/lib/site_perl/5.12.0/Catalyst.pm line 1422
	Catalyst::setup("ComponentUI") called at /tmp/loop_over_bdir-4869-otpfhx/Reaction-0.002005-0/blib/lib/ComponentUI.pm line 32
	require ComponentUI.pm called at t/00componentui_compiles.t line 7
	main::BEGIN() called at /tmp/loop_over_bdir-4869-otpfhx/Reaction-0.002005-0/blib/lib/ComponentUI/TestModel.pm line 0
	eval {...} called at /tmp/loop_over_bdir-4869-otpfhx/Reaction-0.002005-0/blib/lib/ComponentUI/TestModel.pm line 0
	eval 'package main;
BEGIN { ${^WARNING_BITS} = $args[-1] if defined $args[-1] }
#line 7 t/00componentui_compiles.t
use ComponentUI @{$args[0]};
1;

;' called at /home/sand/src/perl/repoperls/installed-perls/host/k93msid/v5.12.0/89ad/lib/site_perl/5.12.0/Test/More.pm line 1032
	Test::More::_eval("package main;\x{a}BEGIN { \${^WARNING_BITS} = \$args[-1] if defined"..., ARRAY(0x563fadb15b10), "UUUUUUUUUUUU") called at /home/sand/src/perl/repoperls/installed-perls/host/k93msid/v5.12.0/89ad/lib/site_perl/5.12.0/Test/More.pm line 1007
	Test::More::use_ok("ComponentUI") called at t/00componentui_compiles.t line 7
Class::MOP::load_class is deprecated at /home/sand/src/perl/repoperls/installed-perls/host/k93msid/v5.12.0/89ad/lib/site_perl/5.12.0/x86_64-linux/Class/MOP.pm line 69.
	Class::MOP::load_class("Reaction::InterfaceModel::Object") called at /tmp/loop_over_bdir-4869-otpfhx/Reaction-0.002005-0/blib/lib/Reaction/Class.pm line 123
	Reaction::Class::do_class_sub("Reaction::Class", "ComponentUI::TestModel::Foo", "ComponentUI::TestModel::Foo", "is", "Reaction::InterfaceModel::Object", "which", CODE(0x563fb36d6280)) called at /tmp/loop_over_bdir-4869-otpfhx/Reaction-0.002005-0/blib/lib/Reaction/Class.pm line 86
	Reaction::Class::("ComponentUI::TestModel::Foo", "is", "Reaction::InterfaceModel::Object", "which", CODE(0x563fb36d6280)) called at /tmp/loop_over_bdir-4869-otpfhx/Reaction-0.002005-0/blib/lib/ComponentUI/TestModel/Foo.pm line 8
	require ComponentUI/TestModel/Foo.pm called at /home/sand/src/perl/repoperls/installed-perls/host/k93msid/v5.12.0/89ad/lib/site_perl/5.12.0/Module/Runtime.pm line 317
	Module::Runtime::require_module("ComponentUI::TestModel::Foo") called at /home/sand/src/perl/repoperls/installed-perls/host/k93msid/v5.12.0/89ad/lib/site_perl/5.12.0/Class/Load.pm line 174
	Class::Load::try {...} () called at /home/sand/src/perl/repoperls/installed-perls/host/k93msid/v5.12.0/89ad/lib/site_perl/5.12.0/Try/Tiny.pm line 98
	eval {...} called at /home/sand/src/perl/repoperls/installed-perls/host/k93msid/v5.12.0/89ad/lib/site_perl/5.12.0/Try/Tiny.pm line 94
	Try::Tiny::try(CODE(0x563fb3668110), Try::Tiny::Catch=REF(0x563fb36d6598)) called at /home/sand/src/perl/repoperls/installed-perls/host/k93msid/v5.12.0/89ad/lib/site_perl/5.12.0/Class/Load.pm line 180
	Class::Load::try_load_class("ComponentUI::TestModel::Foo", undef) called at /home/sand/src/perl/repoperls/installed-perls/host/k93msid/v5.12.0/89ad/lib/site_perl/5.12.0/Class/Load.pm line 35
	Class::Load::load_class("ComponentUI::TestModel::Foo") called at /tmp/loop_over_bdir-4869-otpfhx/Reaction-0.002005-0/blib/lib/Reaction/InterfaceModel/Reflector/DBIC.pm line 892
	eval {...} called at /tmp/loop_over_bdir-4869-otpfhx/Reaction-0.002005-0/blib/lib/Reaction/InterfaceModel/Reflector/DBIC.pm line 892
	Reaction::InterfaceModel::Reflector::DBIC::_maybe_load_class(Reaction::InterfaceModel::Reflector::DBIC=HASH(0x563fb33d35e0), "ComponentUI::TestModel::Foo") called at /tmp/loop_over_bdir-4869-otpfhx/Reaction-0.002005-0/blib/lib/Reaction/InterfaceModel/Reflector/DBIC.pm line 876
	Reaction::InterfaceModel::Reflector::DBIC::_load_or_create(Reaction::InterfaceModel::Reflector::DBIC=HASH(0x563fb33d35e0), "ComponentUI::TestModel::Foo", "superclasses", ARRAY(0x563fb36c4d20)) called at /tmp/loop_over_bdir-4869-otpfhx/Reaction-0.002005-0/blib/lib/Reaction/InterfaceModel/Reflector/DBIC.pm line 448
	Reaction::InterfaceModel::Reflector::DBIC::reflect_source_object(Reaction::InterfaceModel::Reflector::DBIC=HASH(0x563fb33d35e0), "schema_class", "RTest::TestDB", "source_name", "Foo", "source_class", "RTest::TestDB::Foo", "parent_class", ...) called at /tmp/loop_over_bdir-4869-otpfhx/Reaction-0.002005-0/blib/lib/Reaction/InterfaceModel/Reflector/DBIC.pm line 323
	Reaction::InterfaceModel::Reflector::DBIC::reflect_source(Reaction::InterfaceModel::Reflector::DBIC=HASH(0x563fb33d35e0), "source_name", "Foo", "parent_class", "ComponentUI::TestModel", "schema_class", "RTest::TestDB", "source_class", ...) called at /tmp/loop_over_bdir-4869-otpfhx/Reaction-0.002005-0/blib/lib/Reaction/InterfaceModel/Reflector/DBIC.pm line 185
	Reaction::InterfaceModel::Reflector::DBIC::reflect_schema(Reaction::InterfaceModel::Reflector::DBIC=HASH(0x563fb33d35e0), "model_class", "ComponentUI::TestModel", "schema_class", "RTest::TestDB", "sources", ARRAY(0x563fb329db60)) called at /tmp/loop_over_bdir-4869-otpfhx/Reaction-0.002005-0/blib/lib/ComponentUI/TestModel.pm line 10
	require ComponentUI/TestModel.pm called at /home/sand/src/perl/repoperls/installed-perls/host/k93msid/v5.12.0/89ad/lib/site_perl/5.12.0/Module/Runtime.pm line 317
	Module::Runtime::require_module("ComponentUI::TestModel") called at /home/sand/src/perl/repoperls/installed-perls/host/k93msid/v5.12.0/89ad/lib/site_perl/5.12.0/Class/Load.pm line 174
	Class::Load::try {...} () called at /home/sand/src/perl/repoperls/installed-perls/host/k93msid/v5.12.0/89ad/lib/site_perl/5.12.0/Try/Tiny.pm line 98
	eval {...} called at /home/sand/src/perl/repoperls/installed-perls/host/k93msid/v5.12.0/89ad/lib/site_perl/5.12.0/Try/Tiny.pm line 94
	Try::Tiny::try(CODE(0x563fb3014ae8), Try::Tiny::Catch=REF(0x563fb2f506e0)) called at /home/sand/src/perl/repoperls/installed-perls/host/k93msid/v5.12.0/89ad/lib/site_perl/5.12.0/Class/Load.pm line 180
	Class::Load::try_load_class("ComponentUI::TestModel", undef) called at /home/sand/src/perl/repoperls/installed-perls/host/k93msid/v5.12.0/89ad/lib/site_perl/5.12.0/Class/Load.pm line 35
	Class::Load::load_class("ComponentUI::TestModel") called at /tmp/loop_over_bdir-4869-otpfhx/Reaction-0.002005-0/blib/lib/Catalyst/Model/Reaction/InterfaceModel/DBIC.pm line 24
	Catalyst::Model::Reaction::InterfaceModel::DBIC::COMPONENT("ComponentUI::Model::TestModel", "ComponentUI", HASH(0x563fb0041f38)) called at /home/sand/src/perl/repoperls/installed-perls/host/k93msid/v5.12.0/89ad/lib/site_perl/5.12.0/Catalyst.pm line 3215
	eval {...} called at /home/sand/src/perl/repoperls/installed-perls/host/k93msid/v5.12.0/89ad/lib/site_perl/5.12.0/Catalyst.pm line 3216
	Catalyst::setup_component("ComponentUI", "ComponentUI::Model::TestModel") called at /home/sand/src/perl/repoperls/installed-perls/host/k93msid/v5.12.0/89ad/lib/site_perl/5.12.0/Catalyst.pm line 3193
	Catalyst::__ANON__() called at /home/sand/src/perl/repoperls/installed-perls/host/k93msid/v5.12.0/89ad/lib/site_perl/5.12.0/Catalyst.pm line 3039
	Catalyst::setup_components("ComponentUI") called at /home/sand/src/perl/repoperls/installed-perls/host/k93msid/v5.12.0/89ad/lib/site_perl/5.12.0/Catalyst.pm line 1422
	Catalyst::setup("ComponentUI") called at /tmp/loop_over_bdir-4869-otpfhx/Reaction-0.002005-0/blib/lib/ComponentUI.pm line 32
	require ComponentUI.pm called at t/00componentui_compiles.t line 7
	main::BEGIN() called at /tmp/loop_over_bdir-4869-otpfhx/Reaction-0.002005-0/blib/lib/ComponentUI/TestModel/Foo.pm line 0
	eval {...} called at /tmp/loop_over_bdir-4869-otpfhx/Reaction-0.002005-0/blib/lib/ComponentUI/TestModel/Foo.pm line 0
	eval 'package main;
BEGIN { ${^WARNING_BITS} = $args[-1] if defined $args[-1] }
#line 7 t/00componentui_compiles.t
use ComponentUI @{$args[0]};
1;

;' called at /home/sand/src/perl/repoperls/installed-perls/host/k93msid/v5.12.0/89ad/lib/site_perl/5.12.0/Test/More.pm line 1032
	Test::More::_eval("package main;\x{a}BEGIN { \${^WARNING_BITS} = \$args[-1] if defined"..., ARRAY(0x563fadb15b10), "UUUUUUUUUUUU") called at /home/sand/src/perl/repoperls/installed-perls/host/k93msid/v5.12.0/89ad/lib/site_perl/5.12.0/Test/More.pm line 1007
	Test::More::use_ok("ComponentUI") called at t/00componentui_compiles.t line 7
t/00componentui_compiles.t .. ok
Class::MOP::load_class is deprecated at /home/sand/src/perl/repoperls/installed-perls/host/k93msid/v5.12.0/89ad/lib/site_perl/5.12.0/x86_64-linux/Class/MOP.pm line 69.
	Class::MOP::load_class("ComponentUI::TestModel") called at /tmp/loop_over_bdir-4869-otpfhx/Reaction-0.002005-0/blib/lib/Catalyst/Model/Reaction/InterfaceModel/DBIC.pm line 24
	Catalyst::Model::Reaction::InterfaceModel::DBIC::COMPONENT("ComponentUI::Model::TestModel", "ComponentUI", HASH(0x563a9a53b238)) called at /home/sand/src/perl/repoperls/installed-perls/host/k93msid/v5.12.0/89ad/lib/site_perl/5.12.0/Catalyst.pm line 3215
	eval {...} called at /home/sand/src/perl/repoperls/installed-perls/host/k93msid/v5.12.0/89ad/lib/site_perl/5.12.0/Catalyst.pm line 3216
	Catalyst::setup_component("ComponentUI", "ComponentUI::Model::TestModel") called at /home/sand/src/perl/repoperls/installed-perls/host/k93msid/v5.12.0/89ad/lib/site_perl/5.12.0/Catalyst.pm line 3193
	Catalyst::__ANON__() called at /home/sand/src/perl/repoperls/installed-perls/host/k93msid/v5.12.0/89ad/lib/site_perl/5.12.0/Catalyst.pm line 3039
	Catalyst::setup_components("ComponentUI") called at /home/sand/src/perl/repoperls/installed-perls/host/k93msid/v5.12.0/89ad/lib/site_perl/5.12.0/Catalyst.pm line 1422
	Catalyst::setup("ComponentUI") called at /tmp/loop_over_bdir-4869-otpfhx/Reaction-0.002005-0/blib/lib/ComponentUI.pm line 32
	require ComponentUI.pm called at /home/sand/src/perl/repoperls/installed-perls/host/k93msid/v5.12.0/89ad/lib/site_perl/5.12.0/Module/Runtime.pm line 317
	Module::Runtime::require_module("ComponentUI") called at /home/sand/src/perl/repoperls/installed-perls/host/k93msid/v5.12.0/89ad/lib/site_perl/5.12.0/Class/Load.pm line 174
	Class::Load::try {...} () called at /home/sand/src/perl/repoperls/installed-perls/host/k93msid/v5.12.0/89ad/lib/site_perl/5.12.0/Try/Tiny.pm line 98
	eval {...} called at /home/sand/src/perl/repoperls/installed-perls/host/k93msid/v5.12.0/89ad/lib/site_perl/5.12.0/Try/Tiny.pm line 94
	Try::Tiny::try(CODE(0x563a98b075f8), Try::Tiny::Catch=REF(0x563a98b03c70)) called at /home/sand/src/perl/repoperls/installed-perls/host/k93msid/v5.12.0/89ad/lib/site_perl/5.12.0/Class/Load.pm line 180
	Class::Load::try_load_class("ComponentUI", undef) called at /home/sand/src/perl/repoperls/installed-perls/host/k93msid/v5.12.0/89ad/lib/site_perl/5.12.0/Class/Load.pm line 35
	Class::Load::load_class("ComponentUI") called at /home/sand/src/perl/repoperls/installed-perls/host/k93msid/v5.12.0/89ad/lib/site_perl/5.12.0/Catalyst/Test.pm line 29
	Catalyst::Test::_build_request_export("Catalyst::Test", HASH(0x563a9800c2b8)) called at /home/sand/src/perl/repoperls/installed-perls/host/k93msid/v5.12.0/89ad/lib/site_perl/5.12.0/Catalyst/Test.pm line 92
	Catalyst::Test::__ANON__("Catalyst::Test", "all", HASH(0x563a9800c270), HASH(0x563a98effb40)) called at /home/sand/src/perl/repoperls/installed-perls/host/k93msid/v5.12.0/89ad/lib/site_perl/5.12.0/Sub/Exporter.pm line 108
	Sub::Exporter::_expand_group("Catalyst::Test", HASH(0x563a9800b7d8), ARRAY(0x563a98effb28), HASH(0x563a98effb40), HASH(0x563a9800c2e8), HASH(0x563a97fef5f8)) called at /home/sand/src/perl/repoperls/installed-perls/host/k93msid/v5.12.0/89ad/lib/site_perl/5.12.0/Sub/Exporter.pm line 39
	Sub::Exporter::_expand_groups("Catalyst::Test", HASH(0x563a9800b7d8), ARRAY(0x563a9800ba48), HASH(0x563a98effb40)) called at /home/sand/src/perl/repoperls/installed-perls/host/k93msid/v5.12.0/89ad/lib/site_perl/5.12.0/Sub/Exporter.pm line 323
	Sub::Exporter::__ANON__("Catalyst::Test", "-all", HASH(0x563a97fef568)) called at /home/sand/src/perl/repoperls/installed-perls/host/k93msid/v5.12.0/89ad/lib/site_perl/5.12.0/Catalyst/Test.pm line 155
	Catalyst::Test::import("Catalyst::Test", "ComponentUI") called at t/01app.t line 7
	main::BEGIN() called at /tmp/loop_over_bdir-4869-otpfhx/Reaction-0.002005-0/blib/lib/ComponentUI.pm line 0
	eval {...} called at /tmp/loop_over_bdir-4869-otpfhx/Reaction-0.002005-0/blib/lib/ComponentUI.pm line 0
	eval 'package main;
BEGIN { ${^WARNING_BITS} = $args[-1] if defined $args[-1] }
#line 7 t/01app.t
use Catalyst::Test @{$args[0]};
1;

;' called at /home/sand/src/perl/repoperls/installed-perls/host/k93msid/v5.12.0/89ad/lib/site_perl/5.12.0/Test/More.pm line 1032
	Test::More::_eval("package main;\x{a}BEGIN { \${^WARNING_BITS} = \$args[-1] if defined"..., ARRAY(0x563a97fd7a60), "UUUUUUUUUUUU") called at /home/sand/src/perl/repoperls/installed-perls/host/k93msid/v5.12.0/89ad/lib/site_perl/5.12.0/Test/More.pm line 1007
	Test::More::use_ok("Catalyst::Test", "ComponentUI") called at t/01app.t line 7
	main::BEGIN() called at /tmp/loop_over_bdir-4869-otpfhx/Reaction-0.002005-0/blib/lib/ComponentUI.pm line 0
	eval {...} called at /tmp/loop_over_bdir-4869-otpfhx/Reaction-0.002005-0/blib/lib/ComponentUI.pm line 0
Class::MOP::load_class is deprecated at /home/sand/src/perl/repoperls/installed-perls/host/k93msid/v5.12.0/89ad/lib/site_perl/5.12.0/x86_64-linux/Class/MOP.pm line 69.
	Class::MOP::load_class("Reaction::InterfaceModel::Object") called at /tmp/loop_over_bdir-4869-otpfhx/Reaction-0.002005-0/blib/lib/Reaction/InterfaceModel/Reflector/DBIC.pm line 149
	Reaction::InterfaceModel::Reflector::DBIC::reflect_schema(Reaction::InterfaceModel::Reflector::DBIC=HASH(0x563a9d8c5258), "model_class", "ComponentUI::TestModel", "schema_class", "RTest::TestDB", "sources", ARRAY(0x563a9d7e6bd8)) called at /tmp/loop_over_bdir-4869-otpfhx/Reaction-0.002005-0/blib/lib/ComponentUI/TestModel.pm line 10
	require ComponentUI/TestModel.pm called at /home/sand/src/perl/repoperls/installed-perls/host/k93msid/v5.12.0/89ad/lib/site_perl/5.12.0/Module/Runtime.pm line 317
	Module::Runtime::require_module("ComponentUI::TestModel") called at /home/sand/src/perl/repoperls/installed-perls/host/k93msid/v5.12.0/89ad/lib/site_perl/5.12.0/Class/Load.pm line 174
	Class::Load::try {...} () called at /home/sand/src/perl/repoperls/installed-perls/host/k93msid/v5.12.0/89ad/lib/site_perl/5.12.0/Try/Tiny.pm line 98
	eval {...} called at /home/sand/src/perl/repoperls/installed-perls/host/k93msid/v5.12.0/89ad/lib/site_perl/5.12.0/Try/Tiny.pm line 94
	Try::Tiny::try(CODE(0x563a9d505bd0), Try::Tiny::Catch=REF(0x563a9d441150)) called at /home/sand/src/perl/repoperls/installed-perls/host/k93msid/v5.12.0/89ad/lib/site_perl/5.12.0/Class/Load.pm line 180
	Class::Load::try_load_class("ComponentUI::TestModel", undef) called at /home/sand/src/perl/repoperls/installed-perls/host/k93msid/v5.12.0/89ad/lib/site_perl/5.12.0/Class/Load.pm line 35
	Class::Load::load_class("ComponentUI::TestModel") called at /tmp/loop_over_bdir-4869-otpfhx/Reaction-0.002005-0/blib/lib/Catalyst/Model/Reaction/InterfaceModel/DBIC.pm line 24
	Catalyst::Model::Reaction::InterfaceModel::DBIC::COMPONENT("ComponentUI::Model::TestModel", "ComponentUI", HASH(0x563a9a53b238)) called at /home/sand/src/perl/repoperls/installed-perls/host/k93msid/v5.12.0/89ad/lib/site_perl/5.12.0/Catalyst.pm line 3215
	eval {...} called at /home/sand/src/perl/repoperls/installed-perls/host/k93msid/v5.12.0/89ad/lib/site_perl/5.12.0/Catalyst.pm line 3216
	Catalyst::setup_component("ComponentUI", "ComponentUI::Model::TestModel") called at /home/sand/src/perl/repoperls/installed-perls/host/k93msid/v5.12.0/89ad/lib/site_perl/5.12.0/Catalyst.pm line 3193
	Catalyst::__ANON__() called at /home/sand/src/perl/repoperls/installed-perls/host/k93msid/v5.12.0/89ad/lib/site_perl/5.12.0/Catalyst.pm line 3039
	Catalyst::setup_components("ComponentUI") called at /home/sand/src/perl/repoperls/installed-perls/host/k93msid/v5.12.0/89ad/lib/site_perl/5.12.0/Catalyst.pm line 1422
	Catalyst::setup("ComponentUI") called at /tmp/loop_over_bdir-4869-otpfhx/Reaction-0.002005-0/blib/lib/ComponentUI.pm line 32
	require ComponentUI.pm called at /home/sand/src/perl/repoperls/installed-perls/host/k93msid/v5.12.0/89ad/lib/site_perl/5.12.0/Module/Runtime.pm line 317
	Module::Runtime::require_module("ComponentUI") called at /home/sand/src/perl/repoperls/installed-perls/host/k93msid/v5.12.0/89ad/lib/site_perl/5.12.0/Class/Load.pm line 174
	Class::Load::try {...} () called at /home/sand/src/perl/repoperls/installed-perls/host/k93msid/v5.12.0/89ad/lib/site_perl/5.12.0/Try/Tiny.pm line 98
	eval {...} called at /home/sand/src/perl/repoperls/installed-perls/host/k93msid/v5.12.0/89ad/lib/site_perl/5.12.0/Try/Tiny.pm line 94
	Try::Tiny::try(CODE(0x563a98b075f8), Try::Tiny::Catch=REF(0x563a98b03c70)) called at /home/sand/src/perl/repoperls/installed-perls/host/k93msid/v5.12.0/89ad/lib/site_perl/5.12.0/Class/Load.pm line 180
	Class::Load::try_load_class("ComponentUI", undef) called at /home/sand/src/perl/repoperls/installed-perls/host/k93msid/v5.12.0/89ad/lib/site_perl/5.12.0/Class/Load.pm line 35
	Class::Load::load_class("ComponentUI") called at /home/sand/src/perl/repoperls/installed-perls/host/k93msid/v5.12.0/89ad/lib/site_perl/5.12.0/Catalyst/Test.pm line 29
	Catalyst::Test::_build_request_export("Catalyst::Test", HASH(0x563a9800c2b8)) called at /home/sand/src/perl/repoperls/installed-perls/host/k93msid/v5.12.0/89ad/lib/site_perl/5.12.0/Catalyst/Test.pm line 92
	Catalyst::Test::__ANON__("Catalyst::Test", "all", HASH(0x563a9800c270), HASH(0x563a98effb40)) called at /home/sand/src/perl/repoperls/installed-perls/host/k93msid/v5.12.0/89ad/lib/site_perl/5.12.0/Sub/Exporter.pm line 108
	Sub::Exporter::_expand_group("Catalyst::Test", HASH(0x563a9800b7d8), ARRAY(0x563a98effb28), HASH(0x563a98effb40), HASH(0x563a9800c2e8), HASH(0x563a97fef5f8)) called at /home/sand/src/perl/repoperls/installed-perls/host/k93msid/v5.12.0/89ad/lib/site_perl/5.12.0/Sub/Exporter.pm line 39
	Sub::Exporter::_expand_groups("Catalyst::Test", HASH(0x563a9800b7d8), ARRAY(0x563a9800ba48), HASH(0x563a98effb40)) called at /home/sand/src/perl/repoperls/installed-perls/host/k93msid/v5.12.0/89ad/lib/site_perl/5.12.0/Sub/Exporter.pm line 323
	Sub::Exporter::__ANON__("Catalyst::Test", "-all", HASH(0x563a97fef568)) called at /home/sand/src/perl/repoperls/installed-perls/host/k93msid/v5.12.0/89ad/lib/site_perl/5.12.0/Catalyst/Test.pm line 155
	Catalyst::Test::import("Catalyst::Test", "ComponentUI") called at t/01app.t line 7
	main::BEGIN() called at /tmp/loop_over_bdir-4869-otpfhx/Reaction-0.002005-0/blib/lib/ComponentUI/TestModel.pm line 0
	eval {...} called at /tmp/loop_over_bdir-4869-otpfhx/Reaction-0.002005-0/blib/lib/ComponentUI/TestModel.pm line 0
	eval 'package main;
BEGIN { ${^WARNING_BITS} = $args[-1] if defined $args[-1] }
#line 7 t/01app.t
use Catalyst::Test @{$args[0]};
1;

;' called at /home/sand/src/perl/repoperls/installed-perls/host/k93msid/v5.12.0/89ad/lib/site_perl/5.12.0/Test/More.pm line 1032
	Test::More::_eval("package main;\x{a}BEGIN { \${^WARNING_BITS} = \$args[-1] if defined"..., ARRAY(0x563a97fd7a60), "UUUUUUUUUUUU") called at /home/sand/src/perl/repoperls/installed-perls/host/k93msid/v5.12.0/89ad/lib/site_perl/5.12.0/Test/More.pm line 1007
	Test::More::use_ok("Catalyst::Test", "ComponentUI") called at t/01app.t line 7
	main::BEGIN() called at /tmp/loop_over_bdir-4869-otpfhx/Reaction-0.002005-0/blib/lib/ComponentUI/TestModel.pm line 0
	eval {...} called at /tmp/loop_over_bdir-4869-otpfhx/Reaction-0.002005-0/blib/lib/ComponentUI/TestModel.pm line 0
Class::MOP::load_class is deprecated at /home/sand/src/perl/repoperls/installed-perls/host/k93msid/v5.12.0/89ad/lib/site_perl/5.12.0/x86_64-linux/Class/MOP.pm line 69.
	Class::MOP::load_class("Reaction::InterfaceModel::Object") called at /tmp/loop_over_bdir-4869-otpfhx/Reaction-0.002005-0/blib/lib/Reaction/Class.pm line 123
	Reaction::Class::do_class_sub("Reaction::Class", "ComponentUI::TestModel::Foo", "ComponentUI::TestModel::Foo", "is", "Reaction::InterfaceModel::Object", "which", CODE(0x563a9dbc4958)) called at /tmp/loop_over_bdir-4869-otpfhx/Reaction-0.002005-0/blib/lib/Reaction/Class.pm line 86
	Reaction::Class::("ComponentUI::TestModel::Foo", "is", "Reaction::InterfaceModel::Object", "which", CODE(0x563a9dbc4958)) called at /tmp/loop_over_bdir-4869-otpfhx/Reaction-0.002005-0/blib/lib/ComponentUI/TestModel/Foo.pm line 8
	require ComponentUI/TestModel/Foo.pm called at /home/sand/src/perl/repoperls/installed-perls/host/k93msid/v5.12.0/89ad/lib/site_perl/5.12.0/Module/Runtime.pm line 317
	Module::Runtime::require_module("ComponentUI::TestModel::Foo") called at /home/sand/src/perl/repoperls/installed-perls/host/k93msid/v5.12.0/89ad/lib/site_perl/5.12.0/Class/Load.pm line 174
	Class::Load::try {...} () called at /home/sand/src/perl/repoperls/installed-perls/host/k93msid/v5.12.0/89ad/lib/site_perl/5.12.0/Try/Tiny.pm line 98
	eval {...} called at /home/sand/src/perl/repoperls/installed-perls/host/k93msid/v5.12.0/89ad/lib/site_perl/5.12.0/Try/Tiny.pm line 94
	Try::Tiny::try(CODE(0x563a9db551e0), Try::Tiny::Catch=REF(0x563a9dbb9f18)) called at /home/sand/src/perl/repoperls/installed-perls/host/k93msid/v5.12.0/89ad/lib/site_perl/5.12.0/Class/Load.pm line 180
	Class::Load::try_load_class("ComponentUI::TestModel::Foo", undef) called at /home/sand/src/perl/repoperls/installed-perls/host/k93msid/v5.12.0/89ad/lib/site_perl/5.12.0/Class/Load.pm line 35
	Class::Load::load_class("ComponentUI::TestModel::Foo") called at /tmp/loop_over_bdir-4869-otpfhx/Reaction-0.002005-0/blib/lib/Reaction/InterfaceModel/Reflector/DBIC.pm line 892
	eval {...} called at /tmp/loop_over_bdir-4869-otpfhx/Reaction-0.002005-0/blib/lib/Reaction/InterfaceModel/Reflector/DBIC.pm line 892
	Reaction::InterfaceModel::Reflector::DBIC::_maybe_load_class(Reaction::InterfaceModel::Reflector::DBIC=HASH(0x563a9d8c5258), "ComponentUI::TestModel::Foo") called at /tmp/loop_over_bdir-4869-otpfhx/Reaction-0.002005-0/blib/lib/Reaction/InterfaceModel/Reflector/DBIC.pm line 876
	Reaction::InterfaceModel::Reflector::DBIC::_load_or_create(Reaction::InterfaceModel::Reflector::DBIC=HASH(0x563a9d8c5258), "ComponentUI::TestModel::Foo", "superclasses", ARRAY(0x563a9dba0a70)) called at /tmp/loop_over_bdir-4869-otpfhx/Reaction-0.002005-0/blib/lib/Reaction/InterfaceModel/Reflector/DBIC.pm line 448
	Reaction::InterfaceModel::Reflector::DBIC::reflect_source_object(Reaction::InterfaceModel::Reflector::DBIC=HASH(0x563a9d8c5258), "schema_class", "RTest::TestDB", "source_name", "Foo", "source_class", "RTest::TestDB::Foo", "parent_class", ...) called at /tmp/loop_over_bdir-4869-otpfhx/Reaction-0.002005-0/blib/lib/Reaction/InterfaceModel/Reflector/DBIC.pm line 323
	Reaction::InterfaceModel::Reflector::DBIC::reflect_source(Reaction::InterfaceModel::Reflector::DBIC=HASH(0x563a9d8c5258), "source_name", "Foo", "parent_class", "ComponentUI::TestModel", "schema_class", "RTest::TestDB", "source_class", ...) called at /tmp/loop_over_bdir-4869-otpfhx/Reaction-0.002005-0/blib/lib/Reaction/InterfaceModel/Reflector/DBIC.pm line 185
	Reaction::InterfaceModel::Reflector::DBIC::reflect_schema(Reaction::InterfaceModel::Reflector::DBIC=HASH(0x563a9d8c5258), "model_class", "ComponentUI::TestModel", "schema_class", "RTest::TestDB", "sources", ARRAY(0x563a9d7e6bd8)) called at /tmp/loop_over_bdir-4869-otpfhx/Reaction-0.002005-0/blib/lib/ComponentUI/TestModel.pm line 10
	require ComponentUI/TestModel.pm called at /home/sand/src/perl/repoperls/installed-perls/host/k93msid/v5.12.0/89ad/lib/site_perl/5.12.0/Module/Runtime.pm line 317
	Module::Runtime::require_module("ComponentUI::TestModel") called at /home/sand/src/perl/repoperls/installed-perls/host/k93msid/v5.12.0/89ad/lib/site_perl/5.12.0/Class/Load.pm line 174
	Class::Load::try {...} () called at /home/sand/src/perl/repoperls/installed-perls/host/k93msid/v5.12.0/89ad/lib/site_perl/5.12.0/Try/Tiny.pm line 98
	eval {...} called at /home/sand/src/perl/repoperls/installed-perls/host/k93msid/v5.12.0/89ad/lib/site_perl/5.12.0/Try/Tiny.pm line 94
	Try::Tiny::try(CODE(0x563a9d505bd0), Try::Tiny::Catch=REF(0x563a9d441150)) called at /home/sand/src/perl/repoperls/installed-perls/host/k93msid/v5.12.0/89ad/lib/site_perl/5.12.0/Class/Load.pm line 180
	Class::Load::try_load_class("ComponentUI::TestModel", undef) called at /home/sand/src/perl/repoperls/installed-perls/host/k93msid/v5.12.0/89ad/lib/site_perl/5.12.0/Class/Load.pm line 35
	Class::Load::load_class("ComponentUI::TestModel") called at /tmp/loop_over_bdir-4869-otpfhx/Reaction-0.002005-0/blib/lib/Catalyst/Model/Reaction/InterfaceModel/DBIC.pm line 24
	Catalyst::Model::Reaction::InterfaceModel::DBIC::COMPONENT("ComponentUI::Model::TestModel", "ComponentUI", HASH(0x563a9a53b238)) called at /home/sand/src/perl/repoperls/installed-perls/host/k93msid/v5.12.0/89ad/lib/site_perl/5.12.0/Catalyst.pm line 3215
	eval {...} called at /home/sand/src/perl/repoperls/installed-perls/host/k93msid/v5.12.0/89ad/lib/site_perl/5.12.0/Catalyst.pm line 3216
	Catalyst::setup_component("ComponentUI", "ComponentUI::Model::TestModel") called at /home/sand/src/perl/repoperls/installed-perls/host/k93msid/v5.12.0/89ad/lib/site_perl/5.12.0/Catalyst.pm line 3193
	Catalyst::__ANON__() called at /home/sand/src/perl/repoperls/installed-perls/host/k93msid/v5.12.0/89ad/lib/site_perl/5.12.0/Catalyst.pm line 3039
	Catalyst::setup_components("ComponentUI") called at /home/sand/src/perl/repoperls/installed-perls/host/k93msid/v5.12.0/89ad/lib/site_perl/5.12.0/Catalyst.pm line 1422
	Catalyst::setup("ComponentUI") called at /tmp/loop_over_bdir-4869-otpfhx/Reaction-0.002005-0/blib/lib/ComponentUI.pm line 32
	require ComponentUI.pm called at /home/sand/src/perl/repoperls/installed-perls/host/k93msid/v5.12.0/89ad/lib/site_perl/5.12.0/Module/Runtime.pm line 317
	Module::Runtime::require_module("ComponentUI") called at /home/sand/src/perl/repoperls/installed-perls/host/k93msid/v5.12.0/89ad/lib/site_perl/5.12.0/Class/Load.pm line 174
	Class::Load::try {...} () called at /home/sand/src/perl/repoperls/installed-perls/host/k93msid/v5.12.0/89ad/lib/site_perl/5.12.0/Try/Tiny.pm line 98
	eval {...} called at /home/sand/src/perl/repoperls/installed-perls/host/k93msid/v5.12.0/89ad/lib/site_perl/5.12.0/Try/Tiny.pm line 94
	Try::Tiny::try(CODE(0x563a98b075f8), Try::Tiny::Catch=REF(0x563a98b03c70)) called at /home/sand/src/perl/repoperls/installed-perls/host/k93msid/v5.12.0/89ad/lib/site_perl/5.12.0/Class/Load.pm line 180
	Class::Load::try_load_class("ComponentUI", undef) called at /home/sand/src/perl/repoperls/installed-perls/host/k93msid/v5.12.0/89ad/lib/site_perl/5.12.0/Class/Load.pm line 35
	Class::Load::load_class("ComponentUI") called at /home/sand/src/perl/repoperls/installed-perls/host/k93msid/v5.12.0/89ad/lib/site_perl/5.12.0/Catalyst/Test.pm line 29
	Catalyst::Test::_build_request_export("Catalyst::Test", HASH(0x563a9800c2b8)) called at /home/sand/src/perl/repoperls/installed-perls/host/k93msid/v5.12.0/89ad/lib/site_perl/5.12.0/Catalyst/Test.pm line 92
	Catalyst::Test::__ANON__("Catalyst::Test", "all", HASH(0x563a9800c270), HASH(0x563a98effb40)) called at /home/sand/src/perl/repoperls/installed-perls/host/k93msid/v5.12.0/89ad/lib/site_perl/5.12.0/Sub/Exporter.pm line 108
	Sub::Exporter::_expand_group("Catalyst::Test", HASH(0x563a9800b7d8), ARRAY(0x563a98effb28), HASH(0x563a98effb40), HASH(0x563a9800c2e8), HASH(0x563a97fef5f8)) called at /home/sand/src/perl/repoperls/installed-perls/host/k93msid/v5.12.0/89ad/lib/site_perl/5.12.0/Sub/Exporter.pm line 39
	Sub::Exporter::_expand_groups("Catalyst::Test", HASH(0x563a9800b7d8), ARRAY(0x563a9800ba48), HASH(0x563a98effb40)) called at /home/sand/src/perl/repoperls/installed-perls/host/k93msid/v5.12.0/89ad/lib/site_perl/5.12.0/Sub/Exporter.pm line 323
	Sub::Exporter::__ANON__("Catalyst::Test", "-all", HASH(0x563a97fef568)) called at /home/sand/src/perl/repoperls/installed-perls/host/k93msid/v5.12.0/89ad/lib/site_perl/5.12.0/Catalyst/Test.pm line 155
	Catalyst::Test::import("Catalyst::Test", "ComponentUI") called at t/01app.t line 7
	main::BEGIN() called at /tmp/loop_over_bdir-4869-otpfhx/Reaction-0.002005-0/blib/lib/ComponentUI/TestModel/Foo.pm line 0
	eval {...} called at /tmp/loop_over_bdir-4869-otpfhx/Reaction-0.002005-0/blib/lib/ComponentUI/TestModel/Foo.pm line 0
	eval 'package main;
BEGIN { ${^WARNING_BITS} = $args[-1] if defined $args[-1] }
#line 7 t/01app.t
use Catalyst::Test @{$args[0]};
1;

;' called at /home/sand/src/perl/repoperls/installed-perls/host/k93msid/v5.12.0/89ad/lib/site_perl/5.12.0/Test/More.pm line 1032
	Test::More::_eval("package main;\x{a}BEGIN { \${^WARNING_BITS} = \$args[-1] if defined"..., ARRAY(0x563a97fd7a60), "UUUUUUUUUUUU") called at /home/sand/src/perl/repoperls/installed-perls/host/k93msid/v5.12.0/89ad/lib/site_perl/5.12.0/Test/More.pm line 1007
	Test::More::use_ok("Catalyst::Test", "ComponentUI") called at t/01app.t line 7
	main::BEGIN() called at /tmp/loop_over_bdir-4869-otpfhx/Reaction-0.002005-0/blib/lib/ComponentUI/TestModel/Foo.pm line 0
	eval {...} called at /tmp/loop_over_bdir-4869-otpfhx/Reaction-0.002005-0/blib/lib/ComponentUI/TestModel/Foo.pm line 0
Class::MOP::load_class is deprecated at /home/sand/src/perl/repoperls/installed-perls/host/k93msid/v5.12.0/89ad/lib/site_perl/5.12.0/x86_64-linux/Class/MOP.pm line 69.
	Class::MOP::load_class("ComponentUI::RenderingContext::Site") called at /tmp/loop_over_bdir-4869-otpfhx/Reaction-0.002005-0/blib/lib/Reaction/UI/View.pm line 125
	eval {...} called at /tmp/loop_over_bdir-4869-otpfhx/Reaction-0.002005-0/blib/lib/Reaction/UI/View.pm line 125
	Reaction::UI::View::find_related_class(ComponentUI::View::Site=HASH(0x563a9cea6ac8), "RenderingContext") called at /tmp/loop_over_bdir-4869-otpfhx/Reaction-0.002005-0/blib/lib/Reaction/UI/View.pm line 43
	Reaction::UI::View::_build_rendering_context_class(ComponentUI::View::Site=HASH(0x563a9cea6ac8)) called at reader Reaction::UI::View::rendering_context_class (defined at /tmp/loop_over_bdir-4869-otpfhx/Reaction-0.002005-0/blib/lib/Reaction/UI/View.pm line 29) line 7
	Reaction::UI::View::rendering_context_class(ComponentUI::View::Site=HASH(0x563a9cea6ac8)) called at /tmp/loop_over_bdir-4869-otpfhx/Reaction-0.002005-0/blib/lib/Reaction/UI/View.pm line 134
	Reaction::UI::View::create_rendering_context(ComponentUI::View::Site=HASH(0x563a9cea6ac8)) called at /tmp/loop_over_bdir-4869-otpfhx/Reaction-0.002005-0/blib/lib/Reaction/UI/View.pm line 60
	Reaction::UI::View::render_window(ComponentUI::View::Site=HASH(0x563a9cea6ac8), Reaction::UI::Window=HASH(0x7efeb1611b40)) called at /tmp/loop_over_bdir-4869-otpfhx/Reaction-0.002005-0/blib/lib/Reaction/UI/Window.pm line 74
	Reaction::UI::Window::flush_view(Reaction::UI::Window=HASH(0x7efeb1611b40)) called at /tmp/loop_over_bdir-4869-otpfhx/Reaction-0.002005-0/blib/lib/Reaction/UI/Window.pm line 36
	Reaction::UI::Window::flush(Reaction::UI::Window=HASH(0x7efeb1611b40)) called at /tmp/loop_over_bdir-4869-otpfhx/Reaction-0.002005-0/blib/lib/Reaction/UI/Controller/Root.pm line 38
	Reaction::UI::Controller::Root::end(ComponentUI::Controller::Root=HASH(0x7efeb160f128), ComponentUI=HASH(0x7efeb160e2b8)) called at /home/sand/src/perl/repoperls/installed-perls/host/k93msid/v5.12.0/89ad/lib/site_perl/5.12.0/Catalyst/Action.pm line 358
	Catalyst::Action::execute(Catalyst::Action=HASH(0x563a9de47368), ComponentUI::Controller::Root=HASH(0x7efeb160f128), ComponentUI=HASH(0x7efeb160e2b8)) called at /home/sand/src/perl/repoperls/installed-perls/host/k93msid/v5.12.0/89ad/lib/site_perl/5.12.0/Catalyst.pm line 2052
	eval {...} called at /home/sand/src/perl/repoperls/installed-perls/host/k93msid/v5.12.0/89ad/lib/site_perl/5.12.0/Catalyst.pm line 2052
	Catalyst::execute(ComponentUI=HASH(0x7efeb160e2b8), "ComponentUI::Controller::Root", Catalyst::Action=HASH(0x563a9de47368)) called at /home/sand/src/perl/repoperls/installed-perls/host/k93msid/v5.12.0/89ad/lib/site_perl/5.12.0/Catalyst/Action.pm line 353
	Catalyst::Action::dispatch(Catalyst::Action=HASH(0x563a9de47368), ComponentUI=HASH(0x7efeb160e2b8)) called at /home/sand/src/perl/repoperls/installed-perls/host/k93msid/v5.12.0/89ad/lib/site_perl/5.12.0/Catalyst/Controller.pm line 189
	Catalyst::Controller::_END(ComponentUI::Controller::Root=HASH(0x7efeb160f128), ComponentUI=HASH(0x7efeb160e2b8)) called at /home/sand/src/perl/repoperls/installed-perls/host/k93msid/v5.12.0/89ad/lib/site_perl/5.12.0/Catalyst/Action.pm line 358
	Catalyst::Action::execute(Catalyst::Action=HASH(0x563a9de1b1f0), ComponentUI::Controller::Root=HASH(0x7efeb160f128), ComponentUI=HASH(0x7efeb160e2b8)) called at /home/sand/src/perl/repoperls/installed-perls/host/k93msid/v5.12.0/89ad/lib/site_perl/5.12.0/Catalyst.pm line 2052
	eval {...} called at /home/sand/src/perl/repoperls/installed-perls/host/k93msid/v5.12.0/89ad/lib/site_perl/5.12.0/Catalyst.pm line 2052
	Catalyst::execute(ComponentUI=HASH(0x7efeb160e2b8), "ComponentUI::Controller::Root", Catalyst::Action=HASH(0x563a9de1b1f0)) called at /home/sand/src/perl/repoperls/installed-perls/host/k93msid/v5.12.0/89ad/lib/site_perl/5.12.0/Catalyst/Action.pm line 353
	Catalyst::Action::dispatch(Catalyst::Action=HASH(0x563a9de1b1f0), ComponentUI=HASH(0x7efeb160e2b8)) called at /home/sand/src/perl/repoperls/installed-perls/host/k93msid/v5.12.0/89ad/lib/site_perl/5.12.0/Catalyst/Dispatcher.pm line 262
	Catalyst::Dispatcher::_do_forward(Catalyst::Dispatcher=HASH(0x563a996bdda0), "forward", ComponentUI=HASH(0x7efeb160e2b8), "_END") called at /home/sand/src/perl/repoperls/installed-perls/host/k93msid/v5.12.0/89ad/lib/site_perl/5.12.0/Catalyst/Dispatcher.pm line 242
	Catalyst::Dispatcher::forward(Catalyst::Dispatcher=HASH(0x563a996bdda0), ComponentUI=HASH(0x7efeb160e2b8), "_END") called at /home/sand/src/perl/repoperls/installed-perls/host/k93msid/v5.12.0/89ad/lib/site_perl/5.12.0/Catalyst.pm line 477
	Catalyst::forward(ComponentUI=HASH(0x7efeb160e2b8), "_END") called at /home/sand/src/perl/repoperls/installed-perls/host/k93msid/v5.12.0/89ad/lib/site_perl/5.12.0/Catalyst/Controller.pm line 138
	Catalyst::Controller::_DISPATCH(ComponentUI::Controller::Root=HASH(0x7efeb160f128), ComponentUI=HASH(0x7efeb160e2b8)) called at /home/sand/src/perl/repoperls/installed-perls/host/k93msid/v5.12.0/89ad/lib/site_perl/5.12.0/Catalyst/Action.pm line 358
	Catalyst::Action::execute(Catalyst::Action=HASH(0x563a9de47740), ComponentUI::Controller::Root=HASH(0x7efeb160f128), ComponentUI=HASH(0x7efeb160e2b8)) called at /home/sand/src/perl/repoperls/installed-perls/host/k93msid/v5.12.0/89ad/lib/site_perl/5.12.0/Catalyst.pm line 2052
	eval {...} called at /home/sand/src/perl/repoperls/installed-perls/host/k93msid/v5.12.0/89ad/lib/site_perl/5.12.0/Catalyst.pm line 2052
	Catalyst::execute(ComponentUI=HASH(0x7efeb160e2b8), "ComponentUI::Controller::Root", Catalyst::Action=HASH(0x563a9de47740)) called at /home/sand/src/perl/repoperls/installed-perls/host/k93msid/v5.12.0/89ad/lib/site_perl/5.12.0/Catalyst/Action.pm line 353
	Catalyst::Action::dispatch(Catalyst::Action=HASH(0x563a9de47740), ComponentUI=HASH(0x7efeb160e2b8)) called at /home/sand/src/perl/repoperls/installed-perls/host/k93msid/v5.12.0/89ad/lib/site_perl/5.12.0/Catalyst/Dispatcher.pm line 262
	Catalyst::Dispatcher::_do_forward(Catalyst::Dispatcher=HASH(0x563a996bdda0), "forward", ComponentUI=HASH(0x7efeb160e2b8), "//_DISPATCH") called at /home/sand/src/perl/repoperls/installed-perls/host/k93msid/v5.12.0/89ad/lib/site_perl/5.12.0/Catalyst/Dispatcher.pm line 242
	Catalyst::Dispatcher::forward(Catalyst::Dispatcher=HASH(0x563a996bdda0), ComponentUI=HASH(0x7efeb160e2b8), "//_DISPATCH") called at /home/sand/src/perl/repoperls/installed-perls/host/k93msid/v5.12.0/89ad/lib/site_perl/5.12.0/Catalyst.pm line 477
	Catalyst::forward(ComponentUI=HASH(0x7efeb160e2b8), "//_DISPATCH") called at /home/sand/src/perl/repoperls/installed-perls/host/k93msid/v5.12.0/89ad/lib/site_perl/5.12.0/Catalyst/Dispatcher.pm line 107
	Catalyst::Dispatcher::dispatch(Catalyst::Dispatcher=HASH(0x563a996bdda0), ComponentUI=HASH(0x7efeb160e2b8)) called at /home/sand/src/perl/repoperls/installed-perls/host/k93msid/v5.12.0/89ad/lib/site_perl/5.12.0/Catalyst.pm line 1998
	Catalyst::dispatch(ComponentUI=HASH(0x7efeb160e2b8)) called at /home/sand/src/perl/repoperls/installed-perls/host/k93msid/v5.12.0/89ad/lib/site_perl/5.12.0/Catalyst/Plugin/Static/Simple.pm line 86
	Class::MOP::Class:::around(CODE(0x563a99abe118), ComponentUI=HASH(0x7efeb160e2b8)) called at /home/sand/src/perl/repoperls/installed-perls/host/k93msid/v5.12.0/89ad/lib/site_perl/5.12.0/x86_64-linux/Class/MOP/Method/Wrapped.pm line 164
	ComponentUI::_wrapped_dispatch(ComponentUI=HASH(0x7efeb160e2b8)) called at /home/sand/src/perl/repoperls/installed-perls/host/k93msid/v5.12.0/89ad/lib/site_perl/5.12.0/x86_64-linux/Class/MOP/Method/Wrapped.pm line 95
	ComponentUI::dispatch(ComponentUI=HASH(0x7efeb160e2b8)) called at /home/sand/src/perl/repoperls/installed-perls/host/k93msid/v5.12.0/89ad/lib/site_perl/5.12.0/Catalyst.pm line 2393
	Catalyst::try {...} () called at /home/sand/src/perl/repoperls/installed-perls/host/k93msid/v5.12.0/89ad/lib/site_perl/5.12.0/Try/Tiny.pm line 103
	eval {...} called at /home/sand/src/perl/repoperls/installed-perls/host/k93msid/v5.12.0/89ad/lib/site_perl/5.12.0/Try/Tiny.pm line 94
	Try::Tiny::try(CODE(0x7efeb160dbc8), Try::Tiny::Catch=REF(0x7efeb160d9e8)) called at /home/sand/src/perl/repoperls/installed-perls/host/k93msid/v5.12.0/89ad/lib/site_perl/5.12.0/Catalyst.pm line 2402
	Catalyst::handle_request("ComponentUI", "env", HASH(0x7efeb160be88), "response_cb", CODE(0x7efeb160da48)) called at /home/sand/src/perl/repoperls/installed-perls/host/k93msid/v5.12.0/89ad/lib/site_perl/5.12.0/Catalyst/Engine.pm line 800
	Catalyst::Engine::__ANON__(CODE(0x7efeb160da48)) called at /home/sand/src/perl/repoperls/installed-perls/host/k93msid/v5.12.0/89ad/lib/site_perl/5.12.0/Plack/Middleware/HTTPExceptions.pm line 32
	Plack::Middleware::HTTPExceptions::try {...} () called at /home/sand/src/perl/repoperls/installed-perls/host/k93msid/v5.12.0/89ad/lib/site_perl/5.12.0/Try/Tiny.pm line 103
	eval {...} called at /home/sand/src/perl/repoperls/installed-perls/host/k93msid/v5.12.0/89ad/lib/site_perl/5.12.0/Try/Tiny.pm line 94
	Try::Tiny::try(CODE(0x7efeb160d808), Try::Tiny::Catch=REF(0x7efeb160ca28)) called at /home/sand/src/perl/repoperls/installed-perls/host/k93msid/v5.12.0/89ad/lib/site_perl/5.12.0/Plack/Middleware/HTTPExceptions.pm line 41
	Plack::Middleware::HTTPExceptions::__ANON__(CODE(0x7efeb160d6b8)) called at /home/sand/src/perl/repoperls/installed-perls/host/k93msid/v5.12.0/89ad/lib/site_perl/5.12.0/Plack/Util.pm line 339
	Plack::Util::__ANON__(CODE(0x7efeb160d568)) called at /home/sand/src/perl/repoperls/installed-perls/host/k93msid/v5.12.0/89ad/lib/site_perl/5.12.0/Plack/Util.pm line 339
	Plack::Util::__ANON__(CODE(0x7efeb160d418)) called at /home/sand/src/perl/repoperls/installed-perls/host/k93msid/v5.12.0/89ad/lib/site_perl/5.12.0/Plack/Util.pm line 339
	Plack::Util::__ANON__(CODE(0x7efeb160d370)) called at /home/sand/src/perl/repoperls/installed-perls/host/k93msid/v5.12.0/89ad/lib/site_perl/5.12.0/HTTP/Message/PSGI.pm line 100
	HTTP::Message::PSGI::res_from_psgi(CODE(0x7efeb160c878)) called at /home/sand/src/perl/repoperls/installed-perls/host/k93msid/v5.12.0/89ad/lib/site_perl/5.12.0/HTTP/Message/PSGI.pm line 156
	HTTP::Response::from_psgi("HTTP::Response", CODE(0x7efeb160c878)) called at /home/sand/src/perl/repoperls/installed-perls/host/k93msid/v5.12.0/89ad/lib/site_perl/5.12.0/Plack/Test/MockHTTP.pm line 24
	Plack::Test::MockHTTP::try {...} () called at /home/sand/src/perl/repoperls/installed-perls/host/k93msid/v5.12.0/89ad/lib/site_perl/5.12.0/Try/Tiny.pm line 98
	eval {...} called at /home/sand/src/perl/repoperls/installed-perls/host/k93msid/v5.12.0/89ad/lib/site_perl/5.12.0/Try/Tiny.pm line 94
	Try::Tiny::try(CODE(0x563a97fef370), Try::Tiny::Catch=REF(0x563a9dec7318)) called at /home/sand/src/perl/repoperls/installed-perls/host/k93msid/v5.12.0/89ad/lib/site_perl/5.12.0/Plack/Test/MockHTTP.pm line 27
	Plack::Test::MockHTTP::request(Plack::Test::MockHTTP=HASH(0x7efeb1603c80), HTTP::Request=HASH(0x7efeb16036e0)) called at /home/sand/src/perl/repoperls/installed-perls/host/k93msid/v5.12.0/89ad/lib/site_perl/5.12.0/Plack/Test.pm line 38
	Plack::Test::__ANON__(HTTP::Request=HASH(0x7efeb16036e0)) called at /home/sand/src/perl/repoperls/installed-perls/host/k93msid/v5.12.0/89ad/lib/site_perl/5.12.0/Catalyst/Test.pm line 281
	Catalyst::Test::__ANON__(CODE(0x7efeb1603b00)) called at /home/sand/src/perl/repoperls/installed-perls/host/k93msid/v5.12.0/89ad/lib/site_perl/5.12.0/Plack/Test.pm line 38
	Plack::Test::test_psgi("app", CODE(0x7efeb1602ea0), "mangle_response", CODE(0x563a98f00440), "app", CODE(0x7efeb1603818), "client", CODE(0x7efeb16038f0)) called at /home/sand/src/perl/repoperls/installed-perls/host/k93msid/v5.12.0/89ad/lib/site_perl/5.12.0/Catalyst/Test.pm line 284
	Catalyst::Test::_request(HASH(0x7efeb1602dc8), "/") called at /home/sand/src/perl/repoperls/installed-perls/host/k93msid/v5.12.0/89ad/lib/site_perl/5.12.0/Catalyst/Test.pm line 327
	Catalyst::Test::_local_request("ComponentUI", "/") called at /home/sand/src/perl/repoperls/installed-perls/host/k93msid/v5.12.0/89ad/lib/site_perl/5.12.0/Catalyst/Test.pm line 32
	Catalyst::Test::__ANON__("/") called at t/01app.t line 10
Class::MOP::is_class_loaded is deprecated at /home/sand/src/perl/repoperls/installed-perls/host/k93msid/v5.12.0/89ad/lib/site_perl/5.12.0/x86_64-linux/Class/MOP.pm line 87.
	Class::MOP::is_class_loaded("ComponentUI::UI::Widget::SiteLayout") called at /tmp/loop_over_bdir-4869-otpfhx/Reaction-0.002005-0/blib/lib/Reaction/UI/Skin.pm line 178
	Reaction::UI::Skin::widget_class_for(Reaction::UI::Skin=HASH(0x7efeb161c0e8), Reaction::UI::LayoutSet::TT=HASH(0x7efeb1623c90)) called at /tmp/loop_over_bdir-4869-otpfhx/Reaction-0.002005-0/blib/lib/Reaction/UI/LayoutSet.pm line 28
	Reaction::UI::LayoutSet::BUILD(Reaction::UI::LayoutSet::TT=HASH(0x7efeb1623c90), HASH(0x7efeb1623c00)) called at constructor Reaction::UI::LayoutSet::TT::new (defined at /tmp/loop_over_bdir-4869-otpfhx/Reaction-0.002005-0/blib/lib/Reaction/UI/LayoutSet/TT.pm line 43) line 80
	Reaction::UI::LayoutSet::TT::new("Reaction::UI::LayoutSet::TT", "name", "site_layout", "skin", Reaction::UI::Skin=HASH(0x7efeb161c0e8), "tt_object", Template=HASH(0x563a9dcf5f28), "source_file", ...) called at /tmp/loop_over_bdir-4869-otpfhx/Reaction-0.002005-0/blib/lib/Reaction/UI/Skin.pm line 114
	Reaction::UI::Skin::_create_layout_set(Reaction::UI::Skin=HASH(0x7efeb161c0e8), "site_layout", ARRAY(0x7efeb1621200), Reaction::UI::Skin=HASH(0x7efeb161c0e8)) called at /tmp/loop_over_bdir-4869-otpfhx/Reaction-0.002005-0/blib/lib/Reaction/UI/Skin.pm line 110
	Reaction::UI::Skin::create_layout_set(Reaction::UI::Skin=HASH(0x7efeb161c0e8), "site_layout") called at /tmp/loop_over_bdir-4869-otpfhx/Reaction-0.002005-0/blib/lib/Reaction/UI/LayoutSet.pm line 83
	Reaction::UI::LayoutSet::_load_file(Reaction::UI::LayoutSet::TT=HASH(0x7efeb16222c8), Path::Class::File=HASH(0x7efeb161e5a8), HASH(0x7efeb1622250)) called at /tmp/loop_over_bdir-4869-otpfhx/Reaction-0.002005-0/blib/lib/Reaction/UI/LayoutSet.pm line 27
	Reaction::UI::LayoutSet::BUILD(Reaction::UI::LayoutSet::TT=HASH(0x7efeb16222c8), HASH(0x7efeb1622250)) called at constructor Reaction::UI::LayoutSet::TT::new (defined at /tmp/loop_over_bdir-4869-otpfhx/Reaction-0.002005-0/blib/lib/Reaction/UI/LayoutSet/TT.pm line 43) line 80
	Reaction::UI::LayoutSet::TT::new("Reaction::UI::LayoutSet::TT", "name", "site_layout", "skin", Reaction::UI::Skin=HASH(0x7efeb161a8d0), "next_skin", Reaction::UI::Skin=HASH(0x7efeb161c0e8), "tt_object", ...) called at /tmp/loop_over_bdir-4869-otpfhx/Reaction-0.002005-0/blib/lib/Reaction/UI/Skin.pm line 114
	Reaction::UI::Skin::_create_layout_set(Reaction::UI::Skin=HASH(0x7efeb161a8d0), "site_layout", ARRAY(0x7efeb1612e00), Reaction::UI::Skin=HASH(0x7efeb161a8d0)) called at /tmp/loop_over_bdir-4869-otpfhx/Reaction-0.002005-0/blib/lib/Reaction/UI/Skin.pm line 110
	Reaction::UI::Skin::create_layout_set(Reaction::UI::Skin=HASH(0x7efeb161a8d0), "site_layout") called at /tmp/loop_over_bdir-4869-otpfhx/Reaction-0.002005-0/blib/lib/Reaction/UI/LayoutSet.pm line 83
	Reaction::UI::LayoutSet::_load_file(Reaction::UI::LayoutSet::TT=HASH(0x7efeb1613b50), Path::Class::File=HASH(0x7efeb1612a58), HASH(0x7efeb161a558)) called at /tmp/loop_over_bdir-4869-otpfhx/Reaction-0.002005-0/blib/lib/Reaction/UI/LayoutSet.pm line 27
	Reaction::UI::LayoutSet::BUILD(Reaction::UI::LayoutSet::TT=HASH(0x7efeb1613b50), HASH(0x7efeb161a558)) called at constructor Reaction::UI::LayoutSet::TT::new (defined at /tmp/loop_over_bdir-4869-otpfhx/Reaction-0.002005-0/blib/lib/Reaction/UI/LayoutSet/TT.pm line 43) line 80
	Reaction::UI::LayoutSet::TT::new("Reaction::UI::LayoutSet::TT", "name", "site_layout", "skin", Reaction::UI::Skin=HASH(0x7efeb1612a88), "next_skin", Reaction::UI::Skin=HASH(0x7efeb161a8d0), "tt_object", ...) called at /tmp/loop_over_bdir-4869-otpfhx/Reaction-0.002005-0/blib/lib/Reaction/UI/Skin.pm line 114
	Reaction::UI::Skin::_create_layout_set(Reaction::UI::Skin=HASH(0x7efeb1612a88), "site_layout", ARRAY(0x7efeb1612428), Reaction::UI::Skin=HASH(0x7efeb1612a88)) called at /tmp/loop_over_bdir-4869-otpfhx/Reaction-0.002005-0/blib/lib/Reaction/UI/Skin.pm line 110
	Reaction::UI::Skin::create_layout_set(Reaction::UI::Skin=HASH(0x7efeb1612a88), "site_layout") called at inline delegation in Reaction::UI::View for skin->create_layout_set (attribute declared in /tmp/loop_over_bdir-4869-otpfhx/Reaction-0.002005-0/blib/lib/Reaction/UI/View.pm at line 22) line 18
	Reaction::UI::View::create_layout_set(ComponentUI::View::Site=HASH(0x563a9cea6ac8), "site_layout") called at /tmp/loop_over_bdir-4869-otpfhx/Reaction-0.002005-0/blib/lib/Reaction/UI/View.pm line 99
	Reaction::UI::View::layout_set_for(ComponentUI::View::Site=HASH(0x563a9cea6ac8), Reaction::UI::ViewPort::SiteLayout=HASH(0x7efeb1612188)) called at /tmp/loop_over_bdir-4869-otpfhx/Reaction-0.002005-0/blib/lib/Reaction/UI/View.pm line 78
	Reaction::UI::View::render_viewport_args(ComponentUI::View::Site=HASH(0x563a9cea6ac8), Reaction::UI::ViewPort::SiteLayout=HASH(0x7efeb1612188)) called at /tmp/loop_over_bdir-4869-otpfhx/Reaction-0.002005-0/blib/lib/Reaction/UI/View.pm line 61
	Reaction::UI::View::render_window(ComponentUI::View::Site=HASH(0x563a9cea6ac8), Reaction::UI::Window=HASH(0x7efeb1611b40)) called at /tmp/loop_over_bdir-4869-otpfhx/Reaction-0.002005-0/blib/lib/Reaction/UI/Window.pm line 74
	Reaction::UI::Window::flush_view(Reaction::UI::Window=HASH(0x7efeb1611b40)) called at /tmp/loop_over_bdir-4869-otpfhx/Reaction-0.002005-0/blib/lib/Reaction/UI/Window.pm line 36
	Reaction::UI::Window::flush(Reaction::UI::Window=HASH(0x7efeb1611b40)) called at /tmp/loop_over_bdir-4869-otpfhx/Reaction-0.002005-0/blib/lib/Reaction/UI/Controller/Root.pm line 38
	Reaction::UI::Controller::Root::end(ComponentUI::Controller::Root=HASH(0x7efeb160f128), ComponentUI=HASH(0x7efeb160e2b8)) called at /home/sand/src/perl/repoperls/installed-perls/host/k93msid/v5.12.0/89ad/lib/site_perl/5.12.0/Catalyst/Action.pm line 358
	Catalyst::Action::execute(Catalyst::Action=HASH(0x563a9de47368), ComponentUI::Controller::Root=HASH(0x7efeb160f128), ComponentUI=HASH(0x7efeb160e2b8)) called at /home/sand/src/perl/repoperls/installed-perls/host/k93msid/v5.12.0/89ad/lib/site_perl/5.12.0/Catalyst.pm line 2052
	eval {...} called at /home/sand/src/perl/repoperls/installed-perls/host/k93msid/v5.12.0/89ad/lib/site_perl/5.12.0/Catalyst.pm line 2052
	Catalyst::execute(ComponentUI=HASH(0x7efeb160e2b8), "ComponentUI::Controller::Root", Catalyst::Action=HASH(0x563a9de47368)) called at /home/sand/src/perl/repoperls/installed-perls/host/k93msid/v5.12.0/89ad/lib/site_perl/5.12.0/Catalyst/Action.pm line 353
	Catalyst::Action::dispatch(Catalyst::Action=HASH(0x563a9de47368), ComponentUI=HASH(0x7efeb160e2b8)) called at /home/sand/src/perl/repoperls/installed-perls/host/k93msid/v5.12.0/89ad/lib/site_perl/5.12.0/Catalyst/Controller.pm line 189
	Catalyst::Controller::_END(ComponentUI::Controller::Root=HASH(0x7efeb160f128), ComponentUI=HASH(0x7efeb160e2b8)) called at /home/sand/src/perl/repoperls/installed-perls/host/k93msid/v5.12.0/89ad/lib/site_perl/5.12.0/Catalyst/Action.pm line 358
	Catalyst::Action::execute(Catalyst::Action=HASH(0x563a9de1b1f0), ComponentUI::Controller::Root=HASH(0x7efeb160f128), ComponentUI=HASH(0x7efeb160e2b8)) called at /home/sand/src/perl/repoperls/installed-perls/host/k93msid/v5.12.0/89ad/lib/site_perl/5.12.0/Catalyst.pm line 2052
	eval {...} called at /home/sand/src/perl/repoperls/installed-perls/host/k93msid/v5.12.0/89ad/lib/site_perl/5.12.0/Catalyst.pm line 2052
	Catalyst::execute(ComponentUI=HASH(0x7efeb160e2b8), "ComponentUI::Controller::Root", Catalyst::Action=HASH(0x563a9de1b1f0)) called at /home/sand/src/perl/repoperls/installed-perls/host/k93msid/v5.12.0/89ad/lib/site_perl/5.12.0/Catalyst/Action.pm line 353
	Catalyst::Action::dispatch(Catalyst::Action=HASH(0x563a9de1b1f0), ComponentUI=HASH(0x7efeb160e2b8)) called at /home/sand/src/perl/repoperls/installed-perls/host/k93msid/v5.12.0/89ad/lib/site_perl/5.12.0/Catalyst/Dispatcher.pm line 262
	Catalyst::Dispatcher::_do_forward(Catalyst::Dispatcher=HASH(0x563a996bdda0), "forward", ComponentUI=HASH(0x7efeb160e2b8), "_END") called at /home/sand/src/perl/repoperls/installed-perls/host/k93msid/v5.12.0/89ad/lib/site_perl/5.12.0/Catalyst/Dispatcher.pm line 242
	Catalyst::Dispatcher::forward(Catalyst::Dispatcher=HASH(0x563a996bdda0), ComponentUI=HASH(0x7efeb160e2b8), "_END") called at /home/sand/src/perl/repoperls/installed-perls/host/k93msid/v5.12.0/89ad/lib/site_perl/5.12.0/Catalyst.pm line 477
	Catalyst::forward(ComponentUI=HASH(0x7efeb160e2b8), "_END") called at /home/sand/src/perl/repoperls/installed-perls/host/k93msid/v5.12.0/89ad/lib/site_perl/5.12.0/Catalyst/Controller.pm line 138
	Catalyst::Controller::_DISPATCH(ComponentUI::Controller::Root=HASH(0x7efeb160f128), ComponentUI=HASH(0x7efeb160e2b8)) called at /home/sand/src/perl/repoperls/installed-perls/host/k93msid/v5.12.0/89ad/lib/site_perl/5.12.0/Catalyst/Action.pm line 358
	Catalyst::Action::execute(Catalyst::Action=HASH(0x563a9de47740), ComponentUI::Controller::Root=HASH(0x7efeb160f128), ComponentUI=HASH(0x7efeb160e2b8)) called at /home/sand/src/perl/repoperls/installed-perls/host/k93msid/v5.12.0/89ad/lib/site_perl/5.12.0/Catalyst.pm line 2052
	eval {...} called at /home/sand/src/perl/repoperls/installed-perls/host/k93msid/v5.12.0/89ad/lib/site_perl/5.12.0/Catalyst.pm line 2052
	Catalyst::execute(ComponentUI=HASH(0x7efeb160e2b8), "ComponentUI::Controller::Root", Catalyst::Action=HASH(0x563a9de47740)) called at /home/sand/src/perl/repoperls/installed-perls/host/k93msid/v5.12.0/89ad/lib/site_perl/5.12.0/Catalyst/Action.pm line 353
	Catalyst::Action::dispatch(Catalyst::Action=HASH(0x563a9de47740), ComponentUI=HASH(0x7efeb160e2b8)) called at /home/sand/src/perl/repoperls/installed-perls/host/k93msid/v5.12.0/89ad/lib/site_perl/5.12.0/Catalyst/Dispatcher.pm line 262
	Catalyst::Dispatcher::_do_forward(Catalyst::Dispatcher=HASH(0x563a996bdda0), "forward", ComponentUI=HASH(0x7efeb160e2b8), "//_DISPATCH") called at /home/sand/src/perl/repoperls/installed-perls/host/k93msid/v5.12.0/89ad/lib/site_perl/5.12.0/Catalyst/Dispatcher.pm line 242
	Catalyst::Dispatcher::forward(Catalyst::Dispatcher=HASH(0x563a996bdda0), ComponentUI=HASH(0x7efeb160e2b8), "//_DISPATCH") called at /home/sand/src/perl/repoperls/installed-perls/host/k93msid/v5.12.0/89ad/lib/site_perl/5.12.0/Catalyst.pm line 477
	Catalyst::forward(ComponentUI=HASH(0x7efeb160e2b8), "//_DISPATCH") called at /home/sand/src/perl/repoperls/installed-perls/host/k93msid/v5.12.0/89ad/lib/site_perl/5.12.0/Catalyst/Dispatcher.pm line 107
	Catalyst::Dispatcher::dispatch(Catalyst::Dispatcher=HASH(0x563a996bdda0), ComponentUI=HASH(0x7efeb160e2b8)) called at /home/sand/src/perl/repoperls/installed-perls/host/k93msid/v5.12.0/89ad/lib/site_perl/5.12.0/Catalyst.pm line 1998
	Catalyst::dispatch(ComponentUI=HASH(0x7efeb160e2b8)) called at /home/sand/src/perl/repoperls/installed-perls/host/k93msid/v5.12.0/89ad/lib/site_perl/5.12.0/Catalyst/Plugin/Static/Simple.pm line 86
	Class::MOP::Class:::around(CODE(0x563a99abe118), ComponentUI=HASH(0x7efeb160e2b8)) called at /home/sand/src/perl/repoperls/installed-perls/host/k93msid/v5.12.0/89ad/lib/site_perl/5.12.0/x86_64-linux/Class/MOP/Method/Wrapped.pm line 164
	ComponentUI::_wrapped_dispatch(ComponentUI=HASH(0x7efeb160e2b8)) called at /home/sand/src/perl/repoperls/installed-perls/host/k93msid/v5.12.0/89ad/lib/site_perl/5.12.0/x86_64-linux/Class/MOP/Method/Wrapped.pm line 95
	ComponentUI::dispatch(ComponentUI=HASH(0x7efeb160e2b8)) called at /home/sand/src/perl/repoperls/installed-perls/host/k93msid/v5.12.0/89ad/lib/site_perl/5.12.0/Catalyst.pm line 2393
	Catalyst::try {...} () called at /home/sand/src/perl/repoperls/installed-perls/host/k93msid/v5.12.0/89ad/lib/site_perl/5.12.0/Try/Tiny.pm line 103
	eval {...} called at /home/sand/src/perl/repoperls/installed-perls/host/k93msid/v5.12.0/89ad/lib/site_perl/5.12.0/Try/Tiny.pm line 94
	Try::Tiny::try(CODE(0x7efeb160dbc8), Try::Tiny::Catch=REF(0x7efeb160d9e8)) called at /home/sand/src/perl/repoperls/installed-perls/host/k93msid/v5.12.0/89ad/lib/site_perl/5.12.0/Catalyst.pm line 2402
	Catalyst::handle_request("ComponentUI", "env", HASH(0x7efeb160be88), "response_cb", CODE(0x7efeb160da48)) called at /home/sand/src/perl/repoperls/installed-perls/host/k93msid/v5.12.0/89ad/lib/site_perl/5.12.0/Catalyst/Engine.pm line 800
	Catalyst::Engine::__ANON__(CODE(0x7efeb160da48)) called at /home/sand/src/perl/repoperls/installed-perls/host/k93msid/v5.12.0/89ad/lib/site_perl/5.12.0/Plack/Middleware/HTTPExceptions.pm line 32
	Plack::Middleware::HTTPExceptions::try {...} () called at /home/sand/src/perl/repoperls/installed-perls/host/k93msid/v5.12.0/89ad/lib/site_perl/5.12.0/Try/Tiny.pm line 103
	eval {...} called at /home/sand/src/perl/repoperls/installed-perls/host/k93msid/v5.12.0/89ad/lib/site_perl/5.12.0/Try/Tiny.pm line 94
	Try::Tiny::try(CODE(0x7efeb160d808), Try::Tiny::Catch=REF(0x7efeb160ca28)) called at /home/sand/src/perl/repoperls/installed-perls/host/k93msid/v5.12.0/89ad/lib/site_perl/5.12.0/Plack/Middleware/HTTPExceptions.pm line 41
	Plack::Middleware::HTTPExceptions::__ANON__(CODE(0x7efeb160d6b8)) called at /home/sand/src/perl/repoperls/installed-perls/host/k93msid/v5.12.0/89ad/lib/site_perl/5.12.0/Plack/Util.pm line 339
	Plack::Util::__ANON__(CODE(0x7efeb160d568)) called at /home/sand/src/perl/repoperls/installed-perls/host/k93msid/v5.12.0/89ad/lib/site_perl/5.12.0/Plack/Util.pm line 339
	Plack::Util::__ANON__(CODE(0x7efeb160d418)) called at /home/sand/src/perl/repoperls/installed-perls/host/k93msid/v5.12.0/89ad/lib/site_perl/5.12.0/Plack/Util.pm line 339
	Plack::Util::__ANON__(CODE(0x7efeb160d370)) called at /home/sand/src/perl/repoperls/installed-perls/host/k93msid/v5.12.0/89ad/lib/site_perl/5.12.0/HTTP/Message/PSGI.pm line 100
	HTTP::Message::PSGI::res_from_psgi(CODE(0x7efeb160c878)) called at /home/sand/src/perl/repoperls/installed-perls/host/k93msid/v5.12.0/89ad/lib/site_perl/5.12.0/HTTP/Message/PSGI.pm line 156
	HTTP::Response::from_psgi("HTTP::Response", CODE(0x7efeb160c878)) called at /home/sand/src/perl/repoperls/installed-perls/host/k93msid/v5.12.0/89ad/lib/site_perl/5.12.0/Plack/Test/MockHTTP.pm line 24
	Plack::Test::MockHTTP::try {...} () called at /home/sand/src/perl/repoperls/installed-perls/host/k93msid/v5.12.0/89ad/lib/site_perl/5.12.0/Try/Tiny.pm line 98
	eval {...} called at /home/sand/src/perl/repoperls/installed-perls/host/k93msid/v5.12.0/89ad/lib/site_perl/5.12.0/Try/Tiny.pm line 94
	Try::Tiny::try(CODE(0x563a97fef370), Try::Tiny::Catch=REF(0x563a9dec7318)) called at /home/sand/src/perl/repoperls/installed-perls/host/k93msid/v5.12.0/89ad/lib/site_perl/5.12.0/Plack/Test/MockHTTP.pm line 27
	Plack::Test::MockHTTP::request(Plack::Test::MockHTTP=HASH(0x7efeb1603c80), HTTP::Request=HASH(0x7efeb16036e0)) called at /home/sand/src/perl/repoperls/installed-perls/host/k93msid/v5.12.0/89ad/lib/site_perl/5.12.0/Plack/Test.pm line 38
	Plack::Test::__ANON__(HTTP::Request=HASH(0x7efeb16036e0)) called at /home/sand/src/perl/repoperls/installed-perls/host/k93msid/v5.12.0/89ad/lib/site_perl/5.12.0/Catalyst/Test.pm line 281
	Catalyst::Test::__ANON__(CODE(0x7efeb1603b00)) called at /home/sand/src/perl/repoperls/installed-perls/host/k93msid/v5.12.0/89ad/lib/site_perl/5.12.0/Plack/Test.pm line 38
	Plack::Test::test_psgi("app", CODE(0x7efeb1602ea0), "mangle_response", CODE(0x563a98f00440), "app", CODE(0x7efeb1603818), "client", CODE(0x7efeb16038f0)) called at /home/sand/src/perl/repoperls/installed-perls/host/k93msid/v5.12.0/89ad/lib/site_perl/5.12.0/Catalyst/Test.pm line 284
	Catalyst::Test::_request(HASH(0x7efeb1602dc8), "/") called at /home/sand/src/perl/repoperls/installed-perls/host/k93msid/v5.12.0/89ad/lib/site_perl/5.12.0/Catalyst/Test.pm line 327
	Catalyst::Test::_local_request("ComponentUI", "/") called at /home/sand/src/perl/repoperls/installed-perls/host/k93msid/v5.12.0/89ad/lib/site_perl/5.12.0/Catalyst/Test.pm line 32
	Catalyst::Test::__ANON__("/") called at t/01app.t line 10
Class::MOP::load_class is deprecated at /home/sand/src/perl/repoperls/installed-perls/host/k93msid/v5.12.0/89ad/lib/site_perl/5.12.0/x86_64-linux/Class/MOP.pm line 69.
	Class::MOP::load_class("Reaction::UI::Widget::SiteLayout") called at /tmp/loop_over_bdir-4869-otpfhx/Reaction-0.002005-0/blib/lib/Reaction/UI/Skin.pm line 181
	eval {...} called at /tmp/loop_over_bdir-4869-otpfhx/Reaction-0.002005-0/blib/lib/Reaction/UI/Skin.pm line 181
	Reaction::UI::Skin::widget_class_for(Reaction::UI::Skin=HASH(0x7efeb161c0e8), Reaction::UI::LayoutSet::TT=HASH(0x7efeb1623c90)) called at /tmp/loop_over_bdir-4869-otpfhx/Reaction-0.002005-0/blib/lib/Reaction/UI/LayoutSet.pm line 28
	Reaction::UI::LayoutSet::BUILD(Reaction::UI::LayoutSet::TT=HASH(0x7efeb1623c90), HASH(0x7efeb1623c00)) called at constructor Reaction::UI::LayoutSet::TT::new (defined at /tmp/loop_over_bdir-4869-otpfhx/Reaction-0.002005-0/blib/lib/Reaction/UI/LayoutSet/TT.pm line 43) line 80
	Reaction::UI::LayoutSet::TT::new("Reaction::UI::LayoutSet::TT", "name", "site_layout", "skin", Reaction::UI::Skin=HASH(0x7efeb161c0e8), "tt_object", Template=HASH(0x563a9dcf5f28), "source_file", ...) called at /tmp/loop_over_bdir-4869-otpfhx/Reaction-0.002005-0/blib/lib/Reaction/UI/Skin.pm line 114
	Reaction::UI::Skin::_create_layout_set(Reaction::UI::Skin=HASH(0x7efeb161c0e8), "site_layout", ARRAY(0x7efeb1621200), Reaction::UI::Skin=HASH(0x7efeb161c0e8)) called at /tmp/loop_over_bdir-4869-otpfhx/Reaction-0.002005-0/blib/lib/Reaction/UI/Skin.pm line 110
	Reaction::UI::Skin::create_layout_set(Reaction::UI::Skin=HASH(0x7efeb161c0e8), "site_layout") called at /tmp/loop_over_bdir-4869-otpfhx/Reaction-0.002005-0/blib/lib/Reaction/UI/LayoutSet.pm line 83
	Reaction::UI::LayoutSet::_load_file(Reaction::UI::LayoutSet::TT=HASH(0x7efeb16222c8), Path::Class::File=HASH(0x7efeb161e5a8), HASH(0x7efeb1622250)) called at /tmp/loop_over_bdir-4869-otpfhx/Reaction-0.002005-0/blib/lib/Reaction/UI/LayoutSet.pm line 27
	Reaction::UI::LayoutSet::BUILD(Reaction::UI::LayoutSet::TT=HASH(0x7efeb16222c8), HASH(0x7efeb1622250)) called at constructor Reaction::UI::LayoutSet::TT::new (defined at /tmp/loop_over_bdir-4869-otpfhx/Reaction-0.002005-0/blib/lib/Reaction/UI/LayoutSet/TT.pm line 43) line 80
	Reaction::UI::LayoutSet::TT::new("Reaction::UI::LayoutSet::TT", "name", "site_layout", "skin", Reaction::UI::Skin=HASH(0x7efeb161a8d0), "next_skin", Reaction::UI::Skin=HASH(0x7efeb161c0e8), "tt_object", ...) called at /tmp/loop_over_bdir-4869-otpfhx/Reaction-0.002005-0/blib/lib/Reaction/UI/Skin.pm line 114
	Reaction::UI::Skin::_create_layout_set(Reaction::UI::Skin=HASH(0x7efeb161a8d0), "site_layout", ARRAY(0x7efeb1612e00), Reaction::UI::Skin=HASH(0x7efeb161a8d0)) called at /tmp/loop_over_bdir-4869-otpfhx/Reaction-0.002005-0/blib/lib/Reaction/UI/Skin.pm line 110
	Reaction::UI::Skin::create_layout_set(Reaction::UI::Skin=HASH(0x7efeb161a8d0), "site_layout") called at /tmp/loop_over_bdir-4869-otpfhx/Reaction-0.002005-0/blib/lib/Reaction/UI/LayoutSet.pm line 83
	Reaction::UI::LayoutSet::_load_file(Reaction::UI::LayoutSet::TT=HASH(0x7efeb1613b50), Path::Class::File=HASH(0x7efeb1612a58), HASH(0x7efeb161a558)) called at /tmp/loop_over_bdir-4869-otpfhx/Reaction-0.002005-0/blib/lib/Reaction/UI/LayoutSet.pm line 27
	Reaction::UI::LayoutSet::BUILD(Reaction::UI::LayoutSet::TT=HASH(0x7efeb1613b50), HASH(0x7efeb161a558)) called at constructor Reaction::UI::LayoutSet::TT::new (defined at /tmp/loop_over_bdir-4869-otpfhx/Reaction-0.002005-0/blib/lib/Reaction/UI/LayoutSet/TT.pm line 43) line 80
	Reaction::UI::LayoutSet::TT::new("Reaction::UI::LayoutSet::TT", "name", "site_layout", "skin", Reaction::UI::Skin=HASH(0x7efeb1612a88), "next_skin", Reaction::UI::Skin=HASH(0x7efeb161a8d0), "tt_object", ...) called at /tmp/loop_over_bdir-4869-otpfhx/Reaction-0.002005-0/blib/lib/Reaction/UI/Skin.pm line 114
	Reaction::UI::Skin::_create_layout_set(Reaction::UI::Skin=HASH(0x7efeb1612a88), "site_layout", ARRAY(0x7efeb1612428), Reaction::UI::Skin=HASH(0x7efeb1612a88)) called at /tmp/loop_over_bdir-4869-otpfhx/Reaction-0.002005-0/blib/lib/Reaction/UI/Skin.pm line 110
	Reaction::UI::Skin::create_layout_set(Reaction::UI::Skin=HASH(0x7efeb1612a88), "site_layout") called at inline delegation in Reaction::UI::View for skin->create_layout_set (attribute declared in /tmp/loop_over_bdir-4869-otpfhx/Reaction-0.002005-0/blib/lib/Reaction/UI/View.pm at line 22) line 18
	Reaction::UI::View::create_layout_set(ComponentUI::View::Site=HASH(0x563a9cea6ac8), "site_layout") called at /tmp/loop_over_bdir-4869-otpfhx/Reaction-0.002005-0/blib/lib/Reaction/UI/View.pm line 99
	Reaction::UI::View::layout_set_for(ComponentUI::View::Site=HASH(0x563a9cea6ac8), Reaction::UI::ViewPort::SiteLayout=HASH(0x7efeb1612188)) called at /tmp/loop_over_bdir-4869-otpfhx/Reaction-0.002005-0/blib/lib/Reaction/UI/View.pm line 78
	Reaction::UI::View::render_viewport_args(ComponentUI::View::Site=HASH(0x563a9cea6ac8), Reaction::UI::ViewPort::SiteLayout=HASH(0x7efeb1612188)) called at /tmp/loop_over_bdir-4869-otpfhx/Reaction-0.002005-0/blib/lib/Reaction/UI/View.pm line 61
	Reaction::UI::View::render_window(ComponentUI::View::Site=HASH(0x563a9cea6ac8), Reaction::UI::Window=HASH(0x7efeb1611b40)) called at /tmp/loop_over_bdir-4869-otpfhx/Reaction-0.002005-0/blib/lib/Reaction/UI/Window.pm line 74
	Reaction::UI::Window::flush_view(Reaction::UI::Window=HASH(0x7efeb1611b40)) called at /tmp/loop_over_bdir-4869-otpfhx/Reaction-0.002005-0/blib/lib/Reaction/UI/Window.pm line 36
	Reaction::UI::Window::flush(Reaction::UI::Window=HASH(0x7efeb1611b40)) called at /tmp/loop_over_bdir-4869-otpfhx/Reaction-0.002005-0/blib/lib/Reaction/UI/Controller/Root.pm line 38
	Reaction::UI::Controller::Root::end(ComponentUI::Controller::Root=HASH(0x7efeb160f128), ComponentUI=HASH(0x7efeb160e2b8)) called at /home/sand/src/perl/repoperls/installed-perls/host/k93msid/v5.12.0/89ad/lib/site_perl/5.12.0/Catalyst/Action.pm line 358
	Catalyst::Action::execute(Catalyst::Action=HASH(0x563a9de47368), ComponentUI::Controller::Root=HASH(0x7efeb160f128), ComponentUI=HASH(0x7efeb160e2b8)) called at /home/sand/src/perl/repoperls/installed-perls/host/k93msid/v5.12.0/89ad/lib/site_perl/5.12.0/Catalyst.pm line 2052
	eval {...} called at /home/sand/src/perl/repoperls/installed-perls/host/k93msid/v5.12.0/89ad/lib/site_perl/5.12.0/Catalyst.pm line 2052
	Catalyst::execute(ComponentUI=HASH(0x7efeb160e2b8), "ComponentUI::Controller::Root", Catalyst::Action=HASH(0x563a9de47368)) called at /home/sand/src/perl/repoperls/installed-perls/host/k93msid/v5.12.0/89ad/lib/site_perl/5.12.0/Catalyst/Action.pm line 353
	Catalyst::Action::dispatch(Catalyst::Action=HASH(0x563a9de47368), ComponentUI=HASH(0x7efeb160e2b8)) called at /home/sand/src/perl/repoperls/installed-perls/host/k93msid/v5.12.0/89ad/lib/site_perl/5.12.0/Catalyst/Controller.pm line 189
	Catalyst::Controller::_END(ComponentUI::Controller::Root=HASH(0x7efeb160f128), ComponentUI=HASH(0x7efeb160e2b8)) called at /home/sand/src/perl/repoperls/installed-perls/host/k93msid/v5.12.0/89ad/lib/site_perl/5.12.0/Catalyst/Action.pm line 358
	Catalyst::Action::execute(Catalyst::Action=HASH(0x563a9de1b1f0), ComponentUI::Controller::Root=HASH(0x7efeb160f128), ComponentUI=HASH(0x7efeb160e2b8)) called at /home/sand/src/perl/repoperls/installed-perls/host/k93msid/v5.12.0/89ad/lib/site_perl/5.12.0/Catalyst.pm line 2052
	eval {...} called at /home/sand/src/perl/repoperls/installed-perls/host/k93msid/v5.12.0/89ad/lib/site_perl/5.12.0/Catalyst.pm line 2052
	Catalyst::execute(ComponentUI=HASH(0x7efeb160e2b8), "ComponentUI::Controller::Root", Catalyst::Action=HASH(0x563a9de1b1f0)) called at /home/sand/src/perl/repoperls/installed-perls/host/k93msid/v5.12.0/89ad/lib/site_perl/5.12.0/Catalyst/Action.pm line 353
	Catalyst::Action::dispatch(Catalyst::Action=HASH(0x563a9de1b1f0), ComponentUI=HASH(0x7efeb160e2b8)) called at /home/sand/src/perl/repoperls/installed-perls/host/k93msid/v5.12.0/89ad/lib/site_perl/5.12.0/Catalyst/Dispatcher.pm line 262
	Catalyst::Dispatcher::_do_forward(Catalyst::Dispatcher=HASH(0x563a996bdda0), "forward", ComponentUI=HASH(0x7efeb160e2b8), "_END") called at /home/sand/src/perl/repoperls/installed-perls/host/k93msid/v5.12.0/89ad/lib/site_perl/5.12.0/Catalyst/Dispatcher.pm line 242
	Catalyst::Dispatcher::forward(Catalyst::Dispatcher=HASH(0x563a996bdda0), ComponentUI=HASH(0x7efeb160e2b8), "_END") called at /home/sand/src/perl/repoperls/installed-perls/host/k93msid/v5.12.0/89ad/lib/site_perl/5.12.0/Catalyst.pm line 477
	Catalyst::forward(ComponentUI=HASH(0x7efeb160e2b8), "_END") called at /home/sand/src/perl/repoperls/installed-perls/host/k93msid/v5.12.0/89ad/lib/site_perl/5.12.0/Catalyst/Controller.pm line 138
	Catalyst::Controller::_DISPATCH(ComponentUI::Controller::Root=HASH(0x7efeb160f128), ComponentUI=HASH(0x7efeb160e2b8)) called at /home/sand/src/perl/repoperls/installed-perls/host/k93msid/v5.12.0/89ad/lib/site_perl/5.12.0/Catalyst/Action.pm line 358
	Catalyst::Action::execute(Catalyst::Action=HASH(0x563a9de47740), ComponentUI::Controller::Root=HASH(0x7efeb160f128), ComponentUI=HASH(0x7efeb160e2b8)) called at /home/sand/src/perl/repoperls/installed-perls/host/k93msid/v5.12.0/89ad/lib/site_perl/5.12.0/Catalyst.pm line 2052
	eval {...} called at /home/sand/src/perl/repoperls/installed-perls/host/k93msid/v5.12.0/89ad/lib/site_perl/5.12.0/Catalyst.pm line 2052
	Catalyst::execute(ComponentUI=HASH(0x7efeb160e2b8), "ComponentUI::Controller::Root", Catalyst::Action=HASH(0x563a9de47740)) called at /home/sand/src/perl/repoperls/installed-perls/host/k93msid/v5.12.0/89ad/lib/site_perl/5.12.0/Catalyst/Action.pm line 353
	Catalyst::Action::dispatch(Catalyst::Action=HASH(0x563a9de47740), ComponentUI=HASH(0x7efeb160e2b8)) called at /home/sand/src/perl/repoperls/installed-perls/host/k93msid/v5.12.0/89ad/lib/site_perl/5.12.0/Catalyst/Dispatcher.pm line 262
	Catalyst::Dispatcher::_do_forward(Catalyst::Dispatcher=HASH(0x563a996bdda0), "forward", ComponentUI=HASH(0x7efeb160e2b8), "//_DISPATCH") called at /home/sand/src/perl/repoperls/installed-perls/host/k93msid/v5.12.0/89ad/lib/site_perl/5.12.0/Catalyst/Dispatcher.pm line 242
	Catalyst::Dispatcher::forward(Catalyst::Dispatcher=HASH(0x563a996bdda0), ComponentUI=HASH(0x7efeb160e2b8), "//_DISPATCH") called at /home/sand/src/perl/repoperls/installed-perls/host/k93msid/v5.12.0/89ad/lib/site_perl/5.12.0/Catalyst.pm line 477
	Catalyst::forward(ComponentUI=HASH(0x7efeb160e2b8), "//_DISPATCH") called at /home/sand/src/perl/repoperls/installed-perls/host/k93msid/v5.12.0/89ad/lib/site_perl/5.12.0/Catalyst/Dispatcher.pm line 107
	Catalyst::Dispatcher::dispatch(Catalyst::Dispatcher=HASH(0x563a996bdda0), ComponentUI=HASH(0x7efeb160e2b8)) called at /home/sand/src/perl/repoperls/installed-perls/host/k93msid/v5.12.0/89ad/lib/site_perl/5.12.0/Catalyst.pm line 1998
	Catalyst::dispatch(ComponentUI=HASH(0x7efeb160e2b8)) called at /home/sand/src/perl/repoperls/installed-perls/host/k93msid/v5.12.0/89ad/lib/site_perl/5.12.0/Catalyst/Plugin/Static/Simple.pm line 86
	Class::MOP::Class:::around(CODE(0x563a99abe118), ComponentUI=HASH(0x7efeb160e2b8)) called at /home/sand/src/perl/repoperls/installed-perls/host/k93msid/v5.12.0/89ad/lib/site_perl/5.12.0/x86_64-linux/Class/MOP/Method/Wrapped.pm line 164
	ComponentUI::_wrapped_dispatch(ComponentUI=HASH(0x7efeb160e2b8)) called at /home/sand/src/perl/repoperls/installed-perls/host/k93msid/v5.12.0/89ad/lib/site_perl/5.12.0/x86_64-linux/Class/MOP/Method/Wrapped.pm line 95
	ComponentUI::dispatch(ComponentUI=HASH(0x7efeb160e2b8)) called at /home/sand/src/perl/repoperls/installed-perls/host/k93msid/v5.12.0/89ad/lib/site_perl/5.12.0/Catalyst.pm line 2393
	Catalyst::try {...} () called at /home/sand/src/perl/repoperls/installed-perls/host/k93msid/v5.12.0/89ad/lib/site_perl/5.12.0/Try/Tiny.pm line 103
	eval {...} called at /home/sand/src/perl/repoperls/installed-perls/host/k93msid/v5.12.0/89ad/lib/site_perl/5.12.0/Try/Tiny.pm line 94
	Try::Tiny::try(CODE(0x7efeb160dbc8), Try::Tiny::Catch=REF(0x7efeb160d9e8)) called at /home/sand/src/perl/repoperls/installed-perls/host/k93msid/v5.12.0/89ad/lib/site_perl/5.12.0/Catalyst.pm line 2402
	Catalyst::handle_request("ComponentUI", "env", HASH(0x7efeb160be88), "response_cb", CODE(0x7efeb160da48)) called at /home/sand/src/perl/repoperls/installed-perls/host/k93msid/v5.12.0/89ad/lib/site_perl/5.12.0/Catalyst/Engine.pm line 800
	Catalyst::Engine::__ANON__(CODE(0x7efeb160da48)) called at /home/sand/src/perl/repoperls/installed-perls/host/k93msid/v5.12.0/89ad/lib/site_perl/5.12.0/Plack/Middleware/HTTPExceptions.pm line 32
	Plack::Middleware::HTTPExceptions::try {...} () called at /home/sand/src/perl/repoperls/installed-perls/host/k93msid/v5.12.0/89ad/lib/site_perl/5.12.0/Try/Tiny.pm line 103
	eval {...} called at /home/sand/src/perl/repoperls/installed-perls/host/k93msid/v5.12.0/89ad/lib/site_perl/5.12.0/Try/Tiny.pm line 94
	Try::Tiny::try(CODE(0x7efeb160d808), Try::Tiny::Catch=REF(0x7efeb160ca28)) called at /home/sand/src/perl/repoperls/installed-perls/host/k93msid/v5.12.0/89ad/lib/site_perl/5.12.0/Plack/Middleware/HTTPExceptions.pm line 41
	Plack::Middleware::HTTPExceptions::__ANON__(CODE(0x7efeb160d6b8)) called at /home/sand/src/perl/repoperls/installed-perls/host/k93msid/v5.12.0/89ad/lib/site_perl/5.12.0/Plack/Util.pm line 339
	Plack::Util::__ANON__(CODE(0x7efeb160d568)) called at /home/sand/src/perl/repoperls/installed-perls/host/k93msid/v5.12.0/89ad/lib/site_perl/5.12.0/Plack/Util.pm line 339
	Plack::Util::__ANON__(CODE(0x7efeb160d418)) called at /home/sand/src/perl/repoperls/installed-perls/host/k93msid/v5.12.0/89ad/lib/site_perl/5.12.0/Plack/Util.pm line 339
	Plack::Util::__ANON__(CODE(0x7efeb160d370)) called at /home/sand/src/perl/repoperls/installed-perls/host/k93msid/v5.12.0/89ad/lib/site_perl/5.12.0/HTTP/Message/PSGI.pm line 100
	HTTP::Message::PSGI::res_from_psgi(CODE(0x7efeb160c878)) called at /home/sand/src/perl/repoperls/installed-perls/host/k93msid/v5.12.0/89ad/lib/site_perl/5.12.0/HTTP/Message/PSGI.pm line 156
	HTTP::Response::from_psgi("HTTP::Response", CODE(0x7efeb160c878)) called at /home/sand/src/perl/repoperls/installed-perls/host/k93msid/v5.12.0/89ad/lib/site_perl/5.12.0/Plack/Test/MockHTTP.pm line 24
	Plack::Test::MockHTTP::try {...} () called at /home/sand/src/perl/repoperls/installed-perls/host/k93msid/v5.12.0/89ad/lib/site_perl/5.12.0/Try/Tiny.pm line 98
	eval {...} called at /home/sand/src/perl/repoperls/installed-perls/host/k93msid/v5.12.0/89ad/lib/site_perl/5.12.0/Try/Tiny.pm line 94
	Try::Tiny::try(CODE(0x563a97fef370), Try::Tiny::Catch=REF(0x563a9dec7318)) called at /home/sand/src/perl/repoperls/installed-perls/host/k93msid/v5.12.0/89ad/lib/site_perl/5.12.0/Plack/Test/MockHTTP.pm line 27
	Plack::Test::MockHTTP::request(Plack::Test::MockHTTP=HASH(0x7efeb1603c80), HTTP::Request=HASH(0x7efeb16036e0)) called at /home/sand/src/perl/repoperls/installed-perls/host/k93msid/v5.12.0/89ad/lib/site_perl/5.12.0/Plack/Test.pm line 38
	Plack::Test::__ANON__(HTTP::Request=HASH(0x7efeb16036e0)) called at /home/sand/src/perl/repoperls/installed-perls/host/k93msid/v5.12.0/89ad/lib/site_perl/5.12.0/Catalyst/Test.pm line 281
	Catalyst::Test::__ANON__(CODE(0x7efeb1603b00)) called at /home/sand/src/perl/repoperls/installed-perls/host/k93msid/v5.12.0/89ad/lib/site_perl/5.12.0/Plack/Test.pm line 38
	Plack::Test::test_psgi("app", CODE(0x7efeb1602ea0), "mangle_response", CODE(0x563a98f00440), "app", CODE(0x7efeb1603818), "client", CODE(0x7efeb16038f0)) called at /home/sand/src/perl/repoperls/installed-perls/host/k93msid/v5.12.0/89ad/lib/site_perl/5.12.0/Catalyst/Test.pm line 284
	Catalyst::Test::_request(HASH(0x7efeb1602dc8), "/") called at /home/sand/src/perl/repoperls/installed-perls/host/k93msid/v5.12.0/89ad/lib/site_perl/5.12.0/Catalyst/Test.pm line 327
	Catalyst::Test::_local_request("ComponentUI", "/") called at /home/sand/src/perl/repoperls/installed-perls/host/k93msid/v5.12.0/89ad/lib/site_perl/5.12.0/Catalyst/Test.pm line 32
	Catalyst::Test::__ANON__("/") called at t/01app.t line 10
[debug] remote
t/01app.t ................... ok
t/04load_all.t .............. ok
t/05reflect_attr_from.t ..... ok
Class::MOP::load_class is deprecated at /home/sand/src/perl/repoperls/installed-perls/host/k93msid/v5.12.0/89ad/lib/site_perl/5.12.0/x86_64-linux/Class/MOP.pm line 69.
	Class::MOP::load_class("Reaction::InterfaceModel::Object") called at /tmp/loop_over_bdir-4869-otpfhx/Reaction-0.002005-0/blib/lib/Reaction/InterfaceModel/Reflector/DBIC.pm line 149
	Reaction::InterfaceModel::Reflector::DBIC::reflect_schema(Reaction::InterfaceModel::Reflector::DBIC=HASH(0x560a851f9770), "model_class", "ComponentUI::TestModel", "schema_class", "RTest::TestDB", "sources", ARRAY(0x560a8530ae68)) called at /tmp/loop_over_bdir-4869-otpfhx/Reaction-0.002005-0/blib/lib/ComponentUI/TestModel.pm line 10
	require ComponentUI/TestModel.pm called at t/lib/RTest/InterfaceModel/Reflector/DBIC.pm line 6
	RTest::InterfaceModel::Reflector::DBIC::BEGIN() called at /tmp/loop_over_bdir-4869-otpfhx/Reaction-0.002005-0/blib/lib/ComponentUI/TestModel.pm line 0
	eval {...} called at /tmp/loop_over_bdir-4869-otpfhx/Reaction-0.002005-0/blib/lib/ComponentUI/TestModel.pm line 0
	require RTest/InterfaceModel/Reflector/DBIC.pm called at t/im_dbic.t line 7
	main::BEGIN() called at /tmp/loop_over_bdir-4869-otpfhx/Reaction-0.002005-0/blib/lib/ComponentUI/TestModel.pm line 0
	eval {...} called at /tmp/loop_over_bdir-4869-otpfhx/Reaction-0.002005-0/blib/lib/ComponentUI/TestModel.pm line 0
Class::MOP::load_class is deprecated at /home/sand/src/perl/repoperls/installed-perls/host/k93msid/v5.12.0/89ad/lib/site_perl/5.12.0/x86_64-linux/Class/MOP.pm line 69.
	Class::MOP::load_class("Reaction::InterfaceModel::Object") called at /tmp/loop_over_bdir-4869-otpfhx/Reaction-0.002005-0/blib/lib/Reaction/Class.pm line 123
	Reaction::Class::do_class_sub("Reaction::Class", "ComponentUI::TestModel::Foo", "ComponentUI::TestModel::Foo", "is", "Reaction::InterfaceModel::Object", "which", CODE(0x560a864884b8)) called at /tmp/loop_over_bdir-4869-otpfhx/Reaction-0.002005-0/blib/lib/Reaction/Class.pm line 86
	Reaction::Class::("ComponentUI::TestModel::Foo", "is", "Reaction::InterfaceModel::Object", "which", CODE(0x560a864884b8)) called at /tmp/loop_over_bdir-4869-otpfhx/Reaction-0.002005-0/blib/lib/ComponentUI/TestModel/Foo.pm line 8
	require ComponentUI/TestModel/Foo.pm called at /home/sand/src/perl/repoperls/installed-perls/host/k93msid/v5.12.0/89ad/lib/site_perl/5.12.0/Module/Runtime.pm line 317
	Module::Runtime::require_module("ComponentUI::TestModel::Foo") called at /home/sand/src/perl/repoperls/installed-perls/host/k93msid/v5.12.0/89ad/lib/site_perl/5.12.0/Class/Load.pm line 174
	Class::Load::try {...} () called at /home/sand/src/perl/repoperls/installed-perls/host/k93msid/v5.12.0/89ad/lib/site_perl/5.12.0/Try/Tiny.pm line 98
	eval {...} called at /home/sand/src/perl/repoperls/installed-perls/host/k93msid/v5.12.0/89ad/lib/site_perl/5.12.0/Try/Tiny.pm line 94
	Try::Tiny::try(CODE(0x560a86409ea0), Try::Tiny::Catch=REF(0x560a86488410)) called at /home/sand/src/perl/repoperls/installed-perls/host/k93msid/v5.12.0/89ad/lib/site_perl/5.12.0/Class/Load.pm line 180
	Class::Load::try_load_class("ComponentUI::TestModel::Foo", undef) called at /home/sand/src/perl/repoperls/installed-perls/host/k93msid/v5.12.0/89ad/lib/site_perl/5.12.0/Class/Load.pm line 35
	Class::Load::load_class("ComponentUI::TestModel::Foo") called at /tmp/loop_over_bdir-4869-otpfhx/Reaction-0.002005-0/blib/lib/Reaction/InterfaceModel/Reflector/DBIC.pm line 892
	eval {...} called at /tmp/loop_over_bdir-4869-otpfhx/Reaction-0.002005-0/blib/lib/Reaction/InterfaceModel/Reflector/DBIC.pm line 892
	Reaction::InterfaceModel::Reflector::DBIC::_maybe_load_class(Reaction::InterfaceModel::Reflector::DBIC=HASH(0x560a851f9770), "ComponentUI::TestModel::Foo") called at /tmp/loop_over_bdir-4869-otpfhx/Reaction-0.002005-0/blib/lib/Reaction/InterfaceModel/Reflector/DBIC.pm line 876
	Reaction::InterfaceModel::Reflector::DBIC::_load_or_create(Reaction::InterfaceModel::Reflector::DBIC=HASH(0x560a851f9770), "ComponentUI::TestModel::Foo", "superclasses", ARRAY(0x560a8645a908)) called at /tmp/loop_over_bdir-4869-otpfhx/Reaction-0.002005-0/blib/lib/Reaction/InterfaceModel/Reflector/DBIC.pm line 448
	Reaction::InterfaceModel::Reflector::DBIC::reflect_source_object(Reaction::InterfaceModel::Reflector::DBIC=HASH(0x560a851f9770), "schema_class", "RTest::TestDB", "source_name", "Foo", "source_class", "RTest::TestDB::Foo", "parent_class", ...) called at /tmp/loop_over_bdir-4869-otpfhx/Reaction-0.002005-0/blib/lib/Reaction/InterfaceModel/Reflector/DBIC.pm line 323
	Reaction::InterfaceModel::Reflector::DBIC::reflect_source(Reaction::InterfaceModel::Reflector::DBIC=HASH(0x560a851f9770), "source_name", "Foo", "parent_class", "ComponentUI::TestModel", "schema_class", "RTest::TestDB", "source_class", ...) called at /tmp/loop_over_bdir-4869-otpfhx/Reaction-0.002005-0/blib/lib/Reaction/InterfaceModel/Reflector/DBIC.pm line 185
	Reaction::InterfaceModel::Reflector::DBIC::reflect_schema(Reaction::InterfaceModel::Reflector::DBIC=HASH(0x560a851f9770), "model_class", "ComponentUI::TestModel", "schema_class", "RTest::TestDB", "sources", ARRAY(0x560a8530ae68)) called at /tmp/loop_over_bdir-4869-otpfhx/Reaction-0.002005-0/blib/lib/ComponentUI/TestModel.pm line 10
	require ComponentUI/TestModel.pm called at t/lib/RTest/InterfaceModel/Reflector/DBIC.pm line 6
	RTest::InterfaceModel::Reflector::DBIC::BEGIN() called at /tmp/loop_over_bdir-4869-otpfhx/Reaction-0.002005-0/blib/lib/ComponentUI/TestModel/Foo.pm line 0
	eval {...} called at /tmp/loop_over_bdir-4869-otpfhx/Reaction-0.002005-0/blib/lib/ComponentUI/TestModel/Foo.pm line 0
	require RTest/InterfaceModel/Reflector/DBIC.pm called at t/im_dbic.t line 7
	main::BEGIN() called at /tmp/loop_over_bdir-4869-otpfhx/Reaction-0.002005-0/blib/lib/ComponentUI/TestModel/Foo.pm line 0
	eval {...} called at /tmp/loop_over_bdir-4869-otpfhx/Reaction-0.002005-0/blib/lib/ComponentUI/TestModel/Foo.pm line 0
Class::MOP::is_class_loaded is deprecated at /home/sand/src/perl/repoperls/installed-perls/host/k93msid/v5.12.0/89ad/lib/site_perl/5.12.0/x86_64-linux/Class/MOP.pm line 87.
	Class::MOP::is_class_loaded("RTest::TestIM::Foo") called at t/lib/RTest/InterfaceModel/Reflector/DBIC.pm line 74
	RTest::InterfaceModel::Reflector::DBIC::test_reflect_schema(RTest::InterfaceModel::Reflector::DBIC=HASH(0x560a8663db48)) called at /home/sand/src/perl/repoperls/installed-perls/host/k93msid/v5.12.0/89ad/lib/site_perl/5.12.0/Test/Class.pm line 293
	Test::Class::try {...} () called at /home/sand/src/perl/repoperls/installed-perls/host/k93msid/v5.12.0/89ad/lib/site_perl/5.12.0/Try/Tiny.pm line 98
	eval {...} called at /home/sand/src/perl/repoperls/installed-perls/host/k93msid/v5.12.0/89ad/lib/site_perl/5.12.0/Try/Tiny.pm line 94
	Try::Tiny::try(CODE(0x560a876388f0), Try::Tiny::Catch=REF(0x560a876268a8)) called at /home/sand/src/perl/repoperls/installed-perls/host/k93msid/v5.12.0/89ad/lib/site_perl/5.12.0/Test/Class.pm line 293
	Test::Class::_run_method(RTest::InterfaceModel::Reflector::DBIC=HASH(0x560a8663db48), "test_reflect_schema", ARRAY(0x560a83e547d8)) called at /home/sand/src/perl/repoperls/installed-perls/host/k93msid/v5.12.0/89ad/lib/site_perl/5.12.0/Test/Class.pm line 395
	Test::Class::runtests("Test::Class", RTest::InterfaceModel::Reflector::DBIC=HASH(0x560a8663db48)) called at t/im_dbic.t line 10
t/im_dbic.t ................. ok
t/ui_focus_stack.t .......... ok
t/ui_view.t ................. ok
t/ui_viewport.t ............. ok
Class::MOP::load_class is deprecated at /home/sand/src/perl/repoperls/installed-perls/host/k93msid/v5.12.0/89ad/lib/site_perl/5.12.0/x86_64-linux/Class/MOP.pm line 69.
	Class::MOP::load_class("ComponentUI::TestModel") called at /tmp/loop_over_bdir-4869-otpfhx/Reaction-0.002005-0/blib/lib/Catalyst/Model/Reaction/InterfaceModel/DBIC.pm line 24
	Catalyst::Model::Reaction::InterfaceModel::DBIC::COMPONENT("ComponentUI::Model::TestModel", "ComponentUI", HASH(0x565289f33cb0)) called at /home/sand/src/perl/repoperls/installed-perls/host/k93msid/v5.12.0/89ad/lib/site_perl/5.12.0/Catalyst.pm line 3215
	eval {...} called at /home/sand/src/perl/repoperls/installed-perls/host/k93msid/v5.12.0/89ad/lib/site_perl/5.12.0/Catalyst.pm line 3216
	Catalyst::setup_component("ComponentUI", "ComponentUI::Model::TestModel") called at /home/sand/src/perl/repoperls/installed-perls/host/k93msid/v5.12.0/89ad/lib/site_perl/5.12.0/Catalyst.pm line 3193
	Catalyst::__ANON__() called at /home/sand/src/perl/repoperls/installed-perls/host/k93msid/v5.12.0/89ad/lib/site_perl/5.12.0/Catalyst.pm line 3039
	Catalyst::setup_components("ComponentUI") called at /home/sand/src/perl/repoperls/installed-perls/host/k93msid/v5.12.0/89ad/lib/site_perl/5.12.0/Catalyst.pm line 1422
	Catalyst::setup("ComponentUI") called at /tmp/loop_over_bdir-4869-otpfhx/Reaction-0.002005-0/blib/lib/ComponentUI.pm line 32
	require ComponentUI.pm called at /home/sand/src/perl/repoperls/installed-perls/host/k93msid/v5.12.0/89ad/lib/site_perl/5.12.0/Module/Runtime.pm line 317
	Module::Runtime::require_module("ComponentUI") called at /home/sand/src/perl/repoperls/installed-perls/host/k93msid/v5.12.0/89ad/lib/site_perl/5.12.0/Class/Load.pm line 174
	Class::Load::try {...} () called at /home/sand/src/perl/repoperls/installed-perls/host/k93msid/v5.12.0/89ad/lib/site_perl/5.12.0/Try/Tiny.pm line 98
	eval {...} called at /home/sand/src/perl/repoperls/installed-perls/host/k93msid/v5.12.0/89ad/lib/site_perl/5.12.0/Try/Tiny.pm line 94
	Try::Tiny::try(CODE(0x565287e3a9e8), Try::Tiny::Catch=REF(0x565287e3ed50)) called at /home/sand/src/perl/repoperls/installed-perls/host/k93msid/v5.12.0/89ad/lib/site_perl/5.12.0/Class/Load.pm line 180
	Class::Load::try_load_class("ComponentUI", undef) called at /home/sand/src/perl/repoperls/installed-perls/host/k93msid/v5.12.0/89ad/lib/site_perl/5.12.0/Class/Load.pm line 35
	Class::Load::load_class("ComponentUI") called at /home/sand/src/perl/repoperls/installed-perls/host/k93msid/v5.12.0/89ad/lib/site_perl/5.12.0/Test/WWW/Mechanize/Catalyst.pm line 245
	Test::WWW::Mechanize::Catalyst::import("Test::WWW::Mechanize::Catalyst", "ComponentUI") called at t/uncheck_bool_field.t line 6
	main::BEGIN() called at /tmp/loop_over_bdir-4869-otpfhx/Reaction-0.002005-0/blib/lib/ComponentUI.pm line 0
	eval {...} called at /tmp/loop_over_bdir-4869-otpfhx/Reaction-0.002005-0/blib/lib/ComponentUI.pm line 0
Class::MOP::load_class is deprecated at /home/sand/src/perl/repoperls/installed-perls/host/k93msid/v5.12.0/89ad/lib/site_perl/5.12.0/x86_64-linux/Class/MOP.pm line 69.
	Class::MOP::load_class("Reaction::InterfaceModel::Object") called at /tmp/loop_over_bdir-4869-otpfhx/Reaction-0.002005-0/blib/lib/Reaction/InterfaceModel/Reflector/DBIC.pm line 149
	Reaction::InterfaceModel::Reflector::DBIC::reflect_schema(Reaction::InterfaceModel::Reflector::DBIC=HASH(0x56528d2b1cc0), "model_class", "ComponentUI::TestModel", "schema_class", "RTest::TestDB", "sources", ARRAY(0x56528d17afb0)) called at /tmp/loop_over_bdir-4869-otpfhx/Reaction-0.002005-0/blib/lib/ComponentUI/TestModel.pm line 10
	require ComponentUI/TestModel.pm called at /home/sand/src/perl/repoperls/installed-perls/host/k93msid/v5.12.0/89ad/lib/site_perl/5.12.0/Module/Runtime.pm line 317
	Module::Runtime::require_module("ComponentUI::TestModel") called at /home/sand/src/perl/repoperls/installed-perls/host/k93msid/v5.12.0/89ad/lib/site_perl/5.12.0/Class/Load.pm line 174
	Class::Load::try {...} () called at /home/sand/src/perl/repoperls/installed-perls/host/k93msid/v5.12.0/89ad/lib/site_perl/5.12.0/Try/Tiny.pm line 98
	eval {...} called at /home/sand/src/perl/repoperls/installed-perls/host/k93msid/v5.12.0/89ad/lib/site_perl/5.12.0/Try/Tiny.pm line 94
	Try::Tiny::try(CODE(0x56528ceed6a8), Try::Tiny::Catch=REF(0x56528ce2e330)) called at /home/sand/src/perl/repoperls/installed-perls/host/k93msid/v5.12.0/89ad/lib/site_perl/5.12.0/Class/Load.pm line 180
	Class::Load::try_load_class("ComponentUI::TestModel", undef) called at /home/sand/src/perl/repoperls/installed-perls/host/k93msid/v5.12.0/89ad/lib/site_perl/5.12.0/Class/Load.pm line 35
	Class::Load::load_class("ComponentUI::TestModel") called at /tmp/loop_over_bdir-4869-otpfhx/Reaction-0.002005-0/blib/lib/Catalyst/Model/Reaction/InterfaceModel/DBIC.pm line 24
	Catalyst::Model::Reaction::InterfaceModel::DBIC::COMPONENT("ComponentUI::Model::TestModel", "ComponentUI", HASH(0x565289f33cb0)) called at /home/sand/src/perl/repoperls/installed-perls/host/k93msid/v5.12.0/89ad/lib/site_perl/5.12.0/Catalyst.pm line 3215
	eval {...} called at /home/sand/src/perl/repoperls/installed-perls/host/k93msid/v5.12.0/89ad/lib/site_perl/5.12.0/Catalyst.pm line 3216
	Catalyst::setup_component("ComponentUI", "ComponentUI::Model::TestModel") called at /home/sand/src/perl/repoperls/installed-perls/host/k93msid/v5.12.0/89ad/lib/site_perl/5.12.0/Catalyst.pm line 3193
	Catalyst::__ANON__() called at /home/sand/src/perl/repoperls/installed-perls/host/k93msid/v5.12.0/89ad/lib/site_perl/5.12.0/Catalyst.pm line 3039
	Catalyst::setup_components("ComponentUI") called at /home/sand/src/perl/repoperls/installed-perls/host/k93msid/v5.12.0/89ad/lib/site_perl/5.12.0/Catalyst.pm line 1422
	Catalyst::setup("ComponentUI") called at /tmp/loop_over_bdir-4869-otpfhx/Reaction-0.002005-0/blib/lib/ComponentUI.pm line 32
	require ComponentUI.pm called at /home/sand/src/perl/repoperls/installed-perls/host/k93msid/v5.12.0/89ad/lib/site_perl/5.12.0/Module/Runtime.pm line 317
	Module::Runtime::require_module("ComponentUI") called at /home/sand/src/perl/repoperls/installed-perls/host/k93msid/v5.12.0/89ad/lib/site_perl/5.12.0/Class/Load.pm line 174
	Class::Load::try {...} () called at /home/sand/src/perl/repoperls/installed-perls/host/k93msid/v5.12.0/89ad/lib/site_perl/5.12.0/Try/Tiny.pm line 98
	eval {...} called at /home/sand/src/perl/repoperls/installed-perls/host/k93msid/v5.12.0/89ad/lib/site_perl/5.12.0/Try/Tiny.pm line 94
	Try::Tiny::try(CODE(0x565287e3a9e8), Try::Tiny::Catch=REF(0x565287e3ed50)) called at /home/sand/src/perl/repoperls/installed-perls/host/k93msid/v5.12.0/89ad/lib/site_perl/5.12.0/Class/Load.pm line 180
	Class::Load::try_load_class("ComponentUI", undef) called at /home/sand/src/perl/repoperls/installed-perls/host/k93msid/v5.12.0/89ad/lib/site_perl/5.12.0/Class/Load.pm line 35
	Class::Load::load_class("ComponentUI") called at /home/sand/src/perl/repoperls/installed-perls/host/k93msid/v5.12.0/89ad/lib/site_perl/5.12.0/Test/WWW/Mechanize/Catalyst.pm line 245
	Test::WWW::Mechanize::Catalyst::import("Test::WWW::Mechanize::Catalyst", "ComponentUI") called at t/uncheck_bool_field.t line 6
	main::BEGIN() called at /tmp/loop_over_bdir-4869-otpfhx/Reaction-0.002005-0/blib/lib/ComponentUI/TestModel.pm line 0
	eval {...} called at /tmp/loop_over_bdir-4869-otpfhx/Reaction-0.002005-0/blib/lib/ComponentUI/TestModel.pm line 0
Class::MOP::load_class is deprecated at /home/sand/src/perl/repoperls/installed-perls/host/k93msid/v5.12.0/89ad/lib/site_perl/5.12.0/x86_64-linux/Class/MOP.pm line 69.
	Class::MOP::load_class("Reaction::InterfaceModel::Object") called at /tmp/loop_over_bdir-4869-otpfhx/Reaction-0.002005-0/blib/lib/Reaction/Class.pm line 123
	Reaction::Class::do_class_sub("Reaction::Class", "ComponentUI::TestModel::Foo", "ComponentUI::TestModel::Foo", "is", "Reaction::InterfaceModel::Object", "which", CODE(0x56528d5b39c0)) called at /tmp/loop_over_bdir-4869-otpfhx/Reaction-0.002005-0/blib/lib/Reaction/Class.pm line 86
	Reaction::Class::("ComponentUI::TestModel::Foo", "is", "Reaction::InterfaceModel::Object", "which", CODE(0x56528d5b39c0)) called at /tmp/loop_over_bdir-4869-otpfhx/Reaction-0.002005-0/blib/lib/ComponentUI/TestModel/Foo.pm line 8
	require ComponentUI/TestModel/Foo.pm called at /home/sand/src/perl/repoperls/installed-perls/host/k93msid/v5.12.0/89ad/lib/site_perl/5.12.0/Module/Runtime.pm line 317
	Module::Runtime::require_module("ComponentUI::TestModel::Foo") called at /home/sand/src/perl/repoperls/installed-perls/host/k93msid/v5.12.0/89ad/lib/site_perl/5.12.0/Class/Load.pm line 174
	Class::Load::try {...} () called at /home/sand/src/perl/repoperls/installed-perls/host/k93msid/v5.12.0/89ad/lib/site_perl/5.12.0/Try/Tiny.pm line 98
	eval {...} called at /home/sand/src/perl/repoperls/installed-perls/host/k93msid/v5.12.0/89ad/lib/site_perl/5.12.0/Try/Tiny.pm line 94
	Try::Tiny::try(CODE(0x56528d546600), Try::Tiny::Catch=REF(0x56528d5b3cd8)) called at /home/sand/src/perl/repoperls/installed-perls/host/k93msid/v5.12.0/89ad/lib/site_perl/5.12.0/Class/Load.pm line 180
	Class::Load::try_load_class("ComponentUI::TestModel::Foo", undef) called at /home/sand/src/perl/repoperls/installed-perls/host/k93msid/v5.12.0/89ad/lib/site_perl/5.12.0/Class/Load.pm line 35
	Class::Load::load_class("ComponentUI::TestModel::Foo") called at /tmp/loop_over_bdir-4869-otpfhx/Reaction-0.002005-0/blib/lib/Reaction/InterfaceModel/Reflector/DBIC.pm line 892
	eval {...} called at /tmp/loop_over_bdir-4869-otpfhx/Reaction-0.002005-0/blib/lib/Reaction/InterfaceModel/Reflector/DBIC.pm line 892
	Reaction::InterfaceModel::Reflector::DBIC::_maybe_load_class(Reaction::InterfaceModel::Reflector::DBIC=HASH(0x56528d2b1cc0), "ComponentUI::TestModel::Foo") called at /tmp/loop_over_bdir-4869-otpfhx/Reaction-0.002005-0/blib/lib/Reaction/InterfaceModel/Reflector/DBIC.pm line 876
	Reaction::InterfaceModel::Reflector::DBIC::_load_or_create(Reaction::InterfaceModel::Reflector::DBIC=HASH(0x56528d2b1cc0), "ComponentUI::TestModel::Foo", "superclasses", ARRAY(0x56528d58a5f8)) called at /tmp/loop_over_bdir-4869-otpfhx/Reaction-0.002005-0/blib/lib/Reaction/InterfaceModel/Reflector/DBIC.pm line 448
	Reaction::InterfaceModel::Reflector::DBIC::reflect_source_object(Reaction::InterfaceModel::Reflector::DBIC=HASH(0x56528d2b1cc0), "schema_class", "RTest::TestDB", "source_name", "Foo", "source_class", "RTest::TestDB::Foo", "parent_class", ...) called at /tmp/loop_over_bdir-4869-otpfhx/Reaction-0.002005-0/blib/lib/Reaction/InterfaceModel/Reflector/DBIC.pm line 323
	Reaction::InterfaceModel::Reflector::DBIC::reflect_source(Reaction::InterfaceModel::Reflector::DBIC=HASH(0x56528d2b1cc0), "source_name", "Foo", "parent_class", "ComponentUI::TestModel", "schema_class", "RTest::TestDB", "source_class", ...) called at /tmp/loop_over_bdir-4869-otpfhx/Reaction-0.002005-0/blib/lib/Reaction/InterfaceModel/Reflector/DBIC.pm line 185
	Reaction::InterfaceModel::Reflector::DBIC::reflect_schema(Reaction::InterfaceModel::Reflector::DBIC=HASH(0x56528d2b1cc0), "model_class", "ComponentUI::TestModel", "schema_class", "RTest::TestDB", "sources", ARRAY(0x56528d17afb0)) called at /tmp/loop_over_bdir-4869-otpfhx/Reaction-0.002005-0/blib/lib/ComponentUI/TestModel.pm line 10
	require ComponentUI/TestModel.pm called at /home/sand/src/perl/repoperls/installed-perls/host/k93msid/v5.12.0/89ad/lib/site_perl/5.12.0/Module/Runtime.pm line 317
	Module::Runtime::require_module("ComponentUI::TestModel") called at /home/sand/src/perl/repoperls/installed-perls/host/k93msid/v5.12.0/89ad/lib/site_perl/5.12.0/Class/Load.pm line 174
	Class::Load::try {...} () called at /home/sand/src/perl/repoperls/installed-perls/host/k93msid/v5.12.0/89ad/lib/site_perl/5.12.0/Try/Tiny.pm line 98
	eval {...} called at /home/sand/src/perl/repoperls/installed-perls/host/k93msid/v5.12.0/89ad/lib/site_perl/5.12.0/Try/Tiny.pm line 94
	Try::Tiny::try(CODE(0x56528ceed6a8), Try::Tiny::Catch=REF(0x56528ce2e330)) called at /home/sand/src/perl/repoperls/installed-perls/host/k93msid/v5.12.0/89ad/lib/site_perl/5.12.0/Class/Load.pm line 180
	Class::Load::try_load_class("ComponentUI::TestModel", undef) called at /home/sand/src/perl/repoperls/installed-perls/host/k93msid/v5.12.0/89ad/lib/site_perl/5.12.0/Class/Load.pm line 35
	Class::Load::load_class("ComponentUI::TestModel") called at /tmp/loop_over_bdir-4869-otpfhx/Reaction-0.002005-0/blib/lib/Catalyst/Model/Reaction/InterfaceModel/DBIC.pm line 24
	Catalyst::Model::Reaction::InterfaceModel::DBIC::COMPONENT("ComponentUI::Model::TestModel", "ComponentUI", HASH(0x565289f33cb0)) called at /home/sand/src/perl/repoperls/installed-perls/host/k93msid/v5.12.0/89ad/lib/site_perl/5.12.0/Catalyst.pm line 3215
	eval {...} called at /home/sand/src/perl/repoperls/installed-perls/host/k93msid/v5.12.0/89ad/lib/site_perl/5.12.0/Catalyst.pm line 3216
	Catalyst::setup_component("ComponentUI", "ComponentUI::Model::TestModel") called at /home/sand/src/perl/repoperls/installed-perls/host/k93msid/v5.12.0/89ad/lib/site_perl/5.12.0/Catalyst.pm line 3193
	Catalyst::__ANON__() called at /home/sand/src/perl/repoperls/installed-perls/host/k93msid/v5.12.0/89ad/lib/site_perl/5.12.0/Catalyst.pm line 3039
	Catalyst::setup_components("ComponentUI") called at /home/sand/src/perl/repoperls/installed-perls/host/k93msid/v5.12.0/89ad/lib/site_perl/5.12.0/Catalyst.pm line 1422
	Catalyst::setup("ComponentUI") called at /tmp/loop_over_bdir-4869-otpfhx/Reaction-0.002005-0/blib/lib/ComponentUI.pm line 32
	require ComponentUI.pm called at /home/sand/src/perl/repoperls/installed-perls/host/k93msid/v5.12.0/89ad/lib/site_perl/5.12.0/Module/Runtime.pm line 317
	Module::Runtime::require_module("ComponentUI") called at /home/sand/src/perl/repoperls/installed-perls/host/k93msid/v5.12.0/89ad/lib/site_perl/5.12.0/Class/Load.pm line 174
	Class::Load::try {...} () called at /home/sand/src/perl/repoperls/installed-perls/host/k93msid/v5.12.0/89ad/lib/site_perl/5.12.0/Try/Tiny.pm line 98
	eval {...} called at /home/sand/src/perl/repoperls/installed-perls/host/k93msid/v5.12.0/89ad/lib/site_perl/5.12.0/Try/Tiny.pm line 94
	Try::Tiny::try(CODE(0x565287e3a9e8), Try::Tiny::Catch=REF(0x565287e3ed50)) called at /home/sand/src/perl/repoperls/installed-perls/host/k93msid/v5.12.0/89ad/lib/site_perl/5.12.0/Class/Load.pm line 180
	Class::Load::try_load_class("ComponentUI", undef) called at /home/sand/src/perl/repoperls/installed-perls/host/k93msid/v5.12.0/89ad/lib/site_perl/5.12.0/Class/Load.pm line 35
	Class::Load::load_class("ComponentUI") called at /home/sand/src/perl/repoperls/installed-perls/host/k93msid/v5.12.0/89ad/lib/site_perl/5.12.0/Test/WWW/Mechanize/Catalyst.pm line 245
	Test::WWW::Mechanize::Catalyst::import("Test::WWW::Mechanize::Catalyst", "ComponentUI") called at t/uncheck_bool_field.t line 6
	main::BEGIN() called at /tmp/loop_over_bdir-4869-otpfhx/Reaction-0.002005-0/blib/lib/ComponentUI/TestModel/Foo.pm line 0
	eval {...} called at /tmp/loop_over_bdir-4869-otpfhx/Reaction-0.002005-0/blib/lib/ComponentUI/TestModel/Foo.pm line 0
Class::MOP::load_class is deprecated at /home/sand/src/perl/repoperls/installed-perls/host/k93msid/v5.12.0/89ad/lib/site_perl/5.12.0/x86_64-linux/Class/MOP.pm line 69.
	Class::MOP::load_class("ComponentUI::RenderingContext::Site") called at /tmp/loop_over_bdir-4869-otpfhx/Reaction-0.002005-0/blib/lib/Reaction/UI/View.pm line 125
	eval {...} called at /tmp/loop_over_bdir-4869-otpfhx/Reaction-0.002005-0/blib/lib/Reaction/UI/View.pm line 125
	Reaction::UI::View::find_related_class(ComponentUI::View::Site=HASH(0x56528a6c7108), "RenderingContext") called at /tmp/loop_over_bdir-4869-otpfhx/Reaction-0.002005-0/blib/lib/Reaction/UI/View.pm line 43
	Reaction::UI::View::_build_rendering_context_class(ComponentUI::View::Site=HASH(0x56528a6c7108)) called at reader Reaction::UI::View::rendering_context_class (defined at /tmp/loop_over_bdir-4869-otpfhx/Reaction-0.002005-0/blib/lib/Reaction/UI/View.pm line 29) line 7
	Reaction::UI::View::rendering_context_class(ComponentUI::View::Site=HASH(0x56528a6c7108)) called at /tmp/loop_over_bdir-4869-otpfhx/Reaction-0.002005-0/blib/lib/Reaction/UI/View.pm line 134
	Reaction::UI::View::create_rendering_context(ComponentUI::View::Site=HASH(0x56528a6c7108)) called at /tmp/loop_over_bdir-4869-otpfhx/Reaction-0.002005-0/blib/lib/Reaction/UI/View.pm line 60
	Reaction::UI::View::render_window(ComponentUI::View::Site=HASH(0x56528a6c7108), Reaction::UI::Window=HASH(0x7f55dfae7888)) called at /tmp/loop_over_bdir-4869-otpfhx/Reaction-0.002005-0/blib/lib/Reaction/UI/Window.pm line 74
	Reaction::UI::Window::flush_view(Reaction::UI::Window=HASH(0x7f55dfae7888)) called at /tmp/loop_over_bdir-4869-otpfhx/Reaction-0.002005-0/blib/lib/Reaction/UI/Window.pm line 36
	Reaction::UI::Window::flush(Reaction::UI::Window=HASH(0x7f55dfae7888)) called at /tmp/loop_over_bdir-4869-otpfhx/Reaction-0.002005-0/blib/lib/Reaction/UI/Controller/Root.pm line 38
	Reaction::UI::Controller::Root::end(ComponentUI::Controller::Root=HASH(0x7f55dfae79d8), ComponentUI=HASH(0x7f55dfae2068)) called at /home/sand/src/perl/repoperls/installed-perls/host/k93msid/v5.12.0/89ad/lib/site_perl/5.12.0/Catalyst/Action.pm line 358
	Catalyst::Action::execute(Catalyst::Action=HASH(0x56528d8068b8), ComponentUI::Controller::Root=HASH(0x7f55dfae79d8), ComponentUI=HASH(0x7f55dfae2068)) called at /home/sand/src/perl/repoperls/installed-perls/host/k93msid/v5.12.0/89ad/lib/site_perl/5.12.0/Catalyst.pm line 2052
	eval {...} called at /home/sand/src/perl/repoperls/installed-perls/host/k93msid/v5.12.0/89ad/lib/site_perl/5.12.0/Catalyst.pm line 2052
	Catalyst::execute(ComponentUI=HASH(0x7f55dfae2068), "ComponentUI::Controller::Root", Catalyst::Action=HASH(0x56528d8068b8)) called at /home/sand/src/perl/repoperls/installed-perls/host/k93msid/v5.12.0/89ad/lib/site_perl/5.12.0/Catalyst/Action.pm line 353
	Catalyst::Action::dispatch(Catalyst::Action=HASH(0x56528d8068b8), ComponentUI=HASH(0x7f55dfae2068)) called at /home/sand/src/perl/repoperls/installed-perls/host/k93msid/v5.12.0/89ad/lib/site_perl/5.12.0/Catalyst/Controller.pm line 189
	Catalyst::Controller::_END(ComponentUI::Controller::TestModel::Baz=HASH(0x7f55dfae2878), ComponentUI=HASH(0x7f55dfae2068)) called at /home/sand/src/perl/repoperls/installed-perls/host/k93msid/v5.12.0/89ad/lib/site_perl/5.12.0/Catalyst/Action.pm line 358
	Catalyst::Action::execute(Catalyst::Action=HASH(0x56528d8c8da8), ComponentUI::Controller::TestModel::Baz=HASH(0x7f55dfae2878), ComponentUI=HASH(0x7f55dfae2068)) called at /home/sand/src/perl/repoperls/installed-perls/host/k93msid/v5.12.0/89ad/lib/site_perl/5.12.0/Catalyst.pm line 2052
	eval {...} called at /home/sand/src/perl/repoperls/installed-perls/host/k93msid/v5.12.0/89ad/lib/site_perl/5.12.0/Catalyst.pm line 2052
	Catalyst::execute(ComponentUI=HASH(0x7f55dfae2068), "ComponentUI::Controller::TestModel::Baz", Catalyst::Action=HASH(0x56528d8c8da8)) called at /home/sand/src/perl/repoperls/installed-perls/host/k93msid/v5.12.0/89ad/lib/site_perl/5.12.0/Catalyst/Action.pm line 353
	Catalyst::Action::dispatch(Catalyst::Action=HASH(0x56528d8c8da8), ComponentUI=HASH(0x7f55dfae2068)) called at /home/sand/src/perl/repoperls/installed-perls/host/k93msid/v5.12.0/89ad/lib/site_perl/5.12.0/Catalyst/Dispatcher.pm line 262
	Catalyst::Dispatcher::_do_forward(Catalyst::Dispatcher=HASH(0x56528911a5a8), "forward", ComponentUI=HASH(0x7f55dfae2068), "_END") called at /home/sand/src/perl/repoperls/installed-perls/host/k93msid/v5.12.0/89ad/lib/site_perl/5.12.0/Catalyst/Dispatcher.pm line 242
	Catalyst::Dispatcher::forward(Catalyst::Dispatcher=HASH(0x56528911a5a8), ComponentUI=HASH(0x7f55dfae2068), "_END") called at /home/sand/src/perl/repoperls/installed-perls/host/k93msid/v5.12.0/89ad/lib/site_perl/5.12.0/Catalyst.pm line 477
	Catalyst::forward(ComponentUI=HASH(0x7f55dfae2068), "_END") called at /home/sand/src/perl/repoperls/installed-perls/host/k93msid/v5.12.0/89ad/lib/site_perl/5.12.0/Catalyst/Controller.pm line 138
	Catalyst::Controller::_DISPATCH(ComponentUI::Controller::TestModel::Baz=HASH(0x7f55dfae2878), ComponentUI=HASH(0x7f55dfae2068)) called at /home/sand/src/perl/repoperls/installed-perls/host/k93msid/v5.12.0/89ad/lib/site_perl/5.12.0/Catalyst/Action.pm line 358
	Catalyst::Action::execute(Catalyst::Action=HASH(0x56528d8c8c88), ComponentUI::Controller::TestModel::Baz=HASH(0x7f55dfae2878), ComponentUI=HASH(0x7f55dfae2068)) called at /home/sand/src/perl/repoperls/installed-perls/host/k93msid/v5.12.0/89ad/lib/site_perl/5.12.0/Catalyst.pm line 2052
	eval {...} called at /home/sand/src/perl/repoperls/installed-perls/host/k93msid/v5.12.0/89ad/lib/site_perl/5.12.0/Catalyst.pm line 2052
	Catalyst::execute(ComponentUI=HASH(0x7f55dfae2068), "ComponentUI::Controller::TestModel::Baz", Catalyst::Action=HASH(0x56528d8c8c88)) called at /home/sand/src/perl/repoperls/installed-perls/host/k93msid/v5.12.0/89ad/lib/site_perl/5.12.0/Catalyst/Action.pm line 353
	Catalyst::Action::dispatch(Catalyst::Action=HASH(0x56528d8c8c88), ComponentUI=HASH(0x7f55dfae2068)) called at /home/sand/src/perl/repoperls/installed-perls/host/k93msid/v5.12.0/89ad/lib/site_perl/5.12.0/Catalyst/Dispatcher.pm line 262
	Catalyst::Dispatcher::_do_forward(Catalyst::Dispatcher=HASH(0x56528911a5a8), "forward", ComponentUI=HASH(0x7f55dfae2068), "/testmodel/baz/_DISPATCH") called at /home/sand/src/perl/repoperls/installed-perls/host/k93msid/v5.12.0/89ad/lib/site_perl/5.12.0/Catalyst/Dispatcher.pm line 242
	Catalyst::Dispatcher::forward(Catalyst::Dispatcher=HASH(0x56528911a5a8), ComponentUI=HASH(0x7f55dfae2068), "/testmodel/baz/_DISPATCH") called at /home/sand/src/perl/repoperls/installed-perls/host/k93msid/v5.12.0/89ad/lib/site_perl/5.12.0/Catalyst.pm line 477
	Catalyst::forward(ComponentUI=HASH(0x7f55dfae2068), "/testmodel/baz/_DISPATCH") called at /home/sand/src/perl/repoperls/installed-perls/host/k93msid/v5.12.0/89ad/lib/site_perl/5.12.0/Catalyst/Dispatcher.pm line 107
	Catalyst::Dispatcher::dispatch(Catalyst::Dispatcher=HASH(0x56528911a5a8), ComponentUI=HASH(0x7f55dfae2068)) called at /home/sand/src/perl/repoperls/installed-perls/host/k93msid/v5.12.0/89ad/lib/site_perl/5.12.0/Catalyst.pm line 1998
	Catalyst::dispatch(ComponentUI=HASH(0x7f55dfae2068)) called at /home/sand/src/perl/repoperls/installed-perls/host/k93msid/v5.12.0/89ad/lib/site_perl/5.12.0/Catalyst/Plugin/Static/Simple.pm line 86
	Class::MOP::Class:::around(CODE(0x5652894d1f18), ComponentUI=HASH(0x7f55dfae2068)) called at /home/sand/src/perl/repoperls/installed-perls/host/k93msid/v5.12.0/89ad/lib/site_perl/5.12.0/x86_64-linux/Class/MOP/Method/Wrapped.pm line 164
	ComponentUI::_wrapped_dispatch(ComponentUI=HASH(0x7f55dfae2068)) called at /home/sand/src/perl/repoperls/installed-perls/host/k93msid/v5.12.0/89ad/lib/site_perl/5.12.0/x86_64-linux/Class/MOP/Method/Wrapped.pm line 95
	ComponentUI::dispatch(ComponentUI=HASH(0x7f55dfae2068)) called at /home/sand/src/perl/repoperls/installed-perls/host/k93msid/v5.12.0/89ad/lib/site_perl/5.12.0/Catalyst.pm line 2393
	Catalyst::try {...} () called at /home/sand/src/perl/repoperls/installed-perls/host/k93msid/v5.12.0/89ad/lib/site_perl/5.12.0/Try/Tiny.pm line 103
	eval {...} called at /home/sand/src/perl/repoperls/installed-perls/host/k93msid/v5.12.0/89ad/lib/site_perl/5.12.0/Try/Tiny.pm line 94
	Try::Tiny::try(CODE(0x7f55dfae1978), Try::Tiny::Catch=REF(0x7f55dfae1798)) called at /home/sand/src/perl/repoperls/installed-perls/host/k93msid/v5.12.0/89ad/lib/site_perl/5.12.0/Catalyst.pm line 2402
	Catalyst::handle_request("ComponentUI", "env", HASH(0x7f55dfadfc08), "response_cb", CODE(0x7f55dfae17f8)) called at /home/sand/src/perl/repoperls/installed-perls/host/k93msid/v5.12.0/89ad/lib/site_perl/5.12.0/Catalyst/Engine.pm line 800
	Catalyst::Engine::__ANON__(CODE(0x7f55dfae17f8)) called at /home/sand/src/perl/repoperls/installed-perls/host/k93msid/v5.12.0/89ad/lib/site_perl/5.12.0/Plack/Middleware/HTTPExceptions.pm line 32
	Plack::Middleware::HTTPExceptions::try {...} () called at /home/sand/src/perl/repoperls/installed-perls/host/k93msid/v5.12.0/89ad/lib/site_perl/5.12.0/Try/Tiny.pm line 103
	eval {...} called at /home/sand/src/perl/repoperls/installed-perls/host/k93msid/v5.12.0/89ad/lib/site_perl/5.12.0/Try/Tiny.pm line 94
	Try::Tiny::try(CODE(0x7f55dfae15b8), Try::Tiny::Catch=REF(0x7f55dfae07d8)) called at /home/sand/src/perl/repoperls/installed-perls/host/k93msid/v5.12.0/89ad/lib/site_perl/5.12.0/Plack/Middleware/HTTPExceptions.pm line 41
	Plack::Middleware::HTTPExceptions::__ANON__(CODE(0x7f55dfae1468)) called at /home/sand/src/perl/repoperls/installed-perls/host/k93msid/v5.12.0/89ad/lib/site_perl/5.12.0/Plack/Util.pm line 339
	Plack::Util::__ANON__(CODE(0x7f55dfae1318)) called at /home/sand/src/perl/repoperls/installed-perls/host/k93msid/v5.12.0/89ad/lib/site_perl/5.12.0/Plack/Util.pm line 339
	Plack::Util::__ANON__(CODE(0x7f55dfae11c8)) called at /home/sand/src/perl/repoperls/installed-perls/host/k93msid/v5.12.0/89ad/lib/site_perl/5.12.0/Plack/Util.pm line 339
	Plack::Util::__ANON__(CODE(0x7f55dfae1120)) called at /home/sand/src/perl/repoperls/installed-perls/host/k93msid/v5.12.0/89ad/lib/site_perl/5.12.0/HTTP/Message/PSGI.pm line 100
	HTTP::Message::PSGI::res_from_psgi(CODE(0x7f55dfae0628)) called at /home/sand/src/perl/repoperls/installed-perls/host/k93msid/v5.12.0/89ad/lib/site_perl/5.12.0/HTTP/Message/PSGI.pm line 156
	HTTP::Response::from_psgi("HTTP::Response", CODE(0x7f55dfae0628)) called at /home/sand/src/perl/repoperls/installed-perls/host/k93msid/v5.12.0/89ad/lib/site_perl/5.12.0/Plack/Test/MockHTTP.pm line 24
	Plack::Test::MockHTTP::try {...} () called at /home/sand/src/perl/repoperls/installed-perls/host/k93msid/v5.12.0/89ad/lib/site_perl/5.12.0/Try/Tiny.pm line 98
	eval {...} called at /home/sand/src/perl/repoperls/installed-perls/host/k93msid/v5.12.0/89ad/lib/site_perl/5.12.0/Try/Tiny.pm line 94
	Try::Tiny::try(CODE(0x7f55dfadb0f0), Try::Tiny::Catch=REF(0x56528d8c2d10)) called at /home/sand/src/perl/repoperls/installed-perls/host/k93msid/v5.12.0/89ad/lib/site_perl/5.12.0/Plack/Test/MockHTTP.pm line 27
	Plack::Test::MockHTTP::request(Plack::Test::MockHTTP=HASH(0x7f55dfadb828), HTTP::Request=HASH(0x7f55dfad5f18)) called at /home/sand/src/perl/repoperls/installed-perls/host/k93msid/v5.12.0/89ad/lib/site_perl/5.12.0/Plack/Test.pm line 38
	Plack::Test::__ANON__(HTTP::Request=HASH(0x7f55dfad5f18)) called at /home/sand/src/perl/repoperls/installed-perls/host/k93msid/v5.12.0/89ad/lib/site_perl/5.12.0/Catalyst/Test.pm line 281
	Catalyst::Test::__ANON__(CODE(0x7f55dfadb6a8)) called at /home/sand/src/perl/repoperls/installed-perls/host/k93msid/v5.12.0/89ad/lib/site_perl/5.12.0/Plack/Test.pm line 38
	Plack::Test::test_psgi("app", CODE(0x7f55dfadb138), "mangle_response", CODE(0x565287e39020), "app", CODE(0x7f55dfadb3c0), "client", CODE(0x7f55dfadb498)) called at /home/sand/src/perl/repoperls/installed-perls/host/k93msid/v5.12.0/89ad/lib/site_perl/5.12.0/Catalyst/Test.pm line 284
	Catalyst::Test::_request(HASH(0x7f55dfadb060), HTTP::Request=HASH(0x7f55dfad5f18)) called at /home/sand/src/perl/repoperls/installed-perls/host/k93msid/v5.12.0/89ad/lib/site_perl/5.12.0/Catalyst/Test.pm line 327
	Catalyst::Test::_local_request("ComponentUI", HTTP::Request=HASH(0x7f55dfad5f18)) called at /home/sand/src/perl/repoperls/installed-perls/host/k93msid/v5.12.0/89ad/lib/site_perl/5.12.0/Test/WWW/Mechanize/Catalyst.pm line 174
	Test::WWW::Mechanize::Catalyst::_do_catalyst_request(Test::WWW::Mechanize::Catalyst=HASH(0x7f55dfac6120), HTTP::Request=HASH(0x7f55dfad5f18)) called at /home/sand/src/perl/repoperls/installed-perls/host/k93msid/v5.12.0/89ad/lib/site_perl/5.12.0/Test/WWW/Mechanize/Catalyst.pm line 78
	Test::WWW::Mechanize::Catalyst::_make_request(Test::WWW::Mechanize::Catalyst=HASH(0x7f55dfac6120), HTTP::Request=HASH(0x7f55dfad5f18)) called at /home/sand/src/perl/repoperls/installed-perls/host/k93msid/v5.12.0/89ad/lib/site_perl/5.12.0/WWW/Mechanize.pm line 1252
	WWW::Mechanize::request(Test::WWW::Mechanize::Catalyst=HASH(0x7f55dfac6120), HTTP::Request=HASH(0x7f55dfad5f18)) called at /home/sand/src/perl/repoperls/installed-perls/host/k93msid/v5.12.0/89ad/lib/site_perl/5.12.0/LWP/UserAgent.pm line 435
	LWP::UserAgent::get(Test::WWW::Mechanize::Catalyst=HASH(0x7f55dfac6120), "http://localhost/testmodel/baz/id/1/update") called at /home/sand/src/perl/repoperls/installed-perls/host/k93msid/v5.12.0/89ad/lib/site_perl/5.12.0/WWW/Mechanize.pm line 116
	WWW::Mechanize::get(Test::WWW::Mechanize::Catalyst=HASH(0x7f55dfac6120), "http://localhost/testmodel/baz/id/1/update") called at /home/sand/src/perl/repoperls/installed-perls/host/k93msid/v5.12.0/89ad/lib/site_perl/5.12.0/Test/WWW/Mechanize.pm line 160
	Test::WWW::Mechanize::get_ok(Test::WWW::Mechanize::Catalyst=HASH(0x7f55dfac6120), "http://localhost/testmodel/baz/id/1/update") called at t/uncheck_bool_field.t line 9
Class::MOP::is_class_loaded is deprecated at /home/sand/src/perl/repoperls/installed-perls/host/k93msid/v5.12.0/89ad/lib/site_perl/5.12.0/x86_64-linux/Class/MOP.pm line 87.
	Class::MOP::is_class_loaded("ComponentUI::UI::Widget::SiteLayout") called at /tmp/loop_over_bdir-4869-otpfhx/Reaction-0.002005-0/blib/lib/Reaction/UI/Skin.pm line 178
	Reaction::UI::Skin::widget_class_for(Reaction::UI::Skin=HASH(0x56528dd1d9c8), Reaction::UI::LayoutSet::TT=HASH(0x56528dd23160)) called at /tmp/loop_over_bdir-4869-otpfhx/Reaction-0.002005-0/blib/lib/Reaction/UI/LayoutSet.pm line 28
	Reaction::UI::LayoutSet::BUILD(Reaction::UI::LayoutSet::TT=HASH(0x56528dd23160), HASH(0x56528dd48038)) called at constructor Reaction::UI::LayoutSet::TT::new (defined at /tmp/loop_over_bdir-4869-otpfhx/Reaction-0.002005-0/blib/lib/Reaction/UI/LayoutSet/TT.pm line 43) line 80
	Reaction::UI::LayoutSet::TT::new("Reaction::UI::LayoutSet::TT", "name", "site_layout", "skin", Reaction::UI::Skin=HASH(0x56528dd1d9c8), "tt_object", Template=HASH(0x56528d6ca298), "source_file", ...) called at /tmp/loop_over_bdir-4869-otpfhx/Reaction-0.002005-0/blib/lib/Reaction/UI/Skin.pm line 114
	Reaction::UI::Skin::_create_layout_set(Reaction::UI::Skin=HASH(0x56528dd1d9c8), "site_layout", ARRAY(0x56528dd365b8), Reaction::UI::Skin=HASH(0x56528dd1d9c8)) called at /tmp/loop_over_bdir-4869-otpfhx/Reaction-0.002005-0/blib/lib/Reaction/UI/Skin.pm line 110
	Reaction::UI::Skin::create_layout_set(Reaction::UI::Skin=HASH(0x56528dd1d9c8), "site_layout") called at /tmp/loop_over_bdir-4869-otpfhx/Reaction-0.002005-0/blib/lib/Reaction/UI/LayoutSet.pm line 83
	Reaction::UI::LayoutSet::_load_file(Reaction::UI::LayoutSet::TT=HASH(0x56528dd3bd08), Path::Class::File=HASH(0x56528dd26ad8), HASH(0x56528dd3bc90)) called at /tmp/loop_over_bdir-4869-otpfhx/Reaction-0.002005-0/blib/lib/Reaction/UI/LayoutSet.pm line 27
	Reaction::UI::LayoutSet::BUILD(Reaction::UI::LayoutSet::TT=HASH(0x56528dd3bd08), HASH(0x56528dd3bc90)) called at constructor Reaction::UI::LayoutSet::TT::new (defined at /tmp/loop_over_bdir-4869-otpfhx/Reaction-0.002005-0/blib/lib/Reaction/UI/LayoutSet/TT.pm line 43) line 80
	Reaction::UI::LayoutSet::TT::new("Reaction::UI::LayoutSet::TT", "name", "site_layout", "skin", Reaction::UI::Skin=HASH(0x56528dd02e68), "next_skin", Reaction::UI::Skin=HASH(0x56528dd1d9c8), "tt_object", ...) called at /tmp/loop_over_bdir-4869-otpfhx/Reaction-0.002005-0/blib/lib/Reaction/UI/Skin.pm line 114
	Reaction::UI::Skin::_create_layout_set(Reaction::UI::Skin=HASH(0x56528dd02e68), "site_layout", ARRAY(0x56528dcd5540), Reaction::UI::Skin=HASH(0x56528dd02e68)) called at /tmp/loop_over_bdir-4869-otpfhx/Reaction-0.002005-0/blib/lib/Reaction/UI/Skin.pm line 110
	Reaction::UI::Skin::create_layout_set(Reaction::UI::Skin=HASH(0x56528dd02e68), "site_layout") called at /tmp/loop_over_bdir-4869-otpfhx/Reaction-0.002005-0/blib/lib/Reaction/UI/LayoutSet.pm line 83
	Reaction::UI::LayoutSet::_load_file(Reaction::UI::LayoutSet::TT=HASH(0x56528d84a4e8), Path::Class::File=HASH(0x56528dcd5708), HASH(0x56528dd02af0)) called at /tmp/loop_over_bdir-4869-otpfhx/Reaction-0.002005-0/blib/lib/Reaction/UI/LayoutSet.pm line 27
	Reaction::UI::LayoutSet::BUILD(Reaction::UI::LayoutSet::TT=HASH(0x56528d84a4e8), HASH(0x56528dd02af0)) called at constructor Reaction::UI::LayoutSet::TT::new (defined at /tmp/loop_over_bdir-4869-otpfhx/Reaction-0.002005-0/blib/lib/Reaction/UI/LayoutSet/TT.pm line 43) line 80
	Reaction::UI::LayoutSet::TT::new("Reaction::UI::LayoutSet::TT", "name", "site_layout", "skin", Reaction::UI::Skin=HASH(0x56528c9e0e08), "next_skin", Reaction::UI::Skin=HASH(0x56528dd02e68), "tt_object", ...) called at /tmp/loop_over_bdir-4869-otpfhx/Reaction-0.002005-0/blib/lib/Reaction/UI/Skin.pm line 114
	Reaction::UI::Skin::_create_layout_set(Reaction::UI::Skin=HASH(0x56528c9e0e08), "site_layout", ARRAY(0x56528dcd2010), Reaction::UI::Skin=HASH(0x56528c9e0e08)) called at /tmp/loop_over_bdir-4869-otpfhx/Reaction-0.002005-0/blib/lib/Reaction/UI/Skin.pm line 110
	Reaction::UI::Skin::create_layout_set(Reaction::UI::Skin=HASH(0x56528c9e0e08), "site_layout") called at inline delegation in Reaction::UI::View for skin->create_layout_set (attribute declared in /tmp/loop_over_bdir-4869-otpfhx/Reaction-0.002005-0/blib/lib/Reaction/UI/View.pm at line 22) line 18
	Reaction::UI::View::create_layout_set(ComponentUI::View::Site=HASH(0x56528a6c7108), "site_layout") called at /tmp/loop_over_bdir-4869-otpfhx/Reaction-0.002005-0/blib/lib/Reaction/UI/View.pm line 99
	Reaction::UI::View::layout_set_for(ComponentUI::View::Site=HASH(0x56528a6c7108), Reaction::UI::ViewPort::SiteLayout=HASH(0x7f55dfae7d20)) called at /tmp/loop_over_bdir-4869-otpfhx/Reaction-0.002005-0/blib/lib/Reaction/UI/View.pm line 78
	Reaction::UI::View::render_viewport_args(ComponentUI::View::Site=HASH(0x56528a6c7108), Reaction::UI::ViewPort::SiteLayout=HASH(0x7f55dfae7d20)) called at /tmp/loop_over_bdir-4869-otpfhx/Reaction-0.002005-0/blib/lib/Reaction/UI/View.pm line 61
	Reaction::UI::View::render_window(ComponentUI::View::Site=HASH(0x56528a6c7108), Reaction::UI::Window=HASH(0x7f55dfae7888)) called at /tmp/loop_over_bdir-4869-otpfhx/Reaction-0.002005-0/blib/lib/Reaction/UI/Window.pm line 74
	Reaction::UI::Window::flush_view(Reaction::UI::Window=HASH(0x7f55dfae7888)) called at /tmp/loop_over_bdir-4869-otpfhx/Reaction-0.002005-0/blib/lib/Reaction/UI/Window.pm line 36
	Reaction::UI::Window::flush(Reaction::UI::Window=HASH(0x7f55dfae7888)) called at /tmp/loop_over_bdir-4869-otpfhx/Reaction-0.002005-0/blib/lib/Reaction/UI/Controller/Root.pm line 38
	Reaction::UI::Controller::Root::end(ComponentUI::Controller::Root=HASH(0x7f55dfae79d8), ComponentUI=HASH(0x7f55dfae2068)) called at /home/sand/src/perl/repoperls/installed-perls/host/k93msid/v5.12.0/89ad/lib/site_perl/5.12.0/Catalyst/Action.pm line 358
	Catalyst::Action::execute(Catalyst::Action=HASH(0x56528d8068b8), ComponentUI::Controller::Root=HASH(0x7f55dfae79d8), ComponentUI=HASH(0x7f55dfae2068)) called at /home/sand/src/perl/repoperls/installed-perls/host/k93msid/v5.12.0/89ad/lib/site_perl/5.12.0/Catalyst.pm line 2052
	eval {...} called at /home/sand/src/perl/repoperls/installed-perls/host/k93msid/v5.12.0/89ad/lib/site_perl/5.12.0/Catalyst.pm line 2052
	Catalyst::execute(ComponentUI=HASH(0x7f55dfae2068), "ComponentUI::Controller::Root", Catalyst::Action=HASH(0x56528d8068b8)) called at /home/sand/src/perl/repoperls/installed-perls/host/k93msid/v5.12.0/89ad/lib/site_perl/5.12.0/Catalyst/Action.pm line 353
	Catalyst::Action::dispatch(Catalyst::Action=HASH(0x56528d8068b8), ComponentUI=HASH(0x7f55dfae2068)) called at /home/sand/src/perl/repoperls/installed-perls/host/k93msid/v5.12.0/89ad/lib/site_perl/5.12.0/Catalyst/Controller.pm line 189
	Catalyst::Controller::_END(ComponentUI::Controller::TestModel::Baz=HASH(0x7f55dfae2878), ComponentUI=HASH(0x7f55dfae2068)) called at /home/sand/src/perl/repoperls/installed-perls/host/k93msid/v5.12.0/89ad/lib/site_perl/5.12.0/Catalyst/Action.pm line 358
	Catalyst::Action::execute(Catalyst::Action=HASH(0x56528d8c8da8), ComponentUI::Controller::TestModel::Baz=HASH(0x7f55dfae2878), ComponentUI=HASH(0x7f55dfae2068)) called at /home/sand/src/perl/repoperls/installed-perls/host/k93msid/v5.12.0/89ad/lib/site_perl/5.12.0/Catalyst.pm line 2052
	eval {...} called at /home/sand/src/perl/repoperls/installed-perls/host/k93msid/v5.12.0/89ad/lib/site_perl/5.12.0/Catalyst.pm line 2052
	Catalyst::execute(ComponentUI=HASH(0x7f55dfae2068), "ComponentUI::Controller::TestModel::Baz", Catalyst::Action=HASH(0x56528d8c8da8)) called at /home/sand/src/perl/repoperls/installed-perls/host/k93msid/v5.12.0/89ad/lib/site_perl/5.12.0/Catalyst/Action.pm line 353
	Catalyst::Action::dispatch(Catalyst::Action=HASH(0x56528d8c8da8), ComponentUI=HASH(0x7f55dfae2068)) called at /home/sand/src/perl/repoperls/installed-perls/host/k93msid/v5.12.0/89ad/lib/site_perl/5.12.0/Catalyst/Dispatcher.pm line 262
	Catalyst::Dispatcher::_do_forward(Catalyst::Dispatcher=HASH(0x56528911a5a8), "forward", ComponentUI=HASH(0x7f55dfae2068), "_END") called at /home/sand/src/perl/repoperls/installed-perls/host/k93msid/v5.12.0/89ad/lib/site_perl/5.12.0/Catalyst/Dispatcher.pm line 242
	Catalyst::Dispatcher::forward(Catalyst::Dispatcher=HASH(0x56528911a5a8), ComponentUI=HASH(0x7f55dfae2068), "_END") called at /home/sand/src/perl/repoperls/installed-perls/host/k93msid/v5.12.0/89ad/lib/site_perl/5.12.0/Catalyst.pm line 477
	Catalyst::forward(ComponentUI=HASH(0x7f55dfae2068), "_END") called at /home/sand/src/perl/repoperls/installed-perls/host/k93msid/v5.12.0/89ad/lib/site_perl/5.12.0/Catalyst/Controller.pm line 138
	Catalyst::Controller::_DISPATCH(ComponentUI::Controller::TestModel::Baz=HASH(0x7f55dfae2878), ComponentUI=HASH(0x7f55dfae2068)) called at /home/sand/src/perl/repoperls/installed-perls/host/k93msid/v5.12.0/89ad/lib/site_perl/5.12.0/Catalyst/Action.pm line 358
	Catalyst::Action::execute(Catalyst::Action=HASH(0x56528d8c8c88), ComponentUI::Controller::TestModel::Baz=HASH(0x7f55dfae2878), ComponentUI=HASH(0x7f55dfae2068)) called at /home/sand/src/perl/repoperls/installed-perls/host/k93msid/v5.12.0/89ad/lib/site_perl/5.12.0/Catalyst.pm line 2052
	eval {...} called at /home/sand/src/perl/repoperls/installed-perls/host/k93msid/v5.12.0/89ad/lib/site_perl/5.12.0/Catalyst.pm line 2052
	Catalyst::execute(ComponentUI=HASH(0x7f55dfae2068), "ComponentUI::Controller::TestModel::Baz", Catalyst::Action=HASH(0x56528d8c8c88)) called at /home/sand/src/perl/repoperls/installed-perls/host/k93msid/v5.12.0/89ad/lib/site_perl/5.12.0/Catalyst/Action.pm line 353
	Catalyst::Action::dispatch(Catalyst::Action=HASH(0x56528d8c8c88), ComponentUI=HASH(0x7f55dfae2068)) called at /home/sand/src/perl/repoperls/installed-perls/host/k93msid/v5.12.0/89ad/lib/site_perl/5.12.0/Catalyst/Dispatcher.pm line 262
	Catalyst::Dispatcher::_do_forward(Catalyst::Dispatcher=HASH(0x56528911a5a8), "forward", ComponentUI=HASH(0x7f55dfae2068), "/testmodel/baz/_DISPATCH") called at /home/sand/src/perl/repoperls/installed-perls/host/k93msid/v5.12.0/89ad/lib/site_perl/5.12.0/Catalyst/Dispatcher.pm line 242
	Catalyst::Dispatcher::forward(Catalyst::Dispatcher=HASH(0x56528911a5a8), ComponentUI=HASH(0x7f55dfae2068), "/testmodel/baz/_DISPATCH") called at /home/sand/src/perl/repoperls/installed-perls/host/k93msid/v5.12.0/89ad/lib/site_perl/5.12.0/Catalyst.pm line 477
	Catalyst::forward(ComponentUI=HASH(0x7f55dfae2068), "/testmodel/baz/_DISPATCH") called at /home/sand/src/perl/repoperls/installed-perls/host/k93msid/v5.12.0/89ad/lib/site_perl/5.12.0/Catalyst/Dispatcher.pm line 107
	Catalyst::Dispatcher::dispatch(Catalyst::Dispatcher=HASH(0x56528911a5a8), ComponentUI=HASH(0x7f55dfae2068)) called at /home/sand/src/perl/repoperls/installed-perls/host/k93msid/v5.12.0/89ad/lib/site_perl/5.12.0/Catalyst.pm line 1998
	Catalyst::dispatch(ComponentUI=HASH(0x7f55dfae2068)) called at /home/sand/src/perl/repoperls/installed-perls/host/k93msid/v5.12.0/89ad/lib/site_perl/5.12.0/Catalyst/Plugin/Static/Simple.pm line 86
	Class::MOP::Class:::around(CODE(0x5652894d1f18), ComponentUI=HASH(0x7f55dfae2068)) called at /home/sand/src/perl/repoperls/installed-perls/host/k93msid/v5.12.0/89ad/lib/site_perl/5.12.0/x86_64-linux/Class/MOP/Method/Wrapped.pm line 164
	ComponentUI::_wrapped_dispatch(ComponentUI=HASH(0x7f55dfae2068)) called at /home/sand/src/perl/repoperls/installed-perls/host/k93msid/v5.12.0/89ad/lib/site_perl/5.12.0/x86_64-linux/Class/MOP/Method/Wrapped.pm line 95
	ComponentUI::dispatch(ComponentUI=HASH(0x7f55dfae2068)) called at /home/sand/src/perl/repoperls/installed-perls/host/k93msid/v5.12.0/89ad/lib/site_perl/5.12.0/Catalyst.pm line 2393
	Catalyst::try {...} () called at /home/sand/src/perl/repoperls/installed-perls/host/k93msid/v5.12.0/89ad/lib/site_perl/5.12.0/Try/Tiny.pm line 103
	eval {...} called at /home/sand/src/perl/repoperls/installed-perls/host/k93msid/v5.12.0/89ad/lib/site_perl/5.12.0/Try/Tiny.pm line 94
	Try::Tiny::try(CODE(0x7f55dfae1978), Try::Tiny::Catch=REF(0x7f55dfae1798)) called at /home/sand/src/perl/repoperls/installed-perls/host/k93msid/v5.12.0/89ad/lib/site_perl/5.12.0/Catalyst.pm line 2402
	Catalyst::handle_request("ComponentUI", "env", HASH(0x7f55dfadfc08), "response_cb", CODE(0x7f55dfae17f8)) called at /home/sand/src/perl/repoperls/installed-perls/host/k93msid/v5.12.0/89ad/lib/site_perl/5.12.0/Catalyst/Engine.pm line 800
	Catalyst::Engine::__ANON__(CODE(0x7f55dfae17f8)) called at /home/sand/src/perl/repoperls/installed-perls/host/k93msid/v5.12.0/89ad/lib/site_perl/5.12.0/Plack/Middleware/HTTPExceptions.pm line 32
	Plack::Middleware::HTTPExceptions::try {...} () called at /home/sand/src/perl/repoperls/installed-perls/host/k93msid/v5.12.0/89ad/lib/site_perl/5.12.0/Try/Tiny.pm line 103
	eval {...} called at /home/sand/src/perl/repoperls/installed-perls/host/k93msid/v5.12.0/89ad/lib/site_perl/5.12.0/Try/Tiny.pm line 94
	Try::Tiny::try(CODE(0x7f55dfae15b8), Try::Tiny::Catch=REF(0x7f55dfae07d8)) called at /home/sand/src/perl/repoperls/installed-perls/host/k93msid/v5.12.0/89ad/lib/site_perl/5.12.0/Plack/Middleware/HTTPExceptions.pm line 41
	Plack::Middleware::HTTPExceptions::__ANON__(CODE(0x7f55dfae1468)) called at /home/sand/src/perl/repoperls/installed-perls/host/k93msid/v5.12.0/89ad/lib/site_perl/5.12.0/Plack/Util.pm line 339
	Plack::Util::__ANON__(CODE(0x7f55dfae1318)) called at /home/sand/src/perl/repoperls/installed-perls/host/k93msid/v5.12.0/89ad/lib/site_perl/5.12.0/Plack/Util.pm line 339
	Plack::Util::__ANON__(CODE(0x7f55dfae11c8)) called at /home/sand/src/perl/repoperls/installed-perls/host/k93msid/v5.12.0/89ad/lib/site_perl/5.12.0/Plack/Util.pm line 339
	Plack::Util::__ANON__(CODE(0x7f55dfae1120)) called at /home/sand/src/perl/repoperls/installed-perls/host/k93msid/v5.12.0/89ad/lib/site_perl/5.12.0/HTTP/Message/PSGI.pm line 100
	HTTP::Message::PSGI::res_from_psgi(CODE(0x7f55dfae0628)) called at /home/sand/src/perl/repoperls/installed-perls/host/k93msid/v5.12.0/89ad/lib/site_perl/5.12.0/HTTP/Message/PSGI.pm line 156
	HTTP::Response::from_psgi("HTTP::Response", CODE(0x7f55dfae0628)) called at /home/sand/src/perl/repoperls/installed-perls/host/k93msid/v5.12.0/89ad/lib/site_perl/5.12.0/Plack/Test/MockHTTP.pm line 24
	Plack::Test::MockHTTP::try {...} () called at /home/sand/src/perl/repoperls/installed-perls/host/k93msid/v5.12.0/89ad/lib/site_perl/5.12.0/Try/Tiny.pm line 98
	eval {...} called at /home/sand/src/perl/repoperls/installed-perls/host/k93msid/v5.12.0/89ad/lib/site_perl/5.12.0/Try/Tiny.pm line 94
	Try::Tiny::try(CODE(0x7f55dfadb0f0), Try::Tiny::Catch=REF(0x56528d8c2d10)) called at /home/sand/src/perl/repoperls/installed-perls/host/k93msid/v5.12.0/89ad/lib/site_perl/5.12.0/Plack/Test/MockHTTP.pm line 27
	Plack::Test::MockHTTP::request(Plack::Test::MockHTTP=HASH(0x7f55dfadb828), HTTP::Request=HASH(0x7f55dfad5f18)) called at /home/sand/src/perl/repoperls/installed-perls/host/k93msid/v5.12.0/89ad/lib/site_perl/5.12.0/Plack/Test.pm line 38
	Plack::Test::__ANON__(HTTP::Request=HASH(0x7f55dfad5f18)) called at /home/sand/src/perl/repoperls/installed-perls/host/k93msid/v5.12.0/89ad/lib/site_perl/5.12.0/Catalyst/Test.pm line 281
	Catalyst::Test::__ANON__(CODE(0x7f55dfadb6a8)) called at /home/sand/src/perl/repoperls/installed-perls/host/k93msid/v5.12.0/89ad/lib/site_perl/5.12.0/Plack/Test.pm line 38
	Plack::Test::test_psgi("app", CODE(0x7f55dfadb138), "mangle_response", CODE(0x565287e39020), "app", CODE(0x7f55dfadb3c0), "client", CODE(0x7f55dfadb498)) called at /home/sand/src/perl/repoperls/installed-perls/host/k93msid/v5.12.0/89ad/lib/site_perl/5.12.0/Catalyst/Test.pm line 284
	Catalyst::Test::_request(HASH(0x7f55dfadb060), HTTP::Request=HASH(0x7f55dfad5f18)) called at /home/sand/src/perl/repoperls/installed-perls/host/k93msid/v5.12.0/89ad/lib/site_perl/5.12.0/Catalyst/Test.pm line 327
	Catalyst::Test::_local_request("ComponentUI", HTTP::Request=HASH(0x7f55dfad5f18)) called at /home/sand/src/perl/repoperls/installed-perls/host/k93msid/v5.12.0/89ad/lib/site_perl/5.12.0/Test/WWW/Mechanize/Catalyst.pm line 174
	Test::WWW::Mechanize::Catalyst::_do_catalyst_request(Test::WWW::Mechanize::Catalyst=HASH(0x7f55dfac6120), HTTP::Request=HASH(0x7f55dfad5f18)) called at /home/sand/src/perl/repoperls/installed-perls/host/k93msid/v5.12.0/89ad/lib/site_perl/5.12.0/Test/WWW/Mechanize/Catalyst.pm line 78
	Test::WWW::Mechanize::Catalyst::_make_request(Test::WWW::Mechanize::Catalyst=HASH(0x7f55dfac6120), HTTP::Request=HASH(0x7f55dfad5f18)) called at /home/sand/src/perl/repoperls/installed-perls/host/k93msid/v5.12.0/89ad/lib/site_perl/5.12.0/WWW/Mechanize.pm line 1252
	WWW::Mechanize::request(Test::WWW::Mechanize::Catalyst=HASH(0x7f55dfac6120), HTTP::Request=HASH(0x7f55dfad5f18)) called at /home/sand/src/perl/repoperls/installed-perls/host/k93msid/v5.12.0/89ad/lib/site_perl/5.12.0/LWP/UserAgent.pm line 435
	LWP::UserAgent::get(Test::WWW::Mechanize::Catalyst=HASH(0x7f55dfac6120), "http://localhost/testmodel/baz/id/1/update") called at /home/sand/src/perl/repoperls/installed-perls/host/k93msid/v5.12.0/89ad/lib/site_perl/5.12.0/WWW/Mechanize.pm line 116
	WWW::Mechanize::get(Test::WWW::Mechanize::Catalyst=HASH(0x7f55dfac6120), "http://localhost/testmodel/baz/id/1/update") called at /home/sand/src/perl/repoperls/installed-perls/host/k93msid/v5.12.0/89ad/lib/site_perl/5.12.0/Test/WWW/Mechanize.pm line 160
	Test::WWW::Mechanize::get_ok(Test::WWW::Mechanize::Catalyst=HASH(0x7f55dfac6120), "http://localhost/testmodel/baz/id/1/update") called at t/uncheck_bool_field.t line 9
Class::MOP::load_class is deprecated at /home/sand/src/perl/repoperls/installed-perls/host/k93msid/v5.12.0/89ad/lib/site_perl/5.12.0/x86_64-linux/Class/MOP.pm line 69.
	Class::MOP::load_class("Reaction::UI::Widget::SiteLayout") called at /tmp/loop_over_bdir-4869-otpfhx/Reaction-0.002005-0/blib/lib/Reaction/UI/Skin.pm line 181
	eval {...} called at /tmp/loop_over_bdir-4869-otpfhx/Reaction-0.002005-0/blib/lib/Reaction/UI/Skin.pm line 181
	Reaction::UI::Skin::widget_class_for(Reaction::UI::Skin=HASH(0x56528dd1d9c8), Reaction::UI::LayoutSet::TT=HASH(0x56528dd23160)) called at /tmp/loop_over_bdir-4869-otpfhx/Reaction-0.002005-0/blib/lib/Reaction/UI/LayoutSet.pm line 28
	Reaction::UI::LayoutSet::BUILD(Reaction::UI::LayoutSet::TT=HASH(0x56528dd23160), HASH(0x56528dd48038)) called at constructor Reaction::UI::LayoutSet::TT::new (defined at /tmp/loop_over_bdir-4869-otpfhx/Reaction-0.002005-0/blib/lib/Reaction/UI/LayoutSet/TT.pm line 43) line 80
	Reaction::UI::LayoutSet::TT::new("Reaction::UI::LayoutSet::TT", "name", "site_layout", "skin", Reaction::UI::Skin=HASH(0x56528dd1d9c8), "tt_object", Template=HASH(0x56528d6ca298), "source_file", ...) called at /tmp/loop_over_bdir-4869-otpfhx/Reaction-0.002005-0/blib/lib/Reaction/UI/Skin.pm line 114
	Reaction::UI::Skin::_create_layout_set(Reaction::UI::Skin=HASH(0x56528dd1d9c8), "site_layout", ARRAY(0x56528dd365b8), Reaction::UI::Skin=HASH(0x56528dd1d9c8)) called at /tmp/loop_over_bdir-4869-otpfhx/Reaction-0.002005-0/blib/lib/Reaction/UI/Skin.pm line 110
	Reaction::UI::Skin::create_layout_set(Reaction::UI::Skin=HASH(0x56528dd1d9c8), "site_layout") called at /tmp/loop_over_bdir-4869-otpfhx/Reaction-0.002005-0/blib/lib/Reaction/UI/LayoutSet.pm line 83
	Reaction::UI::LayoutSet::_load_file(Reaction::UI::LayoutSet::TT=HASH(0x56528dd3bd08), Path::Class::File=HASH(0x56528dd26ad8), HASH(0x56528dd3bc90)) called at /tmp/loop_over_bdir-4869-otpfhx/Reaction-0.002005-0/blib/lib/Reaction/UI/LayoutSet.pm line 27
	Reaction::UI::LayoutSet::BUILD(Reaction::UI::LayoutSet::TT=HASH(0x56528dd3bd08), HASH(0x56528dd3bc90)) called at constructor Reaction::UI::LayoutSet::TT::new (defined at /tmp/loop_over_bdir-4869-otpfhx/Reaction-0.002005-0/blib/lib/Reaction/UI/LayoutSet/TT.pm line 43) line 80
	Reaction::UI::LayoutSet::TT::new("Reaction::UI::LayoutSet::TT", "name", "site_layout", "skin", Reaction::UI::Skin=HASH(0x56528dd02e68), "next_skin", Reaction::UI::Skin=HASH(0x56528dd1d9c8), "tt_object", ...) called at /tmp/loop_over_bdir-4869-otpfhx/Reaction-0.002005-0/blib/lib/Reaction/UI/Skin.pm line 114
	Reaction::UI::Skin::_create_layout_set(Reaction::UI::Skin=HASH(0x56528dd02e68), "site_layout", ARRAY(0x56528dcd5540), Reaction::UI::Skin=HASH(0x56528dd02e68)) called at /tmp/loop_over_bdir-4869-otpfhx/Reaction-0.002005-0/blib/lib/Reaction/UI/Skin.pm line 110
	Reaction::UI::Skin::create_layout_set(Reaction::UI::Skin=HASH(0x56528dd02e68), "site_layout") called at /tmp/loop_over_bdir-4869-otpfhx/Reaction-0.002005-0/blib/lib/Reaction/UI/LayoutSet.pm line 83
	Reaction::UI::LayoutSet::_load_file(Reaction::UI::LayoutSet::TT=HASH(0x56528d84a4e8), Path::Class::File=HASH(0x56528dcd5708), HASH(0x56528dd02af0)) called at /tmp/loop_over_bdir-4869-otpfhx/Reaction-0.002005-0/blib/lib/Reaction/UI/LayoutSet.pm line 27
	Reaction::UI::LayoutSet::BUILD(Reaction::UI::LayoutSet::TT=HASH(0x56528d84a4e8), HASH(0x56528dd02af0)) called at constructor Reaction::UI::LayoutSet::TT::new (defined at /tmp/loop_over_bdir-4869-otpfhx/Reaction-0.002005-0/blib/lib/Reaction/UI/LayoutSet/TT.pm line 43) line 80
	Reaction::UI::LayoutSet::TT::new("Reaction::UI::LayoutSet::TT", "name", "site_layout", "skin", Reaction::UI::Skin=HASH(0x56528c9e0e08), "next_skin", Reaction::UI::Skin=HASH(0x56528dd02e68), "tt_object", ...) called at /tmp/loop_over_bdir-4869-otpfhx/Reaction-0.002005-0/blib/lib/Reaction/UI/Skin.pm line 114
	Reaction::UI::Skin::_create_layout_set(Reaction::UI::Skin=HASH(0x56528c9e0e08), "site_layout", ARRAY(0x56528dcd2010), Reaction::UI::Skin=HASH(0x56528c9e0e08)) called at /tmp/loop_over_bdir-4869-otpfhx/Reaction-0.002005-0/blib/lib/Reaction/UI/Skin.pm line 110
	Reaction::UI::Skin::create_layout_set(Reaction::UI::Skin=HASH(0x56528c9e0e08), "site_layout") called at inline delegation in Reaction::UI::View for skin->create_layout_set (attribute declared in /tmp/loop_over_bdir-4869-otpfhx/Reaction-0.002005-0/blib/lib/Reaction/UI/View.pm at line 22) line 18
	Reaction::UI::View::create_layout_set(ComponentUI::View::Site=HASH(0x56528a6c7108), "site_layout") called at /tmp/loop_over_bdir-4869-otpfhx/Reaction-0.002005-0/blib/lib/Reaction/UI/View.pm line 99
	Reaction::UI::View::layout_set_for(ComponentUI::View::Site=HASH(0x56528a6c7108), Reaction::UI::ViewPort::SiteLayout=HASH(0x7f55dfae7d20)) called at /tmp/loop_over_bdir-4869-otpfhx/Reaction-0.002005-0/blib/lib/Reaction/UI/View.pm line 78
	Reaction::UI::View::render_viewport_args(ComponentUI::View::Site=HASH(0x56528a6c7108), Reaction::UI::ViewPort::SiteLayout=HASH(0x7f55dfae7d20)) called at /tmp/loop_over_bdir-4869-otpfhx/Reaction-0.002005-0/blib/lib/Reaction/UI/View.pm line 61
	Reaction::UI::View::render_window(ComponentUI::View::Site=HASH(0x56528a6c7108), Reaction::UI::Window=HASH(0x7f55dfae7888)) called at /tmp/loop_over_bdir-4869-otpfhx/Reaction-0.002005-0/blib/lib/Reaction/UI/Window.pm line 74
	Reaction::UI::Window::flush_view(Reaction::UI::Window=HASH(0x7f55dfae7888)) called at /tmp/loop_over_bdir-4869-otpfhx/Reaction-0.002005-0/blib/lib/Reaction/UI/Window.pm line 36
	Reaction::UI::Window::flush(Reaction::UI::Window=HASH(0x7f55dfae7888)) called at /tmp/loop_over_bdir-4869-otpfhx/Reaction-0.002005-0/blib/lib/Reaction/UI/Controller/Root.pm line 38
	Reaction::UI::Controller::Root::end(ComponentUI::Controller::Root=HASH(0x7f55dfae79d8), ComponentUI=HASH(0x7f55dfae2068)) called at /home/sand/src/perl/repoperls/installed-perls/host/k93msid/v5.12.0/89ad/lib/site_perl/5.12.0/Catalyst/Action.pm line 358
	Catalyst::Action::execute(Catalyst::Action=HASH(0x56528d8068b8), ComponentUI::Controller::Root=HASH(0x7f55dfae79d8), ComponentUI=HASH(0x7f55dfae2068)) called at /home/sand/src/perl/repoperls/installed-perls/host/k93msid/v5.12.0/89ad/lib/site_perl/5.12.0/Catalyst.pm line 2052
	eval {...} called at /home/sand/src/perl/repoperls/installed-perls/host/k93msid/v5.12.0/89ad/lib/site_perl/5.12.0/Catalyst.pm line 2052
	Catalyst::execute(ComponentUI=HASH(0x7f55dfae2068), "ComponentUI::Controller::Root", Catalyst::Action=HASH(0x56528d8068b8)) called at /home/sand/src/perl/repoperls/installed-perls/host/k93msid/v5.12.0/89ad/lib/site_perl/5.12.0/Catalyst/Action.pm line 353
	Catalyst::Action::dispatch(Catalyst::Action=HASH(0x56528d8068b8), ComponentUI=HASH(0x7f55dfae2068)) called at /home/sand/src/perl/repoperls/installed-perls/host/k93msid/v5.12.0/89ad/lib/site_perl/5.12.0/Catalyst/Controller.pm line 189
	Catalyst::Controller::_END(ComponentUI::Controller::TestModel::Baz=HASH(0x7f55dfae2878), ComponentUI=HASH(0x7f55dfae2068)) called at /home/sand/src/perl/repoperls/installed-perls/host/k93msid/v5.12.0/89ad/lib/site_perl/5.12.0/Catalyst/Action.pm line 358
	Catalyst::Action::execute(Catalyst::Action=HASH(0x56528d8c8da8), ComponentUI::Controller::TestModel::Baz=HASH(0x7f55dfae2878), ComponentUI=HASH(0x7f55dfae2068)) called at /home/sand/src/perl/repoperls/installed-perls/host/k93msid/v5.12.0/89ad/lib/site_perl/5.12.0/Catalyst.pm line 2052
	eval {...} called at /home/sand/src/perl/repoperls/installed-perls/host/k93msid/v5.12.0/89ad/lib/site_perl/5.12.0/Catalyst.pm line 2052
	Catalyst::execute(ComponentUI=HASH(0x7f55dfae2068), "ComponentUI::Controller::TestModel::Baz", Catalyst::Action=HASH(0x56528d8c8da8)) called at /home/sand/src/perl/repoperls/installed-perls/host/k93msid/v5.12.0/89ad/lib/site_perl/5.12.0/Catalyst/Action.pm line 353
	Catalyst::Action::dispatch(Catalyst::Action=HASH(0x56528d8c8da8), ComponentUI=HASH(0x7f55dfae2068)) called at /home/sand/src/perl/repoperls/installed-perls/host/k93msid/v5.12.0/89ad/lib/site_perl/5.12.0/Catalyst/Dispatcher.pm line 262
	Catalyst::Dispatcher::_do_forward(Catalyst::Dispatcher=HASH(0x56528911a5a8), "forward", ComponentUI=HASH(0x7f55dfae2068), "_END") called at /home/sand/src/perl/repoperls/installed-perls/host/k93msid/v5.12.0/89ad/lib/site_perl/5.12.0/Catalyst/Dispatcher.pm line 242
	Catalyst::Dispatcher::forward(Catalyst::Dispatcher=HASH(0x56528911a5a8), ComponentUI=HASH(0x7f55dfae2068), "_END") called at /home/sand/src/perl/repoperls/installed-perls/host/k93msid/v5.12.0/89ad/lib/site_perl/5.12.0/Catalyst.pm line 477
	Catalyst::forward(ComponentUI=HASH(0x7f55dfae2068), "_END") called at /home/sand/src/perl/repoperls/installed-perls/host/k93msid/v5.12.0/89ad/lib/site_perl/5.12.0/Catalyst/Controller.pm line 138
	Catalyst::Controller::_DISPATCH(ComponentUI::Controller::TestModel::Baz=HASH(0x7f55dfae2878), ComponentUI=HASH(0x7f55dfae2068)) called at /home/sand/src/perl/repoperls/installed-perls/host/k93msid/v5.12.0/89ad/lib/site_perl/5.12.0/Catalyst/Action.pm line 358
	Catalyst::Action::execute(Catalyst::Action=HASH(0x56528d8c8c88), ComponentUI::Controller::TestModel::Baz=HASH(0x7f55dfae2878), ComponentUI=HASH(0x7f55dfae2068)) called at /home/sand/src/perl/repoperls/installed-perls/host/k93msid/v5.12.0/89ad/lib/site_perl/5.12.0/Catalyst.pm line 2052
	eval {...} called at /home/sand/src/perl/repoperls/installed-perls/host/k93msid/v5.12.0/89ad/lib/site_perl/5.12.0/Catalyst.pm line 2052
	Catalyst::execute(ComponentUI=HASH(0x7f55dfae2068), "ComponentUI::Controller::TestModel::Baz", Catalyst::Action=HASH(0x56528d8c8c88)) called at /home/sand/src/perl/repoperls/installed-perls/host/k93msid/v5.12.0/89ad/lib/site_perl/5.12.0/Catalyst/Action.pm line 353
	Catalyst::Action::dispatch(Catalyst::Action=HASH(0x56528d8c8c88), ComponentUI=HASH(0x7f55dfae2068)) called at /home/sand/src/perl/repoperls/installed-perls/host/k93msid/v5.12.0/89ad/lib/site_perl/5.12.0/Catalyst/Dispatcher.pm line 262
	Catalyst::Dispatcher::_do_forward(Catalyst::Dispatcher=HASH(0x56528911a5a8), "forward", ComponentUI=HASH(0x7f55dfae2068), "/testmodel/baz/_DISPATCH") called at /home/sand/src/perl/repoperls/installed-perls/host/k93msid/v5.12.0/89ad/lib/site_perl/5.12.0/Catalyst/Dispatcher.pm line 242
	Catalyst::Dispatcher::forward(Catalyst::Dispatcher=HASH(0x56528911a5a8), ComponentUI=HASH(0x7f55dfae2068), "/testmodel/baz/_DISPATCH") called at /home/sand/src/perl/repoperls/installed-perls/host/k93msid/v5.12.0/89ad/lib/site_perl/5.12.0/Catalyst.pm line 477
	Catalyst::forward(ComponentUI=HASH(0x7f55dfae2068), "/testmodel/baz/_DISPATCH") called at /home/sand/src/perl/repoperls/installed-perls/host/k93msid/v5.12.0/89ad/lib/site_perl/5.12.0/Catalyst/Dispatcher.pm line 107
	Catalyst::Dispatcher::dispatch(Catalyst::Dispatcher=HASH(0x56528911a5a8), ComponentUI=HASH(0x7f55dfae2068)) called at /home/sand/src/perl/repoperls/installed-perls/host/k93msid/v5.12.0/89ad/lib/site_perl/5.12.0/Catalyst.pm line 1998
	Catalyst::dispatch(ComponentUI=HASH(0x7f55dfae2068)) called at /home/sand/src/perl/repoperls/installed-perls/host/k93msid/v5.12.0/89ad/lib/site_perl/5.12.0/Catalyst/Plugin/Static/Simple.pm line 86
	Class::MOP::Class:::around(CODE(0x5652894d1f18), ComponentUI=HASH(0x7f55dfae2068)) called at /home/sand/src/perl/repoperls/installed-perls/host/k93msid/v5.12.0/89ad/lib/site_perl/5.12.0/x86_64-linux/Class/MOP/Method/Wrapped.pm line 164
	ComponentUI::_wrapped_dispatch(ComponentUI=HASH(0x7f55dfae2068)) called at /home/sand/src/perl/repoperls/installed-perls/host/k93msid/v5.12.0/89ad/lib/site_perl/5.12.0/x86_64-linux/Class/MOP/Method/Wrapped.pm line 95
	ComponentUI::dispatch(ComponentUI=HASH(0x7f55dfae2068)) called at /home/sand/src/perl/repoperls/installed-perls/host/k93msid/v5.12.0/89ad/lib/site_perl/5.12.0/Catalyst.pm line 2393
	Catalyst::try {...} () called at /home/sand/src/perl/repoperls/installed-perls/host/k93msid/v5.12.0/89ad/lib/site_perl/5.12.0/Try/Tiny.pm line 103
	eval {...} called at /home/sand/src/perl/repoperls/installed-perls/host/k93msid/v5.12.0/89ad/lib/site_perl/5.12.0/Try/Tiny.pm line 94
	Try::Tiny::try(CODE(0x7f55dfae1978), Try::Tiny::Catch=REF(0x7f55dfae1798)) called at /home/sand/src/perl/repoperls/installed-perls/host/k93msid/v5.12.0/89ad/lib/site_perl/5.12.0/Catalyst.pm line 2402
	Catalyst::handle_request("ComponentUI", "env", HASH(0x7f55dfadfc08), "response_cb", CODE(0x7f55dfae17f8)) called at /home/sand/src/perl/repoperls/installed-perls/host/k93msid/v5.12.0/89ad/lib/site_perl/5.12.0/Catalyst/Engine.pm line 800
	Catalyst::Engine::__ANON__(CODE(0x7f55dfae17f8)) called at /home/sand/src/perl/repoperls/installed-perls/host/k93msid/v5.12.0/89ad/lib/site_perl/5.12.0/Plack/Middleware/HTTPExceptions.pm line 32
	Plack::Middleware::HTTPExceptions::try {...} () called at /home/sand/src/perl/repoperls/installed-perls/host/k93msid/v5.12.0/89ad/lib/site_perl/5.12.0/Try/Tiny.pm line 103
	eval {...} called at /home/sand/src/perl/repoperls/installed-perls/host/k93msid/v5.12.0/89ad/lib/site_perl/5.12.0/Try/Tiny.pm line 94
	Try::Tiny::try(CODE(0x7f55dfae15b8), Try::Tiny::Catch=REF(0x7f55dfae07d8)) called at /home/sand/src/perl/repoperls/installed-perls/host/k93msid/v5.12.0/89ad/lib/site_perl/5.12.0/Plack/Middleware/HTTPExceptions.pm line 41
	Plack::Middleware::HTTPExceptions::__ANON__(CODE(0x7f55dfae1468)) called at /home/sand/src/perl/repoperls/installed-perls/host/k93msid/v5.12.0/89ad/lib/site_perl/5.12.0/Plack/Util.pm line 339
	Plack::Util::__ANON__(CODE(0x7f55dfae1318)) called at /home/sand/src/perl/repoperls/installed-perls/host/k93msid/v5.12.0/89ad/lib/site_perl/5.12.0/Plack/Util.pm line 339
	Plack::Util::__ANON__(CODE(0x7f55dfae11c8)) called at /home/sand/src/perl/repoperls/installed-perls/host/k93msid/v5.12.0/89ad/lib/site_perl/5.12.0/Plack/Util.pm line 339
	Plack::Util::__ANON__(CODE(0x7f55dfae1120)) called at /home/sand/src/perl/repoperls/installed-perls/host/k93msid/v5.12.0/89ad/lib/site_perl/5.12.0/HTTP/Message/PSGI.pm line 100
	HTTP::Message::PSGI::res_from_psgi(CODE(0x7f55dfae0628)) called at /home/sand/src/perl/repoperls/installed-perls/host/k93msid/v5.12.0/89ad/lib/site_perl/5.12.0/HTTP/Message/PSGI.pm line 156
	HTTP::Response::from_psgi("HTTP::Response", CODE(0x7f55dfae0628)) called at /home/sand/src/perl/repoperls/installed-perls/host/k93msid/v5.12.0/89ad/lib/site_perl/5.12.0/Plack/Test/MockHTTP.pm line 24
	Plack::Test::MockHTTP::try {...} () called at /home/sand/src/perl/repoperls/installed-perls/host/k93msid/v5.12.0/89ad/lib/site_perl/5.12.0/Try/Tiny.pm line 98
	eval {...} called at /home/sand/src/perl/repoperls/installed-perls/host/k93msid/v5.12.0/89ad/lib/site_perl/5.12.0/Try/Tiny.pm line 94
	Try::Tiny::try(CODE(0x7f55dfadb0f0), Try::Tiny::Catch=REF(0x56528d8c2d10)) called at /home/sand/src/perl/repoperls/installed-perls/host/k93msid/v5.12.0/89ad/lib/site_perl/5.12.0/Plack/Test/MockHTTP.pm line 27
	Plack::Test::MockHTTP::request(Plack::Test::MockHTTP=HASH(0x7f55dfadb828), HTTP::Request=HASH(0x7f55dfad5f18)) called at /home/sand/src/perl/repoperls/installed-perls/host/k93msid/v5.12.0/89ad/lib/site_perl/5.12.0/Plack/Test.pm line 38
	Plack::Test::__ANON__(HTTP::Request=HASH(0x7f55dfad5f18)) called at /home/sand/src/perl/repoperls/installed-perls/host/k93msid/v5.12.0/89ad/lib/site_perl/5.12.0/Catalyst/Test.pm line 281
	Catalyst::Test::__ANON__(CODE(0x7f55dfadb6a8)) called at /home/sand/src/perl/repoperls/installed-perls/host/k93msid/v5.12.0/89ad/lib/site_perl/5.12.0/Plack/Test.pm line 38
	Plack::Test::test_psgi("app", CODE(0x7f55dfadb138), "mangle_response", CODE(0x565287e39020), "app", CODE(0x7f55dfadb3c0), "client", CODE(0x7f55dfadb498)) called at /home/sand/src/perl/repoperls/installed-perls/host/k93msid/v5.12.0/89ad/lib/site_perl/5.12.0/Catalyst/Test.pm line 284
	Catalyst::Test::_request(HASH(0x7f55dfadb060), HTTP::Request=HASH(0x7f55dfad5f18)) called at /home/sand/src/perl/repoperls/installed-perls/host/k93msid/v5.12.0/89ad/lib/site_perl/5.12.0/Catalyst/Test.pm line 327
	Catalyst::Test::_local_request("ComponentUI", HTTP::Request=HASH(0x7f55dfad5f18)) called at /home/sand/src/perl/repoperls/installed-perls/host/k93msid/v5.12.0/89ad/lib/site_perl/5.12.0/Test/WWW/Mechanize/Catalyst.pm line 174
	Test::WWW::Mechanize::Catalyst::_do_catalyst_request(Test::WWW::Mechanize::Catalyst=HASH(0x7f55dfac6120), HTTP::Request=HASH(0x7f55dfad5f18)) called at /home/sand/src/perl/repoperls/installed-perls/host/k93msid/v5.12.0/89ad/lib/site_perl/5.12.0/Test/WWW/Mechanize/Catalyst.pm line 78
	Test::WWW::Mechanize::Catalyst::_make_request(Test::WWW::Mechanize::Catalyst=HASH(0x7f55dfac6120), HTTP::Request=HASH(0x7f55dfad5f18)) called at /home/sand/src/perl/repoperls/installed-perls/host/k93msid/v5.12.0/89ad/lib/site_perl/5.12.0/WWW/Mechanize.pm line 1252
	WWW::Mechanize::request(Test::WWW::Mechanize::Catalyst=HASH(0x7f55dfac6120), HTTP::Request=HASH(0x7f55dfad5f18)) called at /home/sand/src/perl/repoperls/installed-perls/host/k93msid/v5.12.0/89ad/lib/site_perl/5.12.0/LWP/UserAgent.pm line 435
	LWP::UserAgent::get(Test::WWW::Mechanize::Catalyst=HASH(0x7f55dfac6120), "http://localhost/testmodel/baz/id/1/update") called at /home/sand/src/perl/repoperls/installed-perls/host/k93msid/v5.12.0/89ad/lib/site_perl/5.12.0/WWW/Mechanize.pm line 116
	WWW::Mechanize::get(Test::WWW::Mechanize::Catalyst=HASH(0x7f55dfac6120), "http://localhost/testmodel/baz/id/1/update") called at /home/sand/src/perl/repoperls/installed-perls/host/k93msid/v5.12.0/89ad/lib/site_perl/5.12.0/Test/WWW/Mechanize.pm line 160
	Test::WWW::Mechanize::get_ok(Test::WWW::Mechanize::Catalyst=HASH(0x7f55dfac6120), "http://localhost/testmodel/baz/id/1/update") called at t/uncheck_bool_field.t line 9
t/uncheck_bool_field.t ...... ok
All tests successful.
Files=9, Tests=604, 30 wallclock secs ( 0.05 usr  0.07 sys + 13.92 cusr  1.06 csys = 15.10 CPU)
Result: PASS

------------------------------
PREREQUISITES
------------------------------

Prerequisite modules loaded:

requires:

    Module                                  Need      Have     
    --------------------------------------- --------- ---------
    aliased                                 0.22      0.34     
    Catalyst                                5.80002   5.90115  
    Catalyst::Component::ACCEPT_CONTEXT     0.05      0.07     
    Catalyst::Component::InstancePerContext 0.001001  0.001001 
    Catalyst::Model::DBIC::Schema           0.23      0.65     
    Catalyst::Plugin::ConfigLoader          0.23      0.34     
    Catalyst::Plugin::I18N                  0.09      0.10     
    Catalyst::Plugin::Static::Simple        0.21      0.33     
    Catalyst::View::TT                      0.29      0.44     
    Class::MOP                              0.81      2.2004   
    Config::General                         2.42      2.63     
    Crypt::Eksblowfish::Bcrypt              0.005     0.009    
    DateTime                                0.47      1.42     
    DateTime::Event::Recurrence             0.16      0.19     
    DateTime::Span                          0         0.3900   
    DBIx::Class                             0.08100   0.082840 
    DBIx::Class::IntrospectableM2M          0.001001  0.001002 
    Devel::Declare                          0.005000  0.006019 
    Email::Valid                            0.181     1.202    
    ExtUtils::MakeMaker                     6.11      7.31_01  
    File::ShareDir                          1.00      1.102    
    File::Spec                              3.29      3.62     
    JSON                                    0         2.93     
    metaclass                               0.81      2.2004   
    Method::Signatures::Simple              0.03      1.07     
    Moose                                   0.74      2.2004   
    MooseX::MethodAttributes                0.18      0.31     
    MooseX::Role::Parameterized             0.24      1.09     
    MooseX::Types                           0.10      0.50     
    MooseX::Types::Common                   0.001000  0.001014 
    MooseX::Types::DateTime                 0.03      0.13     
    MooseX::Types::URI                      0.02      0.08     
    namespace::clean                        0.11      0.27     
    Path::Class::Dir                        0         0.37     
    Path::Class::File                       0         0.37     
    perl                                    5.008001  5.012000 
    Scalar::Util                            1.19      1.47     
    signatures                              0.05      0.13     
    SQL::Translator                         0.11002   0.11021  
    Sub::Exporter                           0.982     0.987    
    Sub::Name                               0.04      0.21     
    Template                                2.20      2.27     
    Test::Class                             0.31      0.50     
    Test::Memory::Cycle                     1.04      1.06     
    Test::WWW::Mechanize::Catalyst          0.51      0.60     
    Time::ParseDate                         2006.0814 2013.0912
    URI                                     1.37      1.71     

build_requires:

    Module                                  Need      Have     
    --------------------------------------- --------- ---------
    ExtUtils::MakeMaker                     6.42      7.31_01  
    SQL::Translator                         0.11002   0.11021  
    Test::Class                             0.31      0.50     
    Test::Memory::Cycle                     1.04      1.06     
    Test::WWW::Mechanize::Catalyst          0.51      0.60     

configure_requires:

    Module                                  Need      Have     
    --------------------------------------- --------- ---------
    ExtUtils::MakeMaker                     6.42      7.31_01  


------------------------------
ENVIRONMENT AND OTHER CONTEXT
------------------------------

Environment variables:

    AUTOMATED_TESTING = 1
    LANG = en_US.UTF-8
    PATH = /home/sand/bin:/usr/local/bin:/usr/bin:/bin:/usr/games:/usr/local/perl/bin:/usr/X11/bin:/sbin:/usr/sbin
    PERL5LIB = 
    PERL5OPT = 
    PERL5_CPANPLUS_IS_RUNNING = 4873
    PERL5_CPAN_IS_RUNNING = 4873
    PERL_CANARY_STABILITY_NOPROMPT = 1
    PERL_MM_USE_DEFAULT = 1
    PERL_USE_UNSAFE_INC = 1
    SHELL = /usr/bin/zsh
    TERM = screen

Perl special variables (and OS-specific diagnostics, for MSWin32):

    $^X = /home/sand/src/perl/repoperls/installed-perls/host/k93msid/v5.12.0/89ad/bin/perl
    $UID/$EUID = 1005 / 1005
    $GID = 1005 1005
    $EGID = 1005 1005

Perl module toolchain versions installed:

    Module              Have    
    ------------------- --------
    CPAN                2.18    
    CPAN::Meta          2.150010
    Cwd                 3.62    
    ExtUtils::CBuilder  0.280224
    ExtUtils::Command   7.31_01 
    ExtUtils::Install   2.12    
    ExtUtils::MakeMaker 7.31_01 
    ExtUtils::Manifest  1.70    
    ExtUtils::ParseXS   3.30    
    File::Spec          3.62    
    JSON                2.93    
    JSON::PP            2.94    
    Module::Build       0.4222  
    Module::Signature   0.81    
    Parse::CPAN::Meta   2.150010
    Test::Harness       3.39    
    Test::More          1.302085
    YAML                1.23    
    YAML::Syck          1.30    
    version             0.9917  


--

Summary of my perl5 (revision 5 version 12 subversion 0) configuration:
  Derived from: 6d52c880307229a35c23215c596700e716bd7c32
  Platform:
    osname=linux, osvers=4.9.0-2-amd64, archname=x86_64-linux
    uname='linux k93msid 4.9.0-2-amd64 #1 smp debian 4.9.18-1 (2017-03-30) x86_64 gnulinux '
    config_args='-Dprefix=/home/sand/src/perl/repoperls/installed-perls/host/k93msid/v5.12.0/89ad -Dmyhostname=k93msid -Dinstallusrbinperl=n -Uversiononly -Dusedevel -des -Ui_db -Dlibswanted=cl pthread socket inet nsl gdbm dbm malloc dl ld sun m crypt sec util c cposix posix ucb BSD gdbm_compat -Uuseithreads -Uuselongdouble -DDEBUGGING=-g'
    hint=recommended, useposix=true, d_sigaction=define
    useithreads=undef, usemultiplicity=undef
    useperlio=define, d_sfio=undef, uselargefiles=define, usesocks=undef
    use64bitint=define, use64bitall=define, uselongdouble=undef
    usemymalloc=n, bincompat5005=undef
  Compiler:
    cc='cc', ccflags ='-fno-strict-aliasing -pipe -fstack-protector -I/usr/local/include -D_LARGEFILE_SOURCE -D_FILE_OFFSET_BITS=64',
    optimize='-O2 -g',
    cppflags='-fno-strict-aliasing -pipe -fstack-protector -I/usr/local/include'
    ccversion='', gccversion='6.3.0 20170406', gccosandvers=''
    intsize=4, longsize=8, ptrsize=8, doublesize=8, byteorder=12345678
    d_longlong=define, longlongsize=8, d_longdbl=define, longdblsize=16
    ivtype='long', ivsize=8, nvtype='double', nvsize=8, Off_t='off_t', lseeksize=8
    alignbytes=8, prototype=define
  Linker and Libraries:
    ld='cc', ldflags =' -fstack-protector -L/usr/local/lib'
    libpth=/usr/local/lib /lib/x86_64-linux-gnu /lib/../lib /usr/lib/x86_64-linux-gnu /usr/lib/../lib /lib /usr/lib
    libs=-lpthread -lnsl -ldl -lm -lcrypt -lutil -lc
    perllibs=-lpthread -lnsl -ldl -lm -lcrypt -lutil -lc
    libc=libc-2.24.so, so=so, useshrplib=false, libperl=libperl.a
    gnulibc_version='2.24'
  Dynamic Linking:
    dlsrc=dl_dlopen.xs, dlext=so, d_dlsymun=undef, ccdlflags='-Wl,-E'
    cccdlflags='-fPIC', lddlflags='-shared -O2 -g -L/usr/local/lib -fstack-protector'


Characteristics of this binary (from libperl): 
  Compile-time options: PERL_DONT_CREATE_GVSV PERL_MALLOC_WRAP PERL_USE_DEVEL
                        USE_64_BIT_ALL USE_64_BIT_INT USE_LARGE_FILES
                        USE_PERLIO USE_PERL_ATOF
  Locally applied patches:
	uncommitted-changes
  Built under linux
  Compiled at Apr 17 2017 09:30:27
  %ENV:
    PERL5LIB=""
    PERL5OPT=""
    PERL5_CPANPLUS_IS_RUNNING="4873"
    PERL5_CPAN_IS_RUNNING="4873"
    PERL_CANARY_STABILITY_NOPROMPT="1"
    PERL_MM_USE_DEFAULT="1"
    PERL_USE_UNSAFE_INC="1"
  @INC:
    /home/sand/src/perl/repoperls/installed-perls/host/k93msid/v5.12.0/89ad/lib/site_perl/5.12.0/x86_64-linux
    /home/sand/src/perl/repoperls/installed-perls/host/k93msid/v5.12.0/89ad/lib/site_perl/5.12.0
    /home/sand/src/perl/repoperls/installed-perls/host/k93msid/v5.12.0/89ad/lib/5.12.0/x86_64-linux
    /home/sand/src/perl/repoperls/installed-perls/host/k93msid/v5.12.0/89ad/lib/5.12.0
    .