Promises v1.04 Perl 5 v5.12.1 x86_64-linux-ld
- Status
- Pass
- From
- Andreas J. König (ANDK)
- Dist
-
Promises v1.04
- Platform
- Perl 5 v5.12.1 x86_64-linux-ld
- Date
- 2024-06-21 13:54:54
- ID
- d6b08566-2fd5-11ef-9162-cbec096f170e
This distribution has been tested as part of the CPAN Testers
project, supporting the Perl programming language. See
http://wiki.cpantesters.org/ for more information or email
questions to cpan-testers-discuss@perl.org
--
Dear Yanick Champoux,
This is a computer-generated report for Promises-1.04
on perl 5.12.1, created by CPAN-Reporter-1.2019.
Thank you for uploading your work to CPAN. Congratulations!
All tests were successful.
Sections of this report:
* Tester comments
* Program output
* Prerequisites
* Environment and other context
------------------------------
TESTER COMMENTS
------------------------------
Additional comments from tester:
this report is from an automated smoke testing program
and was not reviewed by a human for accuracy
------------------------------
PROGRAM OUTPUT
------------------------------
Output from '/usr/bin/make test':
PERL_DL_NONLAZY=1 "/home/sand/src/perl/repoperls/installed-perls/host/k93msid/v5.12.1/fc43/bin/perl" "-MExtUtils::Command::MM" "-MTest::Harness" "-e" "undef *Test::Harness::Switches; test_harness(0, 'blib/lib', 'blib/arch')" t/*.t
t/00-compile.t ................... ok
#
# Versions for all modules listed in MYMETA.json (including optional ones):
#
# === Configure Requires ===
#
# Module Want Have
# ------------------- ---- ----
# ExtUtils::MakeMaker any 7.70
#
# === Configure Suggests ===
#
# Module Want Have
# -------- ------- ----
# JSON::PP 2.27300 4.16
#
# === Build Requires ===
#
# Module Want Have
# ------------------- ---- ----
# ExtUtils::MakeMaker any 7.70
#
# === Test Requires ===
#
# Module Want Have
# ------------------- ---- --------
# ExtUtils::MakeMaker any 7.70
# File::Spec any 3.75
# IO::Handle any 1.51
# IPC::Open3 any 1.05
# Test::Exception any 0.43
# Test::Fatal any 0.017
# Test::More 0.89 1.302199
# Test::Pod any 1.52
# Test::Requires any 0.11
# Test::Warn any 0.37
# lib any 0.62
#
# === Test Recommends ===
#
# Module Want Have
# ---------- -------- --------
# CPAN::Meta 2.120900 2.150010
#
# === Runtime Requires ===
#
# Module Want Have
# --------------- ---- -----
# Carp any 1.50
# Data::Dumper any 2.183
# Exporter any 5.77
# Module::Runtime any 0.016
# Scalar::Util any 1.63
# Sub::Attribute any 0.07
# Sub::Exporter any 0.990
# constant any 1.33
# parent any 0.241
# strict any 1.04
# warnings any 1.09
#
t/00-report-prereqs.t ............ ok
t/000-load.t ..................... ok
# Delaying for 0.1 second ...
t/001-basic.t .................... ok
# Delaying for 0.1 second ...
# Delaying for 0.1 more second ...
t/002-multiples.t ................ ok
# Delaying for 0.1 second1 ...
t/003-post-resolve-then.t ........ ok
# Delaying for 0.1 second ...
t/004-error.t .................... ok
# Delaying for 0.1 second ...
# Delaying for 0.1 more second ...
t/005-multiples-w-error.t ........ ok
t/006-thenable.t ................. ok
t/007_callable.t ................. ok
# Delaying for 0.2 seconds ...
t/010-collect.t .................. ok
# Delaying for 0.2 seconds ...
t/011-collect-w-error.t .......... ok
# Delaying for 0.2 seconds ...
t/012-collect_hash.t ............. ok
t/013-collect_hash-params.t ...... ok
# Delaying for 0.2 seconds ...
t/013-collect_hash-with-error.t .. ok
t/020-chaining.t ................. ok
t/021-chaining-errors.t .......... ok
t/025-recursion.t ................ ok
t/030-deferred-default.t ......... ok
t/031-deferred-AE.t .............. ok
t/031-deferred-io-async.t ........ skipped: Test requires module 'IO::Async' but it's not found
t/032-deferred-AnyEvent.t ........ ok
t/033-deferred-EV.t .............. ok
t/034-deferred-Mojo.t ............ skipped: Mojo::IOLoop is required for this test
t/040_finally.t .................. ok
t/045-attributes.t ............... ok
t/050-exceptions-pp.t ............ skipped: Localizing $@ before Perl 5.14 clobbers the exception
t/051-exceptions-pp-anyevent.t ... ok
EV: error in callback (ignoring): Final
t/052-exceptions-ev-anyevent.t ... ok
t/053-exceptions-mojo.t .......... skipped: Test requires module 'Mojo::IOLoop' but it's not found
t/060-free-refs.t ................ ok
t/070-accepted-rejected.t ........ ok
t/080-deferred-as-sub.t .......... ok
t/090-timeout.t .................. skipped: Test requires module 'IO::Async' but it's not found
t/late-warning.t ................. ok
t/warnings.t ..................... ok
All tests successful.
Files=36, Tests=156, 12 wallclock secs ( 0.14 usr 0.06 sys + 2.27 cusr 0.73 csys = 3.20 CPU)
Result: PASS
------------------------------
PREREQUISITES
------------------------------
Prerequisite modules loaded:
requires:
Module Need Have
------------------- ----- --------
Carp 0 1.50
constant 0 1.33
Data::Dumper 0 2.183
Exporter 0 5.77
Module::Runtime 0 0.016
parent 0 0.241
perl 5.006 5.012001
Scalar::Util 0 1.63
strict 0 1.04
Sub::Attribute 0 0.07
Sub::Exporter 0 0.990
warnings 0 1.09
build_requires:
Module Need Have
------------------- ----- --------
ExtUtils::MakeMaker 0 7.70
File::Spec 0 3.75
IO::Handle 0 1.51
IPC::Open3 0 1.05
lib 0 0.62
Test::Exception 0 0.43
Test::Fatal 0 0.017
Test::More 0.89 1.302199
Test::Pod 0 1.52
Test::Requires 0 0.11
Test::Warn 0 0.37
configure_requires:
Module Need Have
------------------- ----- --------
ExtUtils::MakeMaker 0 7.70
------------------------------
ENVIRONMENT AND OTHER CONTEXT
------------------------------
Environment variables:
AUTOMATED_TESTING = 1
LANG = en_US.UTF-8
LANGUAGE = en_US:en
PATH = /home/sand/bin:/usr/local/bin:/usr/bin:/bin:/usr/games:/usr/local/perl/bin:/usr/X11/bin:/sbin:/usr/sbin
PERL5LIB =
PERL5OPT =
PERL5_CPANPLUS_IS_RUNNING = 1987088
PERL5_CPAN_IS_RUNNING = 1987088
PERL_CANARY_STABILITY_NOPROMPT = 1
PERL_MM_USE_DEFAULT = 1
PERL_USE_UNSAFE_INC = 1
SHELL = /usr/bin/zsh
TERM = screen
Perl special variables (and OS-specific diagnostics, for MSWin32):
$^X = /home/sand/src/perl/repoperls/installed-perls/host/k93msid/v5.12.1/fc43/bin/perl
$UID/$EUID = 1005 / 1005
$GID = 1005 1005
$EGID = 1005 1005
Perl module toolchain versions installed:
Module Have
------------------- --------
CPAN 2.36
CPAN::Meta 2.150010
Cwd 3.75
ExtUtils::CBuilder 0.280236
ExtUtils::Command 7.70
ExtUtils::Install 2.06
ExtUtils::MakeMaker 7.70
ExtUtils::Manifest 1.70
ExtUtils::ParseXS 3.51
File::Spec 3.75
JSON 4.10
JSON::PP 4.16
Module::Build 0.4234
Module::Signature 0.88
Parse::CPAN::Meta 2.150010
Test2 1.302199
Test::Harness 3.48
Test::More 1.302199
YAML 1.30
YAML::Syck 1.34
version 0.9932
--
Summary of my perl5 (revision 5 version 12 subversion 1) configuration:
Derived from: b85be81e3471288c8c432533cfaf3713e28157e9
Platform:
osname=linux, osvers=6.1.0-7-amd64, archname=x86_64-linux-ld
uname='linux k93msid 6.1.0-7-amd64 #1 smp preempt_dynamic debian 6.1.20-1 (2023-03-19) x86_64 gnulinux '
config_args='-Dprefix=/home/sand/src/perl/repoperls/installed-perls/host/k93msid/v5.12.1/fc43 -Dmyhostname=k93msid -Dinstallusrbinperl=n -Uversiononly -Dusedevel -des -Ui_db -Dlibswanted=cl pthread socket inet nsl gdbm dbm malloc dl ld sun m crypt sec util c cposix posix ucb BSD gdbm_compat -Uuseithreads -Duselongdouble -DEBUGGING=both'
hint=recommended, useposix=true, d_sigaction=define
useithreads=undef, usemultiplicity=undef
useperlio=define, d_sfio=undef, uselargefiles=define, usesocks=undef
use64bitint=define, use64bitall=define, uselongdouble=define
usemymalloc=n, bincompat5005=undef
Compiler:
cc='cc', ccflags ='-fwrapv -DDEBUGGING -fno-strict-aliasing -pipe -fstack-protector -I/usr/local/include -D_LARGEFILE_SOURCE -D_FILE_OFFSET_BITS=64',
optimize='-O2 -g',
cppflags='-fwrapv -DDEBUGGING -fno-strict-aliasing -pipe -fstack-protector -I/usr/local/include'
ccversion='', gccversion='12.2.0', gccosandvers=''
intsize=4, longsize=8, ptrsize=8, doublesize=8, byteorder=12345678
d_longlong=define, longlongsize=8, d_longdbl=define, longdblsize=16
ivtype='long', ivsize=8, nvtype='long double', nvsize=16, Off_t='off_t', lseeksize=8
alignbytes=16, prototype=define
Linker and Libraries:
ld='cc', ldflags =' -fstack-protector -L/usr/local/lib'
libpth=/usr/local/lib /lib/x86_64-linux-gnu /lib/../lib /usr/lib/x86_64-linux-gnu /usr/lib/../lib /lib /usr/lib /lib64 /usr/lib64
libs=-lpthread -lnsl -ldl -lm -lcrypt -lutil -lc
perllibs=-lpthread -lnsl -ldl -lm -lcrypt -lutil -lc
libc=/lib/x86_64-linux-gnu/libc.so.6, so=so, useshrplib=false, libperl=libperl.a
gnulibc_version='2.36'
Dynamic Linking:
dlsrc=dl_dlopen.xs, dlext=so, d_dlsymun=undef, ccdlflags='-Wl,-E'
cccdlflags='-fPIC', lddlflags='-shared -O2 -g -L/usr/local/lib -fstack-protector'
Characteristics of this binary (from libperl):
Compile-time options: DEBUGGING PERL_DONT_CREATE_GVSV PERL_MALLOC_WRAP
PERL_USE_DEVEL USE_64_BIT_ALL USE_64_BIT_INT
USE_LARGE_FILES USE_LONG_DOUBLE USE_PERLIO
USE_PERL_ATOF
Locally applied patches:
uncommitted-changes
Built under linux
Compiled at Nov 3 2023 13:11:48
%ENV:
PERL5LIB=""
PERL5OPT=""
PERL5_CPANPLUS_IS_RUNNING="1987088"
PERL5_CPAN_IS_RUNNING="1987088"
PERL_CANARY_STABILITY_NOPROMPT="1"
PERL_MM_USE_DEFAULT="1"
PERL_USE_UNSAFE_INC="1"
@INC:
/home/sand/src/perl/repoperls/installed-perls/host/k93msid/v5.12.1/fc43/lib/site_perl/5.12.1/x86_64-linux-ld
/home/sand/src/perl/repoperls/installed-perls/host/k93msid/v5.12.1/fc43/lib/site_perl/5.12.1
/home/sand/src/perl/repoperls/installed-perls/host/k93msid/v5.12.1/fc43/lib/5.12.1/x86_64-linux-ld
/home/sand/src/perl/repoperls/installed-perls/host/k93msid/v5.12.1/fc43/lib/5.12.1
.