Report for WebService-Amazon-DynamoDB-0.005

Back
From: metabase:user:314402c4-2aae-11df-837a-5e0a49663a4f
Subject: PASS WebService-Amazon-DynamoDB-0.005 v5.20.0 GNU/Linux
Date: 2015-02-12T00:26:51Z

This distribution has been tested as part of the CPAN Testers
project, supporting the Perl programming language.  See
http://wiki.cpantesters.org/ for more information or email
questions to cpan-testers-discuss@perl.org


--
Dear Tom Molesworth,

This is a computer-generated report for WebService-Amazon-DynamoDB-0.005
on perl 5.20.0, created by CPAN-Reporter-1.2011.

Thank you for uploading your work to CPAN.  Congratulations!
All tests were successful.

Sections of this report:

    * Tester comments
    * Program output
    * Prerequisites
    * Environment and other context

------------------------------
TESTER COMMENTS
------------------------------

Additional comments from tester:

none provided

------------------------------
PROGRAM OUTPUT
------------------------------

Output from '/usr/bin/make test':

Skip blib/lib/auto/share/dist/WebService-Amazon-DynamoDB/errors.json (unchanged)
Skip blib/lib/auto/share/dist/WebService-Amazon-DynamoDB/regions.json (unchanged)
PERL_DL_NONLAZY=1 "/bbbike/perl-5.20.0/bin/perl5.20.0" "-MExtUtils::Command::MM" "-MTest::Harness" "-e" "undef *Test::Harness::Switches; test_harness(0, 'blib/lib', 'blib/arch')" t/*.t
t/00-check-deps.t ............. ok
t/00-compile.t ................ ok
# 
# 
# Generated by Dist::Zilla::Plugin::ReportVersions::Tiny v1.10
# perl: 5.020000 (wanted 5.012000) on linux from /bbbike/perl-5.20.0/bin/perl5.20.0
# 
# ExtUtils::MakeMaker                           => 7.04       (want 6.48)   
# File::ShareDir::Install                       => 0.10       (want 0.06)   
# File::Spec                                    => 3.47       (want any version)
# Future                                        => 0.30       (want 0.30)   
# HTTP::Request                                 => 6.00       (want any version)
# IO::Handle                                    => 1.35       (want any version)
# IPC::Open3                                    => 1.16       (want any version)
# JSON::MaybeXS                                 => 1.003003   (want any version)
# Mixin::Event::Dispatch                        => 1.006      (want 1.006)  
# Module::Load                                  => 0.32       (want any version)
# Test::CheckDeps                               => 0.010      (want 0.010)  
# Test::Deep                                    => 0.115      (want any version)
# Test::Fatal                                   => 0.014      (want 0.010)  
# Test::More                                    => 1.001009   (want 0.98)   
# Time::Moment                                  => 0.21       (want any version)
# WebService::Amazon::IAM                       => 0.002      (want 0.002)  
# WebService::Amazon::Signature                 => 0.002      (want 0.002)  
# WebService::Async::UserAgent                  => 0.002      (want 0.002)  
# curry                                         => 1          (want any version)
# parent                                        => 0.228      (want any version)
# 
# Thanks for using my code.  I hope it works for you.
# If not, please try and include this output in the bug report.
# That will help me reproduce the issue and solve your problem.
# 
t/000-report-versions-tiny.t .. ok
All tests successful.
Files=3, Tests=25,  0 wallclock secs ( 0.02 usr  0.01 sys +  0.34 cusr  0.12 csys =  0.49 CPU)
Result: PASS

------------------------------
PREREQUISITES
------------------------------

Prerequisite modules loaded:

requires:

    Module                        Need     Have    
    ----------------------------- -------- --------
    curry                         0        1.000000
    Future                        0.30     0.30    
    HTTP::Request                 0        6.00    
    JSON::MaybeXS                 0        1.003003
    Mixin::Event::Dispatch        1.006    1.006   
    Module::Load                  0        0.32    
    parent                        0        0.228   
    perl                          5.012000 5.020000
    Time::Moment                  0        0.21    
    WebService::Amazon::IAM       0.002    0.002   
    WebService::Amazon::Signature 0.002    0.002   
    WebService::Async::UserAgent  0.002    0.002   

build_requires:

    Module                        Need     Have    
    ----------------------------- -------- --------
    ExtUtils::MakeMaker           0        7.04    
    File::Spec                    0        3.47    
    IO::Handle                    0        1.35    
    IPC::Open3                    0        1.16    
    Test::CheckDeps               0.010    0.010   
    Test::Deep                    0        0.115   
    Test::Fatal                   0.010    0.014   
    Test::More                    0.98     1.001009

configure_requires:

    Module                        Need     Have    
    ----------------------------- -------- --------
    ExtUtils::MakeMaker           6.48     7.04    
    File::ShareDir::Install       0.06     0.10    


------------------------------
ENVIRONMENT AND OTHER CONTEXT
------------------------------

Environment variables:

    DBIC_NO_WARN_BAD_PERL = 1
    LANG = C
    LC_ALL = de_DE.UTF-8
    PATH = /usr/local/bin:/usr/bin:/bin:/usr/local/sbin:/usr/sbin:/sbin:/home/eserte/bin/linux-gnu:/home/eserte/bin/sh:/home/eserte/bin:/usr/games:/home/eserte/devel:/home/eserte/src/srezic-misc/scripts
    PERL5LIB = /home/eserte/.cpan/build/Variable-Disposition-0.004-li1Msw/blib/arch:/home/eserte/.cpan/build/Variable-Disposition-0.004-li1Msw/blib/lib:/home/eserte/.cpan/build/LaTeXML-0.8.0_03-rXtFML/blib/arch:/home/eserte/.cpan/build/LaTeXML-0.8.0_03-rXtFML/blib/lib:/home/eserte/.cpan/build/Mojolicious-Plugin-RelativeUrlFor-0.05-y5mdWi/blib/arch:/home/eserte/.cpan/build/Mojolicious-Plugin-RelativeUrlFor-0.05-y5mdWi/blib/lib
    PERL5OPT = 
    PERL5_CPANPLUS_IS_RUNNING = 25531
    PERL5_CPAN_IS_RUNNING = 25531
    PERL5_CPAN_IS_RUNNING_IN_RECURSION = 25470,25531
    PERLDOC = -MPod::Perldoc::ToTextOverstrike
    PERL_BATCH = yes
    PERL_CPAN_REPORTER_CONFIG = /var/tmp/cpansmoker-1001/MPuyWg6FUP_config.ini
    PERL_EXTUTILS_AUTOINSTALL = --defaultdeps
    PERL_HTML_DISPLAY_CLASS = HTML::Display::Mozilla
    PERL_PARALLEL_SMOKER = yes
    SHELL = /bin/zsh
    TERM = screen
    TMPDIR = /var/tmp/cpansmoker-1001

Perl special variables (and OS-specific diagnostics, for MSWin32):

    $^X = /bbbike/perl-5.20.0/bin/perl5.20.0
    $UID/$EUID = 1001 / 1001
    $GID = 1001 109 1001
    $EGID = 1001 109 1001

Perl module toolchain versions installed:

    Module              Have    
    ------------------- --------
    CPAN                2.05    
    CPAN::Meta          2.142690
    Cwd                 3.47    
    ExtUtils::CBuilder  0.280217
    ExtUtils::Command   1.18    
    ExtUtils::Install   2.04    
    ExtUtils::MakeMaker 7.04    
    ExtUtils::Manifest  1.68    
    ExtUtils::ParseXS   3.24    
    File::Spec          3.47    
    JSON                2.90    
    JSON::PP            2.27203 
    Module::Build       0.4210  
    Module::Signature   0.73    
    Parse::CPAN::Meta   1.4414  
    Test::Harness       3.34    
    Test::More          1.001009
    YAML                1.14    
    YAML::Syck          1.29    
    version             0.9911  


--

Summary of my perl5 (revision 5 version 20 subversion 0) configuration:
   
  Platform:
    osname=linux, osvers=3.2.0-4-amd64, archname=x86_64-linux
    uname='linux eserte 3.2.0-4-amd64 #1 smp debian 3.2.57-3+deb7u1 x86_64 gnulinux '
    config_args='-ds -e -Dprefix=/opt/perl-5.20.0'
    hint=recommended, useposix=true, d_sigaction=define
    useithreads=undef, usemultiplicity=undef
    use64bitint=define, use64bitall=define, uselongdouble=undef
    usemymalloc=n, bincompat5005=undef
  Compiler:
    cc='cc', ccflags ='-fwrapv -fno-strict-aliasing -pipe -fstack-protector -I/usr/local/include -D_LARGEFILE_SOURCE -D_FILE_OFFSET_BITS=64',
    optimize='-O2',
    cppflags='-fwrapv -fno-strict-aliasing -pipe -fstack-protector -I/usr/local/include'
    ccversion='', gccversion='4.7.2', gccosandvers=''
    intsize=4, longsize=8, ptrsize=8, doublesize=8, byteorder=12345678
    d_longlong=define, longlongsize=8, d_longdbl=define, longdblsize=16
    ivtype='long', ivsize=8, nvtype='double', nvsize=8, Off_t='off_t', lseeksize=8
    alignbytes=8, prototype=define
  Linker and Libraries:
    ld='cc', ldflags =' -fstack-protector -L/usr/local/lib'
    libpth=/usr/local/lib /usr/lib/gcc/x86_64-linux-gnu/4.7/include-fixed /usr/include/x86_64-linux-gnu /usr/lib /lib/x86_64-linux-gnu /lib/../lib /usr/lib/x86_64-linux-gnu /usr/lib/../lib /lib
    libs=-lnsl -ldb -ldl -lm -lcrypt -lutil -lc
    perllibs=-lnsl -ldl -lm -lcrypt -lutil -lc
    libc=libc-2.13.so, so=so, useshrplib=false, libperl=libperl.a
    gnulibc_version='2.13'
  Dynamic Linking:
    dlsrc=dl_dlopen.xs, dlext=so, d_dlsymun=undef, ccdlflags='-Wl,-E'
    cccdlflags='-fPIC', lddlflags='-shared -O2 -L/usr/local/lib -fstack-protector'


Characteristics of this binary (from libperl): 
  Compile-time options: HAS_TIMES PERLIO_LAYERS PERL_DONT_CREATE_GVSV
                        PERL_HASH_FUNC_ONE_AT_A_TIME_HARD PERL_MALLOC_WRAP
                        PERL_NEW_COPY_ON_WRITE PERL_PRESERVE_IVUV
                        USE_64_BIT_ALL USE_64_BIT_INT USE_LARGE_FILES
                        USE_LOCALE USE_LOCALE_COLLATE USE_LOCALE_CTYPE
                        USE_LOCALE_NUMERIC USE_PERLIO USE_PERL_ATOF
  Built under linux
  Compiled at May 28 2014 04:18:43
  %ENV:
    PERL5LIB="/home/eserte/.cpan/build/Variable-Disposition-0.004-li1Msw/blib/arch:/home/eserte/.cpan/build/Variable-Disposition-0.004-li1Msw/blib/lib:/home/eserte/.cpan/build/LaTeXML-0.8.0_03-rXtFML/blib/arch:/home/eserte/.cpan/build/LaTeXML-0.8.0_03-rXtFML/blib/lib:/home/eserte/.cpan/build/Mojolicious-Plugin-RelativeUrlFor-0.05-y5mdWi/blib/arch:/home/eserte/.cpan/build/Mojolicious-Plugin-RelativeUrlFor-0.05-y5mdWi/blib/lib"
    PERL5OPT=""
    PERL5_CPANPLUS_IS_RUNNING="25531"
    PERL5_CPAN_IS_RUNNING="25531"
    PERL5_CPAN_IS_RUNNING_IN_RECURSION="25470,25531"
    PERLDOC="-MPod::Perldoc::ToTextOverstrike"
    PERL_BATCH="yes"
    PERL_CPAN_REPORTER_CONFIG="/var/tmp/cpansmoker-1001/MPuyWg6FUP_config.ini"
    PERL_EXTUTILS_AUTOINSTALL="--defaultdeps"
    PERL_HTML_DISPLAY_CLASS="HTML::Display::Mozilla"
    PERL_PARALLEL_SMOKER="yes"
  @INC:
    /home/eserte/.cpan/build/Variable-Disposition-0.004-li1Msw/blib/arch
    /home/eserte/.cpan/build/Variable-Disposition-0.004-li1Msw/blib/lib
    /home/eserte/.cpan/build/LaTeXML-0.8.0_03-rXtFML/blib/arch
    /home/eserte/.cpan/build/LaTeXML-0.8.0_03-rXtFML/blib/lib
    /home/eserte/.cpan/build/Mojolicious-Plugin-RelativeUrlFor-0.05-y5mdWi/blib/arch
    /home/eserte/.cpan/build/Mojolicious-Plugin-RelativeUrlFor-0.05-y5mdWi/blib/lib
    /opt/perl-5.20.0/lib/site_perl/5.20.0/x86_64-linux
    /opt/perl-5.20.0/lib/site_perl/5.20.0
    /opt/perl-5.20.0/lib/5.20.0/x86_64-linux
    /opt/perl-5.20.0/lib/5.20.0
    .