Report for Test-Proto-0.027

Back
From: metabase:user:314402c4-2aae-11df-837a-5e0a49663a4f
Subject: PASS Test-Proto-0.027 v5.18.1 GNU/Linux
Date: 2016-06-23T18:39:37Z

This distribution has been tested as part of the CPAN Testers
project, supporting the Perl programming language.  See
http://wiki.cpantesters.org/ for more information or email
questions to cpan-testers-discuss@perl.org


--
Dear Daniel Perrett,

This is a computer-generated report for Test-Proto-0.027
on perl 5.18.1, created by CPAN-Reporter-1.2018.

Thank you for uploading your work to CPAN.  Congratulations!
All tests were successful.

Sections of this report:

    * Tester comments
    * Program output
    * Prerequisites
    * Environment and other context

------------------------------
TESTER COMMENTS
------------------------------

Additional comments from tester:

none provided

------------------------------
PROGRAM OUTPUT
------------------------------

Output from '/usr/bin/make test':

PERL_DL_NONLAZY=1 /opt/perl-5.18.1d/bin/perl5.18.1 "-MExtUtils::Command::MM" "-e" "test_harness(0, 'blib/lib', 'blib/arch')" t/*.t
# Testing Test::Proto 0.027, Perl 5.018001, /opt/perl-5.18.1d/bin/perl5.18.1
t/00-load.t ........................... ok
t/Extras-DPath.t ...................... skipped: Data::DPath required for testing integration with Data::DPath
t/kwalitee.t .......................... skipped: these tests are for release candidate testing
t/manifest.t .......................... skipped: Author tests not required for installation
t/pod-coverage.t ...................... skipped: Author tests not required for installation
t/pod.t ............................... skipped: Author tests not required for installation
t/Test-Proto-ArrayRef.t ............... ok
Use of uninitialized value in string ne at (eval 142) line 1.
Use of uninitialized value in string eq at (eval 144) line 1.
Use of uninitialized value in string ne at (eval 154) line 1.
t/Test-Proto-Base.t ................... ok
t/Test-Proto-CodeRef.t ................ ok
t/Test-Proto-Common.t ................. ok
t/Test-Proto-Compare.t ................ ok
t/Test-Proto-Formatter-TestBuilder.t .. ok
t/Test-Proto-Formatter.t .............. ok
Use of uninitialized value in string eq at (eval 112) line 1.
Use of uninitialized value in string eq at (eval 218) line 1.
t/Test-Proto-HashRef.t ................ ok
t/Test-Proto-Object.t ................. ok
t/Test-Proto-Role-Tagged.t ............ ok
t/Test-Proto-TestCase.t ............... ok
# Warnings follow, deliberately:
Tried to add an event to a TestRunner which is already complete at /home/cpansand/.cpan/build/2016062318/Test-Proto-0.027-gFF261/blib/lib/Test/Proto/TestRunner.pm line 213.
Tried to complete something that was already complete (a PASS). (Tried with value=> 0, message=>[undefined]) at /home/cpansand/.cpan/build/2016062318/Test-Proto-0.027-gFF261/blib/lib/Test/Proto/TestRunner.pm line 172.
Tried to add an event to a TestRunner which is already complete at /home/cpansand/.cpan/build/2016062318/Test-Proto-0.027-gFF261/blib/lib/Test/Proto/TestRunner.pm line 213.
t/Test-Proto-TestRunner.t ............. ok
Use of uninitialized value in string ne at (eval 163) line 1.
Use of uninitialized value in string ne at (eval 165) line 1.
t/Test-Proto.t ........................ ok
t/version.t ........................... ok
All tests successful.

Test Summary Report
-------------------
t/Test-Proto-Base.t                 (Wstat: 0 Tests: 250 Failed: 0)
  TODO passed:   152-156, 158-159
Files=20, Tests=838,  5 wallclock secs ( 0.05 usr  0.05 sys +  1.32 cusr  0.20 csys =  1.62 CPU)
Result: PASS

------------------------------
PREREQUISITES
------------------------------

Prerequisite modules loaded:

requires:

    Module              Need   Have    
    ------------------- ------ --------
    Data::Dumper        0      2.145   
    Moo                 0      2.002003
    Object::ID          v0.0.5 v0.1.2  
    Scalar::Util        1.14   1.45    
    Test::Deep::NoTest  0      0       
    Test::More          0      1.302026

build_requires:

    Module              Need   Have    
    ------------------- ------ --------
    ExtUtils::MakeMaker 0      6.66    

configure_requires:

    Module              Need   Have    
    ------------------- ------ --------
    ExtUtils::MakeMaker 0      6.66    


------------------------------
ENVIRONMENT AND OTHER CONTEXT
------------------------------

Environment variables:

    LANG = en_US.UTF-8
    LANGUAGE = en_US:en
    PATH = /usr/local/bin:/usr/bin:/bin:/usr/local/sbin:/usr/sbin:/sbin:/home/cpansand/bin/linux-gnu:/home/cpansand/bin/sh:/home/cpansand/bin:/usr/games:/home/cpansand/devel:/home/eserte/src/srezic-misc/scripts
    PERL5LIB = /home/cpansand/.cpan/build/2016062318/Object-ID-v0.1.2-oSIC5j/blib/arch:/home/cpansand/.cpan/build/2016062318/Object-ID-v0.1.2-oSIC5j/blib/lib:/home/cpansand/.cpan/build/2016062318/Hash-FieldHash-0.14-ES0NR2/blib/arch:/home/cpansand/.cpan/build/2016062318/Hash-FieldHash-0.14-ES0NR2/blib/lib:/home/cpansand/.cpan/build/2016062318/Test-LeakTrace-0.15-7qBvVp/blib/arch:/home/cpansand/.cpan/build/2016062318/Test-LeakTrace-0.15-7qBvVp/blib/lib:/home/cpansand/.cpan/build/2016062318/Moo-2.002003-rCr2i5/blib/arch:/home/cpansand/.cpan/build/2016062318/Moo-2.002003-rCr2i5/blib/lib:/home/cpansand/.cpan/build/2016062318/Role-Tiny-2.000003-3WoBn8/blib/arch:/home/cpansand/.cpan/build/2016062318/Role-Tiny-2.000003-3WoBn8/blib/lib:/home/cpansand/.cpan/build/2016062318/Class-Method-Modifiers-2.12-ZmOiOI/blib/arch:/home/cpansand/.cpan/build/2016062318/Class-Method-Modifiers-2.12-ZmOiOI/blib/lib
    PERL5OPT = 
    PERL5_CPANPLUS_IS_RUNNING = 26376
    PERL5_CPAN_IS_RUNNING = 26376
    PERL5_CPAN_IS_RUNNING_IN_RECURSION = 24358,26376
    PERLDOC = -MPod::Perldoc::ToTextOverstrike
    PERL_BATCH = yes
    PERL_CANARY_STABILITY_NOPROMPT = 1
    PERL_CPAN_REPORTER_CONFIG = /var/tmp/cpansmoker-1023/2016062318/cpanreporter_002_config.ini
    PERL_EXTUTILS_AUTOINSTALL = --defaultdeps
    SHELL = /bin/zsh
    TERM = screen
    TMPDIR = /var/tmp/cpansmoker-1023/2016062318

Perl special variables (and OS-specific diagnostics, for MSWin32):

    $^X = /opt/perl-5.18.1d/bin/perl5.18.1
    $UID/$EUID = 1023 / 1023
    $GID = 1023 1023
    $EGID = 1023 1023

Perl module toolchain versions installed:

    Module              Have    
    ------------------- --------
    CPAN                2.10    
    CPAN::Meta          2.150005
    Cwd                 3.40    
    ExtUtils::CBuilder  0.280210
    ExtUtils::Command   1.17    
    ExtUtils::Install   1.59    
    ExtUtils::MakeMaker 6.66    
    ExtUtils::Manifest  1.63    
    ExtUtils::ParseXS   3.18    
    File::Spec          3.40    
    JSON                n/a     
    JSON::PP            2.27202 
    Module::Build       0.4003  
    Module::Signature   n/a     
    Parse::CPAN::Meta   1.4417  
    Test::Harness       3.36    
    Test::More          1.302026
    YAML                0.84    
    YAML::Syck          1.27    
    version             0.9902  


--

Summary of my perl5 (revision 5 version 18 subversion 1) configuration:
   
  Platform:
    osname=linux, osvers=3.2.0-4-amd64, archname=x86_64-linux
    uname='linux cvrsnica-wheezy 3.2.0-4-amd64 #1 smp debian 3.2.41-2+deb7u2 x86_64 gnulinux '
    config_args='-ds -e -Dprefix=/opt/perl-5.18.1d -DDEBUGGING'
    hint=recommended, useposix=true, d_sigaction=define
    useithreads=undef, usemultiplicity=undef
    useperlio=define, d_sfio=undef, uselargefiles=define, usesocks=undef
    use64bitint=define, use64bitall=define, uselongdouble=undef
    usemymalloc=n, bincompat5005=undef
  Compiler:
    cc='cc', ccflags ='-DDEBUGGING -fno-strict-aliasing -pipe -fstack-protector -I/usr/local/include -D_LARGEFILE_SOURCE -D_FILE_OFFSET_BITS=64',
    optimize='-O2 -g',
    cppflags='-DDEBUGGING -fno-strict-aliasing -pipe -fstack-protector -I/usr/local/include'
    ccversion='', gccversion='4.7.2', gccosandvers=''
    intsize=4, longsize=8, ptrsize=8, doublesize=8, byteorder=12345678
    d_longlong=define, longlongsize=8, d_longdbl=define, longdblsize=16
    ivtype='long', ivsize=8, nvtype='double', nvsize=8, Off_t='off_t', lseeksize=8
    alignbytes=8, prototype=define
  Linker and Libraries:
    ld='cc', ldflags =' -fstack-protector -L/usr/local/lib'
    libpth=/usr/local/lib /lib/x86_64-linux-gnu /lib/../lib /usr/lib/x86_64-linux-gnu /usr/lib/../lib /lib /usr/lib
    libs=-lnsl -ldl -lm -lcrypt -lutil -lc
    perllibs=-lnsl -ldl -lm -lcrypt -lutil -lc
    libc=, so=so, useshrplib=false, libperl=libperl.a
    gnulibc_version='2.13'
  Dynamic Linking:
    dlsrc=dl_dlopen.xs, dlext=so, d_dlsymun=undef, ccdlflags='-Wl,-E'
    cccdlflags='-fPIC', lddlflags='-shared -O2 -g -L/usr/local/lib -fstack-protector'


Characteristics of this binary (from libperl): 
  Compile-time options: DEBUGGING HAS_TIMES PERLIO_LAYERS
                        PERL_DONT_CREATE_GVSV
                        PERL_HASH_FUNC_ONE_AT_A_TIME_HARD PERL_MALLOC_WRAP
                        PERL_PRESERVE_IVUV PERL_SAWAMPERSAND USE_64_BIT_ALL
                        USE_64_BIT_INT USE_LARGE_FILES USE_LOCALE
                        USE_LOCALE_COLLATE USE_LOCALE_CTYPE
                        USE_LOCALE_NUMERIC USE_PERLIO USE_PERL_ATOF
  Built under linux
  Compiled at Nov  7 2013 09:38:13
  %ENV:
    PERL5LIB="/home/cpansand/.cpan/build/2016062318/Object-ID-v0.1.2-oSIC5j/blib/arch:/home/cpansand/.cpan/build/2016062318/Object-ID-v0.1.2-oSIC5j/blib/lib:/home/cpansand/.cpan/build/2016062318/Hash-FieldHash-0.14-ES0NR2/blib/arch:/home/cpansand/.cpan/build/2016062318/Hash-FieldHash-0.14-ES0NR2/blib/lib:/home/cpansand/.cpan/build/2016062318/Test-LeakTrace-0.15-7qBvVp/blib/arch:/home/cpansand/.cpan/build/2016062318/Test-LeakTrace-0.15-7qBvVp/blib/lib:/home/cpansand/.cpan/build/2016062318/Moo-2.002003-rCr2i5/blib/arch:/home/cpansand/.cpan/build/2016062318/Moo-2.002003-rCr2i5/blib/lib:/home/cpansand/.cpan/build/2016062318/Role-Tiny-2.000003-3WoBn8/blib/arch:/home/cpansand/.cpan/build/2016062318/Role-Tiny-2.000003-3WoBn8/blib/lib:/home/cpansand/.cpan/build/2016062318/Class-Method-Modifiers-2.12-ZmOiOI/blib/arch:/home/cpansand/.cpan/build/2016062318/Class-Method-Modifiers-2.12-ZmOiOI/blib/lib"
    PERL5OPT=""
    PERL5_CPANPLUS_IS_RUNNING="26376"
    PERL5_CPAN_IS_RUNNING="26376"
    PERL5_CPAN_IS_RUNNING_IN_RECURSION="24358,26376"
    PERLDOC="-MPod::Perldoc::ToTextOverstrike"
    PERL_BATCH="yes"
    PERL_CANARY_STABILITY_NOPROMPT="1"
    PERL_CPAN_REPORTER_CONFIG="/var/tmp/cpansmoker-1023/2016062318/cpanreporter_002_config.ini"
    PERL_EXTUTILS_AUTOINSTALL="--defaultdeps"
  @INC:
    /home/cpansand/.cpan/build/2016062318/Object-ID-v0.1.2-oSIC5j/blib/arch
    /home/cpansand/.cpan/build/2016062318/Object-ID-v0.1.2-oSIC5j/blib/lib
    /home/cpansand/.cpan/build/2016062318/Hash-FieldHash-0.14-ES0NR2/blib/arch
    /home/cpansand/.cpan/build/2016062318/Hash-FieldHash-0.14-ES0NR2/blib/lib
    /home/cpansand/.cpan/build/2016062318/Test-LeakTrace-0.15-7qBvVp/blib/arch
    /home/cpansand/.cpan/build/2016062318/Test-LeakTrace-0.15-7qBvVp/blib/lib
    /home/cpansand/.cpan/build/2016062318/Moo-2.002003-rCr2i5/blib/arch
    /home/cpansand/.cpan/build/2016062318/Moo-2.002003-rCr2i5/blib/lib
    /home/cpansand/.cpan/build/2016062318/Role-Tiny-2.000003-3WoBn8/blib/arch
    /home/cpansand/.cpan/build/2016062318/Role-Tiny-2.000003-3WoBn8/blib/lib
    /home/cpansand/.cpan/build/2016062318/Class-Method-Modifiers-2.12-ZmOiOI/blib/arch
    /home/cpansand/.cpan/build/2016062318/Class-Method-Modifiers-2.12-ZmOiOI/blib/lib
    /opt/perl-5.18.1d/lib/site_perl/5.18.1/x86_64-linux
    /opt/perl-5.18.1d/lib/site_perl/5.18.1
    /opt/perl-5.18.1d/lib/5.18.1/x86_64-linux
    /opt/perl-5.18.1d/lib/5.18.1
    .