Report for Perinci-Sub-Property-result_postfilter-0.09

Back
From: metabase:user:314402c4-2aae-11df-837a-5e0a49663a4f
Subject: PASS Perinci-Sub-Property-result_postfilter-0.09 v5.16.3 GNU/Linux
Date: 2016-03-09T02:37:16Z

This distribution has been tested as part of the CPAN Testers
project, supporting the Perl programming language.  See
http://wiki.cpantesters.org/ for more information or email
questions to cpan-testers-discuss@perl.org


--
Dear perlancar,

This is a computer-generated report for Perinci-Sub-Property-result_postfilter-0.09
on perl 5.16.3, created by CPAN-Reporter-1.2016.

Thank you for uploading your work to CPAN.  Congratulations!
All tests were successful.

Sections of this report:

    * Tester comments
    * Program output
    * Prerequisites
    * Environment and other context

------------------------------
TESTER COMMENTS
------------------------------

Additional comments from tester:

none provided

------------------------------
PROGRAM OUTPUT
------------------------------

Output from '/usr/bin/make test':

PERL_DL_NONLAZY=1 "/bbbike/perl-5.16.3/bin/perl5.16.3" "-MExtUtils::Command::MM" "-MTest::Harness" "-e" "undef *Test::Harness::Switches; test_harness(0, 'blib/lib', 'blib/arch')" t/*.t
t/00-compile.t ........... ok
t/01-basics.t ............ ok
t/author-pod-coverage.t .. skipped: these tests are for testing by the author
t/author-pod-syntax.t .... skipped: these tests are for testing by the author
All tests successful.
Files=4, Tests=3,  0 wallclock secs ( 0.01 usr  0.02 sys +  0.09 cusr  0.04 csys =  0.16 CPU)
Result: PASS

------------------------------
PREREQUISITES
------------------------------

Prerequisite modules loaded:

requires:

    Module                      Need     Have    
    --------------------------- -------- --------
    Perinci::Sub::PropertyUtil  0        0.10    
    perl                        5.010001 5.016003
    strict                      0        1.07    
    warnings                    0        1.13    

build_requires:

    Module                      Need     Have    
    --------------------------- -------- --------
    DateTime                    0        1.24    
    ExtUtils::MakeMaker         0        7.10    
    File::Spec                  0        3.60    
    IO::Handle                  0        1.33    
    IPC::Open3                  0        1.12    
    Perinci::Sub::Wrapper       0.57     0.82    
    Test::More                  0.98     1.001014
    Test::Perinci::Sub::Wrapper 0.57     0.82    

configure_requires:

    Module                      Need     Have    
    --------------------------- -------- --------
    ExtUtils::MakeMaker         0        7.10    


------------------------------
ENVIRONMENT AND OTHER CONTEXT
------------------------------

Environment variables:

    LANG = C
    LC_ALL = de_DE.UTF-8
    PATH = /usr/local/bin:/usr/bin:/bin:/usr/local/sbin:/usr/sbin:/sbin:/home/cpansand/bin/linux-gnu:/home/cpansand/bin/sh:/home/cpansand/bin:/usr/games:/home/cpansand/devel:/home/eserte/src/srezic-misc/scripts
    PERL5LIB = /home/cpansand/.cpan/build/2016030900/Perinci-Sub-Property-hide_args-0.02-072oil/blib/arch:/home/cpansand/.cpan/build/2016030900/Perinci-Sub-Property-hide_args-0.02-072oil/blib/lib:/home/cpansand/.cpan/build/2016030900/Perinci-Sub-Property-drops_privilege-0.07-NOhEFO/blib/arch:/home/cpansand/.cpan/build/2016030900/Perinci-Sub-Property-drops_privilege-0.07-NOhEFO/blib/lib:/home/cpansand/.cpan/build/2016030900/Perinci-Sub-Property-dies_on_error-0.06-FOWvLN/blib/arch:/home/cpansand/.cpan/build/2016030900/Perinci-Sub-Property-dies_on_error-0.06-FOWvLN/blib/lib
    PERL5OPT = 
    PERL5_CPANPLUS_IS_RUNNING = 31001
    PERL5_CPAN_IS_RUNNING = 31001
    PERL5_CPAN_IS_RUNNING_IN_RECURSION = 30935,31001
    PERLDOC = -MPod::Perldoc::ToTextOverstrike
    PERL_BATCH = yes
    PERL_CANARY_STABILITY_NOPROMPT = 1
    PERL_CPAN_REPORTER_CONFIG = /var/tmp/cpansmoker-1023/2016030900/cpanreporter_000_config.ini
    PERL_EXTUTILS_AUTOINSTALL = --defaultdeps
    PERL_PARALLEL_SMOKER = yes
    SHELL = /bin/zsh
    TERM = screen
    TMPDIR = /var/tmp/cpansmoker-1023/2016030900

Perl special variables (and OS-specific diagnostics, for MSWin32):

    $^X = /bbbike/perl-5.16.3/bin/perl5.16.3
    $UID/$EUID = 1023 / 1023
    $GID = 1023 1023
    $EGID = 1023 1023

Perl module toolchain versions installed:

    Module              Have    
    ------------------- --------
    CPAN                1.9800  
    CPAN::Meta          2.150005
    Cwd                 3.60    
    ExtUtils::CBuilder  0.280223
    ExtUtils::Command   7.10    
    ExtUtils::Install   2.04    
    ExtUtils::MakeMaker 7.10    
    ExtUtils::Manifest  1.68    
    ExtUtils::ParseXS   3.24    
    File::Spec          3.60    
    JSON                2.90    
    JSON::PP            2.27300 
    Module::Build       0.4214  
    Module::Signature   0.78    
    Parse::CPAN::Meta   1.4414  
    Test::Harness       3.36    
    Test::More          1.001014
    YAML                1.15    
    YAML::Syck          1.29    
    version             0.9913  


--

Summary of my perl5 (revision 5 version 16 subversion 3) configuration:
   
  Platform:
    osname=linux, osvers=3.2.0-4-amd64, archname=x86_64-linux
    uname='linux eserte 3.2.0-4-amd64 #1 smp debian 3.2.57-3 x86_64 gnulinux '
    config_args='-ds -e -Dprefix=/opt/perl-5.16.3'
    hint=recommended, useposix=true, d_sigaction=define
    useithreads=undef, usemultiplicity=undef
    useperlio=define, d_sfio=undef, uselargefiles=define, usesocks=undef
    use64bitint=define, use64bitall=define, uselongdouble=undef
    usemymalloc=n, bincompat5005=undef
  Compiler:
    cc='cc', ccflags ='-fno-strict-aliasing -pipe -fstack-protector -I/usr/local/include -D_LARGEFILE_SOURCE -D_FILE_OFFSET_BITS=64',
    optimize='-O2',
    cppflags='-fno-strict-aliasing -pipe -fstack-protector -I/usr/local/include'
    ccversion='', gccversion='4.7.2', gccosandvers=''
    intsize=4, longsize=8, ptrsize=8, doublesize=8, byteorder=12345678
    d_longlong=define, longlongsize=8, d_longdbl=define, longdblsize=16
    ivtype='long', ivsize=8, nvtype='double', nvsize=8, Off_t='off_t', lseeksize=8
    alignbytes=8, prototype=define
  Linker and Libraries:
    ld='cc', ldflags =' -fstack-protector -L/usr/local/lib'
    libpth=/usr/local/lib /lib/x86_64-linux-gnu /lib/../lib /usr/lib/x86_64-linux-gnu /usr/lib/../lib /lib /usr/lib
    libs=-lnsl -ldb -ldl -lm -lcrypt -lutil -lc
    perllibs=-lnsl -ldl -lm -lcrypt -lutil -lc
    libc=, so=so, useshrplib=false, libperl=libperl.a
    gnulibc_version='2.13'
  Dynamic Linking:
    dlsrc=dl_dlopen.xs, dlext=so, d_dlsymun=undef, ccdlflags='-Wl,-E'
    cccdlflags='-fPIC', lddlflags='-shared -O2 -L/usr/local/lib -fstack-protector'


Characteristics of this binary (from libperl): 
  Compile-time options: HAS_TIMES PERLIO_LAYERS PERL_DONT_CREATE_GVSV
                        PERL_MALLOC_WRAP PERL_PRESERVE_IVUV USE_64_BIT_ALL
                        USE_64_BIT_INT USE_LARGE_FILES USE_LOCALE
                        USE_LOCALE_COLLATE USE_LOCALE_CTYPE
                        USE_LOCALE_NUMERIC USE_PERLIO USE_PERL_ATOF
  Built under linux
  Compiled at May 15 2014 11:12:25
  %ENV:
    PERL5LIB="/home/cpansand/.cpan/build/2016030900/Perinci-Sub-Property-hide_args-0.02-072oil/blib/arch:/home/cpansand/.cpan/build/2016030900/Perinci-Sub-Property-hide_args-0.02-072oil/blib/lib:/home/cpansand/.cpan/build/2016030900/Perinci-Sub-Property-drops_privilege-0.07-NOhEFO/blib/arch:/home/cpansand/.cpan/build/2016030900/Perinci-Sub-Property-drops_privilege-0.07-NOhEFO/blib/lib:/home/cpansand/.cpan/build/2016030900/Perinci-Sub-Property-dies_on_error-0.06-FOWvLN/blib/arch:/home/cpansand/.cpan/build/2016030900/Perinci-Sub-Property-dies_on_error-0.06-FOWvLN/blib/lib"
    PERL5OPT=""
    PERL5_CPANPLUS_IS_RUNNING="31001"
    PERL5_CPAN_IS_RUNNING="31001"
    PERL5_CPAN_IS_RUNNING_IN_RECURSION="30935,31001"
    PERLDOC="-MPod::Perldoc::ToTextOverstrike"
    PERL_BATCH="yes"
    PERL_CANARY_STABILITY_NOPROMPT="1"
    PERL_CPAN_REPORTER_CONFIG="/var/tmp/cpansmoker-1023/2016030900/cpanreporter_000_config.ini"
    PERL_EXTUTILS_AUTOINSTALL="--defaultdeps"
    PERL_PARALLEL_SMOKER="yes"
  @INC:
    /home/cpansand/.cpan/build/2016030900/Perinci-Sub-Property-hide_args-0.02-072oil/blib/arch
    /home/cpansand/.cpan/build/2016030900/Perinci-Sub-Property-hide_args-0.02-072oil/blib/lib
    /home/cpansand/.cpan/build/2016030900/Perinci-Sub-Property-drops_privilege-0.07-NOhEFO/blib/arch
    /home/cpansand/.cpan/build/2016030900/Perinci-Sub-Property-drops_privilege-0.07-NOhEFO/blib/lib
    /home/cpansand/.cpan/build/2016030900/Perinci-Sub-Property-dies_on_error-0.06-FOWvLN/blib/arch
    /home/cpansand/.cpan/build/2016030900/Perinci-Sub-Property-dies_on_error-0.06-FOWvLN/blib/lib
    /opt/perl-5.16.3/lib/site_perl/5.16.3/x86_64-linux
    /opt/perl-5.16.3/lib/site_perl/5.16.3
    /opt/perl-5.16.3/lib/5.16.3/x86_64-linux
    /opt/perl-5.16.3/lib/5.16.3
    .