Report for Perl-Critic-Lax-0.009

Back
From: metabase:user:68a9c4ac-1ec7-11e0-bf29-9c4bfeb2ac3f
Subject: PASS Perl-Critic-Lax-0.009 v5.17.6 GNU/Linux
Date: 2012-12-07T21:12:41Z

This distribution has been tested as part of the CPAN Testers
project, supporting the Perl programming language.  See
http://wiki.cpantesters.org/ for more information or email
questions to cpan-testers-discuss@perl.org


--
Dear Ricardo SIGNES,

This is a computer-generated report for Perl-Critic-Lax-0.009
on perl 5.17.6, created by CPAN-Reporter-1.2006.

Thank you for uploading your work to CPAN.  Congratulations!
All tests were successful.

Sections of this report:

    * Tester comments
    * Program output
    * Prerequisites
    * Environment and other context

------------------------------
TESTER COMMENTS
------------------------------

Additional comments from tester:

none provided

------------------------------
PROGRAM OUTPUT
------------------------------

Output from '/usr/bin/make test':

PERL_DL_NONLAZY=1 /home/rando/perl5/perlbrew/perls/perl-5.17.6/bin/perl5.17.6 "-MExtUtils::Command::MM" "-e" "test_harness(0, 'blib/lib', 'blib/arch')" t/*.t
t/00-compile.t ................ ok
# 
# 
# Generated by Dist::Zilla::Plugin::ReportVersions::Tiny v1.05
# perl: v5.17.6 (wanted any version) on linux from /home/rando/perl5/perlbrew/perls/perl-5.17.6/bin/perl5.17.6
# 
# ExtUtils::MakeMaker                           => 6.6302     (want 6.30)   
# File::Find                                    => 1.23       (want any version)
# File::Temp                                    => 0.22       (want any version)
# Perl::Critic::Policy                          => 1.118      (want any version)
# Perl::Critic::TestUtils                       => 1.118      (want any version)
# Perl::Critic::Utils                           => 1.118      (want any version)
# Test::More                                    => 0.98       (want 0.96)   
# parent                                        => 0.225      (want any version)
# strict                                        => 1.07       (want any version)
# warnings                                      => 1.15       (want any version)
# 
# Thanks for using my code.  I hope it works for you.
# If not, please try and include this output in the bug report.
# That will help me reproduce the issue and solve your problem.
# 
t/000-report-versions-tiny.t .. ok
t/chmod-0xxx.t ................ ok
t/empty-after-or.t ............ ok
t/end-with-true.t ............. ok
t/eval-require.t .............. ok
t/map-linebreak.t ............. ok
t/use-before-pkg.t ............ ok
All tests successful.
Files=8, Tests=56,  5 wallclock secs ( 0.06 usr  0.02 sys +  4.23 cusr  0.37 csys =  4.68 CPU)
Result: PASS

------------------------------
PREREQUISITES
------------------------------

Prerequisite modules loaded:

requires:

    Module                  Need Have   
    ----------------------- ---- -------
    parent                  0    0.225  
    Perl::Critic::Policy    0    1.118  
    Perl::Critic::Utils     0    1.118  
    strict                  0    1.07   
    warnings                0    1.15   

build_requires:

    Module                  Need Have   
    ----------------------- ---- -------
    File::Find              0    1.23   
    File::Temp              0    0.22   
    Perl::Critic::TestUtils 0    1.118  
    Test::More              0.96 0.98   

configure_requires:

    Module                  Need Have   
    ----------------------- ---- -------
    ExtUtils::MakeMaker     6.30 6.63_02


------------------------------
ENVIRONMENT AND OTHER CONTEXT
------------------------------

Environment variables:

    LANG = en_US.UTF-8
    LANGUAGE = en_US.UTF-8
    LC_ALL = en_US.UTF-8
    LC_CTYPE = en_US.UTF-8
    PATH = /home/rando/perl5/perlbrew/bin:/home/rando/perl5/perlbrew/perls/perl-5.17.6/bin:/home/rando/java/grails-2.1.1/bin:/home/rando/java/groovy-2.0.5/bin:/home/rando/java/jdk1.7.0_09/bin:/home/rando/bin:/home/rando/devel/linux:/opt/vagrant/bin:/usr/lib/lightdm/lightdm:/usr/local/sbin:/usr/local/bin:/usr/sbin:/usr/bin:/sbin:/bin:/usr/games
    PERL5LIB = 
    PERL5OPT = 
    PERL5_CPANPLUS_IS_RUNNING = 2896
    PERL5_CPAN_IS_RUNNING = 2896
    PERLBREW_BASHRC_VERSION = 0.58
    PERLBREW_HOME = /home/rando/.perlbrew
    PERLBREW_MANPATH = /home/rando/perl5/perlbrew/perls/perl-5.17.6/man
    PERLBREW_PATH = /home/rando/perl5/perlbrew/bin:/home/rando/perl5/perlbrew/perls/perl-5.17.6/bin
    PERLBREW_PERL = perl-5.17.6
    PERLBREW_ROOT = /home/rando/perl5/perlbrew
    PERLBREW_VERSION = 0.58
    PERL_CPANM_OPT = --save-dists /home/rando/perl5/cpan/mini --mirror http://cpan.local:4999/-CPAN/ --mirror http://cpan.ezarticleinformation.com/ --mirror http://search.cpan.org/CPAN/
    SHELL = /bin/bash
    TERM = screen-256color

Perl special variables (and OS-specific diagnostics, for MSWin32):

    $^X = /home/rando/perl5/perlbrew/perls/perl-5.17.6/bin/perl5.17.6
    $UID/$EUID = 1000 / 1000
    $GID = 1000 4 24 27 30 46 110 123 127 1000
    $EGID = 1000 4 24 27 30 46 110 123 127 1000

Perl module toolchain versions installed:

    Module              Have    
    ------------------- --------
    CPAN                1.99_51 
    CPAN::Meta          2.120921
    Cwd                 3.39_02 
    ExtUtils::CBuilder  0.280209
    ExtUtils::Command   1.17    
    ExtUtils::Install   1.58    
    ExtUtils::MakeMaker 6.63_02 
    ExtUtils::Manifest  1.62    
    ExtUtils::ParseXS   3.18    
    File::Spec          3.39_02 
    JSON                2.53    
    JSON::PP            2.27200 
    Module::Build       0.4003  
    Module::Signature   0.70    
    Parse::CPAN::Meta   1.4404  
    Test::Harness       3.25_01 
    Test::More          0.98    
    YAML                0.84    
    YAML::Syck          1.21    
    version             0.9901  


--

Summary of my perl5 (revision 5 version 17 subversion 6) configuration:
   
  Platform:
    osname=linux, osvers=3.2.0-34-generic, archname=x86_64-linux
    uname='linux raptor 3.2.0-34-generic #53-ubuntu smp thu nov 15 10:48:16 utc 2012 x86_64 x86_64 x86_64 gnulinux '
    config_args='-de -Dprefix=/home/rando/perl5/perlbrew/perls/perl-5.17.6 -Dusedevel -Aeval:scriptdir=/home/rando/perl5/perlbrew/perls/perl-5.17.6/bin'
    hint=recommended, useposix=true, d_sigaction=define
    useithreads=undef, usemultiplicity=undef
    useperlio=define, d_sfio=undef, uselargefiles=define, usesocks=undef
    use64bitint=define, use64bitall=define, uselongdouble=undef
    usemymalloc=n, bincompat5005=undef
  Compiler:
    cc='cc', ccflags ='-fno-strict-aliasing -pipe -fstack-protector -I/usr/local/include -D_LARGEFILE_SOURCE -D_FILE_OFFSET_BITS=64',
    optimize='-O2',
    cppflags='-fno-strict-aliasing -pipe -fstack-protector -I/usr/local/include'
    ccversion='', gccversion='4.6.3', gccosandvers=''
    intsize=4, longsize=8, ptrsize=8, doublesize=8, byteorder=12345678
    d_longlong=define, longlongsize=8, d_longdbl=define, longdblsize=16
    ivtype='long', ivsize=8, nvtype='double', nvsize=8, Off_t='off_t', lseeksize=8
    alignbytes=8, prototype=define
  Linker and Libraries:
    ld='cc', ldflags =' -fstack-protector -L/usr/local/lib'
    libpth=/usr/local/lib /lib/x86_64-linux-gnu /lib/../lib /usr/lib/x86_64-linux-gnu /usr/lib/../lib /lib /usr/lib
    libs=-lnsl -ldl -lm -lcrypt -lutil -lc
    perllibs=-lnsl -ldl -lm -lcrypt -lutil -lc
    libc=, so=so, useshrplib=false, libperl=libperl.a
    gnulibc_version='2.15'
  Dynamic Linking:
    dlsrc=dl_dlopen.xs, dlext=so, d_dlsymun=undef, ccdlflags='-Wl,-E'
    cccdlflags='-fPIC', lddlflags='-shared -O2 -L/usr/local/lib -fstack-protector'


Characteristics of this binary (from libperl): 
  Compile-time options: HAS_TIMES PERLIO_LAYERS PERL_DONT_CREATE_GVSV
                        PERL_MALLOC_WRAP PERL_PRESERVE_IVUV PERL_USE_DEVEL
                        USE_64_BIT_ALL USE_64_BIT_INT USE_LARGE_FILES
                        USE_LOCALE USE_LOCALE_COLLATE USE_LOCALE_CTYPE
                        USE_LOCALE_NUMERIC USE_PERLIO USE_PERL_ATOF
  Built under linux
  Compiled at Dec  5 2012 07:04:54
  %ENV:
    PERL5LIB=""
    PERL5OPT=""
    PERL5_CPANPLUS_IS_RUNNING="2896"
    PERL5_CPAN_IS_RUNNING="2896"
    PERLBREW_BASHRC_VERSION="0.58"
    PERLBREW_HOME="/home/rando/.perlbrew"
    PERLBREW_MANPATH="/home/rando/perl5/perlbrew/perls/perl-5.17.6/man"
    PERLBREW_PATH="/home/rando/perl5/perlbrew/bin:/home/rando/perl5/perlbrew/perls/perl-5.17.6/bin"
    PERLBREW_PERL="perl-5.17.6"
    PERLBREW_ROOT="/home/rando/perl5/perlbrew"
    PERLBREW_VERSION="0.58"
    PERL_CPANM_OPT="--save-dists /home/rando/perl5/cpan/mini --mirror http://cpan.local:4999/-CPAN/ --mirror http://cpan.ezarticleinformation.com/ --mirror http://search.cpan.org/CPAN/"
  @INC:
    /home/rando/perl5/perlbrew/perls/perl-5.17.6/lib/site_perl/5.17.6/x86_64-linux
    /home/rando/perl5/perlbrew/perls/perl-5.17.6/lib/site_perl/5.17.6
    /home/rando/perl5/perlbrew/perls/perl-5.17.6/lib/5.17.6/x86_64-linux
    /home/rando/perl5/perlbrew/perls/perl-5.17.6/lib/5.17.6
    .