Reaction v0.002005 Perl 5 v5.37.5 x86_64-linux-ld
- Status
- Pass
- From
- Andreas J. König (ANDK)
- Dist
-
Reaction v0.002005
- Platform
- Perl 5 v5.37.5 x86_64-linux-ld
- Date
- 2022-11-05 19:34:17
- ID
- d664d9cc-5d40-11ed-9f32-76f9ece160c8
This distribution has been tested as part of the CPAN Testers
project, supporting the Perl programming language. See
http://wiki.cpantesters.org/ for more information or email
questions to cpan-testers-discuss@perl.org
--
Dear Justin Hunter,
This is a computer-generated report for Reaction-0.002005
on perl 5.37.5, created by CPAN-Reporter-1.2018.
Thank you for uploading your work to CPAN. Congratulations!
All tests were successful.
Sections of this report:
* Tester comments
* Program output
* Prerequisites
* Environment and other context
------------------------------
TESTER COMMENTS
------------------------------
Additional comments from tester:
this report is from an automated smoke testing program
and was not reviewed by a human for accuracy
------------------------------
PROGRAM OUTPUT
------------------------------
Output from '/usr/bin/make test':
PERL_DL_NONLAZY=1 "/tmp/basesmoker-reloperl-lwNQ/bin/perl" "-MExtUtils::Command::MM" "-MTest::Harness" "-e" "undef *Test::Harness::Switches; test_harness(0, 'inc', 'blib/lib', 'blib/arch')" t/00componentui_compiles.t t/01app.t t/04load_all.t t/05reflect_attr_from.t t/im_dbic.t t/ui_focus_stack.t t/ui_view.t t/ui_viewport.t t/uncheck_bool_field.t
Class::MOP::load_class is deprecated at /home/sand/src/perl/repoperls/installed-perls/host/k93jammy/v5.37.4-160-g0649414847/5674/lib/site_perl/5.37.5/x86_64-linux-ld/Class/MOP.pm line 69.
Class::MOP::load_class("ComponentUI::TestModel") called at /tmp/loop_over_bdir-3295373-8XPj17/Reaction-0.002005-0/blib/lib/Catalyst/Model/Reaction/InterfaceModel/DBIC.pm line 24
Catalyst::Model::Reaction::InterfaceModel::DBIC::COMPONENT("ComponentUI::Model::TestModel", "ComponentUI", HASH(0x55f12d914830)) called at /home/sand/src/perl/repoperls/installed-perls/host/k93jammy/v5.37.4-160-g0649414847/5674/lib/site_perl/5.37.5/Catalyst.pm line 3234
eval {...} called at /home/sand/src/perl/repoperls/installed-perls/host/k93jammy/v5.37.4-160-g0649414847/5674/lib/site_perl/5.37.5/Catalyst.pm line 3235
Catalyst::setup_component("ComponentUI", "ComponentUI::Model::TestModel") called at /home/sand/src/perl/repoperls/installed-perls/host/k93jammy/v5.37.4-160-g0649414847/5674/lib/site_perl/5.37.5/Catalyst.pm line 3212
Catalyst::__ANON__() called at /home/sand/src/perl/repoperls/installed-perls/host/k93jammy/v5.37.4-160-g0649414847/5674/lib/site_perl/5.37.5/Catalyst.pm line 3059
Catalyst::setup_components("ComponentUI") called at /home/sand/src/perl/repoperls/installed-perls/host/k93jammy/v5.37.4-160-g0649414847/5674/lib/site_perl/5.37.5/Catalyst.pm line 1431
Catalyst::setup("ComponentUI") called at /tmp/loop_over_bdir-3295373-8XPj17/Reaction-0.002005-0/blib/lib/ComponentUI.pm line 32
require ComponentUI.pm called at t/00componentui_compiles.t line 7
main::BEGIN() called at t/00componentui_compiles.t line 7
eval {...} called at t/00componentui_compiles.t line 7
eval 'package main;
BEGIN { ${^WARNING_BITS} = $args[-1] if defined $args[-1] }
#line 7 t/00componentui_compiles.t
use ComponentUI @{$args[0]};
1;
' called at /home/sand/src/perl/repoperls/installed-perls/host/k93jammy/v5.37.4-160-g0649414847/5674/lib/5.37.5/Test/More.pm line 1034
Test::More::_eval("package main;\x{a}BEGIN { \${^WARNING_BITS} = \$args[-1] if defined"..., ARRAY(0x55f128255c20), "UUUUUUUUUUUUUUUUUUU") called at /home/sand/src/perl/repoperls/installed-perls/host/k93jammy/v5.37.4-160-g0649414847/5674/lib/5.37.5/Test/More.pm line 1009
Test::More::use_ok("ComponentUI") called at t/00componentui_compiles.t line 7
Class::MOP::load_class is deprecated at /home/sand/src/perl/repoperls/installed-perls/host/k93jammy/v5.37.4-160-g0649414847/5674/lib/site_perl/5.37.5/x86_64-linux-ld/Class/MOP.pm line 69.
Class::MOP::load_class("Reaction::InterfaceModel::Object") called at /tmp/loop_over_bdir-3295373-8XPj17/Reaction-0.002005-0/blib/lib/Reaction/InterfaceModel/Reflector/DBIC.pm line 149
Reaction::InterfaceModel::Reflector::DBIC::reflect_schema(Reaction::InterfaceModel::Reflector::DBIC=HASH(0x55f12dee5e98), "model_class", "ComponentUI::TestModel", "schema_class", "RTest::TestDB", "sources", ARRAY(0x55f12e40fb38)) called at /tmp/loop_over_bdir-3295373-8XPj17/Reaction-0.002005-0/blib/lib/ComponentUI/TestModel.pm line 10
require ComponentUI/TestModel.pm called at /home/sand/src/perl/repoperls/installed-perls/host/k93jammy/v5.37.4-160-g0649414847/5674/lib/site_perl/5.37.5/Module/Runtime.pm line 314
Module::Runtime::require_module("ComponentUI::TestModel") called at /home/sand/src/perl/repoperls/installed-perls/host/k93jammy/v5.37.4-160-g0649414847/5674/lib/site_perl/5.37.5/Class/Load.pm line 174
Class::Load::try {...} () called at /home/sand/src/perl/repoperls/installed-perls/host/k93jammy/v5.37.4-160-g0649414847/5674/lib/site_perl/5.37.5/Try/Tiny.pm line 98
eval {...} called at /home/sand/src/perl/repoperls/installed-perls/host/k93jammy/v5.37.4-160-g0649414847/5674/lib/site_perl/5.37.5/Try/Tiny.pm line 93
Try::Tiny::try(CODE(0x55f12a863ef8), Try::Tiny::Catch=REF(0x55f12d92eb40)) called at /home/sand/src/perl/repoperls/installed-perls/host/k93jammy/v5.37.4-160-g0649414847/5674/lib/site_perl/5.37.5/Class/Load.pm line 180
Class::Load::try_load_class("ComponentUI::TestModel", undef) called at /home/sand/src/perl/repoperls/installed-perls/host/k93jammy/v5.37.4-160-g0649414847/5674/lib/site_perl/5.37.5/Class/Load.pm line 35
Class::Load::load_class("ComponentUI::TestModel") called at /tmp/loop_over_bdir-3295373-8XPj17/Reaction-0.002005-0/blib/lib/Catalyst/Model/Reaction/InterfaceModel/DBIC.pm line 24
Catalyst::Model::Reaction::InterfaceModel::DBIC::COMPONENT("ComponentUI::Model::TestModel", "ComponentUI", HASH(0x55f12d914830)) called at /home/sand/src/perl/repoperls/installed-perls/host/k93jammy/v5.37.4-160-g0649414847/5674/lib/site_perl/5.37.5/Catalyst.pm line 3234
eval {...} called at /home/sand/src/perl/repoperls/installed-perls/host/k93jammy/v5.37.4-160-g0649414847/5674/lib/site_perl/5.37.5/Catalyst.pm line 3235
Catalyst::setup_component("ComponentUI", "ComponentUI::Model::TestModel") called at /home/sand/src/perl/repoperls/installed-perls/host/k93jammy/v5.37.4-160-g0649414847/5674/lib/site_perl/5.37.5/Catalyst.pm line 3212
Catalyst::__ANON__() called at /home/sand/src/perl/repoperls/installed-perls/host/k93jammy/v5.37.4-160-g0649414847/5674/lib/site_perl/5.37.5/Catalyst.pm line 3059
Catalyst::setup_components("ComponentUI") called at /home/sand/src/perl/repoperls/installed-perls/host/k93jammy/v5.37.4-160-g0649414847/5674/lib/site_perl/5.37.5/Catalyst.pm line 1431
Catalyst::setup("ComponentUI") called at /tmp/loop_over_bdir-3295373-8XPj17/Reaction-0.002005-0/blib/lib/ComponentUI.pm line 32
require ComponentUI.pm called at t/00componentui_compiles.t line 7
main::BEGIN() called at t/00componentui_compiles.t line 7
eval {...} called at t/00componentui_compiles.t line 7
eval 'package main;
BEGIN { ${^WARNING_BITS} = $args[-1] if defined $args[-1] }
#line 7 t/00componentui_compiles.t
use ComponentUI @{$args[0]};
1;
' called at /home/sand/src/perl/repoperls/installed-perls/host/k93jammy/v5.37.4-160-g0649414847/5674/lib/5.37.5/Test/More.pm line 1034
Test::More::_eval("package main;\x{a}BEGIN { \${^WARNING_BITS} = \$args[-1] if defined"..., ARRAY(0x55f128255c20), "UUUUUUUUUUUUUUUUUUU") called at /home/sand/src/perl/repoperls/installed-perls/host/k93jammy/v5.37.4-160-g0649414847/5674/lib/5.37.5/Test/More.pm line 1009
Test::More::use_ok("ComponentUI") called at t/00componentui_compiles.t line 7
Class::MOP::load_class is deprecated at /home/sand/src/perl/repoperls/installed-perls/host/k93jammy/v5.37.4-160-g0649414847/5674/lib/site_perl/5.37.5/x86_64-linux-ld/Class/MOP.pm line 69.
Class::MOP::load_class("Reaction::InterfaceModel::Object") called at /tmp/loop_over_bdir-3295373-8XPj17/Reaction-0.002005-0/blib/lib/Reaction/Class.pm line 123
Reaction::Class::do_class_sub("Reaction::Class", "ComponentUI::TestModel::Foo", "ComponentUI::TestModel::Foo", "is", "Reaction::InterfaceModel::Object", "which", CODE(0x55f12e515360)) called at /tmp/loop_over_bdir-3295373-8XPj17/Reaction-0.002005-0/blib/lib/Reaction/Class.pm line 86
Reaction::Class::("ComponentUI::TestModel::Foo", "is", "Reaction::InterfaceModel::Object", "which", CODE(0x55f12e515360)) called at /tmp/loop_over_bdir-3295373-8XPj17/Reaction-0.002005-0/blib/lib/ComponentUI/TestModel/Foo.pm line 8
require ComponentUI/TestModel/Foo.pm called at /home/sand/src/perl/repoperls/installed-perls/host/k93jammy/v5.37.4-160-g0649414847/5674/lib/site_perl/5.37.5/Module/Runtime.pm line 314
Module::Runtime::require_module("ComponentUI::TestModel::Foo") called at /home/sand/src/perl/repoperls/installed-perls/host/k93jammy/v5.37.4-160-g0649414847/5674/lib/site_perl/5.37.5/Class/Load.pm line 174
Class::Load::try {...} () called at /home/sand/src/perl/repoperls/installed-perls/host/k93jammy/v5.37.4-160-g0649414847/5674/lib/site_perl/5.37.5/Try/Tiny.pm line 98
eval {...} called at /home/sand/src/perl/repoperls/installed-perls/host/k93jammy/v5.37.4-160-g0649414847/5674/lib/site_perl/5.37.5/Try/Tiny.pm line 93
Try::Tiny::try(CODE(0x55f12e4edcd8), Try::Tiny::Catch=REF(0x55f12e514d00)) called at /home/sand/src/perl/repoperls/installed-perls/host/k93jammy/v5.37.4-160-g0649414847/5674/lib/site_perl/5.37.5/Class/Load.pm line 180
Class::Load::try_load_class("ComponentUI::TestModel::Foo", undef) called at /home/sand/src/perl/repoperls/installed-perls/host/k93jammy/v5.37.4-160-g0649414847/5674/lib/site_perl/5.37.5/Class/Load.pm line 35
Class::Load::load_class("ComponentUI::TestModel::Foo") called at /tmp/loop_over_bdir-3295373-8XPj17/Reaction-0.002005-0/blib/lib/Reaction/InterfaceModel/Reflector/DBIC.pm line 892
eval {...} called at /tmp/loop_over_bdir-3295373-8XPj17/Reaction-0.002005-0/blib/lib/Reaction/InterfaceModel/Reflector/DBIC.pm line 892
Reaction::InterfaceModel::Reflector::DBIC::_maybe_load_class(Reaction::InterfaceModel::Reflector::DBIC=HASH(0x55f12dee5e98), "ComponentUI::TestModel::Foo") called at /tmp/loop_over_bdir-3295373-8XPj17/Reaction-0.002005-0/blib/lib/Reaction/InterfaceModel/Reflector/DBIC.pm line 876
Reaction::InterfaceModel::Reflector::DBIC::_load_or_create(Reaction::InterfaceModel::Reflector::DBIC=HASH(0x55f12dee5e98), "ComponentUI::TestModel::Foo", "superclasses", ARRAY(0x55f12e5091e8)) called at /tmp/loop_over_bdir-3295373-8XPj17/Reaction-0.002005-0/blib/lib/Reaction/InterfaceModel/Reflector/DBIC.pm line 448
Reaction::InterfaceModel::Reflector::DBIC::reflect_source_object(Reaction::InterfaceModel::Reflector::DBIC=HASH(0x55f12dee5e98), "parent_class", "ComponentUI::TestModel", "schema_class", "RTest::TestDB", "parent_domain_model_name", "_rtest_test_db_store", "source_name", ...) called at /tmp/loop_over_bdir-3295373-8XPj17/Reaction-0.002005-0/blib/lib/Reaction/InterfaceModel/Reflector/DBIC.pm line 323
Reaction::InterfaceModel::Reflector::DBIC::reflect_source(Reaction::InterfaceModel::Reflector::DBIC=HASH(0x55f12dee5e98), "source_name", "Foo", "parent_class", "ComponentUI::TestModel", "schema_class", "RTest::TestDB", "source_class", ...) called at /tmp/loop_over_bdir-3295373-8XPj17/Reaction-0.002005-0/blib/lib/Reaction/InterfaceModel/Reflector/DBIC.pm line 185
Reaction::InterfaceModel::Reflector::DBIC::reflect_schema(Reaction::InterfaceModel::Reflector::DBIC=HASH(0x55f12dee5e98), "model_class", "ComponentUI::TestModel", "schema_class", "RTest::TestDB", "sources", ARRAY(0x55f12e40fb38)) called at /tmp/loop_over_bdir-3295373-8XPj17/Reaction-0.002005-0/blib/lib/ComponentUI/TestModel.pm line 10
require ComponentUI/TestModel.pm called at /home/sand/src/perl/repoperls/installed-perls/host/k93jammy/v5.37.4-160-g0649414847/5674/lib/site_perl/5.37.5/Module/Runtime.pm line 314
Module::Runtime::require_module("ComponentUI::TestModel") called at /home/sand/src/perl/repoperls/installed-perls/host/k93jammy/v5.37.4-160-g0649414847/5674/lib/site_perl/5.37.5/Class/Load.pm line 174
Class::Load::try {...} () called at /home/sand/src/perl/repoperls/installed-perls/host/k93jammy/v5.37.4-160-g0649414847/5674/lib/site_perl/5.37.5/Try/Tiny.pm line 98
eval {...} called at /home/sand/src/perl/repoperls/installed-perls/host/k93jammy/v5.37.4-160-g0649414847/5674/lib/site_perl/5.37.5/Try/Tiny.pm line 93
Try::Tiny::try(CODE(0x55f12a863ef8), Try::Tiny::Catch=REF(0x55f12d92eb40)) called at /home/sand/src/perl/repoperls/installed-perls/host/k93jammy/v5.37.4-160-g0649414847/5674/lib/site_perl/5.37.5/Class/Load.pm line 180
Class::Load::try_load_class("ComponentUI::TestModel", undef) called at /home/sand/src/perl/repoperls/installed-perls/host/k93jammy/v5.37.4-160-g0649414847/5674/lib/site_perl/5.37.5/Class/Load.pm line 35
Class::Load::load_class("ComponentUI::TestModel") called at /tmp/loop_over_bdir-3295373-8XPj17/Reaction-0.002005-0/blib/lib/Catalyst/Model/Reaction/InterfaceModel/DBIC.pm line 24
Catalyst::Model::Reaction::InterfaceModel::DBIC::COMPONENT("ComponentUI::Model::TestModel", "ComponentUI", HASH(0x55f12d914830)) called at /home/sand/src/perl/repoperls/installed-perls/host/k93jammy/v5.37.4-160-g0649414847/5674/lib/site_perl/5.37.5/Catalyst.pm line 3234
eval {...} called at /home/sand/src/perl/repoperls/installed-perls/host/k93jammy/v5.37.4-160-g0649414847/5674/lib/site_perl/5.37.5/Catalyst.pm line 3235
Catalyst::setup_component("ComponentUI", "ComponentUI::Model::TestModel") called at /home/sand/src/perl/repoperls/installed-perls/host/k93jammy/v5.37.4-160-g0649414847/5674/lib/site_perl/5.37.5/Catalyst.pm line 3212
Catalyst::__ANON__() called at /home/sand/src/perl/repoperls/installed-perls/host/k93jammy/v5.37.4-160-g0649414847/5674/lib/site_perl/5.37.5/Catalyst.pm line 3059
Catalyst::setup_components("ComponentUI") called at /home/sand/src/perl/repoperls/installed-perls/host/k93jammy/v5.37.4-160-g0649414847/5674/lib/site_perl/5.37.5/Catalyst.pm line 1431
Catalyst::setup("ComponentUI") called at /tmp/loop_over_bdir-3295373-8XPj17/Reaction-0.002005-0/blib/lib/ComponentUI.pm line 32
require ComponentUI.pm called at t/00componentui_compiles.t line 7
main::BEGIN() called at t/00componentui_compiles.t line 7
eval {...} called at t/00componentui_compiles.t line 7
eval 'package main;
BEGIN { ${^WARNING_BITS} = $args[-1] if defined $args[-1] }
#line 7 t/00componentui_compiles.t
use ComponentUI @{$args[0]};
1;
' called at /home/sand/src/perl/repoperls/installed-perls/host/k93jammy/v5.37.4-160-g0649414847/5674/lib/5.37.5/Test/More.pm line 1034
Test::More::_eval("package main;\x{a}BEGIN { \${^WARNING_BITS} = \$args[-1] if defined"..., ARRAY(0x55f128255c20), "UUUUUUUUUUUUUUUUUUU") called at /home/sand/src/perl/repoperls/installed-perls/host/k93jammy/v5.37.4-160-g0649414847/5674/lib/5.37.5/Test/More.pm line 1009
Test::More::use_ok("ComponentUI") called at t/00componentui_compiles.t line 7
t/00componentui_compiles.t .. ok
Class::MOP::load_class is deprecated at /home/sand/src/perl/repoperls/installed-perls/host/k93jammy/v5.37.4-160-g0649414847/5674/lib/site_perl/5.37.5/x86_64-linux-ld/Class/MOP.pm line 69.
Class::MOP::load_class("ComponentUI::TestModel") called at /tmp/loop_over_bdir-3295373-8XPj17/Reaction-0.002005-0/blib/lib/Catalyst/Model/Reaction/InterfaceModel/DBIC.pm line 24
Catalyst::Model::Reaction::InterfaceModel::DBIC::COMPONENT("ComponentUI::Model::TestModel", "ComponentUI", HASH(0x560c3e84f6a0)) called at /home/sand/src/perl/repoperls/installed-perls/host/k93jammy/v5.37.4-160-g0649414847/5674/lib/site_perl/5.37.5/Catalyst.pm line 3234
eval {...} called at /home/sand/src/perl/repoperls/installed-perls/host/k93jammy/v5.37.4-160-g0649414847/5674/lib/site_perl/5.37.5/Catalyst.pm line 3235
Catalyst::setup_component("ComponentUI", "ComponentUI::Model::TestModel") called at /home/sand/src/perl/repoperls/installed-perls/host/k93jammy/v5.37.4-160-g0649414847/5674/lib/site_perl/5.37.5/Catalyst.pm line 3212
Catalyst::__ANON__() called at /home/sand/src/perl/repoperls/installed-perls/host/k93jammy/v5.37.4-160-g0649414847/5674/lib/site_perl/5.37.5/Catalyst.pm line 3059
Catalyst::setup_components("ComponentUI") called at /home/sand/src/perl/repoperls/installed-perls/host/k93jammy/v5.37.4-160-g0649414847/5674/lib/site_perl/5.37.5/Catalyst.pm line 1431
Catalyst::setup("ComponentUI") called at /tmp/loop_over_bdir-3295373-8XPj17/Reaction-0.002005-0/blib/lib/ComponentUI.pm line 32
require ComponentUI.pm called at /home/sand/src/perl/repoperls/installed-perls/host/k93jammy/v5.37.4-160-g0649414847/5674/lib/site_perl/5.37.5/Module/Runtime.pm line 314
Module::Runtime::require_module("ComponentUI") called at /home/sand/src/perl/repoperls/installed-perls/host/k93jammy/v5.37.4-160-g0649414847/5674/lib/site_perl/5.37.5/Class/Load.pm line 174
Class::Load::try {...} () called at /home/sand/src/perl/repoperls/installed-perls/host/k93jammy/v5.37.4-160-g0649414847/5674/lib/site_perl/5.37.5/Try/Tiny.pm line 98
eval {...} called at /home/sand/src/perl/repoperls/installed-perls/host/k93jammy/v5.37.4-160-g0649414847/5674/lib/site_perl/5.37.5/Try/Tiny.pm line 93
Try::Tiny::try(CODE(0x560c39e132c0), Try::Tiny::Catch=REF(0x560c39e80a20)) called at /home/sand/src/perl/repoperls/installed-perls/host/k93jammy/v5.37.4-160-g0649414847/5674/lib/site_perl/5.37.5/Class/Load.pm line 180
Class::Load::try_load_class("ComponentUI", undef) called at /home/sand/src/perl/repoperls/installed-perls/host/k93jammy/v5.37.4-160-g0649414847/5674/lib/site_perl/5.37.5/Class/Load.pm line 35
Class::Load::load_class("ComponentUI") called at /home/sand/src/perl/repoperls/installed-perls/host/k93jammy/v5.37.4-160-g0649414847/5674/lib/site_perl/5.37.5/Catalyst/Test.pm line 29
Catalyst::Test::_build_request_export("Catalyst::Test", HASH(0x560c391a3ee8)) called at /home/sand/src/perl/repoperls/installed-perls/host/k93jammy/v5.37.4-160-g0649414847/5674/lib/site_perl/5.37.5/Catalyst/Test.pm line 95
Catalyst::Test::__ANON__("Catalyst::Test", "all", HASH(0x560c391a3f18), HASH(0x560c391a3cf0)) called at /home/sand/src/perl/repoperls/installed-perls/host/k93jammy/v5.37.4-160-g0649414847/5674/lib/site_perl/5.37.5/Sub/Exporter.pm line 492
Sub::Exporter::_expand_group("Catalyst::Test", HASH(0x560c3a32c0b8), ARRAY(0x560c391a3d98), HASH(0x560c391a3cf0), HASH(0x560c391a3ea0), HASH(0x560c391a3ca8)) called at /home/sand/src/perl/repoperls/installed-perls/host/k93jammy/v5.37.4-160-g0649414847/5674/lib/site_perl/5.37.5/Sub/Exporter.pm line 423
Sub::Exporter::_expand_groups("Catalyst::Test", HASH(0x560c3a32c0b8), ARRAY(0x560c3a32c508), HASH(0x560c391a3cf0)) called at /home/sand/src/perl/repoperls/installed-perls/host/k93jammy/v5.37.4-160-g0649414847/5674/lib/site_perl/5.37.5/Sub/Exporter.pm line 741
Sub::Exporter::__ANON__("Catalyst::Test", "-all", HASH(0x560c38b14860)) called at /home/sand/src/perl/repoperls/installed-perls/host/k93jammy/v5.37.4-160-g0649414847/5674/lib/site_perl/5.37.5/Catalyst/Test.pm line 155
Catalyst::Test::import("Catalyst::Test", "ComponentUI") called at t/01app.t line 7
main::BEGIN() called at t/01app.t line 7
eval {...} called at t/01app.t line 7
eval 'package main;
BEGIN { ${^WARNING_BITS} = $args[-1] if defined $args[-1] }
#line 7 t/01app.t
use Catalyst::Test @{$args[0]};
1;
' called at /home/sand/src/perl/repoperls/installed-perls/host/k93jammy/v5.37.4-160-g0649414847/5674/lib/5.37.5/Test/More.pm line 1034
Test::More::_eval("package main;\x{a}BEGIN { \${^WARNING_BITS} = \$args[-1] if defined"..., ARRAY(0x560c39158590), "UUUUUUUUUUUUUUUUUUU") called at /home/sand/src/perl/repoperls/installed-perls/host/k93jammy/v5.37.4-160-g0649414847/5674/lib/5.37.5/Test/More.pm line 1009
Test::More::use_ok("Catalyst::Test", "ComponentUI") called at t/01app.t line 7
main::BEGIN() called at t/01app.t line 8
eval {...} called at t/01app.t line 8
Class::MOP::load_class is deprecated at /home/sand/src/perl/repoperls/installed-perls/host/k93jammy/v5.37.4-160-g0649414847/5674/lib/site_perl/5.37.5/x86_64-linux-ld/Class/MOP.pm line 69.
Class::MOP::load_class("Reaction::InterfaceModel::Object") called at /tmp/loop_over_bdir-3295373-8XPj17/Reaction-0.002005-0/blib/lib/Reaction/InterfaceModel/Reflector/DBIC.pm line 149
Reaction::InterfaceModel::Reflector::DBIC::reflect_schema(Reaction::InterfaceModel::Reflector::DBIC=HASH(0x560c3f1d0468), "model_class", "ComponentUI::TestModel", "schema_class", "RTest::TestDB", "sources", ARRAY(0x560c3f3097d0)) called at /tmp/loop_over_bdir-3295373-8XPj17/Reaction-0.002005-0/blib/lib/ComponentUI/TestModel.pm line 10
require ComponentUI/TestModel.pm called at /home/sand/src/perl/repoperls/installed-perls/host/k93jammy/v5.37.4-160-g0649414847/5674/lib/site_perl/5.37.5/Module/Runtime.pm line 314
Module::Runtime::require_module("ComponentUI::TestModel") called at /home/sand/src/perl/repoperls/installed-perls/host/k93jammy/v5.37.4-160-g0649414847/5674/lib/site_perl/5.37.5/Class/Load.pm line 174
Class::Load::try {...} () called at /home/sand/src/perl/repoperls/installed-perls/host/k93jammy/v5.37.4-160-g0649414847/5674/lib/site_perl/5.37.5/Try/Tiny.pm line 98
eval {...} called at /home/sand/src/perl/repoperls/installed-perls/host/k93jammy/v5.37.4-160-g0649414847/5674/lib/site_perl/5.37.5/Try/Tiny.pm line 93
Try::Tiny::try(CODE(0x560c3b832c80), Try::Tiny::Catch=REF(0x560c3ee195d0)) called at /home/sand/src/perl/repoperls/installed-perls/host/k93jammy/v5.37.4-160-g0649414847/5674/lib/site_perl/5.37.5/Class/Load.pm line 180
Class::Load::try_load_class("ComponentUI::TestModel", undef) called at /home/sand/src/perl/repoperls/installed-perls/host/k93jammy/v5.37.4-160-g0649414847/5674/lib/site_perl/5.37.5/Class/Load.pm line 35
Class::Load::load_class("ComponentUI::TestModel") called at /tmp/loop_over_bdir-3295373-8XPj17/Reaction-0.002005-0/blib/lib/Catalyst/Model/Reaction/InterfaceModel/DBIC.pm line 24
Catalyst::Model::Reaction::InterfaceModel::DBIC::COMPONENT("ComponentUI::Model::TestModel", "ComponentUI", HASH(0x560c3e84f6a0)) called at /home/sand/src/perl/repoperls/installed-perls/host/k93jammy/v5.37.4-160-g0649414847/5674/lib/site_perl/5.37.5/Catalyst.pm line 3234
eval {...} called at /home/sand/src/perl/repoperls/installed-perls/host/k93jammy/v5.37.4-160-g0649414847/5674/lib/site_perl/5.37.5/Catalyst.pm line 3235
Catalyst::setup_component("ComponentUI", "ComponentUI::Model::TestModel") called at /home/sand/src/perl/repoperls/installed-perls/host/k93jammy/v5.37.4-160-g0649414847/5674/lib/site_perl/5.37.5/Catalyst.pm line 3212
Catalyst::__ANON__() called at /home/sand/src/perl/repoperls/installed-perls/host/k93jammy/v5.37.4-160-g0649414847/5674/lib/site_perl/5.37.5/Catalyst.pm line 3059
Catalyst::setup_components("ComponentUI") called at /home/sand/src/perl/repoperls/installed-perls/host/k93jammy/v5.37.4-160-g0649414847/5674/lib/site_perl/5.37.5/Catalyst.pm line 1431
Catalyst::setup("ComponentUI") called at /tmp/loop_over_bdir-3295373-8XPj17/Reaction-0.002005-0/blib/lib/ComponentUI.pm line 32
require ComponentUI.pm called at /home/sand/src/perl/repoperls/installed-perls/host/k93jammy/v5.37.4-160-g0649414847/5674/lib/site_perl/5.37.5/Module/Runtime.pm line 314
Module::Runtime::require_module("ComponentUI") called at /home/sand/src/perl/repoperls/installed-perls/host/k93jammy/v5.37.4-160-g0649414847/5674/lib/site_perl/5.37.5/Class/Load.pm line 174
Class::Load::try {...} () called at /home/sand/src/perl/repoperls/installed-perls/host/k93jammy/v5.37.4-160-g0649414847/5674/lib/site_perl/5.37.5/Try/Tiny.pm line 98
eval {...} called at /home/sand/src/perl/repoperls/installed-perls/host/k93jammy/v5.37.4-160-g0649414847/5674/lib/site_perl/5.37.5/Try/Tiny.pm line 93
Try::Tiny::try(CODE(0x560c39e132c0), Try::Tiny::Catch=REF(0x560c39e80a20)) called at /home/sand/src/perl/repoperls/installed-perls/host/k93jammy/v5.37.4-160-g0649414847/5674/lib/site_perl/5.37.5/Class/Load.pm line 180
Class::Load::try_load_class("ComponentUI", undef) called at /home/sand/src/perl/repoperls/installed-perls/host/k93jammy/v5.37.4-160-g0649414847/5674/lib/site_perl/5.37.5/Class/Load.pm line 35
Class::Load::load_class("ComponentUI") called at /home/sand/src/perl/repoperls/installed-perls/host/k93jammy/v5.37.4-160-g0649414847/5674/lib/site_perl/5.37.5/Catalyst/Test.pm line 29
Catalyst::Test::_build_request_export("Catalyst::Test", HASH(0x560c391a3ee8)) called at /home/sand/src/perl/repoperls/installed-perls/host/k93jammy/v5.37.4-160-g0649414847/5674/lib/site_perl/5.37.5/Catalyst/Test.pm line 95
Catalyst::Test::__ANON__("Catalyst::Test", "all", HASH(0x560c391a3f18), HASH(0x560c391a3cf0)) called at /home/sand/src/perl/repoperls/installed-perls/host/k93jammy/v5.37.4-160-g0649414847/5674/lib/site_perl/5.37.5/Sub/Exporter.pm line 492
Sub::Exporter::_expand_group("Catalyst::Test", HASH(0x560c3a32c0b8), ARRAY(0x560c391a3d98), HASH(0x560c391a3cf0), HASH(0x560c391a3ea0), HASH(0x560c391a3ca8)) called at /home/sand/src/perl/repoperls/installed-perls/host/k93jammy/v5.37.4-160-g0649414847/5674/lib/site_perl/5.37.5/Sub/Exporter.pm line 423
Sub::Exporter::_expand_groups("Catalyst::Test", HASH(0x560c3a32c0b8), ARRAY(0x560c3a32c508), HASH(0x560c391a3cf0)) called at /home/sand/src/perl/repoperls/installed-perls/host/k93jammy/v5.37.4-160-g0649414847/5674/lib/site_perl/5.37.5/Sub/Exporter.pm line 741
Sub::Exporter::__ANON__("Catalyst::Test", "-all", HASH(0x560c38b14860)) called at /home/sand/src/perl/repoperls/installed-perls/host/k93jammy/v5.37.4-160-g0649414847/5674/lib/site_perl/5.37.5/Catalyst/Test.pm line 155
Catalyst::Test::import("Catalyst::Test", "ComponentUI") called at t/01app.t line 7
main::BEGIN() called at t/01app.t line 7
eval {...} called at t/01app.t line 7
eval 'package main;
BEGIN { ${^WARNING_BITS} = $args[-1] if defined $args[-1] }
#line 7 t/01app.t
use Catalyst::Test @{$args[0]};
1;
' called at /home/sand/src/perl/repoperls/installed-perls/host/k93jammy/v5.37.4-160-g0649414847/5674/lib/5.37.5/Test/More.pm line 1034
Test::More::_eval("package main;\x{a}BEGIN { \${^WARNING_BITS} = \$args[-1] if defined"..., ARRAY(0x560c39158590), "UUUUUUUUUUUUUUUUUUU") called at /home/sand/src/perl/repoperls/installed-perls/host/k93jammy/v5.37.4-160-g0649414847/5674/lib/5.37.5/Test/More.pm line 1009
Test::More::use_ok("Catalyst::Test", "ComponentUI") called at t/01app.t line 7
main::BEGIN() called at t/01app.t line 8
eval {...} called at t/01app.t line 8
Class::MOP::load_class is deprecated at /home/sand/src/perl/repoperls/installed-perls/host/k93jammy/v5.37.4-160-g0649414847/5674/lib/site_perl/5.37.5/x86_64-linux-ld/Class/MOP.pm line 69.
Class::MOP::load_class("Reaction::InterfaceModel::Object") called at /tmp/loop_over_bdir-3295373-8XPj17/Reaction-0.002005-0/blib/lib/Reaction/Class.pm line 123
Reaction::Class::do_class_sub("Reaction::Class", "ComponentUI::TestModel::Foo", "ComponentUI::TestModel::Foo", "is", "Reaction::InterfaceModel::Object", "which", CODE(0x560c3f54d170)) called at /tmp/loop_over_bdir-3295373-8XPj17/Reaction-0.002005-0/blib/lib/Reaction/Class.pm line 86
Reaction::Class::("ComponentUI::TestModel::Foo", "is", "Reaction::InterfaceModel::Object", "which", CODE(0x560c3f54d170)) called at /tmp/loop_over_bdir-3295373-8XPj17/Reaction-0.002005-0/blib/lib/ComponentUI/TestModel/Foo.pm line 8
require ComponentUI/TestModel/Foo.pm called at /home/sand/src/perl/repoperls/installed-perls/host/k93jammy/v5.37.4-160-g0649414847/5674/lib/site_perl/5.37.5/Module/Runtime.pm line 314
Module::Runtime::require_module("ComponentUI::TestModel::Foo") called at /home/sand/src/perl/repoperls/installed-perls/host/k93jammy/v5.37.4-160-g0649414847/5674/lib/site_perl/5.37.5/Class/Load.pm line 174
Class::Load::try {...} () called at /home/sand/src/perl/repoperls/installed-perls/host/k93jammy/v5.37.4-160-g0649414847/5674/lib/site_perl/5.37.5/Try/Tiny.pm line 98
eval {...} called at /home/sand/src/perl/repoperls/installed-perls/host/k93jammy/v5.37.4-160-g0649414847/5674/lib/site_perl/5.37.5/Try/Tiny.pm line 93
Try::Tiny::try(CODE(0x560c3f503430), Try::Tiny::Catch=REF(0x560c3f4f9ef0)) called at /home/sand/src/perl/repoperls/installed-perls/host/k93jammy/v5.37.4-160-g0649414847/5674/lib/site_perl/5.37.5/Class/Load.pm line 180
Class::Load::try_load_class("ComponentUI::TestModel::Foo", undef) called at /home/sand/src/perl/repoperls/installed-perls/host/k93jammy/v5.37.4-160-g0649414847/5674/lib/site_perl/5.37.5/Class/Load.pm line 35
Class::Load::load_class("ComponentUI::TestModel::Foo") called at /tmp/loop_over_bdir-3295373-8XPj17/Reaction-0.002005-0/blib/lib/Reaction/InterfaceModel/Reflector/DBIC.pm line 892
eval {...} called at /tmp/loop_over_bdir-3295373-8XPj17/Reaction-0.002005-0/blib/lib/Reaction/InterfaceModel/Reflector/DBIC.pm line 892
Reaction::InterfaceModel::Reflector::DBIC::_maybe_load_class(Reaction::InterfaceModel::Reflector::DBIC=HASH(0x560c3f1d0468), "ComponentUI::TestModel::Foo") called at /tmp/loop_over_bdir-3295373-8XPj17/Reaction-0.002005-0/blib/lib/Reaction/InterfaceModel/Reflector/DBIC.pm line 876
Reaction::InterfaceModel::Reflector::DBIC::_load_or_create(Reaction::InterfaceModel::Reflector::DBIC=HASH(0x560c3f1d0468), "ComponentUI::TestModel::Foo", "superclasses", ARRAY(0x560c3f425678)) called at /tmp/loop_over_bdir-3295373-8XPj17/Reaction-0.002005-0/blib/lib/Reaction/InterfaceModel/Reflector/DBIC.pm line 448
Reaction::InterfaceModel::Reflector::DBIC::reflect_source_object(Reaction::InterfaceModel::Reflector::DBIC=HASH(0x560c3f1d0468), "source_name", "Foo", "parent_domain_model_name", "_rtest_test_db_store", "source_class", "RTest::TestDB::Foo", "schema_class", ...) called at /tmp/loop_over_bdir-3295373-8XPj17/Reaction-0.002005-0/blib/lib/Reaction/InterfaceModel/Reflector/DBIC.pm line 323
Reaction::InterfaceModel::Reflector::DBIC::reflect_source(Reaction::InterfaceModel::Reflector::DBIC=HASH(0x560c3f1d0468), "source_name", "Foo", "parent_class", "ComponentUI::TestModel", "schema_class", "RTest::TestDB", "source_class", ...) called at /tmp/loop_over_bdir-3295373-8XPj17/Reaction-0.002005-0/blib/lib/Reaction/InterfaceModel/Reflector/DBIC.pm line 185
Reaction::InterfaceModel::Reflector::DBIC::reflect_schema(Reaction::InterfaceModel::Reflector::DBIC=HASH(0x560c3f1d0468), "model_class", "ComponentUI::TestModel", "schema_class", "RTest::TestDB", "sources", ARRAY(0x560c3f3097d0)) called at /tmp/loop_over_bdir-3295373-8XPj17/Reaction-0.002005-0/blib/lib/ComponentUI/TestModel.pm line 10
require ComponentUI/TestModel.pm called at /home/sand/src/perl/repoperls/installed-perls/host/k93jammy/v5.37.4-160-g0649414847/5674/lib/site_perl/5.37.5/Module/Runtime.pm line 314
Module::Runtime::require_module("ComponentUI::TestModel") called at /home/sand/src/perl/repoperls/installed-perls/host/k93jammy/v5.37.4-160-g0649414847/5674/lib/site_perl/5.37.5/Class/Load.pm line 174
Class::Load::try {...} () called at /home/sand/src/perl/repoperls/installed-perls/host/k93jammy/v5.37.4-160-g0649414847/5674/lib/site_perl/5.37.5/Try/Tiny.pm line 98
eval {...} called at /home/sand/src/perl/repoperls/installed-perls/host/k93jammy/v5.37.4-160-g0649414847/5674/lib/site_perl/5.37.5/Try/Tiny.pm line 93
Try::Tiny::try(CODE(0x560c3b832c80), Try::Tiny::Catch=REF(0x560c3ee195d0)) called at /home/sand/src/perl/repoperls/installed-perls/host/k93jammy/v5.37.4-160-g0649414847/5674/lib/site_perl/5.37.5/Class/Load.pm line 180
Class::Load::try_load_class("ComponentUI::TestModel", undef) called at /home/sand/src/perl/repoperls/installed-perls/host/k93jammy/v5.37.4-160-g0649414847/5674/lib/site_perl/5.37.5/Class/Load.pm line 35
Class::Load::load_class("ComponentUI::TestModel") called at /tmp/loop_over_bdir-3295373-8XPj17/Reaction-0.002005-0/blib/lib/Catalyst/Model/Reaction/InterfaceModel/DBIC.pm line 24
Catalyst::Model::Reaction::InterfaceModel::DBIC::COMPONENT("ComponentUI::Model::TestModel", "ComponentUI", HASH(0x560c3e84f6a0)) called at /home/sand/src/perl/repoperls/installed-perls/host/k93jammy/v5.37.4-160-g0649414847/5674/lib/site_perl/5.37.5/Catalyst.pm line 3234
eval {...} called at /home/sand/src/perl/repoperls/installed-perls/host/k93jammy/v5.37.4-160-g0649414847/5674/lib/site_perl/5.37.5/Catalyst.pm line 3235
Catalyst::setup_component("ComponentUI", "ComponentUI::Model::TestModel") called at /home/sand/src/perl/repoperls/installed-perls/host/k93jammy/v5.37.4-160-g0649414847/5674/lib/site_perl/5.37.5/Catalyst.pm line 3212
Catalyst::__ANON__() called at /home/sand/src/perl/repoperls/installed-perls/host/k93jammy/v5.37.4-160-g0649414847/5674/lib/site_perl/5.37.5/Catalyst.pm line 3059
Catalyst::setup_components("ComponentUI") called at /home/sand/src/perl/repoperls/installed-perls/host/k93jammy/v5.37.4-160-g0649414847/5674/lib/site_perl/5.37.5/Catalyst.pm line 1431
Catalyst::setup("ComponentUI") called at /tmp/loop_over_bdir-3295373-8XPj17/Reaction-0.002005-0/blib/lib/ComponentUI.pm line 32
require ComponentUI.pm called at /home/sand/src/perl/repoperls/installed-perls/host/k93jammy/v5.37.4-160-g0649414847/5674/lib/site_perl/5.37.5/Module/Runtime.pm line 314
Module::Runtime::require_module("ComponentUI") called at /home/sand/src/perl/repoperls/installed-perls/host/k93jammy/v5.37.4-160-g0649414847/5674/lib/site_perl/5.37.5/Class/Load.pm line 174
Class::Load::try {...} () called at /home/sand/src/perl/repoperls/installed-perls/host/k93jammy/v5.37.4-160-g0649414847/5674/lib/site_perl/5.37.5/Try/Tiny.pm line 98
eval {...} called at /home/sand/src/perl/repoperls/installed-perls/host/k93jammy/v5.37.4-160-g0649414847/5674/lib/site_perl/5.37.5/Try/Tiny.pm line 93
Try::Tiny::try(CODE(0x560c39e132c0), Try::Tiny::Catch=REF(0x560c39e80a20)) called at /home/sand/src/perl/repoperls/installed-perls/host/k93jammy/v5.37.4-160-g0649414847/5674/lib/site_perl/5.37.5/Class/Load.pm line 180
Class::Load::try_load_class("ComponentUI", undef) called at /home/sand/src/perl/repoperls/installed-perls/host/k93jammy/v5.37.4-160-g0649414847/5674/lib/site_perl/5.37.5/Class/Load.pm line 35
Class::Load::load_class("ComponentUI") called at /home/sand/src/perl/repoperls/installed-perls/host/k93jammy/v5.37.4-160-g0649414847/5674/lib/site_perl/5.37.5/Catalyst/Test.pm line 29
Catalyst::Test::_build_request_export("Catalyst::Test", HASH(0x560c391a3ee8)) called at /home/sand/src/perl/repoperls/installed-perls/host/k93jammy/v5.37.4-160-g0649414847/5674/lib/site_perl/5.37.5/Catalyst/Test.pm line 95
Catalyst::Test::__ANON__("Catalyst::Test", "all", HASH(0x560c391a3f18), HASH(0x560c391a3cf0)) called at /home/sand/src/perl/repoperls/installed-perls/host/k93jammy/v5.37.4-160-g0649414847/5674/lib/site_perl/5.37.5/Sub/Exporter.pm line 492
Sub::Exporter::_expand_group("Catalyst::Test", HASH(0x560c3a32c0b8), ARRAY(0x560c391a3d98), HASH(0x560c391a3cf0), HASH(0x560c391a3ea0), HASH(0x560c391a3ca8)) called at /home/sand/src/perl/repoperls/installed-perls/host/k93jammy/v5.37.4-160-g0649414847/5674/lib/site_perl/5.37.5/Sub/Exporter.pm line 423
Sub::Exporter::_expand_groups("Catalyst::Test", HASH(0x560c3a32c0b8), ARRAY(0x560c3a32c508), HASH(0x560c391a3cf0)) called at /home/sand/src/perl/repoperls/installed-perls/host/k93jammy/v5.37.4-160-g0649414847/5674/lib/site_perl/5.37.5/Sub/Exporter.pm line 741
Sub::Exporter::__ANON__("Catalyst::Test", "-all", HASH(0x560c38b14860)) called at /home/sand/src/perl/repoperls/installed-perls/host/k93jammy/v5.37.4-160-g0649414847/5674/lib/site_perl/5.37.5/Catalyst/Test.pm line 155
Catalyst::Test::import("Catalyst::Test", "ComponentUI") called at t/01app.t line 7
main::BEGIN() called at t/01app.t line 7
eval {...} called at t/01app.t line 7
eval 'package main;
BEGIN { ${^WARNING_BITS} = $args[-1] if defined $args[-1] }
#line 7 t/01app.t
use Catalyst::Test @{$args[0]};
1;
' called at /home/sand/src/perl/repoperls/installed-perls/host/k93jammy/v5.37.4-160-g0649414847/5674/lib/5.37.5/Test/More.pm line 1034
Test::More::_eval("package main;\x{a}BEGIN { \${^WARNING_BITS} = \$args[-1] if defined"..., ARRAY(0x560c39158590), "UUUUUUUUUUUUUUUUUUU") called at /home/sand/src/perl/repoperls/installed-perls/host/k93jammy/v5.37.4-160-g0649414847/5674/lib/5.37.5/Test/More.pm line 1009
Test::More::use_ok("Catalyst::Test", "ComponentUI") called at t/01app.t line 7
main::BEGIN() called at t/01app.t line 8
eval {...} called at t/01app.t line 8
Class::MOP::load_class is deprecated at /home/sand/src/perl/repoperls/installed-perls/host/k93jammy/v5.37.4-160-g0649414847/5674/lib/site_perl/5.37.5/x86_64-linux-ld/Class/MOP.pm line 69.
Class::MOP::load_class("ComponentUI::RenderingContext::Site") called at /tmp/loop_over_bdir-3295373-8XPj17/Reaction-0.002005-0/blib/lib/Reaction/UI/View.pm line 125
eval {...} called at /tmp/loop_over_bdir-3295373-8XPj17/Reaction-0.002005-0/blib/lib/Reaction/UI/View.pm line 125
Reaction::UI::View::find_related_class(ComponentUI::View::Site=HASH(0x560c3c2948b8), "RenderingContext") called at /tmp/loop_over_bdir-3295373-8XPj17/Reaction-0.002005-0/blib/lib/Reaction/UI/View.pm line 43
Reaction::UI::View::_build_rendering_context_class(ComponentUI::View::Site=HASH(0x560c3c2948b8)) called at reader Reaction::UI::View::rendering_context_class (defined at /tmp/loop_over_bdir-3295373-8XPj17/Reaction-0.002005-0/blib/lib/Reaction/UI/View.pm line 29) line 8
Reaction::UI::View::rendering_context_class(ComponentUI::View::Site=HASH(0x560c3c2948b8)) called at /tmp/loop_over_bdir-3295373-8XPj17/Reaction-0.002005-0/blib/lib/Reaction/UI/View.pm line 134
Reaction::UI::View::create_rendering_context(ComponentUI::View::Site=HASH(0x560c3c2948b8)) called at /tmp/loop_over_bdir-3295373-8XPj17/Reaction-0.002005-0/blib/lib/Reaction/UI/View.pm line 60
Reaction::UI::View::render_window(ComponentUI::View::Site=HASH(0x560c3c2948b8), Reaction::UI::Window=HASH(0x560c3fb28b18)) called at /tmp/loop_over_bdir-3295373-8XPj17/Reaction-0.002005-0/blib/lib/Reaction/UI/Window.pm line 74
Reaction::UI::Window::flush_view(Reaction::UI::Window=HASH(0x560c3fb28b18)) called at /tmp/loop_over_bdir-3295373-8XPj17/Reaction-0.002005-0/blib/lib/Reaction/UI/Window.pm line 36
Reaction::UI::Window::flush(Reaction::UI::Window=HASH(0x560c3fb28b18)) called at /tmp/loop_over_bdir-3295373-8XPj17/Reaction-0.002005-0/blib/lib/Reaction/UI/Controller/Root.pm line 38
Reaction::UI::Controller::Root::end(ComponentUI::Controller::Root=HASH(0x560c3fb22808), ComponentUI=HASH(0x560c3fabde48)) called at /home/sand/src/perl/repoperls/installed-perls/host/k93jammy/v5.37.4-160-g0649414847/5674/lib/site_perl/5.37.5/Catalyst/Action.pm line 369
Catalyst::Action::execute(Catalyst::Action=HASH(0x560c3f931118), ComponentUI::Controller::Root=HASH(0x560c3fb22808), ComponentUI=HASH(0x560c3fabde48)) called at /home/sand/src/perl/repoperls/installed-perls/host/k93jammy/v5.37.4-160-g0649414847/5674/lib/site_perl/5.37.5/Catalyst.pm line 2060
eval {...} called at /home/sand/src/perl/repoperls/installed-perls/host/k93jammy/v5.37.4-160-g0649414847/5674/lib/site_perl/5.37.5/Catalyst.pm line 2060
Catalyst::execute(ComponentUI=HASH(0x560c3fabde48), "ComponentUI::Controller::Root", Catalyst::Action=HASH(0x560c3f931118)) called at /home/sand/src/perl/repoperls/installed-perls/host/k93jammy/v5.37.4-160-g0649414847/5674/lib/site_perl/5.37.5/Catalyst/Action.pm line 364
Catalyst::Action::dispatch(Catalyst::Action=HASH(0x560c3f931118), ComponentUI=HASH(0x560c3fabde48)) called at /home/sand/src/perl/repoperls/installed-perls/host/k93jammy/v5.37.4-160-g0649414847/5674/lib/site_perl/5.37.5/Catalyst/Controller.pm line 188
Catalyst::Controller::_END(ComponentUI::Controller::Root=HASH(0x560c3fb22808), ComponentUI=HASH(0x560c3fabde48)) called at /home/sand/src/perl/repoperls/installed-perls/host/k93jammy/v5.37.4-160-g0649414847/5674/lib/site_perl/5.37.5/Catalyst/Action.pm line 369
Catalyst::Action::execute(Catalyst::Action=HASH(0x560c3f93b770), ComponentUI::Controller::Root=HASH(0x560c3fb22808), ComponentUI=HASH(0x560c3fabde48)) called at /home/sand/src/perl/repoperls/installed-perls/host/k93jammy/v5.37.4-160-g0649414847/5674/lib/site_perl/5.37.5/Catalyst.pm line 2060
eval {...} called at /home/sand/src/perl/repoperls/installed-perls/host/k93jammy/v5.37.4-160-g0649414847/5674/lib/site_perl/5.37.5/Catalyst.pm line 2060
Catalyst::execute(ComponentUI=HASH(0x560c3fabde48), "ComponentUI::Controller::Root", Catalyst::Action=HASH(0x560c3f93b770)) called at /home/sand/src/perl/repoperls/installed-perls/host/k93jammy/v5.37.4-160-g0649414847/5674/lib/site_perl/5.37.5/Catalyst/Action.pm line 364
Catalyst::Action::dispatch(Catalyst::Action=HASH(0x560c3f93b770), ComponentUI=HASH(0x560c3fabde48)) called at /home/sand/src/perl/repoperls/installed-perls/host/k93jammy/v5.37.4-160-g0649414847/5674/lib/site_perl/5.37.5/Catalyst/Dispatcher.pm line 261
Catalyst::Dispatcher::_do_forward(Catalyst::Dispatcher=HASH(0x560c3aae4ca0), "forward", ComponentUI=HASH(0x560c3fabde48), "_END") called at /home/sand/src/perl/repoperls/installed-perls/host/k93jammy/v5.37.4-160-g0649414847/5674/lib/site_perl/5.37.5/Catalyst/Dispatcher.pm line 241
Catalyst::Dispatcher::forward(Catalyst::Dispatcher=HASH(0x560c3aae4ca0), ComponentUI=HASH(0x560c3fabde48), "_END") called at /home/sand/src/perl/repoperls/installed-perls/host/k93jammy/v5.37.4-160-g0649414847/5674/lib/site_perl/5.37.5/Catalyst.pm line 482
Catalyst::forward(ComponentUI=HASH(0x560c3fabde48), "_END") called at /home/sand/src/perl/repoperls/installed-perls/host/k93jammy/v5.37.4-160-g0649414847/5674/lib/site_perl/5.37.5/Catalyst/Controller.pm line 137
Catalyst::Controller::_DISPATCH(ComponentUI::Controller::Root=HASH(0x560c3fb22808), ComponentUI=HASH(0x560c3fabde48)) called at /home/sand/src/perl/repoperls/installed-perls/host/k93jammy/v5.37.4-160-g0649414847/5674/lib/site_perl/5.37.5/Catalyst/Action.pm line 369
Catalyst::Action::execute(Catalyst::Action=HASH(0x560c3f93b590), ComponentUI::Controller::Root=HASH(0x560c3fb22808), ComponentUI=HASH(0x560c3fabde48)) called at /home/sand/src/perl/repoperls/installed-perls/host/k93jammy/v5.37.4-160-g0649414847/5674/lib/site_perl/5.37.5/Catalyst.pm line 2060
eval {...} called at /home/sand/src/perl/repoperls/installed-perls/host/k93jammy/v5.37.4-160-g0649414847/5674/lib/site_perl/5.37.5/Catalyst.pm line 2060
Catalyst::execute(ComponentUI=HASH(0x560c3fabde48), "ComponentUI::Controller::Root", Catalyst::Action=HASH(0x560c3f93b590)) called at /home/sand/src/perl/repoperls/installed-perls/host/k93jammy/v5.37.4-160-g0649414847/5674/lib/site_perl/5.37.5/Catalyst/Action.pm line 364
Catalyst::Action::dispatch(Catalyst::Action=HASH(0x560c3f93b590), ComponentUI=HASH(0x560c3fabde48)) called at /home/sand/src/perl/repoperls/installed-perls/host/k93jammy/v5.37.4-160-g0649414847/5674/lib/site_perl/5.37.5/Catalyst/Dispatcher.pm line 261
Catalyst::Dispatcher::_do_forward(Catalyst::Dispatcher=HASH(0x560c3aae4ca0), "forward", ComponentUI=HASH(0x560c3fabde48), "//_DISPATCH") called at /home/sand/src/perl/repoperls/installed-perls/host/k93jammy/v5.37.4-160-g0649414847/5674/lib/site_perl/5.37.5/Catalyst/Dispatcher.pm line 241
Catalyst::Dispatcher::forward(Catalyst::Dispatcher=HASH(0x560c3aae4ca0), ComponentUI=HASH(0x560c3fabde48), "//_DISPATCH") called at /home/sand/src/perl/repoperls/installed-perls/host/k93jammy/v5.37.4-160-g0649414847/5674/lib/site_perl/5.37.5/Catalyst.pm line 482
Catalyst::forward(ComponentUI=HASH(0x560c3fabde48), "//_DISPATCH") called at /home/sand/src/perl/repoperls/installed-perls/host/k93jammy/v5.37.4-160-g0649414847/5674/lib/site_perl/5.37.5/Catalyst/Dispatcher.pm line 107
Catalyst::Dispatcher::dispatch(Catalyst::Dispatcher=HASH(0x560c3aae4ca0), ComponentUI=HASH(0x560c3fabde48)) called at /home/sand/src/perl/repoperls/installed-perls/host/k93jammy/v5.37.4-160-g0649414847/5674/lib/site_perl/5.37.5/Catalyst.pm line 2006
Catalyst::dispatch(ComponentUI=HASH(0x560c3fabde48)) called at /home/sand/src/perl/repoperls/installed-perls/host/k93jammy/v5.37.4-160-g0649414847/5674/lib/site_perl/5.37.5/Catalyst/Plugin/Static/Simple.pm line 85
Class::MOP::Class:::around(CODE(0x560c3afa6578), ComponentUI=HASH(0x560c3fabde48)) called at /home/sand/src/perl/repoperls/installed-perls/host/k93jammy/v5.37.4-160-g0649414847/5674/lib/site_perl/5.37.5/x86_64-linux-ld/Class/MOP/Method/Wrapped.pm line 166
ComponentUI::_wrapped_dispatch(ComponentUI=HASH(0x560c3fabde48)) called at /home/sand/src/perl/repoperls/installed-perls/host/k93jammy/v5.37.4-160-g0649414847/5674/lib/site_perl/5.37.5/x86_64-linux-ld/Class/MOP/Method/Wrapped.pm line 97
ComponentUI::dispatch(ComponentUI=HASH(0x560c3fabde48)) called at /home/sand/src/perl/repoperls/installed-perls/host/k93jammy/v5.37.4-160-g0649414847/5674/lib/site_perl/5.37.5/Catalyst.pm line 2412
Catalyst::try {...} () called at /home/sand/src/perl/repoperls/installed-perls/host/k93jammy/v5.37.4-160-g0649414847/5674/lib/site_perl/5.37.5/Try/Tiny.pm line 102
eval {...} called at /home/sand/src/perl/repoperls/installed-perls/host/k93jammy/v5.37.4-160-g0649414847/5674/lib/site_perl/5.37.5/Try/Tiny.pm line 93
Try::Tiny::try(CODE(0x560c3fac1e90), Try::Tiny::Catch=REF(0x560c3fac1c98)) called at /home/sand/src/perl/repoperls/installed-perls/host/k93jammy/v5.37.4-160-g0649414847/5674/lib/site_perl/5.37.5/Catalyst.pm line 2421
Catalyst::handle_request("ComponentUI", "env", HASH(0x560c3face568), "response_cb", CODE(0x560c3fac1cf8)) called at /home/sand/src/perl/repoperls/installed-perls/host/k93jammy/v5.37.4-160-g0649414847/5674/lib/site_perl/5.37.5/Catalyst/Engine.pm line 807
Catalyst::Engine::__ANON__(CODE(0x560c3fac1cf8)) called at /home/sand/src/perl/repoperls/installed-perls/host/k93jammy/v5.37.4-160-g0649414847/5674/lib/site_perl/5.37.5/Plack/Middleware/HTTPExceptions.pm line 32
Plack::Middleware::HTTPExceptions::try {...} () called at /home/sand/src/perl/repoperls/installed-perls/host/k93jammy/v5.37.4-160-g0649414847/5674/lib/site_perl/5.37.5/Try/Tiny.pm line 102
eval {...} called at /home/sand/src/perl/repoperls/installed-perls/host/k93jammy/v5.37.4-160-g0649414847/5674/lib/site_perl/5.37.5/Try/Tiny.pm line 93
Try::Tiny::try(CODE(0x560c3fac1b30), Try::Tiny::Catch=REF(0x560c3fac1350)) called at /home/sand/src/perl/repoperls/installed-perls/host/k93jammy/v5.37.4-160-g0649414847/5674/lib/site_perl/5.37.5/Plack/Middleware/HTTPExceptions.pm line 41
Plack::Middleware::HTTPExceptions::__ANON__(CODE(0x560c3facee98)) called at /home/sand/src/perl/repoperls/installed-perls/host/k93jammy/v5.37.4-160-g0649414847/5674/lib/site_perl/5.37.5/Plack/Util.pm line 339
Plack::Util::__ANON__(CODE(0x560c3face4f0)) called at /home/sand/src/perl/repoperls/installed-perls/host/k93jammy/v5.37.4-160-g0649414847/5674/lib/site_perl/5.37.5/Plack/Util.pm line 339
Plack::Util::__ANON__(CODE(0x560c3face400)) called at /home/sand/src/perl/repoperls/installed-perls/host/k93jammy/v5.37.4-160-g0649414847/5674/lib/site_perl/5.37.5/Plack/Util.pm line 339
Plack::Util::__ANON__(CODE(0x560c3face388)) called at /home/sand/src/perl/repoperls/installed-perls/host/k93jammy/v5.37.4-160-g0649414847/5674/lib/site_perl/5.37.5/HTTP/Message/PSGI.pm line 100
HTTP::Message::PSGI::res_from_psgi(CODE(0x560c3fac18a8)) called at /home/sand/src/perl/repoperls/installed-perls/host/k93jammy/v5.37.4-160-g0649414847/5674/lib/site_perl/5.37.5/HTTP/Message/PSGI.pm line 157
HTTP::Response::from_psgi("HTTP::Response", CODE(0x560c3fac18a8)) called at /home/sand/src/perl/repoperls/installed-perls/host/k93jammy/v5.37.4-160-g0649414847/5674/lib/site_perl/5.37.5/Plack/Test/MockHTTP.pm line 24
Plack::Test::MockHTTP::try {...} () called at /home/sand/src/perl/repoperls/installed-perls/host/k93jammy/v5.37.4-160-g0649414847/5674/lib/site_perl/5.37.5/Try/Tiny.pm line 100
eval {...} called at /home/sand/src/perl/repoperls/installed-perls/host/k93jammy/v5.37.4-160-g0649414847/5674/lib/site_perl/5.37.5/Try/Tiny.pm line 93
Try::Tiny::try(CODE(0x560c38abcb88), Try::Tiny::Catch=REF(0x560c3f944f38)) called at /home/sand/src/perl/repoperls/installed-perls/host/k93jammy/v5.37.4-160-g0649414847/5674/lib/site_perl/5.37.5/Plack/Test/MockHTTP.pm line 27
Plack::Test::MockHTTP::request(Plack::Test::MockHTTP=HASH(0x560c3f9eb928), HTTP::Request=HASH(0x560c3f9eb568)) called at /home/sand/src/perl/repoperls/installed-perls/host/k93jammy/v5.37.4-160-g0649414847/5674/lib/site_perl/5.37.5/Plack/Test.pm line 38
Plack::Test::__ANON__(HTTP::Request=HASH(0x560c3f9eb568)) called at /home/sand/src/perl/repoperls/installed-perls/host/k93jammy/v5.37.4-160-g0649414847/5674/lib/site_perl/5.37.5/Catalyst/Test.pm line 290
Catalyst::Test::__ANON__(CODE(0x560c3f9eb8b0)) called at /home/sand/src/perl/repoperls/installed-perls/host/k93jammy/v5.37.4-160-g0649414847/5674/lib/site_perl/5.37.5/Plack/Test.pm line 38
Plack::Test::test_psgi("app", CODE(0x560c3f9eb0d0), "mangle_response", CODE(0x560c3a315f98), "app", CODE(0x560c3f9e59d0), "client", CODE(0x560c3f9eb748)) called at /home/sand/src/perl/repoperls/installed-perls/host/k93jammy/v5.37.4-160-g0649414847/5674/lib/site_perl/5.37.5/Catalyst/Test.pm line 293
Catalyst::Test::_request(HASH(0x560c38abcb10), "/") called at /home/sand/src/perl/repoperls/installed-perls/host/k93jammy/v5.37.4-160-g0649414847/5674/lib/site_perl/5.37.5/Catalyst/Test.pm line 336
Catalyst::Test::_local_request("ComponentUI", "/") called at /home/sand/src/perl/repoperls/installed-perls/host/k93jammy/v5.37.4-160-g0649414847/5674/lib/site_perl/5.37.5/Catalyst/Test.pm line 32
Catalyst::Test::__ANON__("/") called at t/01app.t line 10
Class::MOP::is_class_loaded is deprecated at /home/sand/src/perl/repoperls/installed-perls/host/k93jammy/v5.37.4-160-g0649414847/5674/lib/site_perl/5.37.5/x86_64-linux-ld/Class/MOP.pm line 87.
Class::MOP::is_class_loaded("ComponentUI::UI::Widget::SiteLayout") called at /tmp/loop_over_bdir-3295373-8XPj17/Reaction-0.002005-0/blib/lib/Reaction/UI/Skin.pm line 178
Reaction::UI::Skin::widget_class_for(Reaction::UI::Skin=HASH(0x560c3fb4fd08), Reaction::UI::LayoutSet::TT=HASH(0x560c3fba2f08)) called at /tmp/loop_over_bdir-3295373-8XPj17/Reaction-0.002005-0/blib/lib/Reaction/UI/LayoutSet.pm line 29
Reaction::UI::LayoutSet::BUILD(Reaction::UI::LayoutSet::TT=HASH(0x560c3fba2f08), HASH(0x560c3fba2ef0)) called at constructor Reaction::UI::LayoutSet::TT::new (defined at /tmp/loop_over_bdir-3295373-8XPj17/Reaction-0.002005-0/blib/lib/Reaction/UI/LayoutSet/TT.pm line 43) line 80
Reaction::UI::LayoutSet::TT::new("Reaction::UI::LayoutSet::TT", "name", "site_layout", "skin", Reaction::UI::Skin=HASH(0x560c3fb4fd08), "tt_object", Template=HASH(0x560c3f434b00), "source_file", ...) called at /tmp/loop_over_bdir-3295373-8XPj17/Reaction-0.002005-0/blib/lib/Reaction/UI/Skin.pm line 115
Reaction::UI::Skin::_create_layout_set(Reaction::UI::Skin=HASH(0x560c3fb4fd08), "site_layout", ARRAY(0x560c3fb3b5b8), Reaction::UI::Skin=HASH(0x560c3fb4fd08)) called at /tmp/loop_over_bdir-3295373-8XPj17/Reaction-0.002005-0/blib/lib/Reaction/UI/Skin.pm line 110
Reaction::UI::Skin::create_layout_set(Reaction::UI::Skin=HASH(0x560c3fb4fd08), "site_layout") called at /tmp/loop_over_bdir-3295373-8XPj17/Reaction-0.002005-0/blib/lib/Reaction/UI/LayoutSet.pm line 83
Reaction::UI::LayoutSet::_load_file(Reaction::UI::LayoutSet::TT=HASH(0x560c3fb914f0), Path::Class::File=HASH(0x560c3fb3f2b8), HASH(0x560c3fb93520)) called at /tmp/loop_over_bdir-3295373-8XPj17/Reaction-0.002005-0/blib/lib/Reaction/UI/LayoutSet.pm line 27
Reaction::UI::LayoutSet::BUILD(Reaction::UI::LayoutSet::TT=HASH(0x560c3fb914f0), HASH(0x560c3fb93520)) called at constructor Reaction::UI::LayoutSet::TT::new (defined at /tmp/loop_over_bdir-3295373-8XPj17/Reaction-0.002005-0/blib/lib/Reaction/UI/LayoutSet/TT.pm line 43) line 80
Reaction::UI::LayoutSet::TT::new("Reaction::UI::LayoutSet::TT", "name", "site_layout", "skin", Reaction::UI::Skin=HASH(0x560c3fb39cb0), "next_skin", Reaction::UI::Skin=HASH(0x560c3fb4fd08), "tt_object", ...) called at /tmp/loop_over_bdir-3295373-8XPj17/Reaction-0.002005-0/blib/lib/Reaction/UI/Skin.pm line 115
Reaction::UI::Skin::_create_layout_set(Reaction::UI::Skin=HASH(0x560c3fb39cb0), "site_layout", ARRAY(0x560c3fb526f0), Reaction::UI::Skin=HASH(0x560c3fb39cb0)) called at /tmp/loop_over_bdir-3295373-8XPj17/Reaction-0.002005-0/blib/lib/Reaction/UI/Skin.pm line 110
Reaction::UI::Skin::create_layout_set(Reaction::UI::Skin=HASH(0x560c3fb39cb0), "site_layout") called at /tmp/loop_over_bdir-3295373-8XPj17/Reaction-0.002005-0/blib/lib/Reaction/UI/LayoutSet.pm line 83
Reaction::UI::LayoutSet::_load_file(Reaction::UI::LayoutSet::TT=HASH(0x560c3fb3b240), Path::Class::File=HASH(0x560c3fb3c158), HASH(0x560c3fb2bbf0)) called at /tmp/loop_over_bdir-3295373-8XPj17/Reaction-0.002005-0/blib/lib/Reaction/UI/LayoutSet.pm line 27
Reaction::UI::LayoutSet::BUILD(Reaction::UI::LayoutSet::TT=HASH(0x560c3fb3b240), HASH(0x560c3fb2bbf0)) called at constructor Reaction::UI::LayoutSet::TT::new (defined at /tmp/loop_over_bdir-3295373-8XPj17/Reaction-0.002005-0/blib/lib/Reaction/UI/LayoutSet/TT.pm line 43) line 80
Reaction::UI::LayoutSet::TT::new("Reaction::UI::LayoutSet::TT", "name", "site_layout", "skin", Reaction::UI::Skin=HASH(0x560c3fb2b758), "next_skin", Reaction::UI::Skin=HASH(0x560c3fb39cb0), "tt_object", ...) called at /tmp/loop_over_bdir-3295373-8XPj17/Reaction-0.002005-0/blib/lib/Reaction/UI/Skin.pm line 115
Reaction::UI::Skin::_create_layout_set(Reaction::UI::Skin=HASH(0x560c3fb2b758), "site_layout", ARRAY(0x560c3e658090), Reaction::UI::Skin=HASH(0x560c3fb2b758)) called at /tmp/loop_over_bdir-3295373-8XPj17/Reaction-0.002005-0/blib/lib/Reaction/UI/Skin.pm line 110
Reaction::UI::Skin::create_layout_set(Reaction::UI::Skin=HASH(0x560c3fb2b758), "site_layout") called at inline delegation in Reaction::UI::View for skin->create_layout_set (attribute declared in /tmp/loop_over_bdir-3295373-8XPj17/Reaction-0.002005-0/blib/lib/Reaction/UI/View.pm at line 22) line 18
Reaction::UI::View::create_layout_set(ComponentUI::View::Site=HASH(0x560c3c2948b8), "site_layout") called at /tmp/loop_over_bdir-3295373-8XPj17/Reaction-0.002005-0/blib/lib/Reaction/UI/View.pm line 99
Reaction::UI::View::layout_set_for(ComponentUI::View::Site=HASH(0x560c3c2948b8), Reaction::UI::ViewPort::SiteLayout=HASH(0x560c3fb2b248)) called at /tmp/loop_over_bdir-3295373-8XPj17/Reaction-0.002005-0/blib/lib/Reaction/UI/View.pm line 78
Reaction::UI::View::render_viewport_args(ComponentUI::View::Site=HASH(0x560c3c2948b8), Reaction::UI::ViewPort::SiteLayout=HASH(0x560c3fb2b248)) called at /tmp/loop_over_bdir-3295373-8XPj17/Reaction-0.002005-0/blib/lib/Reaction/UI/View.pm line 61
Reaction::UI::View::render_window(ComponentUI::View::Site=HASH(0x560c3c2948b8), Reaction::UI::Window=HASH(0x560c3fb28b18)) called at /tmp/loop_over_bdir-3295373-8XPj17/Reaction-0.002005-0/blib/lib/Reaction/UI/Window.pm line 74
Reaction::UI::Window::flush_view(Reaction::UI::Window=HASH(0x560c3fb28b18)) called at /tmp/loop_over_bdir-3295373-8XPj17/Reaction-0.002005-0/blib/lib/Reaction/UI/Window.pm line 36
Reaction::UI::Window::flush(Reaction::UI::Window=HASH(0x560c3fb28b18)) called at /tmp/loop_over_bdir-3295373-8XPj17/Reaction-0.002005-0/blib/lib/Reaction/UI/Controller/Root.pm line 38
Reaction::UI::Controller::Root::end(ComponentUI::Controller::Root=HASH(0x560c3fb22808), ComponentUI=HASH(0x560c3fabde48)) called at /home/sand/src/perl/repoperls/installed-perls/host/k93jammy/v5.37.4-160-g0649414847/5674/lib/site_perl/5.37.5/Catalyst/Action.pm line 369
Catalyst::Action::execute(Catalyst::Action=HASH(0x560c3f931118), ComponentUI::Controller::Root=HASH(0x560c3fb22808), ComponentUI=HASH(0x560c3fabde48)) called at /home/sand/src/perl/repoperls/installed-perls/host/k93jammy/v5.37.4-160-g0649414847/5674/lib/site_perl/5.37.5/Catalyst.pm line 2060
eval {...} called at /home/sand/src/perl/repoperls/installed-perls/host/k93jammy/v5.37.4-160-g0649414847/5674/lib/site_perl/5.37.5/Catalyst.pm line 2060
Catalyst::execute(ComponentUI=HASH(0x560c3fabde48), "ComponentUI::Controller::Root", Catalyst::Action=HASH(0x560c3f931118)) called at /home/sand/src/perl/repoperls/installed-perls/host/k93jammy/v5.37.4-160-g0649414847/5674/lib/site_perl/5.37.5/Catalyst/Action.pm line 364
Catalyst::Action::dispatch(Catalyst::Action=HASH(0x560c3f931118), ComponentUI=HASH(0x560c3fabde48)) called at /home/sand/src/perl/repoperls/installed-perls/host/k93jammy/v5.37.4-160-g0649414847/5674/lib/site_perl/5.37.5/Catalyst/Controller.pm line 188
Catalyst::Controller::_END(ComponentUI::Controller::Root=HASH(0x560c3fb22808), ComponentUI=HASH(0x560c3fabde48)) called at /home/sand/src/perl/repoperls/installed-perls/host/k93jammy/v5.37.4-160-g0649414847/5674/lib/site_perl/5.37.5/Catalyst/Action.pm line 369
Catalyst::Action::execute(Catalyst::Action=HASH(0x560c3f93b770), ComponentUI::Controller::Root=HASH(0x560c3fb22808), ComponentUI=HASH(0x560c3fabde48)) called at /home/sand/src/perl/repoperls/installed-perls/host/k93jammy/v5.37.4-160-g0649414847/5674/lib/site_perl/5.37.5/Catalyst.pm line 2060
eval {...} called at /home/sand/src/perl/repoperls/installed-perls/host/k93jammy/v5.37.4-160-g0649414847/5674/lib/site_perl/5.37.5/Catalyst.pm line 2060
Catalyst::execute(ComponentUI=HASH(0x560c3fabde48), "ComponentUI::Controller::Root", Catalyst::Action=HASH(0x560c3f93b770)) called at /home/sand/src/perl/repoperls/installed-perls/host/k93jammy/v5.37.4-160-g0649414847/5674/lib/site_perl/5.37.5/Catalyst/Action.pm line 364
Catalyst::Action::dispatch(Catalyst::Action=HASH(0x560c3f93b770), ComponentUI=HASH(0x560c3fabde48)) called at /home/sand/src/perl/repoperls/installed-perls/host/k93jammy/v5.37.4-160-g0649414847/5674/lib/site_perl/5.37.5/Catalyst/Dispatcher.pm line 261
Catalyst::Dispatcher::_do_forward(Catalyst::Dispatcher=HASH(0x560c3aae4ca0), "forward", ComponentUI=HASH(0x560c3fabde48), "_END") called at /home/sand/src/perl/repoperls/installed-perls/host/k93jammy/v5.37.4-160-g0649414847/5674/lib/site_perl/5.37.5/Catalyst/Dispatcher.pm line 241
Catalyst::Dispatcher::forward(Catalyst::Dispatcher=HASH(0x560c3aae4ca0), ComponentUI=HASH(0x560c3fabde48), "_END") called at /home/sand/src/perl/repoperls/installed-perls/host/k93jammy/v5.37.4-160-g0649414847/5674/lib/site_perl/5.37.5/Catalyst.pm line 482
Catalyst::forward(ComponentUI=HASH(0x560c3fabde48), "_END") called at /home/sand/src/perl/repoperls/installed-perls/host/k93jammy/v5.37.4-160-g0649414847/5674/lib/site_perl/5.37.5/Catalyst/Controller.pm line 137
Catalyst::Controller::_DISPATCH(ComponentUI::Controller::Root=HASH(0x560c3fb22808), ComponentUI=HASH(0x560c3fabde48)) called at /home/sand/src/perl/repoperls/installed-perls/host/k93jammy/v5.37.4-160-g0649414847/5674/lib/site_perl/5.37.5/Catalyst/Action.pm line 369
Catalyst::Action::execute(Catalyst::Action=HASH(0x560c3f93b590), ComponentUI::Controller::Root=HASH(0x560c3fb22808), ComponentUI=HASH(0x560c3fabde48)) called at /home/sand/src/perl/repoperls/installed-perls/host/k93jammy/v5.37.4-160-g0649414847/5674/lib/site_perl/5.37.5/Catalyst.pm line 2060
eval {...} called at /home/sand/src/perl/repoperls/installed-perls/host/k93jammy/v5.37.4-160-g0649414847/5674/lib/site_perl/5.37.5/Catalyst.pm line 2060
Catalyst::execute(ComponentUI=HASH(0x560c3fabde48), "ComponentUI::Controller::Root", Catalyst::Action=HASH(0x560c3f93b590)) called at /home/sand/src/perl/repoperls/installed-perls/host/k93jammy/v5.37.4-160-g0649414847/5674/lib/site_perl/5.37.5/Catalyst/Action.pm line 364
Catalyst::Action::dispatch(Catalyst::Action=HASH(0x560c3f93b590), ComponentUI=HASH(0x560c3fabde48)) called at /home/sand/src/perl/repoperls/installed-perls/host/k93jammy/v5.37.4-160-g0649414847/5674/lib/site_perl/5.37.5/Catalyst/Dispatcher.pm line 261
Catalyst::Dispatcher::_do_forward(Catalyst::Dispatcher=HASH(0x560c3aae4ca0), "forward", ComponentUI=HASH(0x560c3fabde48), "//_DISPATCH") called at /home/sand/src/perl/repoperls/installed-perls/host/k93jammy/v5.37.4-160-g0649414847/5674/lib/site_perl/5.37.5/Catalyst/Dispatcher.pm line 241
Catalyst::Dispatcher::forward(Catalyst::Dispatcher=HASH(0x560c3aae4ca0), ComponentUI=HASH(0x560c3fabde48), "//_DISPATCH") called at /home/sand/src/perl/repoperls/installed-perls/host/k93jammy/v5.37.4-160-g0649414847/5674/lib/site_perl/5.37.5/Catalyst.pm line 482
Catalyst::forward(ComponentUI=HASH(0x560c3fabde48), "//_DISPATCH") called at /home/sand/src/perl/repoperls/installed-perls/host/k93jammy/v5.37.4-160-g0649414847/5674/lib/site_perl/5.37.5/Catalyst/Dispatcher.pm line 107
Catalyst::Dispatcher::dispatch(Catalyst::Dispatcher=HASH(0x560c3aae4ca0), ComponentUI=HASH(0x560c3fabde48)) called at /home/sand/src/perl/repoperls/installed-perls/host/k93jammy/v5.37.4-160-g0649414847/5674/lib/site_perl/5.37.5/Catalyst.pm line 2006
Catalyst::dispatch(ComponentUI=HASH(0x560c3fabde48)) called at /home/sand/src/perl/repoperls/installed-perls/host/k93jammy/v5.37.4-160-g0649414847/5674/lib/site_perl/5.37.5/Catalyst/Plugin/Static/Simple.pm line 85
Class::MOP::Class:::around(CODE(0x560c3afa6578), ComponentUI=HASH(0x560c3fabde48)) called at /home/sand/src/perl/repoperls/installed-perls/host/k93jammy/v5.37.4-160-g0649414847/5674/lib/site_perl/5.37.5/x86_64-linux-ld/Class/MOP/Method/Wrapped.pm line 166
ComponentUI::_wrapped_dispatch(ComponentUI=HASH(0x560c3fabde48)) called at /home/sand/src/perl/repoperls/installed-perls/host/k93jammy/v5.37.4-160-g0649414847/5674/lib/site_perl/5.37.5/x86_64-linux-ld/Class/MOP/Method/Wrapped.pm line 97
ComponentUI::dispatch(ComponentUI=HASH(0x560c3fabde48)) called at /home/sand/src/perl/repoperls/installed-perls/host/k93jammy/v5.37.4-160-g0649414847/5674/lib/site_perl/5.37.5/Catalyst.pm line 2412
Catalyst::try {...} () called at /home/sand/src/perl/repoperls/installed-perls/host/k93jammy/v5.37.4-160-g0649414847/5674/lib/site_perl/5.37.5/Try/Tiny.pm line 102
eval {...} called at /home/sand/src/perl/repoperls/installed-perls/host/k93jammy/v5.37.4-160-g0649414847/5674/lib/site_perl/5.37.5/Try/Tiny.pm line 93
Try::Tiny::try(CODE(0x560c3fac1e90), Try::Tiny::Catch=REF(0x560c3fac1c98)) called at /home/sand/src/perl/repoperls/installed-perls/host/k93jammy/v5.37.4-160-g0649414847/5674/lib/site_perl/5.37.5/Catalyst.pm line 2421
Catalyst::handle_request("ComponentUI", "env", HASH(0x560c3face568), "response_cb", CODE(0x560c3fac1cf8)) called at /home/sand/src/perl/repoperls/installed-perls/host/k93jammy/v5.37.4-160-g0649414847/5674/lib/site_perl/5.37.5/Catalyst/Engine.pm line 807
Catalyst::Engine::__ANON__(CODE(0x560c3fac1cf8)) called at /home/sand/src/perl/repoperls/installed-perls/host/k93jammy/v5.37.4-160-g0649414847/5674/lib/site_perl/5.37.5/Plack/Middleware/HTTPExceptions.pm line 32
Plack::Middleware::HTTPExceptions::try {...} () called at /home/sand/src/perl/repoperls/installed-perls/host/k93jammy/v5.37.4-160-g0649414847/5674/lib/site_perl/5.37.5/Try/Tiny.pm line 102
eval {...} called at /home/sand/src/perl/repoperls/installed-perls/host/k93jammy/v5.37.4-160-g0649414847/5674/lib/site_perl/5.37.5/Try/Tiny.pm line 93
Try::Tiny::try(CODE(0x560c3fac1b30), Try::Tiny::Catch=REF(0x560c3fac1350)) called at /home/sand/src/perl/repoperls/installed-perls/host/k93jammy/v5.37.4-160-g0649414847/5674/lib/site_perl/5.37.5/Plack/Middleware/HTTPExceptions.pm line 41
Plack::Middleware::HTTPExceptions::__ANON__(CODE(0x560c3facee98)) called at /home/sand/src/perl/repoperls/installed-perls/host/k93jammy/v5.37.4-160-g0649414847/5674/lib/site_perl/5.37.5/Plack/Util.pm line 339
Plack::Util::__ANON__(CODE(0x560c3face4f0)) called at /home/sand/src/perl/repoperls/installed-perls/host/k93jammy/v5.37.4-160-g0649414847/5674/lib/site_perl/5.37.5/Plack/Util.pm line 339
Plack::Util::__ANON__(CODE(0x560c3face400)) called at /home/sand/src/perl/repoperls/installed-perls/host/k93jammy/v5.37.4-160-g0649414847/5674/lib/site_perl/5.37.5/Plack/Util.pm line 339
Plack::Util::__ANON__(CODE(0x560c3face388)) called at /home/sand/src/perl/repoperls/installed-perls/host/k93jammy/v5.37.4-160-g0649414847/5674/lib/site_perl/5.37.5/HTTP/Message/PSGI.pm line 100
HTTP::Message::PSGI::res_from_psgi(CODE(0x560c3fac18a8)) called at /home/sand/src/perl/repoperls/installed-perls/host/k93jammy/v5.37.4-160-g0649414847/5674/lib/site_perl/5.37.5/HTTP/Message/PSGI.pm line 157
HTTP::Response::from_psgi("HTTP::Response", CODE(0x560c3fac18a8)) called at /home/sand/src/perl/repoperls/installed-perls/host/k93jammy/v5.37.4-160-g0649414847/5674/lib/site_perl/5.37.5/Plack/Test/MockHTTP.pm line 24
Plack::Test::MockHTTP::try {...} () called at /home/sand/src/perl/repoperls/installed-perls/host/k93jammy/v5.37.4-160-g0649414847/5674/lib/site_perl/5.37.5/Try/Tiny.pm line 100
eval {...} called at /home/sand/src/perl/repoperls/installed-perls/host/k93jammy/v5.37.4-160-g0649414847/5674/lib/site_perl/5.37.5/Try/Tiny.pm line 93
Try::Tiny::try(CODE(0x560c38abcb88), Try::Tiny::Catch=REF(0x560c3f944f38)) called at /home/sand/src/perl/repoperls/installed-perls/host/k93jammy/v5.37.4-160-g0649414847/5674/lib/site_perl/5.37.5/Plack/Test/MockHTTP.pm line 27
Plack::Test::MockHTTP::request(Plack::Test::MockHTTP=HASH(0x560c3f9eb928), HTTP::Request=HASH(0x560c3f9eb568)) called at /home/sand/src/perl/repoperls/installed-perls/host/k93jammy/v5.37.4-160-g0649414847/5674/lib/site_perl/5.37.5/Plack/Test.pm line 38
Plack::Test::__ANON__(HTTP::Request=HASH(0x560c3f9eb568)) called at /home/sand/src/perl/repoperls/installed-perls/host/k93jammy/v5.37.4-160-g0649414847/5674/lib/site_perl/5.37.5/Catalyst/Test.pm line 290
Catalyst::Test::__ANON__(CODE(0x560c3f9eb8b0)) called at /home/sand/src/perl/repoperls/installed-perls/host/k93jammy/v5.37.4-160-g0649414847/5674/lib/site_perl/5.37.5/Plack/Test.pm line 38
Plack::Test::test_psgi("app", CODE(0x560c3f9eb0d0), "mangle_response", CODE(0x560c3a315f98), "app", CODE(0x560c3f9e59d0), "client", CODE(0x560c3f9eb748)) called at /home/sand/src/perl/repoperls/installed-perls/host/k93jammy/v5.37.4-160-g0649414847/5674/lib/site_perl/5.37.5/Catalyst/Test.pm line 293
Catalyst::Test::_request(HASH(0x560c38abcb10), "/") called at /home/sand/src/perl/repoperls/installed-perls/host/k93jammy/v5.37.4-160-g0649414847/5674/lib/site_perl/5.37.5/Catalyst/Test.pm line 336
Catalyst::Test::_local_request("ComponentUI", "/") called at /home/sand/src/perl/repoperls/installed-perls/host/k93jammy/v5.37.4-160-g0649414847/5674/lib/site_perl/5.37.5/Catalyst/Test.pm line 32
Catalyst::Test::__ANON__("/") called at t/01app.t line 10
Class::MOP::load_class is deprecated at /home/sand/src/perl/repoperls/installed-perls/host/k93jammy/v5.37.4-160-g0649414847/5674/lib/site_perl/5.37.5/x86_64-linux-ld/Class/MOP.pm line 69.
Class::MOP::load_class("Reaction::UI::Widget::SiteLayout") called at /tmp/loop_over_bdir-3295373-8XPj17/Reaction-0.002005-0/blib/lib/Reaction/UI/Skin.pm line 181
eval {...} called at /tmp/loop_over_bdir-3295373-8XPj17/Reaction-0.002005-0/blib/lib/Reaction/UI/Skin.pm line 181
Reaction::UI::Skin::widget_class_for(Reaction::UI::Skin=HASH(0x560c3fb4fd08), Reaction::UI::LayoutSet::TT=HASH(0x560c3fba2f08)) called at /tmp/loop_over_bdir-3295373-8XPj17/Reaction-0.002005-0/blib/lib/Reaction/UI/LayoutSet.pm line 29
Reaction::UI::LayoutSet::BUILD(Reaction::UI::LayoutSet::TT=HASH(0x560c3fba2f08), HASH(0x560c3fba2ef0)) called at constructor Reaction::UI::LayoutSet::TT::new (defined at /tmp/loop_over_bdir-3295373-8XPj17/Reaction-0.002005-0/blib/lib/Reaction/UI/LayoutSet/TT.pm line 43) line 80
Reaction::UI::LayoutSet::TT::new("Reaction::UI::LayoutSet::TT", "name", "site_layout", "skin", Reaction::UI::Skin=HASH(0x560c3fb4fd08), "tt_object", Template=HASH(0x560c3f434b00), "source_file", ...) called at /tmp/loop_over_bdir-3295373-8XPj17/Reaction-0.002005-0/blib/lib/Reaction/UI/Skin.pm line 115
Reaction::UI::Skin::_create_layout_set(Reaction::UI::Skin=HASH(0x560c3fb4fd08), "site_layout", ARRAY(0x560c3fb3b5b8), Reaction::UI::Skin=HASH(0x560c3fb4fd08)) called at /tmp/loop_over_bdir-3295373-8XPj17/Reaction-0.002005-0/blib/lib/Reaction/UI/Skin.pm line 110
Reaction::UI::Skin::create_layout_set(Reaction::UI::Skin=HASH(0x560c3fb4fd08), "site_layout") called at /tmp/loop_over_bdir-3295373-8XPj17/Reaction-0.002005-0/blib/lib/Reaction/UI/LayoutSet.pm line 83
Reaction::UI::LayoutSet::_load_file(Reaction::UI::LayoutSet::TT=HASH(0x560c3fb914f0), Path::Class::File=HASH(0x560c3fb3f2b8), HASH(0x560c3fb93520)) called at /tmp/loop_over_bdir-3295373-8XPj17/Reaction-0.002005-0/blib/lib/Reaction/UI/LayoutSet.pm line 27
Reaction::UI::LayoutSet::BUILD(Reaction::UI::LayoutSet::TT=HASH(0x560c3fb914f0), HASH(0x560c3fb93520)) called at constructor Reaction::UI::LayoutSet::TT::new (defined at /tmp/loop_over_bdir-3295373-8XPj17/Reaction-0.002005-0/blib/lib/Reaction/UI/LayoutSet/TT.pm line 43) line 80
Reaction::UI::LayoutSet::TT::new("Reaction::UI::LayoutSet::TT", "name", "site_layout", "skin", Reaction::UI::Skin=HASH(0x560c3fb39cb0), "next_skin", Reaction::UI::Skin=HASH(0x560c3fb4fd08), "tt_object", ...) called at /tmp/loop_over_bdir-3295373-8XPj17/Reaction-0.002005-0/blib/lib/Reaction/UI/Skin.pm line 115
Reaction::UI::Skin::_create_layout_set(Reaction::UI::Skin=HASH(0x560c3fb39cb0), "site_layout", ARRAY(0x560c3fb526f0), Reaction::UI::Skin=HASH(0x560c3fb39cb0)) called at /tmp/loop_over_bdir-3295373-8XPj17/Reaction-0.002005-0/blib/lib/Reaction/UI/Skin.pm line 110
Reaction::UI::Skin::create_layout_set(Reaction::UI::Skin=HASH(0x560c3fb39cb0), "site_layout") called at /tmp/loop_over_bdir-3295373-8XPj17/Reaction-0.002005-0/blib/lib/Reaction/UI/LayoutSet.pm line 83
Reaction::UI::LayoutSet::_load_file(Reaction::UI::LayoutSet::TT=HASH(0x560c3fb3b240), Path::Class::File=HASH(0x560c3fb3c158), HASH(0x560c3fb2bbf0)) called at /tmp/loop_over_bdir-3295373-8XPj17/Reaction-0.002005-0/blib/lib/Reaction/UI/LayoutSet.pm line 27
Reaction::UI::LayoutSet::BUILD(Reaction::UI::LayoutSet::TT=HASH(0x560c3fb3b240), HASH(0x560c3fb2bbf0)) called at constructor Reaction::UI::LayoutSet::TT::new (defined at /tmp/loop_over_bdir-3295373-8XPj17/Reaction-0.002005-0/blib/lib/Reaction/UI/LayoutSet/TT.pm line 43) line 80
Reaction::UI::LayoutSet::TT::new("Reaction::UI::LayoutSet::TT", "name", "site_layout", "skin", Reaction::UI::Skin=HASH(0x560c3fb2b758), "next_skin", Reaction::UI::Skin=HASH(0x560c3fb39cb0), "tt_object", ...) called at /tmp/loop_over_bdir-3295373-8XPj17/Reaction-0.002005-0/blib/lib/Reaction/UI/Skin.pm line 115
Reaction::UI::Skin::_create_layout_set(Reaction::UI::Skin=HASH(0x560c3fb2b758), "site_layout", ARRAY(0x560c3e658090), Reaction::UI::Skin=HASH(0x560c3fb2b758)) called at /tmp/loop_over_bdir-3295373-8XPj17/Reaction-0.002005-0/blib/lib/Reaction/UI/Skin.pm line 110
Reaction::UI::Skin::create_layout_set(Reaction::UI::Skin=HASH(0x560c3fb2b758), "site_layout") called at inline delegation in Reaction::UI::View for skin->create_layout_set (attribute declared in /tmp/loop_over_bdir-3295373-8XPj17/Reaction-0.002005-0/blib/lib/Reaction/UI/View.pm at line 22) line 18
Reaction::UI::View::create_layout_set(ComponentUI::View::Site=HASH(0x560c3c2948b8), "site_layout") called at /tmp/loop_over_bdir-3295373-8XPj17/Reaction-0.002005-0/blib/lib/Reaction/UI/View.pm line 99
Reaction::UI::View::layout_set_for(ComponentUI::View::Site=HASH(0x560c3c2948b8), Reaction::UI::ViewPort::SiteLayout=HASH(0x560c3fb2b248)) called at /tmp/loop_over_bdir-3295373-8XPj17/Reaction-0.002005-0/blib/lib/Reaction/UI/View.pm line 78
Reaction::UI::View::render_viewport_args(ComponentUI::View::Site=HASH(0x560c3c2948b8), Reaction::UI::ViewPort::SiteLayout=HASH(0x560c3fb2b248)) called at /tmp/loop_over_bdir-3295373-8XPj17/Reaction-0.002005-0/blib/lib/Reaction/UI/View.pm line 61
Reaction::UI::View::render_window(ComponentUI::View::Site=HASH(0x560c3c2948b8), Reaction::UI::Window=HASH(0x560c3fb28b18)) called at /tmp/loop_over_bdir-3295373-8XPj17/Reaction-0.002005-0/blib/lib/Reaction/UI/Window.pm line 74
Reaction::UI::Window::flush_view(Reaction::UI::Window=HASH(0x560c3fb28b18)) called at /tmp/loop_over_bdir-3295373-8XPj17/Reaction-0.002005-0/blib/lib/Reaction/UI/Window.pm line 36
Reaction::UI::Window::flush(Reaction::UI::Window=HASH(0x560c3fb28b18)) called at /tmp/loop_over_bdir-3295373-8XPj17/Reaction-0.002005-0/blib/lib/Reaction/UI/Controller/Root.pm line 38
Reaction::UI::Controller::Root::end(ComponentUI::Controller::Root=HASH(0x560c3fb22808), ComponentUI=HASH(0x560c3fabde48)) called at /home/sand/src/perl/repoperls/installed-perls/host/k93jammy/v5.37.4-160-g0649414847/5674/lib/site_perl/5.37.5/Catalyst/Action.pm line 369
Catalyst::Action::execute(Catalyst::Action=HASH(0x560c3f931118), ComponentUI::Controller::Root=HASH(0x560c3fb22808), ComponentUI=HASH(0x560c3fabde48)) called at /home/sand/src/perl/repoperls/installed-perls/host/k93jammy/v5.37.4-160-g0649414847/5674/lib/site_perl/5.37.5/Catalyst.pm line 2060
eval {...} called at /home/sand/src/perl/repoperls/installed-perls/host/k93jammy/v5.37.4-160-g0649414847/5674/lib/site_perl/5.37.5/Catalyst.pm line 2060
Catalyst::execute(ComponentUI=HASH(0x560c3fabde48), "ComponentUI::Controller::Root", Catalyst::Action=HASH(0x560c3f931118)) called at /home/sand/src/perl/repoperls/installed-perls/host/k93jammy/v5.37.4-160-g0649414847/5674/lib/site_perl/5.37.5/Catalyst/Action.pm line 364
Catalyst::Action::dispatch(Catalyst::Action=HASH(0x560c3f931118), ComponentUI=HASH(0x560c3fabde48)) called at /home/sand/src/perl/repoperls/installed-perls/host/k93jammy/v5.37.4-160-g0649414847/5674/lib/site_perl/5.37.5/Catalyst/Controller.pm line 188
Catalyst::Controller::_END(ComponentUI::Controller::Root=HASH(0x560c3fb22808), ComponentUI=HASH(0x560c3fabde48)) called at /home/sand/src/perl/repoperls/installed-perls/host/k93jammy/v5.37.4-160-g0649414847/5674/lib/site_perl/5.37.5/Catalyst/Action.pm line 369
Catalyst::Action::execute(Catalyst::Action=HASH(0x560c3f93b770), ComponentUI::Controller::Root=HASH(0x560c3fb22808), ComponentUI=HASH(0x560c3fabde48)) called at /home/sand/src/perl/repoperls/installed-perls/host/k93jammy/v5.37.4-160-g0649414847/5674/lib/site_perl/5.37.5/Catalyst.pm line 2060
eval {...} called at /home/sand/src/perl/repoperls/installed-perls/host/k93jammy/v5.37.4-160-g0649414847/5674/lib/site_perl/5.37.5/Catalyst.pm line 2060
Catalyst::execute(ComponentUI=HASH(0x560c3fabde48), "ComponentUI::Controller::Root", Catalyst::Action=HASH(0x560c3f93b770)) called at /home/sand/src/perl/repoperls/installed-perls/host/k93jammy/v5.37.4-160-g0649414847/5674/lib/site_perl/5.37.5/Catalyst/Action.pm line 364
Catalyst::Action::dispatch(Catalyst::Action=HASH(0x560c3f93b770), ComponentUI=HASH(0x560c3fabde48)) called at /home/sand/src/perl/repoperls/installed-perls/host/k93jammy/v5.37.4-160-g0649414847/5674/lib/site_perl/5.37.5/Catalyst/Dispatcher.pm line 261
Catalyst::Dispatcher::_do_forward(Catalyst::Dispatcher=HASH(0x560c3aae4ca0), "forward", ComponentUI=HASH(0x560c3fabde48), "_END") called at /home/sand/src/perl/repoperls/installed-perls/host/k93jammy/v5.37.4-160-g0649414847/5674/lib/site_perl/5.37.5/Catalyst/Dispatcher.pm line 241
Catalyst::Dispatcher::forward(Catalyst::Dispatcher=HASH(0x560c3aae4ca0), ComponentUI=HASH(0x560c3fabde48), "_END") called at /home/sand/src/perl/repoperls/installed-perls/host/k93jammy/v5.37.4-160-g0649414847/5674/lib/site_perl/5.37.5/Catalyst.pm line 482
Catalyst::forward(ComponentUI=HASH(0x560c3fabde48), "_END") called at /home/sand/src/perl/repoperls/installed-perls/host/k93jammy/v5.37.4-160-g0649414847/5674/lib/site_perl/5.37.5/Catalyst/Controller.pm line 137
Catalyst::Controller::_DISPATCH(ComponentUI::Controller::Root=HASH(0x560c3fb22808), ComponentUI=HASH(0x560c3fabde48)) called at /home/sand/src/perl/repoperls/installed-perls/host/k93jammy/v5.37.4-160-g0649414847/5674/lib/site_perl/5.37.5/Catalyst/Action.pm line 369
Catalyst::Action::execute(Catalyst::Action=HASH(0x560c3f93b590), ComponentUI::Controller::Root=HASH(0x560c3fb22808), ComponentUI=HASH(0x560c3fabde48)) called at /home/sand/src/perl/repoperls/installed-perls/host/k93jammy/v5.37.4-160-g0649414847/5674/lib/site_perl/5.37.5/Catalyst.pm line 2060
eval {...} called at /home/sand/src/perl/repoperls/installed-perls/host/k93jammy/v5.37.4-160-g0649414847/5674/lib/site_perl/5.37.5/Catalyst.pm line 2060
Catalyst::execute(ComponentUI=HASH(0x560c3fabde48), "ComponentUI::Controller::Root", Catalyst::Action=HASH(0x560c3f93b590)) called at /home/sand/src/perl/repoperls/installed-perls/host/k93jammy/v5.37.4-160-g0649414847/5674/lib/site_perl/5.37.5/Catalyst/Action.pm line 364
Catalyst::Action::dispatch(Catalyst::Action=HASH(0x560c3f93b590), ComponentUI=HASH(0x560c3fabde48)) called at /home/sand/src/perl/repoperls/installed-perls/host/k93jammy/v5.37.4-160-g0649414847/5674/lib/site_perl/5.37.5/Catalyst/Dispatcher.pm line 261
Catalyst::Dispatcher::_do_forward(Catalyst::Dispatcher=HASH(0x560c3aae4ca0), "forward", ComponentUI=HASH(0x560c3fabde48), "//_DISPATCH") called at /home/sand/src/perl/repoperls/installed-perls/host/k93jammy/v5.37.4-160-g0649414847/5674/lib/site_perl/5.37.5/Catalyst/Dispatcher.pm line 241
Catalyst::Dispatcher::forward(Catalyst::Dispatcher=HASH(0x560c3aae4ca0), ComponentUI=HASH(0x560c3fabde48), "//_DISPATCH") called at /home/sand/src/perl/repoperls/installed-perls/host/k93jammy/v5.37.4-160-g0649414847/5674/lib/site_perl/5.37.5/Catalyst.pm line 482
Catalyst::forward(ComponentUI=HASH(0x560c3fabde48), "//_DISPATCH") called at /home/sand/src/perl/repoperls/installed-perls/host/k93jammy/v5.37.4-160-g0649414847/5674/lib/site_perl/5.37.5/Catalyst/Dispatcher.pm line 107
Catalyst::Dispatcher::dispatch(Catalyst::Dispatcher=HASH(0x560c3aae4ca0), ComponentUI=HASH(0x560c3fabde48)) called at /home/sand/src/perl/repoperls/installed-perls/host/k93jammy/v5.37.4-160-g0649414847/5674/lib/site_perl/5.37.5/Catalyst.pm line 2006
Catalyst::dispatch(ComponentUI=HASH(0x560c3fabde48)) called at /home/sand/src/perl/repoperls/installed-perls/host/k93jammy/v5.37.4-160-g0649414847/5674/lib/site_perl/5.37.5/Catalyst/Plugin/Static/Simple.pm line 85
Class::MOP::Class:::around(CODE(0x560c3afa6578), ComponentUI=HASH(0x560c3fabde48)) called at /home/sand/src/perl/repoperls/installed-perls/host/k93jammy/v5.37.4-160-g0649414847/5674/lib/site_perl/5.37.5/x86_64-linux-ld/Class/MOP/Method/Wrapped.pm line 166
ComponentUI::_wrapped_dispatch(ComponentUI=HASH(0x560c3fabde48)) called at /home/sand/src/perl/repoperls/installed-perls/host/k93jammy/v5.37.4-160-g0649414847/5674/lib/site_perl/5.37.5/x86_64-linux-ld/Class/MOP/Method/Wrapped.pm line 97
ComponentUI::dispatch(ComponentUI=HASH(0x560c3fabde48)) called at /home/sand/src/perl/repoperls/installed-perls/host/k93jammy/v5.37.4-160-g0649414847/5674/lib/site_perl/5.37.5/Catalyst.pm line 2412
Catalyst::try {...} () called at /home/sand/src/perl/repoperls/installed-perls/host/k93jammy/v5.37.4-160-g0649414847/5674/lib/site_perl/5.37.5/Try/Tiny.pm line 102
eval {...} called at /home/sand/src/perl/repoperls/installed-perls/host/k93jammy/v5.37.4-160-g0649414847/5674/lib/site_perl/5.37.5/Try/Tiny.pm line 93
Try::Tiny::try(CODE(0x560c3fac1e90), Try::Tiny::Catch=REF(0x560c3fac1c98)) called at /home/sand/src/perl/repoperls/installed-perls/host/k93jammy/v5.37.4-160-g0649414847/5674/lib/site_perl/5.37.5/Catalyst.pm line 2421
Catalyst::handle_request("ComponentUI", "env", HASH(0x560c3face568), "response_cb", CODE(0x560c3fac1cf8)) called at /home/sand/src/perl/repoperls/installed-perls/host/k93jammy/v5.37.4-160-g0649414847/5674/lib/site_perl/5.37.5/Catalyst/Engine.pm line 807
Catalyst::Engine::__ANON__(CODE(0x560c3fac1cf8)) called at /home/sand/src/perl/repoperls/installed-perls/host/k93jammy/v5.37.4-160-g0649414847/5674/lib/site_perl/5.37.5/Plack/Middleware/HTTPExceptions.pm line 32
Plack::Middleware::HTTPExceptions::try {...} () called at /home/sand/src/perl/repoperls/installed-perls/host/k93jammy/v5.37.4-160-g0649414847/5674/lib/site_perl/5.37.5/Try/Tiny.pm line 102
eval {...} called at /home/sand/src/perl/repoperls/installed-perls/host/k93jammy/v5.37.4-160-g0649414847/5674/lib/site_perl/5.37.5/Try/Tiny.pm line 93
Try::Tiny::try(CODE(0x560c3fac1b30), Try::Tiny::Catch=REF(0x560c3fac1350)) called at /home/sand/src/perl/repoperls/installed-perls/host/k93jammy/v5.37.4-160-g0649414847/5674/lib/site_perl/5.37.5/Plack/Middleware/HTTPExceptions.pm line 41
Plack::Middleware::HTTPExceptions::__ANON__(CODE(0x560c3facee98)) called at /home/sand/src/perl/repoperls/installed-perls/host/k93jammy/v5.37.4-160-g0649414847/5674/lib/site_perl/5.37.5/Plack/Util.pm line 339
Plack::Util::__ANON__(CODE(0x560c3face4f0)) called at /home/sand/src/perl/repoperls/installed-perls/host/k93jammy/v5.37.4-160-g0649414847/5674/lib/site_perl/5.37.5/Plack/Util.pm line 339
Plack::Util::__ANON__(CODE(0x560c3face400)) called at /home/sand/src/perl/repoperls/installed-perls/host/k93jammy/v5.37.4-160-g0649414847/5674/lib/site_perl/5.37.5/Plack/Util.pm line 339
Plack::Util::__ANON__(CODE(0x560c3face388)) called at /home/sand/src/perl/repoperls/installed-perls/host/k93jammy/v5.37.4-160-g0649414847/5674/lib/site_perl/5.37.5/HTTP/Message/PSGI.pm line 100
HTTP::Message::PSGI::res_from_psgi(CODE(0x560c3fac18a8)) called at /home/sand/src/perl/repoperls/installed-perls/host/k93jammy/v5.37.4-160-g0649414847/5674/lib/site_perl/5.37.5/HTTP/Message/PSGI.pm line 157
HTTP::Response::from_psgi("HTTP::Response", CODE(0x560c3fac18a8)) called at /home/sand/src/perl/repoperls/installed-perls/host/k93jammy/v5.37.4-160-g0649414847/5674/lib/site_perl/5.37.5/Plack/Test/MockHTTP.pm line 24
Plack::Test::MockHTTP::try {...} () called at /home/sand/src/perl/repoperls/installed-perls/host/k93jammy/v5.37.4-160-g0649414847/5674/lib/site_perl/5.37.5/Try/Tiny.pm line 100
eval {...} called at /home/sand/src/perl/repoperls/installed-perls/host/k93jammy/v5.37.4-160-g0649414847/5674/lib/site_perl/5.37.5/Try/Tiny.pm line 93
Try::Tiny::try(CODE(0x560c38abcb88), Try::Tiny::Catch=REF(0x560c3f944f38)) called at /home/sand/src/perl/repoperls/installed-perls/host/k93jammy/v5.37.4-160-g0649414847/5674/lib/site_perl/5.37.5/Plack/Test/MockHTTP.pm line 27
Plack::Test::MockHTTP::request(Plack::Test::MockHTTP=HASH(0x560c3f9eb928), HTTP::Request=HASH(0x560c3f9eb568)) called at /home/sand/src/perl/repoperls/installed-perls/host/k93jammy/v5.37.4-160-g0649414847/5674/lib/site_perl/5.37.5/Plack/Test.pm line 38
Plack::Test::__ANON__(HTTP::Request=HASH(0x560c3f9eb568)) called at /home/sand/src/perl/repoperls/installed-perls/host/k93jammy/v5.37.4-160-g0649414847/5674/lib/site_perl/5.37.5/Catalyst/Test.pm line 290
Catalyst::Test::__ANON__(CODE(0x560c3f9eb8b0)) called at /home/sand/src/perl/repoperls/installed-perls/host/k93jammy/v5.37.4-160-g0649414847/5674/lib/site_perl/5.37.5/Plack/Test.pm line 38
Plack::Test::test_psgi("app", CODE(0x560c3f9eb0d0), "mangle_response", CODE(0x560c3a315f98), "app", CODE(0x560c3f9e59d0), "client", CODE(0x560c3f9eb748)) called at /home/sand/src/perl/repoperls/installed-perls/host/k93jammy/v5.37.4-160-g0649414847/5674/lib/site_perl/5.37.5/Catalyst/Test.pm line 293
Catalyst::Test::_request(HASH(0x560c38abcb10), "/") called at /home/sand/src/perl/repoperls/installed-perls/host/k93jammy/v5.37.4-160-g0649414847/5674/lib/site_perl/5.37.5/Catalyst/Test.pm line 336
Catalyst::Test::_local_request("ComponentUI", "/") called at /home/sand/src/perl/repoperls/installed-perls/host/k93jammy/v5.37.4-160-g0649414847/5674/lib/site_perl/5.37.5/Catalyst/Test.pm line 32
Catalyst::Test::__ANON__("/") called at t/01app.t line 10
[debug] remote
t/01app.t ................... ok
t/04load_all.t .............. ok
t/05reflect_attr_from.t ..... ok
Class::MOP::load_class is deprecated at /home/sand/src/perl/repoperls/installed-perls/host/k93jammy/v5.37.4-160-g0649414847/5674/lib/site_perl/5.37.5/x86_64-linux-ld/Class/MOP.pm line 69.
Class::MOP::load_class("Reaction::InterfaceModel::Object") called at /tmp/loop_over_bdir-3295373-8XPj17/Reaction-0.002005-0/blib/lib/Reaction/InterfaceModel/Reflector/DBIC.pm line 149
Reaction::InterfaceModel::Reflector::DBIC::reflect_schema(Reaction::InterfaceModel::Reflector::DBIC=HASH(0x5592f6186fb0), "model_class", "ComponentUI::TestModel", "schema_class", "RTest::TestDB", "sources", ARRAY(0x5592f6deb6d0)) called at /tmp/loop_over_bdir-3295373-8XPj17/Reaction-0.002005-0/blib/lib/ComponentUI/TestModel.pm line 10
require ComponentUI/TestModel.pm called at t/lib/RTest/InterfaceModel/Reflector/DBIC.pm line 6
RTest::InterfaceModel::Reflector::DBIC::BEGIN() called at t/lib/RTest/InterfaceModel/Reflector/DBIC.pm line 6
eval {...} called at t/lib/RTest/InterfaceModel/Reflector/DBIC.pm line 6
require RTest/InterfaceModel/Reflector/DBIC.pm called at t/im_dbic.t line 7
main::BEGIN() called at t/im_dbic.t line 7
eval {...} called at t/im_dbic.t line 7
Class::MOP::load_class is deprecated at /home/sand/src/perl/repoperls/installed-perls/host/k93jammy/v5.37.4-160-g0649414847/5674/lib/site_perl/5.37.5/x86_64-linux-ld/Class/MOP.pm line 69.
Class::MOP::load_class("Reaction::InterfaceModel::Object") called at /tmp/loop_over_bdir-3295373-8XPj17/Reaction-0.002005-0/blib/lib/Reaction/Class.pm line 123
Reaction::Class::do_class_sub("Reaction::Class", "ComponentUI::TestModel::Foo", "ComponentUI::TestModel::Foo", "is", "Reaction::InterfaceModel::Object", "which", CODE(0x5592f7d8e320)) called at /tmp/loop_over_bdir-3295373-8XPj17/Reaction-0.002005-0/blib/lib/Reaction/Class.pm line 86
Reaction::Class::("ComponentUI::TestModel::Foo", "is", "Reaction::InterfaceModel::Object", "which", CODE(0x5592f7d8e320)) called at /tmp/loop_over_bdir-3295373-8XPj17/Reaction-0.002005-0/blib/lib/ComponentUI/TestModel/Foo.pm line 8
require ComponentUI/TestModel/Foo.pm called at /home/sand/src/perl/repoperls/installed-perls/host/k93jammy/v5.37.4-160-g0649414847/5674/lib/site_perl/5.37.5/Module/Runtime.pm line 314
Module::Runtime::require_module("ComponentUI::TestModel::Foo") called at /home/sand/src/perl/repoperls/installed-perls/host/k93jammy/v5.37.4-160-g0649414847/5674/lib/site_perl/5.37.5/Class/Load.pm line 174
Class::Load::try {...} () called at /home/sand/src/perl/repoperls/installed-perls/host/k93jammy/v5.37.4-160-g0649414847/5674/lib/site_perl/5.37.5/Try/Tiny.pm line 98
eval {...} called at /home/sand/src/perl/repoperls/installed-perls/host/k93jammy/v5.37.4-160-g0649414847/5674/lib/site_perl/5.37.5/Try/Tiny.pm line 93
Try::Tiny::try(CODE(0x5592f7cf65b0), Try::Tiny::Catch=REF(0x5592f7d8d950)) called at /home/sand/src/perl/repoperls/installed-perls/host/k93jammy/v5.37.4-160-g0649414847/5674/lib/site_perl/5.37.5/Class/Load.pm line 180
Class::Load::try_load_class("ComponentUI::TestModel::Foo", undef) called at /home/sand/src/perl/repoperls/installed-perls/host/k93jammy/v5.37.4-160-g0649414847/5674/lib/site_perl/5.37.5/Class/Load.pm line 35
Class::Load::load_class("ComponentUI::TestModel::Foo") called at /tmp/loop_over_bdir-3295373-8XPj17/Reaction-0.002005-0/blib/lib/Reaction/InterfaceModel/Reflector/DBIC.pm line 892
eval {...} called at /tmp/loop_over_bdir-3295373-8XPj17/Reaction-0.002005-0/blib/lib/Reaction/InterfaceModel/Reflector/DBIC.pm line 892
Reaction::InterfaceModel::Reflector::DBIC::_maybe_load_class(Reaction::InterfaceModel::Reflector::DBIC=HASH(0x5592f6186fb0), "ComponentUI::TestModel::Foo") called at /tmp/loop_over_bdir-3295373-8XPj17/Reaction-0.002005-0/blib/lib/Reaction/InterfaceModel/Reflector/DBIC.pm line 876
Reaction::InterfaceModel::Reflector::DBIC::_load_or_create(Reaction::InterfaceModel::Reflector::DBIC=HASH(0x5592f6186fb0), "ComponentUI::TestModel::Foo", "superclasses", ARRAY(0x5592f68b2a40)) called at /tmp/loop_over_bdir-3295373-8XPj17/Reaction-0.002005-0/blib/lib/Reaction/InterfaceModel/Reflector/DBIC.pm line 448
Reaction::InterfaceModel::Reflector::DBIC::reflect_source_object(Reaction::InterfaceModel::Reflector::DBIC=HASH(0x5592f6186fb0), "parent_class", "ComponentUI::TestModel", "schema_class", "RTest::TestDB", "source_name", "Foo", "parent_domain_model_name", ...) called at /tmp/loop_over_bdir-3295373-8XPj17/Reaction-0.002005-0/blib/lib/Reaction/InterfaceModel/Reflector/DBIC.pm line 323
Reaction::InterfaceModel::Reflector::DBIC::reflect_source(Reaction::InterfaceModel::Reflector::DBIC=HASH(0x5592f6186fb0), "source_name", "Foo", "parent_class", "ComponentUI::TestModel", "schema_class", "RTest::TestDB", "source_class", ...) called at /tmp/loop_over_bdir-3295373-8XPj17/Reaction-0.002005-0/blib/lib/Reaction/InterfaceModel/Reflector/DBIC.pm line 185
Reaction::InterfaceModel::Reflector::DBIC::reflect_schema(Reaction::InterfaceModel::Reflector::DBIC=HASH(0x5592f6186fb0), "model_class", "ComponentUI::TestModel", "schema_class", "RTest::TestDB", "sources", ARRAY(0x5592f6deb6d0)) called at /tmp/loop_over_bdir-3295373-8XPj17/Reaction-0.002005-0/blib/lib/ComponentUI/TestModel.pm line 10
require ComponentUI/TestModel.pm called at t/lib/RTest/InterfaceModel/Reflector/DBIC.pm line 6
RTest::InterfaceModel::Reflector::DBIC::BEGIN() called at t/lib/RTest/InterfaceModel/Reflector/DBIC.pm line 6
eval {...} called at t/lib/RTest/InterfaceModel/Reflector/DBIC.pm line 6
require RTest/InterfaceModel/Reflector/DBIC.pm called at t/im_dbic.t line 7
main::BEGIN() called at t/im_dbic.t line 7
eval {...} called at t/im_dbic.t line 7
Class::MOP::is_class_loaded is deprecated at /home/sand/src/perl/repoperls/installed-perls/host/k93jammy/v5.37.4-160-g0649414847/5674/lib/site_perl/5.37.5/x86_64-linux-ld/Class/MOP.pm line 87.
Class::MOP::is_class_loaded("RTest::TestIM::Foo") called at t/lib/RTest/InterfaceModel/Reflector/DBIC.pm line 74
RTest::InterfaceModel::Reflector::DBIC::test_reflect_schema(RTest::InterfaceModel::Reflector::DBIC=HASH(0x5592f81a3718)) called at /home/sand/src/perl/repoperls/installed-perls/host/k93jammy/v5.37.4-160-g0649414847/5674/lib/site_perl/5.37.5/Test/Class.pm line 293
Test::Class::try {...} () called at /home/sand/src/perl/repoperls/installed-perls/host/k93jammy/v5.37.4-160-g0649414847/5674/lib/site_perl/5.37.5/Try/Tiny.pm line 100
eval {...} called at /home/sand/src/perl/repoperls/installed-perls/host/k93jammy/v5.37.4-160-g0649414847/5674/lib/site_perl/5.37.5/Try/Tiny.pm line 93
Try::Tiny::try(CODE(0x5592f94ad328), Try::Tiny::Catch=REF(0x5592f94ad250)) called at /home/sand/src/perl/repoperls/installed-perls/host/k93jammy/v5.37.4-160-g0649414847/5674/lib/site_perl/5.37.5/Test/Class.pm line 293
Test::Class::_run_method(RTest::InterfaceModel::Reflector::DBIC=HASH(0x5592f81a3718), "test_reflect_schema", ARRAY(0x5592f5346888)) called at /home/sand/src/perl/repoperls/installed-perls/host/k93jammy/v5.37.4-160-g0649414847/5674/lib/site_perl/5.37.5/Test/Class.pm line 402
Test::Class::runtests("Test::Class", RTest::InterfaceModel::Reflector::DBIC=HASH(0x5592f81a3718)) called at t/im_dbic.t line 10
t/im_dbic.t ................. ok
t/ui_focus_stack.t .......... ok
t/ui_view.t ................. ok
t/ui_viewport.t ............. ok
Class::MOP::load_class is deprecated at /home/sand/src/perl/repoperls/installed-perls/host/k93jammy/v5.37.4-160-g0649414847/5674/lib/site_perl/5.37.5/x86_64-linux-ld/Class/MOP.pm line 69.
Class::MOP::load_class("ComponentUI::TestModel") called at /tmp/loop_over_bdir-3295373-8XPj17/Reaction-0.002005-0/blib/lib/Catalyst/Model/Reaction/InterfaceModel/DBIC.pm line 24
Catalyst::Model::Reaction::InterfaceModel::DBIC::COMPONENT("ComponentUI::Model::TestModel", "ComponentUI", HASH(0x5582a2ecbbc0)) called at /home/sand/src/perl/repoperls/installed-perls/host/k93jammy/v5.37.4-160-g0649414847/5674/lib/site_perl/5.37.5/Catalyst.pm line 3234
eval {...} called at /home/sand/src/perl/repoperls/installed-perls/host/k93jammy/v5.37.4-160-g0649414847/5674/lib/site_perl/5.37.5/Catalyst.pm line 3235
Catalyst::setup_component("ComponentUI", "ComponentUI::Model::TestModel") called at /home/sand/src/perl/repoperls/installed-perls/host/k93jammy/v5.37.4-160-g0649414847/5674/lib/site_perl/5.37.5/Catalyst.pm line 3212
Catalyst::__ANON__() called at /home/sand/src/perl/repoperls/installed-perls/host/k93jammy/v5.37.4-160-g0649414847/5674/lib/site_perl/5.37.5/Catalyst.pm line 3059
Catalyst::setup_components("ComponentUI") called at /home/sand/src/perl/repoperls/installed-perls/host/k93jammy/v5.37.4-160-g0649414847/5674/lib/site_perl/5.37.5/Catalyst.pm line 1431
Catalyst::setup("ComponentUI") called at /tmp/loop_over_bdir-3295373-8XPj17/Reaction-0.002005-0/blib/lib/ComponentUI.pm line 32
require ComponentUI.pm called at /home/sand/src/perl/repoperls/installed-perls/host/k93jammy/v5.37.4-160-g0649414847/5674/lib/site_perl/5.37.5/Module/Runtime.pm line 314
Module::Runtime::require_module("ComponentUI") called at /home/sand/src/perl/repoperls/installed-perls/host/k93jammy/v5.37.4-160-g0649414847/5674/lib/site_perl/5.37.5/Class/Load.pm line 174
Class::Load::try {...} () called at /home/sand/src/perl/repoperls/installed-perls/host/k93jammy/v5.37.4-160-g0649414847/5674/lib/site_perl/5.37.5/Try/Tiny.pm line 98
eval {...} called at /home/sand/src/perl/repoperls/installed-perls/host/k93jammy/v5.37.4-160-g0649414847/5674/lib/site_perl/5.37.5/Try/Tiny.pm line 93
Try::Tiny::try(CODE(0x55829c9aca88), Try::Tiny::Catch=REF(0x55829eb28ac8)) called at /home/sand/src/perl/repoperls/installed-perls/host/k93jammy/v5.37.4-160-g0649414847/5674/lib/site_perl/5.37.5/Class/Load.pm line 180
Class::Load::try_load_class("ComponentUI", undef) called at /home/sand/src/perl/repoperls/installed-perls/host/k93jammy/v5.37.4-160-g0649414847/5674/lib/site_perl/5.37.5/Class/Load.pm line 35
Class::Load::load_class("ComponentUI") called at /home/sand/src/perl/repoperls/installed-perls/host/k93jammy/v5.37.4-160-g0649414847/5674/lib/site_perl/5.37.5/Test/WWW/Mechanize/Catalyst.pm line 245
Test::WWW::Mechanize::Catalyst::import("Test::WWW::Mechanize::Catalyst", "ComponentUI") called at t/uncheck_bool_field.t line 6
main::BEGIN() called at t/uncheck_bool_field.t line 6
eval {...} called at t/uncheck_bool_field.t line 6
Class::MOP::load_class is deprecated at /home/sand/src/perl/repoperls/installed-perls/host/k93jammy/v5.37.4-160-g0649414847/5674/lib/site_perl/5.37.5/x86_64-linux-ld/Class/MOP.pm line 69.
Class::MOP::load_class("Reaction::InterfaceModel::Object") called at /tmp/loop_over_bdir-3295373-8XPj17/Reaction-0.002005-0/blib/lib/Reaction/InterfaceModel/Reflector/DBIC.pm line 149
Reaction::InterfaceModel::Reflector::DBIC::reflect_schema(Reaction::InterfaceModel::Reflector::DBIC=HASH(0x5582a349bc08), "model_class", "ComponentUI::TestModel", "schema_class", "RTest::TestDB", "sources", ARRAY(0x5582a39c4958)) called at /tmp/loop_over_bdir-3295373-8XPj17/Reaction-0.002005-0/blib/lib/ComponentUI/TestModel.pm line 10
require ComponentUI/TestModel.pm called at /home/sand/src/perl/repoperls/installed-perls/host/k93jammy/v5.37.4-160-g0649414847/5674/lib/site_perl/5.37.5/Module/Runtime.pm line 314
Module::Runtime::require_module("ComponentUI::TestModel") called at /home/sand/src/perl/repoperls/installed-perls/host/k93jammy/v5.37.4-160-g0649414847/5674/lib/site_perl/5.37.5/Class/Load.pm line 174
Class::Load::try {...} () called at /home/sand/src/perl/repoperls/installed-perls/host/k93jammy/v5.37.4-160-g0649414847/5674/lib/site_perl/5.37.5/Try/Tiny.pm line 98
eval {...} called at /home/sand/src/perl/repoperls/installed-perls/host/k93jammy/v5.37.4-160-g0649414847/5674/lib/site_perl/5.37.5/Try/Tiny.pm line 93
Try::Tiny::try(CODE(0x5582a2e3e5c8), Try::Tiny::Catch=REF(0x5582a3497e80)) called at /home/sand/src/perl/repoperls/installed-perls/host/k93jammy/v5.37.4-160-g0649414847/5674/lib/site_perl/5.37.5/Class/Load.pm line 180
Class::Load::try_load_class("ComponentUI::TestModel", undef) called at /home/sand/src/perl/repoperls/installed-perls/host/k93jammy/v5.37.4-160-g0649414847/5674/lib/site_perl/5.37.5/Class/Load.pm line 35
Class::Load::load_class("ComponentUI::TestModel") called at /tmp/loop_over_bdir-3295373-8XPj17/Reaction-0.002005-0/blib/lib/Catalyst/Model/Reaction/InterfaceModel/DBIC.pm line 24
Catalyst::Model::Reaction::InterfaceModel::DBIC::COMPONENT("ComponentUI::Model::TestModel", "ComponentUI", HASH(0x5582a2ecbbc0)) called at /home/sand/src/perl/repoperls/installed-perls/host/k93jammy/v5.37.4-160-g0649414847/5674/lib/site_perl/5.37.5/Catalyst.pm line 3234
eval {...} called at /home/sand/src/perl/repoperls/installed-perls/host/k93jammy/v5.37.4-160-g0649414847/5674/lib/site_perl/5.37.5/Catalyst.pm line 3235
Catalyst::setup_component("ComponentUI", "ComponentUI::Model::TestModel") called at /home/sand/src/perl/repoperls/installed-perls/host/k93jammy/v5.37.4-160-g0649414847/5674/lib/site_perl/5.37.5/Catalyst.pm line 3212
Catalyst::__ANON__() called at /home/sand/src/perl/repoperls/installed-perls/host/k93jammy/v5.37.4-160-g0649414847/5674/lib/site_perl/5.37.5/Catalyst.pm line 3059
Catalyst::setup_components("ComponentUI") called at /home/sand/src/perl/repoperls/installed-perls/host/k93jammy/v5.37.4-160-g0649414847/5674/lib/site_perl/5.37.5/Catalyst.pm line 1431
Catalyst::setup("ComponentUI") called at /tmp/loop_over_bdir-3295373-8XPj17/Reaction-0.002005-0/blib/lib/ComponentUI.pm line 32
require ComponentUI.pm called at /home/sand/src/perl/repoperls/installed-perls/host/k93jammy/v5.37.4-160-g0649414847/5674/lib/site_perl/5.37.5/Module/Runtime.pm line 314
Module::Runtime::require_module("ComponentUI") called at /home/sand/src/perl/repoperls/installed-perls/host/k93jammy/v5.37.4-160-g0649414847/5674/lib/site_perl/5.37.5/Class/Load.pm line 174
Class::Load::try {...} () called at /home/sand/src/perl/repoperls/installed-perls/host/k93jammy/v5.37.4-160-g0649414847/5674/lib/site_perl/5.37.5/Try/Tiny.pm line 98
eval {...} called at /home/sand/src/perl/repoperls/installed-perls/host/k93jammy/v5.37.4-160-g0649414847/5674/lib/site_perl/5.37.5/Try/Tiny.pm line 93
Try::Tiny::try(CODE(0x55829c9aca88), Try::Tiny::Catch=REF(0x55829eb28ac8)) called at /home/sand/src/perl/repoperls/installed-perls/host/k93jammy/v5.37.4-160-g0649414847/5674/lib/site_perl/5.37.5/Class/Load.pm line 180
Class::Load::try_load_class("ComponentUI", undef) called at /home/sand/src/perl/repoperls/installed-perls/host/k93jammy/v5.37.4-160-g0649414847/5674/lib/site_perl/5.37.5/Class/Load.pm line 35
Class::Load::load_class("ComponentUI") called at /home/sand/src/perl/repoperls/installed-perls/host/k93jammy/v5.37.4-160-g0649414847/5674/lib/site_perl/5.37.5/Test/WWW/Mechanize/Catalyst.pm line 245
Test::WWW::Mechanize::Catalyst::import("Test::WWW::Mechanize::Catalyst", "ComponentUI") called at t/uncheck_bool_field.t line 6
main::BEGIN() called at t/uncheck_bool_field.t line 6
eval {...} called at t/uncheck_bool_field.t line 6
Class::MOP::load_class is deprecated at /home/sand/src/perl/repoperls/installed-perls/host/k93jammy/v5.37.4-160-g0649414847/5674/lib/site_perl/5.37.5/x86_64-linux-ld/Class/MOP.pm line 69.
Class::MOP::load_class("Reaction::InterfaceModel::Object") called at /tmp/loop_over_bdir-3295373-8XPj17/Reaction-0.002005-0/blib/lib/Reaction/Class.pm line 123
Reaction::Class::do_class_sub("Reaction::Class", "ComponentUI::TestModel::Foo", "ComponentUI::TestModel::Foo", "is", "Reaction::InterfaceModel::Object", "which", CODE(0x5582a3d01e38)) called at /tmp/loop_over_bdir-3295373-8XPj17/Reaction-0.002005-0/blib/lib/Reaction/Class.pm line 86
Reaction::Class::("ComponentUI::TestModel::Foo", "is", "Reaction::InterfaceModel::Object", "which", CODE(0x5582a3d01e38)) called at /tmp/loop_over_bdir-3295373-8XPj17/Reaction-0.002005-0/blib/lib/ComponentUI/TestModel/Foo.pm line 8
require ComponentUI/TestModel/Foo.pm called at /home/sand/src/perl/repoperls/installed-perls/host/k93jammy/v5.37.4-160-g0649414847/5674/lib/site_perl/5.37.5/Module/Runtime.pm line 314
Module::Runtime::require_module("ComponentUI::TestModel::Foo") called at /home/sand/src/perl/repoperls/installed-perls/host/k93jammy/v5.37.4-160-g0649414847/5674/lib/site_perl/5.37.5/Class/Load.pm line 174
Class::Load::try {...} () called at /home/sand/src/perl/repoperls/installed-perls/host/k93jammy/v5.37.4-160-g0649414847/5674/lib/site_perl/5.37.5/Try/Tiny.pm line 98
eval {...} called at /home/sand/src/perl/repoperls/installed-perls/host/k93jammy/v5.37.4-160-g0649414847/5674/lib/site_perl/5.37.5/Try/Tiny.pm line 93
Try::Tiny::try(CODE(0x5582a3ca5460), Try::Tiny::Catch=REF(0x5582a3ca8998)) called at /home/sand/src/perl/repoperls/installed-perls/host/k93jammy/v5.37.4-160-g0649414847/5674/lib/site_perl/5.37.5/Class/Load.pm line 180
Class::Load::try_load_class("ComponentUI::TestModel::Foo", undef) called at /home/sand/src/perl/repoperls/installed-perls/host/k93jammy/v5.37.4-160-g0649414847/5674/lib/site_perl/5.37.5/Class/Load.pm line 35
Class::Load::load_class("ComponentUI::TestModel::Foo") called at /tmp/loop_over_bdir-3295373-8XPj17/Reaction-0.002005-0/blib/lib/Reaction/InterfaceModel/Reflector/DBIC.pm line 892
eval {...} called at /tmp/loop_over_bdir-3295373-8XPj17/Reaction-0.002005-0/blib/lib/Reaction/InterfaceModel/Reflector/DBIC.pm line 892
Reaction::InterfaceModel::Reflector::DBIC::_maybe_load_class(Reaction::InterfaceModel::Reflector::DBIC=HASH(0x5582a349bc08), "ComponentUI::TestModel::Foo") called at /tmp/loop_over_bdir-3295373-8XPj17/Reaction-0.002005-0/blib/lib/Reaction/InterfaceModel/Reflector/DBIC.pm line 876
Reaction::InterfaceModel::Reflector::DBIC::_load_or_create(Reaction::InterfaceModel::Reflector::DBIC=HASH(0x5582a349bc08), "ComponentUI::TestModel::Foo", "superclasses", ARRAY(0x5582a3bd7910)) called at /tmp/loop_over_bdir-3295373-8XPj17/Reaction-0.002005-0/blib/lib/Reaction/InterfaceModel/Reflector/DBIC.pm line 448
Reaction::InterfaceModel::Reflector::DBIC::reflect_source_object(Reaction::InterfaceModel::Reflector::DBIC=HASH(0x5582a349bc08), "source_name", "Foo", "parent_class", "ComponentUI::TestModel", "schema_class", "RTest::TestDB", "parent_domain_model_name", ...) called at /tmp/loop_over_bdir-3295373-8XPj17/Reaction-0.002005-0/blib/lib/Reaction/InterfaceModel/Reflector/DBIC.pm line 323
Reaction::InterfaceModel::Reflector::DBIC::reflect_source(Reaction::InterfaceModel::Reflector::DBIC=HASH(0x5582a349bc08), "source_name", "Foo", "parent_class", "ComponentUI::TestModel", "schema_class", "RTest::TestDB", "source_class", ...) called at /tmp/loop_over_bdir-3295373-8XPj17/Reaction-0.002005-0/blib/lib/Reaction/InterfaceModel/Reflector/DBIC.pm line 185
Reaction::InterfaceModel::Reflector::DBIC::reflect_schema(Reaction::InterfaceModel::Reflector::DBIC=HASH(0x5582a349bc08), "model_class", "ComponentUI::TestModel", "schema_class", "RTest::TestDB", "sources", ARRAY(0x5582a39c4958)) called at /tmp/loop_over_bdir-3295373-8XPj17/Reaction-0.002005-0/blib/lib/ComponentUI/TestModel.pm line 10
require ComponentUI/TestModel.pm called at /home/sand/src/perl/repoperls/installed-perls/host/k93jammy/v5.37.4-160-g0649414847/5674/lib/site_perl/5.37.5/Module/Runtime.pm line 314
Module::Runtime::require_module("ComponentUI::TestModel") called at /home/sand/src/perl/repoperls/installed-perls/host/k93jammy/v5.37.4-160-g0649414847/5674/lib/site_perl/5.37.5/Class/Load.pm line 174
Class::Load::try {...} () called at /home/sand/src/perl/repoperls/installed-perls/host/k93jammy/v5.37.4-160-g0649414847/5674/lib/site_perl/5.37.5/Try/Tiny.pm line 98
eval {...} called at /home/sand/src/perl/repoperls/installed-perls/host/k93jammy/v5.37.4-160-g0649414847/5674/lib/site_perl/5.37.5/Try/Tiny.pm line 93
Try::Tiny::try(CODE(0x5582a2e3e5c8), Try::Tiny::Catch=REF(0x5582a3497e80)) called at /home/sand/src/perl/repoperls/installed-perls/host/k93jammy/v5.37.4-160-g0649414847/5674/lib/site_perl/5.37.5/Class/Load.pm line 180
Class::Load::try_load_class("ComponentUI::TestModel", undef) called at /home/sand/src/perl/repoperls/installed-perls/host/k93jammy/v5.37.4-160-g0649414847/5674/lib/site_perl/5.37.5/Class/Load.pm line 35
Class::Load::load_class("ComponentUI::TestModel") called at /tmp/loop_over_bdir-3295373-8XPj17/Reaction-0.002005-0/blib/lib/Catalyst/Model/Reaction/InterfaceModel/DBIC.pm line 24
Catalyst::Model::Reaction::InterfaceModel::DBIC::COMPONENT("ComponentUI::Model::TestModel", "ComponentUI", HASH(0x5582a2ecbbc0)) called at /home/sand/src/perl/repoperls/installed-perls/host/k93jammy/v5.37.4-160-g0649414847/5674/lib/site_perl/5.37.5/Catalyst.pm line 3234
eval {...} called at /home/sand/src/perl/repoperls/installed-perls/host/k93jammy/v5.37.4-160-g0649414847/5674/lib/site_perl/5.37.5/Catalyst.pm line 3235
Catalyst::setup_component("ComponentUI", "ComponentUI::Model::TestModel") called at /home/sand/src/perl/repoperls/installed-perls/host/k93jammy/v5.37.4-160-g0649414847/5674/lib/site_perl/5.37.5/Catalyst.pm line 3212
Catalyst::__ANON__() called at /home/sand/src/perl/repoperls/installed-perls/host/k93jammy/v5.37.4-160-g0649414847/5674/lib/site_perl/5.37.5/Catalyst.pm line 3059
Catalyst::setup_components("ComponentUI") called at /home/sand/src/perl/repoperls/installed-perls/host/k93jammy/v5.37.4-160-g0649414847/5674/lib/site_perl/5.37.5/Catalyst.pm line 1431
Catalyst::setup("ComponentUI") called at /tmp/loop_over_bdir-3295373-8XPj17/Reaction-0.002005-0/blib/lib/ComponentUI.pm line 32
require ComponentUI.pm called at /home/sand/src/perl/repoperls/installed-perls/host/k93jammy/v5.37.4-160-g0649414847/5674/lib/site_perl/5.37.5/Module/Runtime.pm line 314
Module::Runtime::require_module("ComponentUI") called at /home/sand/src/perl/repoperls/installed-perls/host/k93jammy/v5.37.4-160-g0649414847/5674/lib/site_perl/5.37.5/Class/Load.pm line 174
Class::Load::try {...} () called at /home/sand/src/perl/repoperls/installed-perls/host/k93jammy/v5.37.4-160-g0649414847/5674/lib/site_perl/5.37.5/Try/Tiny.pm line 98
eval {...} called at /home/sand/src/perl/repoperls/installed-perls/host/k93jammy/v5.37.4-160-g0649414847/5674/lib/site_perl/5.37.5/Try/Tiny.pm line 93
Try::Tiny::try(CODE(0x55829c9aca88), Try::Tiny::Catch=REF(0x55829eb28ac8)) called at /home/sand/src/perl/repoperls/installed-perls/host/k93jammy/v5.37.4-160-g0649414847/5674/lib/site_perl/5.37.5/Class/Load.pm line 180
Class::Load::try_load_class("ComponentUI", undef) called at /home/sand/src/perl/repoperls/installed-perls/host/k93jammy/v5.37.4-160-g0649414847/5674/lib/site_perl/5.37.5/Class/Load.pm line 35
Class::Load::load_class("ComponentUI") called at /home/sand/src/perl/repoperls/installed-perls/host/k93jammy/v5.37.4-160-g0649414847/5674/lib/site_perl/5.37.5/Test/WWW/Mechanize/Catalyst.pm line 245
Test::WWW::Mechanize::Catalyst::import("Test::WWW::Mechanize::Catalyst", "ComponentUI") called at t/uncheck_bool_field.t line 6
main::BEGIN() called at t/uncheck_bool_field.t line 6
eval {...} called at t/uncheck_bool_field.t line 6
Class::MOP::load_class is deprecated at /home/sand/src/perl/repoperls/installed-perls/host/k93jammy/v5.37.4-160-g0649414847/5674/lib/site_perl/5.37.5/x86_64-linux-ld/Class/MOP.pm line 69.
Class::MOP::load_class("ComponentUI::RenderingContext::Site") called at /tmp/loop_over_bdir-3295373-8XPj17/Reaction-0.002005-0/blib/lib/Reaction/UI/View.pm line 125
eval {...} called at /tmp/loop_over_bdir-3295373-8XPj17/Reaction-0.002005-0/blib/lib/Reaction/UI/View.pm line 125
Reaction::UI::View::find_related_class(ComponentUI::View::Site=HASH(0x5582a08045d0), "RenderingContext") called at /tmp/loop_over_bdir-3295373-8XPj17/Reaction-0.002005-0/blib/lib/Reaction/UI/View.pm line 43
Reaction::UI::View::_build_rendering_context_class(ComponentUI::View::Site=HASH(0x5582a08045d0)) called at reader Reaction::UI::View::rendering_context_class (defined at /tmp/loop_over_bdir-3295373-8XPj17/Reaction-0.002005-0/blib/lib/Reaction/UI/View.pm line 29) line 8
Reaction::UI::View::rendering_context_class(ComponentUI::View::Site=HASH(0x5582a08045d0)) called at /tmp/loop_over_bdir-3295373-8XPj17/Reaction-0.002005-0/blib/lib/Reaction/UI/View.pm line 134
Reaction::UI::View::create_rendering_context(ComponentUI::View::Site=HASH(0x5582a08045d0)) called at /tmp/loop_over_bdir-3295373-8XPj17/Reaction-0.002005-0/blib/lib/Reaction/UI/View.pm line 60
Reaction::UI::View::render_window(ComponentUI::View::Site=HASH(0x5582a08045d0), Reaction::UI::Window=HASH(0x5582a4277c28)) called at /tmp/loop_over_bdir-3295373-8XPj17/Reaction-0.002005-0/blib/lib/Reaction/UI/Window.pm line 74
Reaction::UI::Window::flush_view(Reaction::UI::Window=HASH(0x5582a4277c28)) called at /tmp/loop_over_bdir-3295373-8XPj17/Reaction-0.002005-0/blib/lib/Reaction/UI/Window.pm line 36
Reaction::UI::Window::flush(Reaction::UI::Window=HASH(0x5582a4277c28)) called at /tmp/loop_over_bdir-3295373-8XPj17/Reaction-0.002005-0/blib/lib/Reaction/UI/Controller/Root.pm line 38
Reaction::UI::Controller::Root::end(ComponentUI::Controller::Root=HASH(0x5582a42784a8), ComponentUI=HASH(0x5582a4265640)) called at /home/sand/src/perl/repoperls/installed-perls/host/k93jammy/v5.37.4-160-g0649414847/5674/lib/site_perl/5.37.5/Catalyst/Action.pm line 369
Catalyst::Action::execute(Catalyst::Action=HASH(0x5582a3eca8a0), ComponentUI::Controller::Root=HASH(0x5582a42784a8), ComponentUI=HASH(0x5582a4265640)) called at /home/sand/src/perl/repoperls/installed-perls/host/k93jammy/v5.37.4-160-g0649414847/5674/lib/site_perl/5.37.5/Catalyst.pm line 2060
eval {...} called at /home/sand/src/perl/repoperls/installed-perls/host/k93jammy/v5.37.4-160-g0649414847/5674/lib/site_perl/5.37.5/Catalyst.pm line 2060
Catalyst::execute(ComponentUI=HASH(0x5582a4265640), "ComponentUI::Controller::Root", Catalyst::Action=HASH(0x5582a3eca8a0)) called at /home/sand/src/perl/repoperls/installed-perls/host/k93jammy/v5.37.4-160-g0649414847/5674/lib/site_perl/5.37.5/Catalyst/Action.pm line 364
Catalyst::Action::dispatch(Catalyst::Action=HASH(0x5582a3eca8a0), ComponentUI=HASH(0x5582a4265640)) called at /home/sand/src/perl/repoperls/installed-perls/host/k93jammy/v5.37.4-160-g0649414847/5674/lib/site_perl/5.37.5/Catalyst/Controller.pm line 188
Catalyst::Controller::_END(ComponentUI::Controller::TestModel::Baz=HASH(0x5582a4236c50), ComponentUI=HASH(0x5582a4265640)) called at /home/sand/src/perl/repoperls/installed-perls/host/k93jammy/v5.37.4-160-g0649414847/5674/lib/site_perl/5.37.5/Catalyst/Action.pm line 369
Catalyst::Action::execute(Catalyst::Action=HASH(0x5582a40587d8), ComponentUI::Controller::TestModel::Baz=HASH(0x5582a4236c50), ComponentUI=HASH(0x5582a4265640)) called at /home/sand/src/perl/repoperls/installed-perls/host/k93jammy/v5.37.4-160-g0649414847/5674/lib/site_perl/5.37.5/Catalyst.pm line 2060
eval {...} called at /home/sand/src/perl/repoperls/installed-perls/host/k93jammy/v5.37.4-160-g0649414847/5674/lib/site_perl/5.37.5/Catalyst.pm line 2060
Catalyst::execute(ComponentUI=HASH(0x5582a4265640), "ComponentUI::Controller::TestModel::Baz", Catalyst::Action=HASH(0x5582a40587d8)) called at /home/sand/src/perl/repoperls/installed-perls/host/k93jammy/v5.37.4-160-g0649414847/5674/lib/site_perl/5.37.5/Catalyst/Action.pm line 364
Catalyst::Action::dispatch(Catalyst::Action=HASH(0x5582a40587d8), ComponentUI=HASH(0x5582a4265640)) called at /home/sand/src/perl/repoperls/installed-perls/host/k93jammy/v5.37.4-160-g0649414847/5674/lib/site_perl/5.37.5/Catalyst/Dispatcher.pm line 261
Catalyst::Dispatcher::_do_forward(Catalyst::Dispatcher=HASH(0x55829f1fa600), "forward", ComponentUI=HASH(0x5582a4265640), "_END") called at /home/sand/src/perl/repoperls/installed-perls/host/k93jammy/v5.37.4-160-g0649414847/5674/lib/site_perl/5.37.5/Catalyst/Dispatcher.pm line 241
Catalyst::Dispatcher::forward(Catalyst::Dispatcher=HASH(0x55829f1fa600), ComponentUI=HASH(0x5582a4265640), "_END") called at /home/sand/src/perl/repoperls/installed-perls/host/k93jammy/v5.37.4-160-g0649414847/5674/lib/site_perl/5.37.5/Catalyst.pm line 482
Catalyst::forward(ComponentUI=HASH(0x5582a4265640), "_END") called at /home/sand/src/perl/repoperls/installed-perls/host/k93jammy/v5.37.4-160-g0649414847/5674/lib/site_perl/5.37.5/Catalyst/Controller.pm line 137
Catalyst::Controller::_DISPATCH(ComponentUI::Controller::TestModel::Baz=HASH(0x5582a4236c50), ComponentUI=HASH(0x5582a4265640)) called at /home/sand/src/perl/repoperls/installed-perls/host/k93jammy/v5.37.4-160-g0649414847/5674/lib/site_perl/5.37.5/Catalyst/Action.pm line 369
Catalyst::Action::execute(Catalyst::Action=HASH(0x5582a4033328), ComponentUI::Controller::TestModel::Baz=HASH(0x5582a4236c50), ComponentUI=HASH(0x5582a4265640)) called at /home/sand/src/perl/repoperls/installed-perls/host/k93jammy/v5.37.4-160-g0649414847/5674/lib/site_perl/5.37.5/Catalyst.pm line 2060
eval {...} called at /home/sand/src/perl/repoperls/installed-perls/host/k93jammy/v5.37.4-160-g0649414847/5674/lib/site_perl/5.37.5/Catalyst.pm line 2060
Catalyst::execute(ComponentUI=HASH(0x5582a4265640), "ComponentUI::Controller::TestModel::Baz", Catalyst::Action=HASH(0x5582a4033328)) called at /home/sand/src/perl/repoperls/installed-perls/host/k93jammy/v5.37.4-160-g0649414847/5674/lib/site_perl/5.37.5/Catalyst/Action.pm line 364
Catalyst::Action::dispatch(Catalyst::Action=HASH(0x5582a4033328), ComponentUI=HASH(0x5582a4265640)) called at /home/sand/src/perl/repoperls/installed-perls/host/k93jammy/v5.37.4-160-g0649414847/5674/lib/site_perl/5.37.5/Catalyst/Dispatcher.pm line 261
Catalyst::Dispatcher::_do_forward(Catalyst::Dispatcher=HASH(0x55829f1fa600), "forward", ComponentUI=HASH(0x5582a4265640), "/testmodel/baz/_DISPATCH") called at /home/sand/src/perl/repoperls/installed-perls/host/k93jammy/v5.37.4-160-g0649414847/5674/lib/site_perl/5.37.5/Catalyst/Dispatcher.pm line 241
Catalyst::Dispatcher::forward(Catalyst::Dispatcher=HASH(0x55829f1fa600), ComponentUI=HASH(0x5582a4265640), "/testmodel/baz/_DISPATCH") called at /home/sand/src/perl/repoperls/installed-perls/host/k93jammy/v5.37.4-160-g0649414847/5674/lib/site_perl/5.37.5/Catalyst.pm line 482
Catalyst::forward(ComponentUI=HASH(0x5582a4265640), "/testmodel/baz/_DISPATCH") called at /home/sand/src/perl/repoperls/installed-perls/host/k93jammy/v5.37.4-160-g0649414847/5674/lib/site_perl/5.37.5/Catalyst/Dispatcher.pm line 107
Catalyst::Dispatcher::dispatch(Catalyst::Dispatcher=HASH(0x55829f1fa600), ComponentUI=HASH(0x5582a4265640)) called at /home/sand/src/perl/repoperls/installed-perls/host/k93jammy/v5.37.4-160-g0649414847/5674/lib/site_perl/5.37.5/Catalyst.pm line 2006
Catalyst::dispatch(ComponentUI=HASH(0x5582a4265640)) called at /home/sand/src/perl/repoperls/installed-perls/host/k93jammy/v5.37.4-160-g0649414847/5674/lib/site_perl/5.37.5/Catalyst/Plugin/Static/Simple.pm line 85
Class::MOP::Class:::around(CODE(0x55829f63cfa8), ComponentUI=HASH(0x5582a4265640)) called at /home/sand/src/perl/repoperls/installed-perls/host/k93jammy/v5.37.4-160-g0649414847/5674/lib/site_perl/5.37.5/x86_64-linux-ld/Class/MOP/Method/Wrapped.pm line 166
ComponentUI::_wrapped_dispatch(ComponentUI=HASH(0x5582a4265640)) called at /home/sand/src/perl/repoperls/installed-perls/host/k93jammy/v5.37.4-160-g0649414847/5674/lib/site_perl/5.37.5/x86_64-linux-ld/Class/MOP/Method/Wrapped.pm line 97
ComponentUI::dispatch(ComponentUI=HASH(0x5582a4265640)) called at /home/sand/src/perl/repoperls/installed-perls/host/k93jammy/v5.37.4-160-g0649414847/5674/lib/site_perl/5.37.5/Catalyst.pm line 2412
Catalyst::try {...} () called at /home/sand/src/perl/repoperls/installed-perls/host/k93jammy/v5.37.4-160-g0649414847/5674/lib/site_perl/5.37.5/Try/Tiny.pm line 102
eval {...} called at /home/sand/src/perl/repoperls/installed-perls/host/k93jammy/v5.37.4-160-g0649414847/5674/lib/site_perl/5.37.5/Try/Tiny.pm line 93
Try::Tiny::try(CODE(0x5582a4238e90), Try::Tiny::Catch=REF(0x5582a4238c98)) called at /home/sand/src/perl/repoperls/installed-perls/host/k93jammy/v5.37.4-160-g0649414847/5674/lib/site_perl/5.37.5/Catalyst.pm line 2421
Catalyst::handle_request("ComponentUI", "env", HASH(0x5582a4261228), "response_cb", CODE(0x5582a4238cf8)) called at /home/sand/src/perl/repoperls/installed-perls/host/k93jammy/v5.37.4-160-g0649414847/5674/lib/site_perl/5.37.5/Catalyst/Engine.pm line 807
Catalyst::Engine::__ANON__(CODE(0x5582a4238cf8)) called at /home/sand/src/perl/repoperls/installed-perls/host/k93jammy/v5.37.4-160-g0649414847/5674/lib/site_perl/5.37.5/Plack/Middleware/HTTPExceptions.pm line 32
Plack::Middleware::HTTPExceptions::try {...} () called at /home/sand/src/perl/repoperls/installed-perls/host/k93jammy/v5.37.4-160-g0649414847/5674/lib/site_perl/5.37.5/Try/Tiny.pm line 102
eval {...} called at /home/sand/src/perl/repoperls/installed-perls/host/k93jammy/v5.37.4-160-g0649414847/5674/lib/site_perl/5.37.5/Try/Tiny.pm line 93
Try::Tiny::try(CODE(0x5582a4238b30), Try::Tiny::Catch=REF(0x5582a4238380)) called at /home/sand/src/perl/repoperls/installed-perls/host/k93jammy/v5.37.4-160-g0649414847/5674/lib/site_perl/5.37.5/Plack/Middleware/HTTPExceptions.pm line 41
Plack::Middleware::HTTPExceptions::__ANON__(CODE(0x5582a4261870)) called at /home/sand/src/perl/repoperls/installed-perls/host/k93jammy/v5.37.4-160-g0649414847/5674/lib/site_perl/5.37.5/Plack/Util.pm line 339
Plack::Util::__ANON__(CODE(0x5582a4261120)) called at /home/sand/src/perl/repoperls/installed-perls/host/k93jammy/v5.37.4-160-g0649414847/5674/lib/site_perl/5.37.5/Plack/Util.pm line 339
Plack::Util::__ANON__(CODE(0x5582a4260f40)) called at /home/sand/src/perl/repoperls/installed-perls/host/k93jammy/v5.37.4-160-g0649414847/5674/lib/site_perl/5.37.5/Plack/Util.pm line 339
Plack::Util::__ANON__(CODE(0x5582a4260e68)) called at /home/sand/src/perl/repoperls/installed-perls/host/k93jammy/v5.37.4-160-g0649414847/5674/lib/site_perl/5.37.5/HTTP/Message/PSGI.pm line 100
HTTP::Message::PSGI::res_from_psgi(CODE(0x5582a42388d8)) called at /home/sand/src/perl/repoperls/installed-perls/host/k93jammy/v5.37.4-160-g0649414847/5674/lib/site_perl/5.37.5/HTTP/Message/PSGI.pm line 157
HTTP::Response::from_psgi("HTTP::Response", CODE(0x5582a42388d8)) called at /home/sand/src/perl/repoperls/installed-perls/host/k93jammy/v5.37.4-160-g0649414847/5674/lib/site_perl/5.37.5/Plack/Test/MockHTTP.pm line 24
Plack::Test::MockHTTP::try {...} () called at /home/sand/src/perl/repoperls/installed-perls/host/k93jammy/v5.37.4-160-g0649414847/5674/lib/site_perl/5.37.5/Try/Tiny.pm line 100
eval {...} called at /home/sand/src/perl/repoperls/installed-perls/host/k93jammy/v5.37.4-160-g0649414847/5674/lib/site_perl/5.37.5/Try/Tiny.pm line 93
Try::Tiny::try(CODE(0x5582a3e99050), Try::Tiny::Catch=REF(0x5582a3fc1790)) called at /home/sand/src/perl/repoperls/installed-perls/host/k93jammy/v5.37.4-160-g0649414847/5674/lib/site_perl/5.37.5/Plack/Test/MockHTTP.pm line 27
Plack::Test::MockHTTP::request(Plack::Test::MockHTTP=HASH(0x5582a41fea48), HTTP::Request=HASH(0x5582a41faa68)) called at /home/sand/src/perl/repoperls/installed-perls/host/k93jammy/v5.37.4-160-g0649414847/5674/lib/site_perl/5.37.5/Plack/Test.pm line 38
Plack::Test::__ANON__(HTTP::Request=HASH(0x5582a41faa68)) called at /home/sand/src/perl/repoperls/installed-perls/host/k93jammy/v5.37.4-160-g0649414847/5674/lib/site_perl/5.37.5/Catalyst/Test.pm line 290
Catalyst::Test::__ANON__(CODE(0x5582a41fe9d0)) called at /home/sand/src/perl/repoperls/installed-perls/host/k93jammy/v5.37.4-160-g0649414847/5674/lib/site_perl/5.37.5/Plack/Test.pm line 38
Plack::Test::test_psgi("mangle_response", CODE(0x55829eaf9a90), "app", CODE(0x5582a41fe580), "app", CODE(0x5582a41fe7c0), "client", CODE(0x5582a41fe868)) called at /home/sand/src/perl/repoperls/installed-perls/host/k93jammy/v5.37.4-160-g0649414847/5674/lib/site_perl/5.37.5/Catalyst/Test.pm line 293
Catalyst::Test::_request(HASH(0x5582a413d988), HTTP::Request=HASH(0x5582a41faa68)) called at /home/sand/src/perl/repoperls/installed-perls/host/k93jammy/v5.37.4-160-g0649414847/5674/lib/site_perl/5.37.5/Catalyst/Test.pm line 336
Catalyst::Test::_local_request("ComponentUI", HTTP::Request=HASH(0x5582a41faa68)) called at /home/sand/src/perl/repoperls/installed-perls/host/k93jammy/v5.37.4-160-g0649414847/5674/lib/site_perl/5.37.5/Test/WWW/Mechanize/Catalyst.pm line 176
Test::WWW::Mechanize::Catalyst::_do_catalyst_request(Test::WWW::Mechanize::Catalyst=HASH(0x5582a388cac0), HTTP::Request=HASH(0x5582a41faa68)) called at /home/sand/src/perl/repoperls/installed-perls/host/k93jammy/v5.37.4-160-g0649414847/5674/lib/site_perl/5.37.5/Test/WWW/Mechanize/Catalyst.pm line 78
Test::WWW::Mechanize::Catalyst::_make_request(Test::WWW::Mechanize::Catalyst=HASH(0x5582a388cac0), HTTP::Request=HASH(0x5582a41faa68)) called at /home/sand/src/perl/repoperls/installed-perls/host/k93jammy/v5.37.4-160-g0649414847/5674/lib/site_perl/5.37.5/WWW/Mechanize.pm line 1424
WWW::Mechanize::request(Test::WWW::Mechanize::Catalyst=HASH(0x5582a388cac0), HTTP::Request=HASH(0x5582a41faa68)) called at /home/sand/src/perl/repoperls/installed-perls/host/k93jammy/v5.37.4-160-g0649414847/5674/lib/site_perl/5.37.5/LWP/UserAgent.pm line 446
LWP::UserAgent::get(Test::WWW::Mechanize::Catalyst=HASH(0x5582a388cac0), "http://localhost/testmodel/baz/id/1/update") called at /home/sand/src/perl/repoperls/installed-perls/host/k93jammy/v5.37.4-160-g0649414847/5674/lib/site_perl/5.37.5/WWW/Mechanize.pm line 123
WWW::Mechanize::get(Test::WWW::Mechanize::Catalyst=HASH(0x5582a388cac0), "http://localhost/testmodel/baz/id/1/update") called at /home/sand/src/perl/repoperls/installed-perls/host/k93jammy/v5.37.4-160-g0649414847/5674/lib/site_perl/5.37.5/Test/WWW/Mechanize.pm line 192
Test::WWW::Mechanize::get_ok(Test::WWW::Mechanize::Catalyst=HASH(0x5582a388cac0), "http://localhost/testmodel/baz/id/1/update") called at t/uncheck_bool_field.t line 9
Class::MOP::is_class_loaded is deprecated at /home/sand/src/perl/repoperls/installed-perls/host/k93jammy/v5.37.4-160-g0649414847/5674/lib/site_perl/5.37.5/x86_64-linux-ld/Class/MOP.pm line 87.
Class::MOP::is_class_loaded("ComponentUI::UI::Widget::SiteLayout") called at /tmp/loop_over_bdir-3295373-8XPj17/Reaction-0.002005-0/blib/lib/Reaction/UI/Skin.pm line 178
Reaction::UI::Skin::widget_class_for(Reaction::UI::Skin=HASH(0x5582a42ba2b8), Reaction::UI::LayoutSet::TT=HASH(0x5582a472fee0)) called at /tmp/loop_over_bdir-3295373-8XPj17/Reaction-0.002005-0/blib/lib/Reaction/UI/LayoutSet.pm line 29
Reaction::UI::LayoutSet::BUILD(Reaction::UI::LayoutSet::TT=HASH(0x5582a472fee0), HASH(0x5582a472fec8)) called at constructor Reaction::UI::LayoutSet::TT::new (defined at /tmp/loop_over_bdir-3295373-8XPj17/Reaction-0.002005-0/blib/lib/Reaction/UI/LayoutSet/TT.pm line 43) line 80
Reaction::UI::LayoutSet::TT::new("Reaction::UI::LayoutSet::TT", "name", "site_layout", "skin", Reaction::UI::Skin=HASH(0x5582a42ba2b8), "tt_object", Template=HASH(0x5582a3b54878), "source_file", ...) called at /tmp/loop_over_bdir-3295373-8XPj17/Reaction-0.002005-0/blib/lib/Reaction/UI/Skin.pm line 115
Reaction::UI::Skin::_create_layout_set(Reaction::UI::Skin=HASH(0x5582a42ba2b8), "site_layout", ARRAY(0x5582a471e040), Reaction::UI::Skin=HASH(0x5582a42ba2b8)) called at /tmp/loop_over_bdir-3295373-8XPj17/Reaction-0.002005-0/blib/lib/Reaction/UI/Skin.pm line 110
Reaction::UI::Skin::create_layout_set(Reaction::UI::Skin=HASH(0x5582a42ba2b8), "site_layout") called at /tmp/loop_over_bdir-3295373-8XPj17/Reaction-0.002005-0/blib/lib/Reaction/UI/LayoutSet.pm line 83
Reaction::UI::LayoutSet::_load_file(Reaction::UI::LayoutSet::TT=HASH(0x5582a46b8aa0), Path::Class::File=HASH(0x5582a46b0a88), HASH(0x5582a46b0e18)) called at /tmp/loop_over_bdir-3295373-8XPj17/Reaction-0.002005-0/blib/lib/Reaction/UI/LayoutSet.pm line 27
Reaction::UI::LayoutSet::BUILD(Reaction::UI::LayoutSet::TT=HASH(0x5582a46b8aa0), HASH(0x5582a46b0e18)) called at constructor Reaction::UI::LayoutSet::TT::new (defined at /tmp/loop_over_bdir-3295373-8XPj17/Reaction-0.002005-0/blib/lib/Reaction/UI/LayoutSet/TT.pm line 43) line 80
Reaction::UI::LayoutSet::TT::new("Reaction::UI::LayoutSet::TT", "name", "site_layout", "skin", Reaction::UI::Skin=HASH(0x5582a46b4be8), "next_skin", Reaction::UI::Skin=HASH(0x5582a42ba2b8), "tt_object", ...) called at /tmp/loop_over_bdir-3295373-8XPj17/Reaction-0.002005-0/blib/lib/Reaction/UI/Skin.pm line 115
Reaction::UI::Skin::_create_layout_set(Reaction::UI::Skin=HASH(0x5582a46b4be8), "site_layout", ARRAY(0x5582a46cc1d8), Reaction::UI::Skin=HASH(0x5582a46b4be8)) called at /tmp/loop_over_bdir-3295373-8XPj17/Reaction-0.002005-0/blib/lib/Reaction/UI/Skin.pm line 110
Reaction::UI::Skin::create_layout_set(Reaction::UI::Skin=HASH(0x5582a46b4be8), "site_layout") called at /tmp/loop_over_bdir-3295373-8XPj17/Reaction-0.002005-0/blib/lib/Reaction/UI/LayoutSet.pm line 83
Reaction::UI::LayoutSet::_load_file(Reaction::UI::LayoutSet::TT=HASH(0x5582a4654a98), Path::Class::File=HASH(0x5582a4697580), HASH(0x5582a46b6cf8)) called at /tmp/loop_over_bdir-3295373-8XPj17/Reaction-0.002005-0/blib/lib/Reaction/UI/LayoutSet.pm line 27
Reaction::UI::LayoutSet::BUILD(Reaction::UI::LayoutSet::TT=HASH(0x5582a4654a98), HASH(0x5582a46b6cf8)) called at constructor Reaction::UI::LayoutSet::TT::new (defined at /tmp/loop_over_bdir-3295373-8XPj17/Reaction-0.002005-0/blib/lib/Reaction/UI/LayoutSet/TT.pm line 43) line 80
Reaction::UI::LayoutSet::TT::new("Reaction::UI::LayoutSet::TT", "name", "site_layout", "skin", Reaction::UI::Skin=HASH(0x5582a46ff0c0), "next_skin", Reaction::UI::Skin=HASH(0x5582a46b4be8), "tt_object", ...) called at /tmp/loop_over_bdir-3295373-8XPj17/Reaction-0.002005-0/blib/lib/Reaction/UI/Skin.pm line 115
Reaction::UI::Skin::_create_layout_set(Reaction::UI::Skin=HASH(0x5582a46ff0c0), "site_layout", ARRAY(0x5582a46b5008), Reaction::UI::Skin=HASH(0x5582a46ff0c0)) called at /tmp/loop_over_bdir-3295373-8XPj17/Reaction-0.002005-0/blib/lib/Reaction/UI/Skin.pm line 110
Reaction::UI::Skin::create_layout_set(Reaction::UI::Skin=HASH(0x5582a46ff0c0), "site_layout") called at inline delegation in Reaction::UI::View for skin->create_layout_set (attribute declared in /tmp/loop_over_bdir-3295373-8XPj17/Reaction-0.002005-0/blib/lib/Reaction/UI/View.pm at line 22) line 18
Reaction::UI::View::create_layout_set(ComponentUI::View::Site=HASH(0x5582a08045d0), "site_layout") called at /tmp/loop_over_bdir-3295373-8XPj17/Reaction-0.002005-0/blib/lib/Reaction/UI/View.pm line 99
Reaction::UI::View::layout_set_for(ComponentUI::View::Site=HASH(0x5582a08045d0), Reaction::UI::ViewPort::SiteLayout=HASH(0x5582a4278b50)) called at /tmp/loop_over_bdir-3295373-8XPj17/Reaction-0.002005-0/blib/lib/Reaction/UI/View.pm line 78
Reaction::UI::View::render_viewport_args(ComponentUI::View::Site=HASH(0x5582a08045d0), Reaction::UI::ViewPort::SiteLayout=HASH(0x5582a4278b50)) called at /tmp/loop_over_bdir-3295373-8XPj17/Reaction-0.002005-0/blib/lib/Reaction/UI/View.pm line 61
Reaction::UI::View::render_window(ComponentUI::View::Site=HASH(0x5582a08045d0), Reaction::UI::Window=HASH(0x5582a4277c28)) called at /tmp/loop_over_bdir-3295373-8XPj17/Reaction-0.002005-0/blib/lib/Reaction/UI/Window.pm line 74
Reaction::UI::Window::flush_view(Reaction::UI::Window=HASH(0x5582a4277c28)) called at /tmp/loop_over_bdir-3295373-8XPj17/Reaction-0.002005-0/blib/lib/Reaction/UI/Window.pm line 36
Reaction::UI::Window::flush(Reaction::UI::Window=HASH(0x5582a4277c28)) called at /tmp/loop_over_bdir-3295373-8XPj17/Reaction-0.002005-0/blib/lib/Reaction/UI/Controller/Root.pm line 38
Reaction::UI::Controller::Root::end(ComponentUI::Controller::Root=HASH(0x5582a42784a8), ComponentUI=HASH(0x5582a4265640)) called at /home/sand/src/perl/repoperls/installed-perls/host/k93jammy/v5.37.4-160-g0649414847/5674/lib/site_perl/5.37.5/Catalyst/Action.pm line 369
Catalyst::Action::execute(Catalyst::Action=HASH(0x5582a3eca8a0), ComponentUI::Controller::Root=HASH(0x5582a42784a8), ComponentUI=HASH(0x5582a4265640)) called at /home/sand/src/perl/repoperls/installed-perls/host/k93jammy/v5.37.4-160-g0649414847/5674/lib/site_perl/5.37.5/Catalyst.pm line 2060
eval {...} called at /home/sand/src/perl/repoperls/installed-perls/host/k93jammy/v5.37.4-160-g0649414847/5674/lib/site_perl/5.37.5/Catalyst.pm line 2060
Catalyst::execute(ComponentUI=HASH(0x5582a4265640), "ComponentUI::Controller::Root", Catalyst::Action=HASH(0x5582a3eca8a0)) called at /home/sand/src/perl/repoperls/installed-perls/host/k93jammy/v5.37.4-160-g0649414847/5674/lib/site_perl/5.37.5/Catalyst/Action.pm line 364
Catalyst::Action::dispatch(Catalyst::Action=HASH(0x5582a3eca8a0), ComponentUI=HASH(0x5582a4265640)) called at /home/sand/src/perl/repoperls/installed-perls/host/k93jammy/v5.37.4-160-g0649414847/5674/lib/site_perl/5.37.5/Catalyst/Controller.pm line 188
Catalyst::Controller::_END(ComponentUI::Controller::TestModel::Baz=HASH(0x5582a4236c50), ComponentUI=HASH(0x5582a4265640)) called at /home/sand/src/perl/repoperls/installed-perls/host/k93jammy/v5.37.4-160-g0649414847/5674/lib/site_perl/5.37.5/Catalyst/Action.pm line 369
Catalyst::Action::execute(Catalyst::Action=HASH(0x5582a40587d8), ComponentUI::Controller::TestModel::Baz=HASH(0x5582a4236c50), ComponentUI=HASH(0x5582a4265640)) called at /home/sand/src/perl/repoperls/installed-perls/host/k93jammy/v5.37.4-160-g0649414847/5674/lib/site_perl/5.37.5/Catalyst.pm line 2060
eval {...} called at /home/sand/src/perl/repoperls/installed-perls/host/k93jammy/v5.37.4-160-g0649414847/5674/lib/site_perl/5.37.5/Catalyst.pm line 2060
Catalyst::execute(ComponentUI=HASH(0x5582a4265640), "ComponentUI::Controller::TestModel::Baz", Catalyst::Action=HASH(0x5582a40587d8)) called at /home/sand/src/perl/repoperls/installed-perls/host/k93jammy/v5.37.4-160-g0649414847/5674/lib/site_perl/5.37.5/Catalyst/Action.pm line 364
Catalyst::Action::dispatch(Catalyst::Action=HASH(0x5582a40587d8), ComponentUI=HASH(0x5582a4265640)) called at /home/sand/src/perl/repoperls/installed-perls/host/k93jammy/v5.37.4-160-g0649414847/5674/lib/site_perl/5.37.5/Catalyst/Dispatcher.pm line 261
Catalyst::Dispatcher::_do_forward(Catalyst::Dispatcher=HASH(0x55829f1fa600), "forward", ComponentUI=HASH(0x5582a4265640), "_END") called at /home/sand/src/perl/repoperls/installed-perls/host/k93jammy/v5.37.4-160-g0649414847/5674/lib/site_perl/5.37.5/Catalyst/Dispatcher.pm line 241
Catalyst::Dispatcher::forward(Catalyst::Dispatcher=HASH(0x55829f1fa600), ComponentUI=HASH(0x5582a4265640), "_END") called at /home/sand/src/perl/repoperls/installed-perls/host/k93jammy/v5.37.4-160-g0649414847/5674/lib/site_perl/5.37.5/Catalyst.pm line 482
Catalyst::forward(ComponentUI=HASH(0x5582a4265640), "_END") called at /home/sand/src/perl/repoperls/installed-perls/host/k93jammy/v5.37.4-160-g0649414847/5674/lib/site_perl/5.37.5/Catalyst/Controller.pm line 137
Catalyst::Controller::_DISPATCH(ComponentUI::Controller::TestModel::Baz=HASH(0x5582a4236c50), ComponentUI=HASH(0x5582a4265640)) called at /home/sand/src/perl/repoperls/installed-perls/host/k93jammy/v5.37.4-160-g0649414847/5674/lib/site_perl/5.37.5/Catalyst/Action.pm line 369
Catalyst::Action::execute(Catalyst::Action=HASH(0x5582a4033328), ComponentUI::Controller::TestModel::Baz=HASH(0x5582a4236c50), ComponentUI=HASH(0x5582a4265640)) called at /home/sand/src/perl/repoperls/installed-perls/host/k93jammy/v5.37.4-160-g0649414847/5674/lib/site_perl/5.37.5/Catalyst.pm line 2060
eval {...} called at /home/sand/src/perl/repoperls/installed-perls/host/k93jammy/v5.37.4-160-g0649414847/5674/lib/site_perl/5.37.5/Catalyst.pm line 2060
Catalyst::execute(ComponentUI=HASH(0x5582a4265640), "ComponentUI::Controller::TestModel::Baz", Catalyst::Action=HASH(0x5582a4033328)) called at /home/sand/src/perl/repoperls/installed-perls/host/k93jammy/v5.37.4-160-g0649414847/5674/lib/site_perl/5.37.5/Catalyst/Action.pm line 364
Catalyst::Action::dispatch(Catalyst::Action=HASH(0x5582a4033328), ComponentUI=HASH(0x5582a4265640)) called at /home/sand/src/perl/repoperls/installed-perls/host/k93jammy/v5.37.4-160-g0649414847/5674/lib/site_perl/5.37.5/Catalyst/Dispatcher.pm line 261
Catalyst::Dispatcher::_do_forward(Catalyst::Dispatcher=HASH(0x55829f1fa600), "forward", ComponentUI=HASH(0x5582a4265640), "/testmodel/baz/_DISPATCH") called at /home/sand/src/perl/repoperls/installed-perls/host/k93jammy/v5.37.4-160-g0649414847/5674/lib/site_perl/5.37.5/Catalyst/Dispatcher.pm line 241
Catalyst::Dispatcher::forward(Catalyst::Dispatcher=HASH(0x55829f1fa600), ComponentUI=HASH(0x5582a4265640), "/testmodel/baz/_DISPATCH") called at /home/sand/src/perl/repoperls/installed-perls/host/k93jammy/v5.37.4-160-g0649414847/5674/lib/site_perl/5.37.5/Catalyst.pm line 482
Catalyst::forward(ComponentUI=HASH(0x5582a4265640), "/testmodel/baz/_DISPATCH") called at /home/sand/src/perl/repoperls/installed-perls/host/k93jammy/v5.37.4-160-g0649414847/5674/lib/site_perl/5.37.5/Catalyst/Dispatcher.pm line 107
Catalyst::Dispatcher::dispatch(Catalyst::Dispatcher=HASH(0x55829f1fa600), ComponentUI=HASH(0x5582a4265640)) called at /home/sand/src/perl/repoperls/installed-perls/host/k93jammy/v5.37.4-160-g0649414847/5674/lib/site_perl/5.37.5/Catalyst.pm line 2006
Catalyst::dispatch(ComponentUI=HASH(0x5582a4265640)) called at /home/sand/src/perl/repoperls/installed-perls/host/k93jammy/v5.37.4-160-g0649414847/5674/lib/site_perl/5.37.5/Catalyst/Plugin/Static/Simple.pm line 85
Class::MOP::Class:::around(CODE(0x55829f63cfa8), ComponentUI=HASH(0x5582a4265640)) called at /home/sand/src/perl/repoperls/installed-perls/host/k93jammy/v5.37.4-160-g0649414847/5674/lib/site_perl/5.37.5/x86_64-linux-ld/Class/MOP/Method/Wrapped.pm line 166
ComponentUI::_wrapped_dispatch(ComponentUI=HASH(0x5582a4265640)) called at /home/sand/src/perl/repoperls/installed-perls/host/k93jammy/v5.37.4-160-g0649414847/5674/lib/site_perl/5.37.5/x86_64-linux-ld/Class/MOP/Method/Wrapped.pm line 97
ComponentUI::dispatch(ComponentUI=HASH(0x5582a4265640)) called at /home/sand/src/perl/repoperls/installed-perls/host/k93jammy/v5.37.4-160-g0649414847/5674/lib/site_perl/5.37.5/Catalyst.pm line 2412
Catalyst::try {...} () called at /home/sand/src/perl/repoperls/installed-perls/host/k93jammy/v5.37.4-160-g0649414847/5674/lib/site_perl/5.37.5/Try/Tiny.pm line 102
eval {...} called at /home/sand/src/perl/repoperls/installed-perls/host/k93jammy/v5.37.4-160-g0649414847/5674/lib/site_perl/5.37.5/Try/Tiny.pm line 93
Try::Tiny::try(CODE(0x5582a4238e90), Try::Tiny::Catch=REF(0x5582a4238c98)) called at /home/sand/src/perl/repoperls/installed-perls/host/k93jammy/v5.37.4-160-g0649414847/5674/lib/site_perl/5.37.5/Catalyst.pm line 2421
Catalyst::handle_request("ComponentUI", "env", HASH(0x5582a4261228), "response_cb", CODE(0x5582a4238cf8)) called at /home/sand/src/perl/repoperls/installed-perls/host/k93jammy/v5.37.4-160-g0649414847/5674/lib/site_perl/5.37.5/Catalyst/Engine.pm line 807
Catalyst::Engine::__ANON__(CODE(0x5582a4238cf8)) called at /home/sand/src/perl/repoperls/installed-perls/host/k93jammy/v5.37.4-160-g0649414847/5674/lib/site_perl/5.37.5/Plack/Middleware/HTTPExceptions.pm line 32
Plack::Middleware::HTTPExceptions::try {...} () called at /home/sand/src/perl/repoperls/installed-perls/host/k93jammy/v5.37.4-160-g0649414847/5674/lib/site_perl/5.37.5/Try/Tiny.pm line 102
eval {...} called at /home/sand/src/perl/repoperls/installed-perls/host/k93jammy/v5.37.4-160-g0649414847/5674/lib/site_perl/5.37.5/Try/Tiny.pm line 93
Try::Tiny::try(CODE(0x5582a4238b30), Try::Tiny::Catch=REF(0x5582a4238380)) called at /home/sand/src/perl/repoperls/installed-perls/host/k93jammy/v5.37.4-160-g0649414847/5674/lib/site_perl/5.37.5/Plack/Middleware/HTTPExceptions.pm line 41
Plack::Middleware::HTTPExceptions::__ANON__(CODE(0x5582a4261870)) called at /home/sand/src/perl/repoperls/installed-perls/host/k93jammy/v5.37.4-160-g0649414847/5674/lib/site_perl/5.37.5/Plack/Util.pm line 339
Plack::Util::__ANON__(CODE(0x5582a4261120)) called at /home/sand/src/perl/repoperls/installed-perls/host/k93jammy/v5.37.4-160-g0649414847/5674/lib/site_perl/5.37.5/Plack/Util.pm line 339
Plack::Util::__ANON__(CODE(0x5582a4260f40)) called at /home/sand/src/perl/repoperls/installed-perls/host/k93jammy/v5.37.4-160-g0649414847/5674/lib/site_perl/5.37.5/Plack/Util.pm line 339
Plack::Util::__ANON__(CODE(0x5582a4260e68)) called at /home/sand/src/perl/repoperls/installed-perls/host/k93jammy/v5.37.4-160-g0649414847/5674/lib/site_perl/5.37.5/HTTP/Message/PSGI.pm line 100
HTTP::Message::PSGI::res_from_psgi(CODE(0x5582a42388d8)) called at /home/sand/src/perl/repoperls/installed-perls/host/k93jammy/v5.37.4-160-g0649414847/5674/lib/site_perl/5.37.5/HTTP/Message/PSGI.pm line 157
HTTP::Response::from_psgi("HTTP::Response", CODE(0x5582a42388d8)) called at /home/sand/src/perl/repoperls/installed-perls/host/k93jammy/v5.37.4-160-g0649414847/5674/lib/site_perl/5.37.5/Plack/Test/MockHTTP.pm line 24
Plack::Test::MockHTTP::try {...} () called at /home/sand/src/perl/repoperls/installed-perls/host/k93jammy/v5.37.4-160-g0649414847/5674/lib/site_perl/5.37.5/Try/Tiny.pm line 100
eval {...} called at /home/sand/src/perl/repoperls/installed-perls/host/k93jammy/v5.37.4-160-g0649414847/5674/lib/site_perl/5.37.5/Try/Tiny.pm line 93
Try::Tiny::try(CODE(0x5582a3e99050), Try::Tiny::Catch=REF(0x5582a3fc1790)) called at /home/sand/src/perl/repoperls/installed-perls/host/k93jammy/v5.37.4-160-g0649414847/5674/lib/site_perl/5.37.5/Plack/Test/MockHTTP.pm line 27
Plack::Test::MockHTTP::request(Plack::Test::MockHTTP=HASH(0x5582a41fea48), HTTP::Request=HASH(0x5582a41faa68)) called at /home/sand/src/perl/repoperls/installed-perls/host/k93jammy/v5.37.4-160-g0649414847/5674/lib/site_perl/5.37.5/Plack/Test.pm line 38
Plack::Test::__ANON__(HTTP::Request=HASH(0x5582a41faa68)) called at /home/sand/src/perl/repoperls/installed-perls/host/k93jammy/v5.37.4-160-g0649414847/5674/lib/site_perl/5.37.5/Catalyst/Test.pm line 290
Catalyst::Test::__ANON__(CODE(0x5582a41fe9d0)) called at /home/sand/src/perl/repoperls/installed-perls/host/k93jammy/v5.37.4-160-g0649414847/5674/lib/site_perl/5.37.5/Plack/Test.pm line 38
Plack::Test::test_psgi("mangle_response", CODE(0x55829eaf9a90), "app", CODE(0x5582a41fe580), "app", CODE(0x5582a41fe7c0), "client", CODE(0x5582a41fe868)) called at /home/sand/src/perl/repoperls/installed-perls/host/k93jammy/v5.37.4-160-g0649414847/5674/lib/site_perl/5.37.5/Catalyst/Test.pm line 293
Catalyst::Test::_request(HASH(0x5582a413d988), HTTP::Request=HASH(0x5582a41faa68)) called at /home/sand/src/perl/repoperls/installed-perls/host/k93jammy/v5.37.4-160-g0649414847/5674/lib/site_perl/5.37.5/Catalyst/Test.pm line 336
Catalyst::Test::_local_request("ComponentUI", HTTP::Request=HASH(0x5582a41faa68)) called at /home/sand/src/perl/repoperls/installed-perls/host/k93jammy/v5.37.4-160-g0649414847/5674/lib/site_perl/5.37.5/Test/WWW/Mechanize/Catalyst.pm line 176
Test::WWW::Mechanize::Catalyst::_do_catalyst_request(Test::WWW::Mechanize::Catalyst=HASH(0x5582a388cac0), HTTP::Request=HASH(0x5582a41faa68)) called at /home/sand/src/perl/repoperls/installed-perls/host/k93jammy/v5.37.4-160-g0649414847/5674/lib/site_perl/5.37.5/Test/WWW/Mechanize/Catalyst.pm line 78
Test::WWW::Mechanize::Catalyst::_make_request(Test::WWW::Mechanize::Catalyst=HASH(0x5582a388cac0), HTTP::Request=HASH(0x5582a41faa68)) called at /home/sand/src/perl/repoperls/installed-perls/host/k93jammy/v5.37.4-160-g0649414847/5674/lib/site_perl/5.37.5/WWW/Mechanize.pm line 1424
WWW::Mechanize::request(Test::WWW::Mechanize::Catalyst=HASH(0x5582a388cac0), HTTP::Request=HASH(0x5582a41faa68)) called at /home/sand/src/perl/repoperls/installed-perls/host/k93jammy/v5.37.4-160-g0649414847/5674/lib/site_perl/5.37.5/LWP/UserAgent.pm line 446
LWP::UserAgent::get(Test::WWW::Mechanize::Catalyst=HASH(0x5582a388cac0), "http://localhost/testmodel/baz/id/1/update") called at /home/sand/src/perl/repoperls/installed-perls/host/k93jammy/v5.37.4-160-g0649414847/5674/lib/site_perl/5.37.5/WWW/Mechanize.pm line 123
WWW::Mechanize::get(Test::WWW::Mechanize::Catalyst=HASH(0x5582a388cac0), "http://localhost/testmodel/baz/id/1/update") called at /home/sand/src/perl/repoperls/installed-perls/host/k93jammy/v5.37.4-160-g0649414847/5674/lib/site_perl/5.37.5/Test/WWW/Mechanize.pm line 192
Test::WWW::Mechanize::get_ok(Test::WWW::Mechanize::Catalyst=HASH(0x5582a388cac0), "http://localhost/testmodel/baz/id/1/update") called at t/uncheck_bool_field.t line 9
Class::MOP::load_class is deprecated at /home/sand/src/perl/repoperls/installed-perls/host/k93jammy/v5.37.4-160-g0649414847/5674/lib/site_perl/5.37.5/x86_64-linux-ld/Class/MOP.pm line 69.
Class::MOP::load_class("Reaction::UI::Widget::SiteLayout") called at /tmp/loop_over_bdir-3295373-8XPj17/Reaction-0.002005-0/blib/lib/Reaction/UI/Skin.pm line 181
eval {...} called at /tmp/loop_over_bdir-3295373-8XPj17/Reaction-0.002005-0/blib/lib/Reaction/UI/Skin.pm line 181
Reaction::UI::Skin::widget_class_for(Reaction::UI::Skin=HASH(0x5582a42ba2b8), Reaction::UI::LayoutSet::TT=HASH(0x5582a472fee0)) called at /tmp/loop_over_bdir-3295373-8XPj17/Reaction-0.002005-0/blib/lib/Reaction/UI/LayoutSet.pm line 29
Reaction::UI::LayoutSet::BUILD(Reaction::UI::LayoutSet::TT=HASH(0x5582a472fee0), HASH(0x5582a472fec8)) called at constructor Reaction::UI::LayoutSet::TT::new (defined at /tmp/loop_over_bdir-3295373-8XPj17/Reaction-0.002005-0/blib/lib/Reaction/UI/LayoutSet/TT.pm line 43) line 80
Reaction::UI::LayoutSet::TT::new("Reaction::UI::LayoutSet::TT", "name", "site_layout", "skin", Reaction::UI::Skin=HASH(0x5582a42ba2b8), "tt_object", Template=HASH(0x5582a3b54878), "source_file", ...) called at /tmp/loop_over_bdir-3295373-8XPj17/Reaction-0.002005-0/blib/lib/Reaction/UI/Skin.pm line 115
Reaction::UI::Skin::_create_layout_set(Reaction::UI::Skin=HASH(0x5582a42ba2b8), "site_layout", ARRAY(0x5582a471e040), Reaction::UI::Skin=HASH(0x5582a42ba2b8)) called at /tmp/loop_over_bdir-3295373-8XPj17/Reaction-0.002005-0/blib/lib/Reaction/UI/Skin.pm line 110
Reaction::UI::Skin::create_layout_set(Reaction::UI::Skin=HASH(0x5582a42ba2b8), "site_layout") called at /tmp/loop_over_bdir-3295373-8XPj17/Reaction-0.002005-0/blib/lib/Reaction/UI/LayoutSet.pm line 83
Reaction::UI::LayoutSet::_load_file(Reaction::UI::LayoutSet::TT=HASH(0x5582a46b8aa0), Path::Class::File=HASH(0x5582a46b0a88), HASH(0x5582a46b0e18)) called at /tmp/loop_over_bdir-3295373-8XPj17/Reaction-0.002005-0/blib/lib/Reaction/UI/LayoutSet.pm line 27
Reaction::UI::LayoutSet::BUILD(Reaction::UI::LayoutSet::TT=HASH(0x5582a46b8aa0), HASH(0x5582a46b0e18)) called at constructor Reaction::UI::LayoutSet::TT::new (defined at /tmp/loop_over_bdir-3295373-8XPj17/Reaction-0.002005-0/blib/lib/Reaction/UI/LayoutSet/TT.pm line 43) line 80
Reaction::UI::LayoutSet::TT::new("Reaction::UI::LayoutSet::TT", "name", "site_layout", "skin", Reaction::UI::Skin=HASH(0x5582a46b4be8), "next_skin", Reaction::UI::Skin=HASH(0x5582a42ba2b8), "tt_object", ...) called at /tmp/loop_over_bdir-3295373-8XPj17/Reaction-0.002005-0/blib/lib/Reaction/UI/Skin.pm line 115
Reaction::UI::Skin::_create_layout_set(Reaction::UI::Skin=HASH(0x5582a46b4be8), "site_layout", ARRAY(0x5582a46cc1d8), Reaction::UI::Skin=HASH(0x5582a46b4be8)) called at /tmp/loop_over_bdir-3295373-8XPj17/Reaction-0.002005-0/blib/lib/Reaction/UI/Skin.pm line 110
Reaction::UI::Skin::create_layout_set(Reaction::UI::Skin=HASH(0x5582a46b4be8), "site_layout") called at /tmp/loop_over_bdir-3295373-8XPj17/Reaction-0.002005-0/blib/lib/Reaction/UI/LayoutSet.pm line 83
Reaction::UI::LayoutSet::_load_file(Reaction::UI::LayoutSet::TT=HASH(0x5582a4654a98), Path::Class::File=HASH(0x5582a4697580), HASH(0x5582a46b6cf8)) called at /tmp/loop_over_bdir-3295373-8XPj17/Reaction-0.002005-0/blib/lib/Reaction/UI/LayoutSet.pm line 27
Reaction::UI::LayoutSet::BUILD(Reaction::UI::LayoutSet::TT=HASH(0x5582a4654a98), HASH(0x5582a46b6cf8)) called at constructor Reaction::UI::LayoutSet::TT::new (defined at /tmp/loop_over_bdir-3295373-8XPj17/Reaction-0.002005-0/blib/lib/Reaction/UI/LayoutSet/TT.pm line 43) line 80
Reaction::UI::LayoutSet::TT::new("Reaction::UI::LayoutSet::TT", "name", "site_layout", "skin", Reaction::UI::Skin=HASH(0x5582a46ff0c0), "next_skin", Reaction::UI::Skin=HASH(0x5582a46b4be8), "tt_object", ...) called at /tmp/loop_over_bdir-3295373-8XPj17/Reaction-0.002005-0/blib/lib/Reaction/UI/Skin.pm line 115
Reaction::UI::Skin::_create_layout_set(Reaction::UI::Skin=HASH(0x5582a46ff0c0), "site_layout", ARRAY(0x5582a46b5008), Reaction::UI::Skin=HASH(0x5582a46ff0c0)) called at /tmp/loop_over_bdir-3295373-8XPj17/Reaction-0.002005-0/blib/lib/Reaction/UI/Skin.pm line 110
Reaction::UI::Skin::create_layout_set(Reaction::UI::Skin=HASH(0x5582a46ff0c0), "site_layout") called at inline delegation in Reaction::UI::View for skin->create_layout_set (attribute declared in /tmp/loop_over_bdir-3295373-8XPj17/Reaction-0.002005-0/blib/lib/Reaction/UI/View.pm at line 22) line 18
Reaction::UI::View::create_layout_set(ComponentUI::View::Site=HASH(0x5582a08045d0), "site_layout") called at /tmp/loop_over_bdir-3295373-8XPj17/Reaction-0.002005-0/blib/lib/Reaction/UI/View.pm line 99
Reaction::UI::View::layout_set_for(ComponentUI::View::Site=HASH(0x5582a08045d0), Reaction::UI::ViewPort::SiteLayout=HASH(0x5582a4278b50)) called at /tmp/loop_over_bdir-3295373-8XPj17/Reaction-0.002005-0/blib/lib/Reaction/UI/View.pm line 78
Reaction::UI::View::render_viewport_args(ComponentUI::View::Site=HASH(0x5582a08045d0), Reaction::UI::ViewPort::SiteLayout=HASH(0x5582a4278b50)) called at /tmp/loop_over_bdir-3295373-8XPj17/Reaction-0.002005-0/blib/lib/Reaction/UI/View.pm line 61
Reaction::UI::View::render_window(ComponentUI::View::Site=HASH(0x5582a08045d0), Reaction::UI::Window=HASH(0x5582a4277c28)) called at /tmp/loop_over_bdir-3295373-8XPj17/Reaction-0.002005-0/blib/lib/Reaction/UI/Window.pm line 74
Reaction::UI::Window::flush_view(Reaction::UI::Window=HASH(0x5582a4277c28)) called at /tmp/loop_over_bdir-3295373-8XPj17/Reaction-0.002005-0/blib/lib/Reaction/UI/Window.pm line 36
Reaction::UI::Window::flush(Reaction::UI::Window=HASH(0x5582a4277c28)) called at /tmp/loop_over_bdir-3295373-8XPj17/Reaction-0.002005-0/blib/lib/Reaction/UI/Controller/Root.pm line 38
Reaction::UI::Controller::Root::end(ComponentUI::Controller::Root=HASH(0x5582a42784a8), ComponentUI=HASH(0x5582a4265640)) called at /home/sand/src/perl/repoperls/installed-perls/host/k93jammy/v5.37.4-160-g0649414847/5674/lib/site_perl/5.37.5/Catalyst/Action.pm line 369
Catalyst::Action::execute(Catalyst::Action=HASH(0x5582a3eca8a0), ComponentUI::Controller::Root=HASH(0x5582a42784a8), ComponentUI=HASH(0x5582a4265640)) called at /home/sand/src/perl/repoperls/installed-perls/host/k93jammy/v5.37.4-160-g0649414847/5674/lib/site_perl/5.37.5/Catalyst.pm line 2060
eval {...} called at /home/sand/src/perl/repoperls/installed-perls/host/k93jammy/v5.37.4-160-g0649414847/5674/lib/site_perl/5.37.5/Catalyst.pm line 2060
Catalyst::execute(ComponentUI=HASH(0x5582a4265640), "ComponentUI::Controller::Root", Catalyst::Action=HASH(0x5582a3eca8a0)) called at /home/sand/src/perl/repoperls/installed-perls/host/k93jammy/v5.37.4-160-g0649414847/5674/lib/site_perl/5.37.5/Catalyst/Action.pm line 364
Catalyst::Action::dispatch(Catalyst::Action=HASH(0x5582a3eca8a0), ComponentUI=HASH(0x5582a4265640)) called at /home/sand/src/perl/repoperls/installed-perls/host/k93jammy/v5.37.4-160-g0649414847/5674/lib/site_perl/5.37.5/Catalyst/Controller.pm line 188
Catalyst::Controller::_END(ComponentUI::Controller::TestModel::Baz=HASH(0x5582a4236c50), ComponentUI=HASH(0x5582a4265640)) called at /home/sand/src/perl/repoperls/installed-perls/host/k93jammy/v5.37.4-160-g0649414847/5674/lib/site_perl/5.37.5/Catalyst/Action.pm line 369
Catalyst::Action::execute(Catalyst::Action=HASH(0x5582a40587d8), ComponentUI::Controller::TestModel::Baz=HASH(0x5582a4236c50), ComponentUI=HASH(0x5582a4265640)) called at /home/sand/src/perl/repoperls/installed-perls/host/k93jammy/v5.37.4-160-g0649414847/5674/lib/site_perl/5.37.5/Catalyst.pm line 2060
eval {...} called at /home/sand/src/perl/repoperls/installed-perls/host/k93jammy/v5.37.4-160-g0649414847/5674/lib/site_perl/5.37.5/Catalyst.pm line 2060
Catalyst::execute(ComponentUI=HASH(0x5582a4265640), "ComponentUI::Controller::TestModel::Baz", Catalyst::Action=HASH(0x5582a40587d8)) called at /home/sand/src/perl/repoperls/installed-perls/host/k93jammy/v5.37.4-160-g0649414847/5674/lib/site_perl/5.37.5/Catalyst/Action.pm line 364
Catalyst::Action::dispatch(Catalyst::Action=HASH(0x5582a40587d8), ComponentUI=HASH(0x5582a4265640)) called at /home/sand/src/perl/repoperls/installed-perls/host/k93jammy/v5.37.4-160-g0649414847/5674/lib/site_perl/5.37.5/Catalyst/Dispatcher.pm line 261
Catalyst::Dispatcher::_do_forward(Catalyst::Dispatcher=HASH(0x55829f1fa600), "forward", ComponentUI=HASH(0x5582a4265640), "_END") called at /home/sand/src/perl/repoperls/installed-perls/host/k93jammy/v5.37.4-160-g0649414847/5674/lib/site_perl/5.37.5/Catalyst/Dispatcher.pm line 241
Catalyst::Dispatcher::forward(Catalyst::Dispatcher=HASH(0x55829f1fa600), ComponentUI=HASH(0x5582a4265640), "_END") called at /home/sand/src/perl/repoperls/installed-perls/host/k93jammy/v5.37.4-160-g0649414847/5674/lib/site_perl/5.37.5/Catalyst.pm line 482
Catalyst::forward(ComponentUI=HASH(0x5582a4265640), "_END") called at /home/sand/src/perl/repoperls/installed-perls/host/k93jammy/v5.37.4-160-g0649414847/5674/lib/site_perl/5.37.5/Catalyst/Controller.pm line 137
Catalyst::Controller::_DISPATCH(ComponentUI::Controller::TestModel::Baz=HASH(0x5582a4236c50), ComponentUI=HASH(0x5582a4265640)) called at /home/sand/src/perl/repoperls/installed-perls/host/k93jammy/v5.37.4-160-g0649414847/5674/lib/site_perl/5.37.5/Catalyst/Action.pm line 369
Catalyst::Action::execute(Catalyst::Action=HASH(0x5582a4033328), ComponentUI::Controller::TestModel::Baz=HASH(0x5582a4236c50), ComponentUI=HASH(0x5582a4265640)) called at /home/sand/src/perl/repoperls/installed-perls/host/k93jammy/v5.37.4-160-g0649414847/5674/lib/site_perl/5.37.5/Catalyst.pm line 2060
eval {...} called at /home/sand/src/perl/repoperls/installed-perls/host/k93jammy/v5.37.4-160-g0649414847/5674/lib/site_perl/5.37.5/Catalyst.pm line 2060
Catalyst::execute(ComponentUI=HASH(0x5582a4265640), "ComponentUI::Controller::TestModel::Baz", Catalyst::Action=HASH(0x5582a4033328)) called at /home/sand/src/perl/repoperls/installed-perls/host/k93jammy/v5.37.4-160-g0649414847/5674/lib/site_perl/5.37.5/Catalyst/Action.pm line 364
Catalyst::Action::dispatch(Catalyst::Action=HASH(0x5582a4033328), ComponentUI=HASH(0x5582a4265640)) called at /home/sand/src/perl/repoperls/installed-perls/host/k93jammy/v5.37.4-160-g0649414847/5674/lib/site_perl/5.37.5/Catalyst/Dispatcher.pm line 261
Catalyst::Dispatcher::_do_forward(Catalyst::Dispatcher=HASH(0x55829f1fa600), "forward", ComponentUI=HASH(0x5582a4265640), "/testmodel/baz/_DISPATCH") called at /home/sand/src/perl/repoperls/installed-perls/host/k93jammy/v5.37.4-160-g0649414847/5674/lib/site_perl/5.37.5/Catalyst/Dispatcher.pm line 241
Catalyst::Dispatcher::forward(Catalyst::Dispatcher=HASH(0x55829f1fa600), ComponentUI=HASH(0x5582a4265640), "/testmodel/baz/_DISPATCH") called at /home/sand/src/perl/repoperls/installed-perls/host/k93jammy/v5.37.4-160-g0649414847/5674/lib/site_perl/5.37.5/Catalyst.pm line 482
Catalyst::forward(ComponentUI=HASH(0x5582a4265640), "/testmodel/baz/_DISPATCH") called at /home/sand/src/perl/repoperls/installed-perls/host/k93jammy/v5.37.4-160-g0649414847/5674/lib/site_perl/5.37.5/Catalyst/Dispatcher.pm line 107
Catalyst::Dispatcher::dispatch(Catalyst::Dispatcher=HASH(0x55829f1fa600), ComponentUI=HASH(0x5582a4265640)) called at /home/sand/src/perl/repoperls/installed-perls/host/k93jammy/v5.37.4-160-g0649414847/5674/lib/site_perl/5.37.5/Catalyst.pm line 2006
Catalyst::dispatch(ComponentUI=HASH(0x5582a4265640)) called at /home/sand/src/perl/repoperls/installed-perls/host/k93jammy/v5.37.4-160-g0649414847/5674/lib/site_perl/5.37.5/Catalyst/Plugin/Static/Simple.pm line 85
Class::MOP::Class:::around(CODE(0x55829f63cfa8), ComponentUI=HASH(0x5582a4265640)) called at /home/sand/src/perl/repoperls/installed-perls/host/k93jammy/v5.37.4-160-g0649414847/5674/lib/site_perl/5.37.5/x86_64-linux-ld/Class/MOP/Method/Wrapped.pm line 166
ComponentUI::_wrapped_dispatch(ComponentUI=HASH(0x5582a4265640)) called at /home/sand/src/perl/repoperls/installed-perls/host/k93jammy/v5.37.4-160-g0649414847/5674/lib/site_perl/5.37.5/x86_64-linux-ld/Class/MOP/Method/Wrapped.pm line 97
ComponentUI::dispatch(ComponentUI=HASH(0x5582a4265640)) called at /home/sand/src/perl/repoperls/installed-perls/host/k93jammy/v5.37.4-160-g0649414847/5674/lib/site_perl/5.37.5/Catalyst.pm line 2412
Catalyst::try {...} () called at /home/sand/src/perl/repoperls/installed-perls/host/k93jammy/v5.37.4-160-g0649414847/5674/lib/site_perl/5.37.5/Try/Tiny.pm line 102
eval {...} called at /home/sand/src/perl/repoperls/installed-perls/host/k93jammy/v5.37.4-160-g0649414847/5674/lib/site_perl/5.37.5/Try/Tiny.pm line 93
Try::Tiny::try(CODE(0x5582a4238e90), Try::Tiny::Catch=REF(0x5582a4238c98)) called at /home/sand/src/perl/repoperls/installed-perls/host/k93jammy/v5.37.4-160-g0649414847/5674/lib/site_perl/5.37.5/Catalyst.pm line 2421
Catalyst::handle_request("ComponentUI", "env", HASH(0x5582a4261228), "response_cb", CODE(0x5582a4238cf8)) called at /home/sand/src/perl/repoperls/installed-perls/host/k93jammy/v5.37.4-160-g0649414847/5674/lib/site_perl/5.37.5/Catalyst/Engine.pm line 807
Catalyst::Engine::__ANON__(CODE(0x5582a4238cf8)) called at /home/sand/src/perl/repoperls/installed-perls/host/k93jammy/v5.37.4-160-g0649414847/5674/lib/site_perl/5.37.5/Plack/Middleware/HTTPExceptions.pm line 32
Plack::Middleware::HTTPExceptions::try {...} () called at /home/sand/src/perl/repoperls/installed-perls/host/k93jammy/v5.37.4-160-g0649414847/5674/lib/site_perl/5.37.5/Try/Tiny.pm line 102
eval {...} called at /home/sand/src/perl/repoperls/installed-perls/host/k93jammy/v5.37.4-160-g0649414847/5674/lib/site_perl/5.37.5/Try/Tiny.pm line 93
Try::Tiny::try(CODE(0x5582a4238b30), Try::Tiny::Catch=REF(0x5582a4238380)) called at /home/sand/src/perl/repoperls/installed-perls/host/k93jammy/v5.37.4-160-g0649414847/5674/lib/site_perl/5.37.5/Plack/Middleware/HTTPExceptions.pm line 41
Plack::Middleware::HTTPExceptions::__ANON__(CODE(0x5582a4261870)) called at /home/sand/src/perl/repoperls/installed-perls/host/k93jammy/v5.37.4-160-g0649414847/5674/lib/site_perl/5.37.5/Plack/Util.pm line 339
Plack::Util::__ANON__(CODE(0x5582a4261120)) called at /home/sand/src/perl/repoperls/installed-perls/host/k93jammy/v5.37.4-160-g0649414847/5674/lib/site_perl/5.37.5/Plack/Util.pm line 339
Plack::Util::__ANON__(CODE(0x5582a4260f40)) called at /home/sand/src/perl/repoperls/installed-perls/host/k93jammy/v5.37.4-160-g0649414847/5674/lib/site_perl/5.37.5/Plack/Util.pm line 339
Plack::Util::__ANON__(CODE(0x5582a4260e68)) called at /home/sand/src/perl/repoperls/installed-perls/host/k93jammy/v5.37.4-160-g0649414847/5674/lib/site_perl/5.37.5/HTTP/Message/PSGI.pm line 100
HTTP::Message::PSGI::res_from_psgi(CODE(0x5582a42388d8)) called at /home/sand/src/perl/repoperls/installed-perls/host/k93jammy/v5.37.4-160-g0649414847/5674/lib/site_perl/5.37.5/HTTP/Message/PSGI.pm line 157
HTTP::Response::from_psgi("HTTP::Response", CODE(0x5582a42388d8)) called at /home/sand/src/perl/repoperls/installed-perls/host/k93jammy/v5.37.4-160-g0649414847/5674/lib/site_perl/5.37.5/Plack/Test/MockHTTP.pm line 24
Plack::Test::MockHTTP::try {...} () called at /home/sand/src/perl/repoperls/installed-perls/host/k93jammy/v5.37.4-160-g0649414847/5674/lib/site_perl/5.37.5/Try/Tiny.pm line 100
eval {...} called at /home/sand/src/perl/repoperls/installed-perls/host/k93jammy/v5.37.4-160-g0649414847/5674/lib/site_perl/5.37.5/Try/Tiny.pm line 93
Try::Tiny::try(CODE(0x5582a3e99050), Try::Tiny::Catch=REF(0x5582a3fc1790)) called at /home/sand/src/perl/repoperls/installed-perls/host/k93jammy/v5.37.4-160-g0649414847/5674/lib/site_perl/5.37.5/Plack/Test/MockHTTP.pm line 27
Plack::Test::MockHTTP::request(Plack::Test::MockHTTP=HASH(0x5582a41fea48), HTTP::Request=HASH(0x5582a41faa68)) called at /home/sand/src/perl/repoperls/installed-perls/host/k93jammy/v5.37.4-160-g0649414847/5674/lib/site_perl/5.37.5/Plack/Test.pm line 38
Plack::Test::__ANON__(HTTP::Request=HASH(0x5582a41faa68)) called at /home/sand/src/perl/repoperls/installed-perls/host/k93jammy/v5.37.4-160-g0649414847/5674/lib/site_perl/5.37.5/Catalyst/Test.pm line 290
Catalyst::Test::__ANON__(CODE(0x5582a41fe9d0)) called at /home/sand/src/perl/repoperls/installed-perls/host/k93jammy/v5.37.4-160-g0649414847/5674/lib/site_perl/5.37.5/Plack/Test.pm line 38
Plack::Test::test_psgi("mangle_response", CODE(0x55829eaf9a90), "app", CODE(0x5582a41fe580), "app", CODE(0x5582a41fe7c0), "client", CODE(0x5582a41fe868)) called at /home/sand/src/perl/repoperls/installed-perls/host/k93jammy/v5.37.4-160-g0649414847/5674/lib/site_perl/5.37.5/Catalyst/Test.pm line 293
Catalyst::Test::_request(HASH(0x5582a413d988), HTTP::Request=HASH(0x5582a41faa68)) called at /home/sand/src/perl/repoperls/installed-perls/host/k93jammy/v5.37.4-160-g0649414847/5674/lib/site_perl/5.37.5/Catalyst/Test.pm line 336
Catalyst::Test::_local_request("ComponentUI", HTTP::Request=HASH(0x5582a41faa68)) called at /home/sand/src/perl/repoperls/installed-perls/host/k93jammy/v5.37.4-160-g0649414847/5674/lib/site_perl/5.37.5/Test/WWW/Mechanize/Catalyst.pm line 176
Test::WWW::Mechanize::Catalyst::_do_catalyst_request(Test::WWW::Mechanize::Catalyst=HASH(0x5582a388cac0), HTTP::Request=HASH(0x5582a41faa68)) called at /home/sand/src/perl/repoperls/installed-perls/host/k93jammy/v5.37.4-160-g0649414847/5674/lib/site_perl/5.37.5/Test/WWW/Mechanize/Catalyst.pm line 78
Test::WWW::Mechanize::Catalyst::_make_request(Test::WWW::Mechanize::Catalyst=HASH(0x5582a388cac0), HTTP::Request=HASH(0x5582a41faa68)) called at /home/sand/src/perl/repoperls/installed-perls/host/k93jammy/v5.37.4-160-g0649414847/5674/lib/site_perl/5.37.5/WWW/Mechanize.pm line 1424
WWW::Mechanize::request(Test::WWW::Mechanize::Catalyst=HASH(0x5582a388cac0), HTTP::Request=HASH(0x5582a41faa68)) called at /home/sand/src/perl/repoperls/installed-perls/host/k93jammy/v5.37.4-160-g0649414847/5674/lib/site_perl/5.37.5/LWP/UserAgent.pm line 446
LWP::UserAgent::get(Test::WWW::Mechanize::Catalyst=HASH(0x5582a388cac0), "http://localhost/testmodel/baz/id/1/update") called at /home/sand/src/perl/repoperls/installed-perls/host/k93jammy/v5.37.4-160-g0649414847/5674/lib/site_perl/5.37.5/WWW/Mechanize.pm line 123
WWW::Mechanize::get(Test::WWW::Mechanize::Catalyst=HASH(0x5582a388cac0), "http://localhost/testmodel/baz/id/1/update") called at /home/sand/src/perl/repoperls/installed-perls/host/k93jammy/v5.37.4-160-g0649414847/5674/lib/site_perl/5.37.5/Test/WWW/Mechanize.pm line 192
Test::WWW::Mechanize::get_ok(Test::WWW::Mechanize::Catalyst=HASH(0x5582a388cac0), "http://localhost/testmodel/baz/id/1/update") called at t/uncheck_bool_field.t line 9
t/uncheck_bool_field.t ...... ok
All tests successful.
Files=9, Tests=604, 13 wallclock secs ( 0.07 usr 0.01 sys + 11.20 cusr 0.79 csys = 12.07 CPU)
Result: PASS
------------------------------
PREREQUISITES
------------------------------
Prerequisite modules loaded:
requires:
Module Need Have
--------------------------------------- --------- --------
aliased 0.22 0.34
Catalyst 5.80002 5.90129
Catalyst::Component::ACCEPT_CONTEXT 0.05 0.07
Catalyst::Component::InstancePerContext 0.001001 0.001001
Catalyst::Model::DBIC::Schema 0.23 0.65
Catalyst::Plugin::ConfigLoader 0.23 0.35
Catalyst::Plugin::I18N 0.09 0.10
Catalyst::Plugin::Static::Simple 0.21 0.37
Catalyst::View::TT 0.29 0.46
Class::MOP 0.81 2.2201
Config::General 2.42 2.65
Crypt::Eksblowfish::Bcrypt 0.005 0.009
DateTime 0.47 1.59
DateTime::Event::Recurrence 0.16 0.19
DateTime::Span 0 0.3900
DBIx::Class 0.08100 0.082843
DBIx::Class::IntrospectableM2M 0.001001 0.001002
Devel::Declare 0.005000 0.006022
Email::Valid 0.181 1.203
ExtUtils::MakeMaker 6.11 7.64
File::ShareDir 1.00 1.118
File::Spec 3.29 3.87
JSON 0 4.10
metaclass 0.81 2.2201
Method::Signatures::Simple 0.03 1.07
Moose 0.74 2.2201
MooseX::MethodAttributes 0.18 0.32
MooseX::Role::Parameterized 0.24 1.11
MooseX::Types 0.10 0.50
MooseX::Types::Common 0.001000 0.001014
MooseX::Types::DateTime 0.03 0.13
MooseX::Types::URI 0.02 0.09
namespace::clean 0.11 0.27
Path::Class::Dir 0 0.37
Path::Class::File 0 0.37
perl 5.008001 5.037005
Scalar::Util 1.19 1.63
signatures 0.05 0.14
SQL::Translator 0.11002 1.62
Sub::Exporter 0.982 0.988
Sub::Name 0.04 0.26
Template 2.20 3.101
Test::Class 0.31 0.52
Test::Memory::Cycle 1.04 1.06
Test::WWW::Mechanize::Catalyst 0.51 0.62
Time::ParseDate 2006.0814 2015.103
URI 1.37 5.16
build_requires:
Module Need Have
--------------------------------------- --------- --------
ExtUtils::MakeMaker 6.42 7.64
SQL::Translator 0.11002 1.62
Test::Class 0.31 0.52
Test::Memory::Cycle 1.04 1.06
Test::WWW::Mechanize::Catalyst 0.51 0.62
configure_requires:
Module Need Have
--------------------------------------- --------- --------
ExtUtils::MakeMaker 6.42 7.64
------------------------------
ENVIRONMENT AND OTHER CONTEXT
------------------------------
Environment variables:
AUTOMATED_TESTING = 1
LANG = en_US.UTF-8
LC_ADDRESS = de_DE.UTF-8
LC_IDENTIFICATION = de_DE.UTF-8
LC_MEASUREMENT = de_DE.UTF-8
LC_MONETARY = de_DE.UTF-8
LC_NAME = de_DE.UTF-8
LC_NUMERIC = de_DE.UTF-8
LC_PAPER = de_DE.UTF-8
LC_TELEPHONE = de_DE.UTF-8
LC_TIME = de_DE.UTF-8
PATH = /home/sand/bin:/usr/local/bin:/usr/local/sbin:/usr/sbin:/usr/bin:/sbin:/bin:/usr/games:/usr/local/games:/snap/bin:/usr/local/perl/bin:/usr/X11/bin
PERL5LIB = /tmp/loop_over_bdir-3295373-8XPj17/HTML-Menu-TreeView-1.22-0/blib/arch:/tmp/loop_over_bdir-3295373-8XPj17/HTML-Menu-TreeView-1.22-0/blib/lib:/tmp/loop_over_bdir-3295373-8XPj17/Simulation-Automate-1.0.1-0/blib/arch:/tmp/loop_over_bdir-3295373-8XPj17/Simulation-Automate-1.0.1-0/blib/lib:/tmp/loop_over_bdir-3295373-8XPj17/Devel-Required-0.16-0/blib/arch:/tmp/loop_over_bdir-3295373-8XPj17/Devel-Required-0.16-0/blib/lib:/tmp/loop_over_bdir-3295373-8XPj17/Debian-Packages-0.03-0/blib/arch:/tmp/loop_over_bdir-3295373-8XPj17/Debian-Packages-0.03-0/blib/lib:/tmp/loop_over_bdir-3295373-8XPj17/triceps-2.1.0-0/blib/arch:/tmp/loop_over_bdir-3295373-8XPj17/triceps-2.1.0-0/blib/lib:/tmp/loop_over_bdir-3295373-8XPj17/EJBCA-CrlPublish-0.60-0/blib/arch:/tmp/loop_over_bdir-3295373-8XPj17/EJBCA-CrlPublish-0.60-0/blib/lib:/tmp/loop_over_bdir-3295373-8XPj17/Dpkg-1.21.9-0/blib/arch:/tmp/loop_over_bdir-3295373-8XPj17/Dpkg-1.21.9-0/blib/lib:/tmp/loop_over_bdir-3295373-8XPj17/dta-tokwrap-0.98-0/blib/arch:/tmp/loop_over_bdir-3295373-8XPj17/dta-tokwrap-0.98-0/blib/lib
PERL5OPT =
PERL5_CPANPLUS_IS_RUNNING = 3295381
PERL5_CPAN_IS_RUNNING = 3295381
PERL_CANARY_STABILITY_NOPROMPT = 1
PERL_MM_USE_DEFAULT = 1
PERL_USE_UNSAFE_INC = 1
SHELL = /usr/bin/zsh
TERM = screen
Perl special variables (and OS-specific diagnostics, for MSWin32):
$^X = /tmp/basesmoker-reloperl-lwNQ/bin/perl
$UID/$EUID = 1005 / 1005
$GID = 1005 1005
$EGID = 1005 1005
Perl module toolchain versions installed:
Module Have
------------------- --------
CPAN 2.34
CPAN::Meta 2.150010
Cwd 3.86
ExtUtils::CBuilder 0.280237
ExtUtils::Command 7.64
ExtUtils::Install 2.20
ExtUtils::MakeMaker 7.64
ExtUtils::Manifest 1.73
ExtUtils::ParseXS 3.46
File::Spec 3.87
JSON 4.10
JSON::PP 4.12
Module::Build 0.4231
Module::Signature 0.88
Parse::CPAN::Meta 2.150010
Test::Harness 3.44
Test::More 1.302191
YAML 1.30
YAML::Syck 1.34
version 0.9929
--
Summary of my perl5 (revision 5 version 37 subversion 5) configuration:
Commit id: 064941484781d9099db0bbe7d6ea22a826df1e15
Platform:
osname=linux
osvers=5.15.0-50-generic
archname=x86_64-linux-ld
uname='linux k93jammy 5.15.0-50-generic #56-ubuntu smp tue sep 20 13:23:26 utc 2022 x86_64 x86_64 x86_64 gnulinux '
config_args='-Dprefix=/home/sand/src/perl/repoperls/installed-perls/host/k93jammy/v5.37.4-160-g0649414847/5674 -Dmyhostname=k93jammy -Dinstallusrbinperl=n -Uversiononly -Dusedevel -des -Ui_db -Dlibswanted=cl pthread socket inet nsl gdbm dbm malloc dl ld sun m crypt sec util c cposix posix ucb BSD gdbm_compat -Uuseithreads -Duselongdouble -DEBUGGING=-g'
hint=recommended
useposix=true
d_sigaction=define
useithreads=undef
usemultiplicity=undef
use64bitint=define
use64bitall=define
uselongdouble=define
usemymalloc=n
default_inc_excludes_dot=define
Compiler:
cc='cc'
ccflags ='-fwrapv -fno-strict-aliasing -pipe -fstack-protector-strong -I/usr/local/include -D_LARGEFILE_SOURCE -D_FILE_OFFSET_BITS=64'
optimize='-O2 -g'
cppflags='-fwrapv -fno-strict-aliasing -pipe -fstack-protector-strong -I/usr/local/include'
ccversion=''
gccversion='11.3.0'
gccosandvers=''
intsize=4
longsize=8
ptrsize=8
doublesize=8
byteorder=12345678
doublekind=3
d_longlong=define
longlongsize=8
d_longdbl=define
longdblsize=16
longdblkind=3
ivtype='long'
ivsize=8
nvtype='long double'
nvsize=16
Off_t='off_t'
lseeksize=8
alignbytes=16
prototype=define
Linker and Libraries:
ld='cc'
ldflags =' -fstack-protector-strong -L/usr/local/lib'
libpth=/usr/local/lib /usr/lib/x86_64-linux-gnu /usr/lib /usr/lib64
libs=-lpthread -lnsl -ldl -lm -lcrypt -lutil -lc
perllibs=-lpthread -lnsl -ldl -lm -lcrypt -lutil -lc
libc=/lib/x86_64-linux-gnu/libc.so.6
so=so
useshrplib=false
libperl=libperl.a
gnulibc_version='2.35'
Dynamic Linking:
dlsrc=dl_dlopen.xs
dlext=so
d_dlsymun=undef
ccdlflags='-Wl,-E'
cccdlflags='-fPIC'
lddlflags='-shared -O2 -g -L/usr/local/lib -fstack-protector-strong'
Characteristics of this binary (from libperl):
Compile-time options:
HAS_TIMES
PERLIO_LAYERS
PERL_COPY_ON_WRITE
PERL_DONT_CREATE_GVSV
PERL_HASH_FUNC_SIPHASH13
PERL_HASH_USE_SBOX32
PERL_MALLOC_WRAP
PERL_OP_PARENT
PERL_PRESERVE_IVUV
PERL_USE_DEVEL
PERL_USE_SAFE_PUTENV
USE_64_BIT_ALL
USE_64_BIT_INT
USE_LARGE_FILES
USE_LOCALE
USE_LOCALE_COLLATE
USE_LOCALE_CTYPE
USE_LOCALE_NUMERIC
USE_LOCALE_TIME
USE_LONG_DOUBLE
USE_PERLIO
USE_PERL_ATOF
Built under linux
Compiled at Oct 29 2022 19:33:37
%ENV:
PERL5LIB="/tmp/loop_over_bdir-3295373-8XPj17/HTML-Menu-TreeView-1.22-0/blib/arch:/tmp/loop_over_bdir-3295373-8XPj17/HTML-Menu-TreeView-1.22-0/blib/lib:/tmp/loop_over_bdir-3295373-8XPj17/Simulation-Automate-1.0.1-0/blib/arch:/tmp/loop_over_bdir-3295373-8XPj17/Simulation-Automate-1.0.1-0/blib/lib:/tmp/loop_over_bdir-3295373-8XPj17/Devel-Required-0.16-0/blib/arch:/tmp/loop_over_bdir-3295373-8XPj17/Devel-Required-0.16-0/blib/lib:/tmp/loop_over_bdir-3295373-8XPj17/Debian-Packages-0.03-0/blib/arch:/tmp/loop_over_bdir-3295373-8XPj17/Debian-Packages-0.03-0/blib/lib:/tmp/loop_over_bdir-3295373-8XPj17/triceps-2.1.0-0/blib/arch:/tmp/loop_over_bdir-3295373-8XPj17/triceps-2.1.0-0/blib/lib:/tmp/loop_over_bdir-3295373-8XPj17/EJBCA-CrlPublish-0.60-0/blib/arch:/tmp/loop_over_bdir-3295373-8XPj17/EJBCA-CrlPublish-0.60-0/blib/lib:/tmp/loop_over_bdir-3295373-8XPj17/Dpkg-1.21.9-0/blib/arch:/tmp/loop_over_bdir-3295373-8XPj17/Dpkg-1.21.9-0/blib/lib:/tmp/loop_over_bdir-3295373-8XPj17/dta-tokwrap-0.98-0/blib/arch:/tmp/loop_over_bdir-3295373-8XPj17/dta-tokwrap-0.98-0/blib/lib"
PERL5OPT=""
PERL5_CPANPLUS_IS_RUNNING="3295381"
PERL5_CPAN_IS_RUNNING="3295381"
PERL_CANARY_STABILITY_NOPROMPT="1"
PERL_MM_USE_DEFAULT="1"
PERL_USE_UNSAFE_INC="1"
@INC:
/tmp/loop_over_bdir-3295373-8XPj17/HTML-Menu-TreeView-1.22-0/blib/arch
/tmp/loop_over_bdir-3295373-8XPj17/HTML-Menu-TreeView-1.22-0/blib/lib
/tmp/loop_over_bdir-3295373-8XPj17/Simulation-Automate-1.0.1-0/blib/arch
/tmp/loop_over_bdir-3295373-8XPj17/Simulation-Automate-1.0.1-0/blib/lib
/tmp/loop_over_bdir-3295373-8XPj17/Devel-Required-0.16-0/blib/arch
/tmp/loop_over_bdir-3295373-8XPj17/Devel-Required-0.16-0/blib/lib
/tmp/loop_over_bdir-3295373-8XPj17/Debian-Packages-0.03-0/blib/arch
/tmp/loop_over_bdir-3295373-8XPj17/Debian-Packages-0.03-0/blib/lib
/tmp/loop_over_bdir-3295373-8XPj17/triceps-2.1.0-0/blib/arch
/tmp/loop_over_bdir-3295373-8XPj17/triceps-2.1.0-0/blib/lib
/tmp/loop_over_bdir-3295373-8XPj17/EJBCA-CrlPublish-0.60-0/blib/arch
/tmp/loop_over_bdir-3295373-8XPj17/EJBCA-CrlPublish-0.60-0/blib/lib
/tmp/loop_over_bdir-3295373-8XPj17/Dpkg-1.21.9-0/blib/arch
/tmp/loop_over_bdir-3295373-8XPj17/Dpkg-1.21.9-0/blib/lib
/tmp/loop_over_bdir-3295373-8XPj17/dta-tokwrap-0.98-0/blib/arch
/tmp/loop_over_bdir-3295373-8XPj17/dta-tokwrap-0.98-0/blib/lib
/home/sand/src/perl/repoperls/installed-perls/host/k93jammy/v5.37.4-160-g0649414847/5674/lib/site_perl/5.37.5/x86_64-linux-ld
/home/sand/src/perl/repoperls/installed-perls/host/k93jammy/v5.37.4-160-g0649414847/5674/lib/site_perl/5.37.5
/home/sand/src/perl/repoperls/installed-perls/host/k93jammy/v5.37.4-160-g0649414847/5674/lib/5.37.5/x86_64-linux-ld
/home/sand/src/perl/repoperls/installed-perls/host/k93jammy/v5.37.4-160-g0649414847/5674/lib/5.37.5
.