Report for Perl-ToPerl6-0.040

Back
From: metabase:user:314402c4-2aae-11df-837a-5e0a49663a4f
Subject: PASS Perl-ToPerl6-0.040 v5.24.0 GNU/Linux
Date: 2017-01-29T05:50:28Z

This distribution has been tested as part of the CPAN Testers
project, supporting the Perl programming language.  See
http://wiki.cpantesters.org/ for more information or email
questions to cpan-testers-discuss@perl.org


--
Dear Jeff Goff,

This is a computer-generated report for Perl-ToPerl6-0.040
on perl 5.24.0, created by CPAN-Reporter-1.2018.

Thank you for uploading your work to CPAN.  Congratulations!
All tests were successful.

Sections of this report:

    * Tester comments
    * Program output
    * Prerequisites
    * Environment and other context

------------------------------
TESTER COMMENTS
------------------------------

Additional comments from tester:

none provided

------------------------------
PROGRAM OUTPUT
------------------------------

Output from './Build test':

t/00_modules.t ..................................... ok
# XXX Fix the transformer count later
The PostfixExpressions::AddWhitespace transformer doesn't take a "allow" option.

The Pragmas::RewritePragmas transformer doesn't take a "lib_sections" option.

t/01_config.t ...................................... ok
t/01_config_bad_perlmogrifyrc.t .................... ok
t/01_transformer_config.t .......................... ok
t/02_transformer.t ................................. ok
t/02_transformer_ordering.t ........................ ok
t/03_annotations.t ................................. ok
t/03_pragmas.t ..................................... ok
t/04_options_processor.t ........................... ok
t/05_utils.t ....................................... ok
t/05_utils_perl.t .................................. ok
t/05_utils_pod.t ................................... ok
t/05_utils_ppi.t ................................... ok
t/06_transformation.t .............................. ok
t/07_command.t ..................................... ok
t/07_perlmogrify.t ................................. ok
t/08_document.t .................................... ok
t/09_theme.t ....................................... ok
t/10_user_profile.t ................................ ok
t/11_transformer_factory.t ......................... ok
t/12_theme_listing.t ............................... ok
t/12_transformer_listing.t ......................... ok
t/13_bundled_transformers.t ........................ ok
t/14_transformer_parameter_behavior_boolean.t ...... ok
t/14_transformer_parameter_behavior_enumeration.t .. ok
t/14_transformer_parameter_behavior_integer.t ...... ok
t/14_transformer_parameter_behavior_list_string.t .. ok
t/14_transformer_parameter_behavior_string.t ....... ok
t/14_transformer_parameters.t ...................... ok
t/15_statistics.t .................................. ok
t/16_roundtrip_defaults.t .......................... ok
t/92_memory_leaks.t ................................ ok
All tests successful.
Files=32, Tests=1950, 11 wallclock secs ( 0.29 usr  0.09 sys + 10.18 cusr  0.92 csys = 11.48 CPU)
Result: PASS

------------------------------
PREREQUISITES
------------------------------

Prerequisite modules loaded:

requires:

    Module                     Need   Have    
    -------------------------- ------ --------
    B::Keywords                1.05   1.15    
    base                       0      2.23    
    Carp                       0      1.40    
    charnames                  0      1.43    
    Config::Tiny               2      2.23    
    English                    0      1.10    
    Exception::Class           1.23   1.42    
    Exporter                   5.63   5.72    
    File::Basename             0      2.85    
    File::Find                 0      1.34    
    File::HomeDir              0      1.00    
    File::Path                 0      2.12_01 
    File::Spec                 0      3.63    
    File::Spec::Unix           0      3.63    
    File::Temp                 0      0.2304  
    File::Which                0      1.21    
    Getopt::Long               0      2.49    
    IO::String                 0      1.08    
    IPC::Open2                 1      1.04    
    List::MoreUtils            0.19   0.416   
    List::Util                 0      1.47    
    Module::Pluggable          3.1    5.2     
    overload                   0      1.26    
    Perl::Tidy                 0      20160302
    Pod::Parser                0      1.63    
    Pod::PlainText             0      2.07    
    Pod::Select                0      1.63    
    Pod::Usage                 0      1.69    
    PPI                        1.220  1.220   
    PPI::Document              1.220  1.220   
    PPI::Document::File        1.220  1.220   
    PPI::Node                  1.220  1.220   
    PPI::Token::Quote::Single  1.220  1.220   
    PPI::Token::Whitespace     1.220  1.220   
    PPIx::Regexp               0.027  0.050   
    PPIx::Utilities::Node      1.001  1.001000
    PPIx::Utilities::Statement 1.001  1.001000
    Readonly                   2      2.05    
    Scalar::Util               0      1.47    
    strict                     0      1.11    
    String::Format             1.13   1.17    
    Task::Weaken               0      1.04    
    Term::ANSIColor            2.02   4.06    
    Test::Builder              0.92   1.302075
    Text::ParseWords           3      3.30    
    version                    0.77   0.9917  
    warnings                   0      1.36    

build_requires:

    Module                     Need   Have    
    -------------------------- ------ --------
    lib                        0      0.63    
    Test::Deep                 0      1.126   
    Test::More                 0      1.302075

configure_requires:

    Module                     Need   Have    
    -------------------------- ------ --------
    Module::Build              0.4024 0.4220  


------------------------------
ENVIRONMENT AND OTHER CONTEXT
------------------------------

Environment variables:

    LANG = en_US.UTF-8
    PATH = /usr/local/bin:/usr/bin:/bin:/usr/local/sbin:/usr/sbin:/sbin:/home/cpansand/bin/linux-gnu:/home/cpansand/bin/sh:/home/cpansand/bin:/usr/games:/home/cpansand/devel:/home/eserte/src/srezic-misc/scripts
    PERL5LIB = 
    PERL5OPT = 
    PERL5_CPANPLUS_IS_RUNNING = 28805
    PERL5_CPAN_IS_RUNNING = 28805
    PERL5_CPAN_IS_RUNNING_IN_RECURSION = 19367,28805
    PERLDOC = -MPod::Perldoc::ToTextOverstrike
    PERL_BATCH = yes
    PERL_CANARY_STABILITY_NOPROMPT = 1
    PERL_CPAN_REPORTER_CONFIG = /var/tmp/cpansmoker-1002/2017012821/cpanreporter_000_config.ini
    PERL_EXTUTILS_AUTOINSTALL = --defaultdeps
    SHELL = /bin/zsh
    TERM = screen
    TMPDIR = /var/tmp/cpansmoker-1002/2017012821

Perl special variables (and OS-specific diagnostics, for MSWin32):

    $^X = /opt/perl-5.24.0/bin/perl5.24.0
    $UID/$EUID = 1002 / 1002
    $GID = 1002 1002
    $EGID = 1002 1002

Perl module toolchain versions installed:

    Module              Have    
    ------------------- --------
    CPAN                2.14    
    CPAN::Meta          2.150010
    Cwd                 3.63    
    ExtUtils::CBuilder  0.280225
    ExtUtils::Command   7.24    
    ExtUtils::Install   2.04    
    ExtUtils::MakeMaker 7.24    
    ExtUtils::Manifest  1.70    
    ExtUtils::ParseXS   3.31    
    File::Spec          3.63    
    JSON                2.90    
    JSON::PP            2.27400 
    Module::Build       0.4220  
    Module::Signature   0.81    
    Parse::CPAN::Meta   2.150010
    Test::Harness       3.36    
    Test::More          1.302075
    YAML                1.21    
    YAML::Syck          1.29    
    version             0.9917  


--

Summary of my perl5 (revision 5 version 24 subversion 0) configuration:
   
  Platform:
    osname=linux, osvers=4.4.0-59-generic, archname=x86_64-linux
    uname='linux prod3.bbbike.org 4.4.0-59-generic #80-ubuntu smp fri jan 6 17:47:47 utc 2017 x86_64 x86_64 x86_64 gnulinux '
    config_args='-ds -e -Dprefix=/opt/perl-5.24.0 -Dcf_email=srezic@cpan.org'
    hint=recommended, useposix=true, d_sigaction=define
    useithreads=undef, usemultiplicity=undef
    use64bitint=define, use64bitall=define, uselongdouble=undef
    usemymalloc=n, bincompat5005=undef
  Compiler:
    cc='cc', ccflags ='-fwrapv -fno-strict-aliasing -pipe -fstack-protector-strong -I/usr/local/include -D_LARGEFILE_SOURCE -D_FILE_OFFSET_BITS=64',
    optimize='-O2',
    cppflags='-fwrapv -fno-strict-aliasing -pipe -fstack-protector-strong -I/usr/local/include'
    ccversion='', gccversion='5.4.0 20160609', gccosandvers=''
    intsize=4, longsize=8, ptrsize=8, doublesize=8, byteorder=12345678, doublekind=3
    d_longlong=define, longlongsize=8, d_longdbl=define, longdblsize=16, longdblkind=3
    ivtype='long', ivsize=8, nvtype='double', nvsize=8, Off_t='off_t', lseeksize=8
    alignbytes=8, prototype=define
  Linker and Libraries:
    ld='cc', ldflags =' -fstack-protector-strong -L/usr/local/lib'
    libpth=/usr/local/lib /usr/lib/gcc/x86_64-linux-gnu/5/include-fixed /usr/include/x86_64-linux-gnu /usr/lib /lib/x86_64-linux-gnu /lib/../lib /usr/lib/x86_64-linux-gnu /usr/lib/../lib /lib
    libs=-lpthread -lnsl -lgdbm -ldb -ldl -lm -lcrypt -lutil -lc -lgdbm_compat
    perllibs=-lpthread -lnsl -ldl -lm -lcrypt -lutil -lc
    libc=libc-2.23.so, so=so, useshrplib=false, libperl=libperl.a
    gnulibc_version='2.23'
  Dynamic Linking:
    dlsrc=dl_dlopen.xs, dlext=so, d_dlsymun=undef, ccdlflags='-Wl,-E'
    cccdlflags='-fPIC', lddlflags='-shared -O2 -L/usr/local/lib -fstack-protector-strong'


Characteristics of this binary (from libperl): 
  Compile-time options: HAS_TIMES PERLIO_LAYERS PERL_COPY_ON_WRITE
                        PERL_DONT_CREATE_GVSV
                        PERL_HASH_FUNC_ONE_AT_A_TIME_HARD PERL_MALLOC_WRAP
                        PERL_PRESERVE_IVUV USE_64_BIT_ALL USE_64_BIT_INT
                        USE_LARGE_FILES USE_LOCALE USE_LOCALE_COLLATE
                        USE_LOCALE_CTYPE USE_LOCALE_NUMERIC USE_LOCALE_TIME
                        USE_PERLIO USE_PERL_ATOF
  Built under linux
  Compiled at Jan 15 2017 08:12:09
  %ENV:
    PERL5LIB=""
    PERL5OPT=""
    PERL5_CPANPLUS_IS_RUNNING="28805"
    PERL5_CPAN_IS_RUNNING="28805"
    PERL5_CPAN_IS_RUNNING_IN_RECURSION="19367,28805"
    PERLDOC="-MPod::Perldoc::ToTextOverstrike"
    PERL_BATCH="yes"
    PERL_CANARY_STABILITY_NOPROMPT="1"
    PERL_CPAN_REPORTER_CONFIG="/var/tmp/cpansmoker-1002/2017012821/cpanreporter_000_config.ini"
    PERL_EXTUTILS_AUTOINSTALL="--defaultdeps"
  @INC:
    /opt/perl-5.24.0/lib/site_perl/5.24.0/x86_64-linux
    /opt/perl-5.24.0/lib/site_perl/5.24.0
    /opt/perl-5.24.0/lib/5.24.0/x86_64-linux
    /opt/perl-5.24.0/lib/5.24.0
    .