Dist-Zilla-Plugin-GenerateFile-FromShareDir v0.015 Perl 5 v5.22.2 x86_64-linux-ld

Status
Pass
From
Andreas J. König (ANDK)
Dist
Dist-Zilla-Plugin-GenerateFile-FromShareDir v0.015
Platform
Perl 5 v5.22.2 x86_64-linux-ld
Date
2025-03-25 04:37:19
ID
d64c41d2-0932-11f0-a53e-f03c7be03067
This distribution has been tested as part of the CPAN Testers
project, supporting the Perl programming language.  See
http://wiki.cpantesters.org/ for more information or email
questions to cpan-testers-discuss@perl.org


--
Dear Karen Etheridge,

This is a computer-generated report for Dist-Zilla-Plugin-GenerateFile-FromShareDir-0.015
on perl 5.22.2, created by CPAN-Reporter-1.2019.

Thank you for uploading your work to CPAN.  Congratulations!
All tests were successful.

Sections of this report:

    * Tester comments
    * Program output
    * Prerequisites
    * Environment and other context

------------------------------
TESTER COMMENTS
------------------------------

Additional comments from tester:

this report is from an automated smoke testing program
and was not reviewed by a human for accuracy

------------------------------
PROGRAM OUTPUT
------------------------------

Output from './Build test':

# 
# Versions for all modules listed in MYMETA.json (including optional ones):
# 
# === Configure Requires ===
# 
#     Module               Want  Have
#     ------------------- ----- -----
#     ExtUtils::MakeMaker   any  7.70
#     Module::Build::Tiny 0.034 0.048
# 
# === Test Requires ===
# 
#     Module                Want     Have
#     -------------------- ----- --------
#     File::Spec             any     3.75
#     Module::Metadata       any 1.000037
#     Test::DZil             any    6.029
#     Test::Deep             any    1.204
#     Test::Fatal            any    0.017
#     Test::File::ShareDir   any 1.001002
#     Test::More            0.88 1.302207
#     Test::Warnings       0.009    0.033
#     if                     any   0.0604
#     open                   any     1.10
#     utf8                   any     1.17
# 
# === Test Recommends ===
# 
#     Module         Want     Have
#     ---------- -------- --------
#     CPAN::Meta 2.120900 2.150010
# 
# === Runtime Requires ===
# 
#     Module                               Want   Have
#     ----------------------------------- ----- ------
#     Dist::Zilla::File::InMemory           any  6.029
#     Dist::Zilla::Role::AfterBuild         any  6.029
#     Dist::Zilla::Role::AfterRelease       any  6.029
#     Dist::Zilla::Role::FileGatherer       any  6.029
#     Dist::Zilla::Role::FileMunger         any  6.029
#     Dist::Zilla::Role::RepoFileInjector 0.006  0.009
#     Dist::Zilla::Role::TextTemplate       any  6.029
#     Encode                                any   3.21
#     File::ShareDir                        any  1.118
#     Moose                                 any 2.2201
#     Moose::Util                           any 2.2201
#     Moose::Util::TypeConstraints          any 2.2201
#     MooseX::SlurpyConstructor             1.2   1.30
#     Path::Tiny                           0.04  0.144
#     namespace::autoclean                  any   0.29
#     strict                                any   1.09
#     warnings                              any   1.34
# 
# === Other Modules ===
# 
#     Module            Have
#     --------------- ------
#     Encode            3.21
#     File::Temp      0.2311
#     JSON::PP          4.12
#     Module::Runtime  0.016
#     Pod::Coverage     0.23
#     Sub::Name         0.26
#     YAML              1.30
#     autodie           2.34
# 
t/00-report-prereqs.t ............. ok
t/01-basic.t ...................... ok
t/02-other-encoding.t ............. ok
t/03-write-to-root.t .............. ok
t/05-build-release.t .............. ok
t/06-locally-provided-sharedir.t .. ok
t/zzz-check-breaks.t .............. ok
All tests successful.
Files=7, Tests=33, 11 wallclock secs ( 0.03 usr  0.02 sys +  6.35 cusr  0.75 csys =  7.15 CPU)
Result: PASS

------------------------------
PREREQUISITES
------------------------------

Prerequisite modules loaded:

requires:

    Module                              Need  Have    
    ----------------------------------- ----- --------
    Dist::Zilla::File::InMemory         0     6.029   
    Dist::Zilla::Role::AfterBuild       0     6.029   
    Dist::Zilla::Role::AfterRelease     0     6.029   
    Dist::Zilla::Role::FileGatherer     0     6.029   
    Dist::Zilla::Role::FileMunger       0     6.029   
    Dist::Zilla::Role::RepoFileInjector 0.006 0.009   
    Dist::Zilla::Role::TextTemplate     0     6.029   
    Encode                              0     3.21    
    File::ShareDir                      0     1.118   
    Moose                               0     2.2201  
    Moose::Util                         0     2.2201  
    Moose::Util::TypeConstraints        0     2.2201  
    MooseX::SlurpyConstructor           1.2   1.30    
    namespace::autoclean                0     0.29    
    Path::Tiny                          0.04  0.144   
    perl                                5.008 5.022002
    strict                              0     1.09    
    warnings                            0     1.34    

build_requires:

    Module                              Need  Have    
    ----------------------------------- ----- --------
    File::Spec                          0     3.75    
    if                                  0     0.0604  
    Module::Metadata                    0     1.000037
    open                                0     1.10    
    perl                                5.008 5.022002
    Test::Deep                          0     1.204   
    Test::DZil                          0     6.029   
    Test::Fatal                         0     0.017   
    Test::File::ShareDir                0     1.001002
    Test::More                          0.88  1.302207
    Test::Warnings                      0.009 0.033   
    utf8                                0     1.17    

configure_requires:

    Module                              Need  Have    
    ----------------------------------- ----- --------
    ExtUtils::MakeMaker                 0     7.70    
    Module::Build::Tiny                 0.034 0.048   
    perl                                5.006 5.022002


------------------------------
ENVIRONMENT AND OTHER CONTEXT
------------------------------

Environment variables:

    AUTOMATED_TESTING = 1
    LANG = en_US.UTF-8
    LANGUAGE = en_US:en
    PATH = /home/sand/bin:/usr/local/bin:/usr/bin:/bin:/usr/games:/usr/local/perl/bin:/usr/X11/bin:/sbin:/usr/sbin
    PERL5LIB = 
    PERL5OPT = 
    PERL5_CPANPLUS_IS_RUNNING = 588516
    PERL5_CPAN_IS_RUNNING = 588516
    PERL_CANARY_STABILITY_NOPROMPT = 1
    PERL_MM_USE_DEFAULT = 1
    PERL_USE_UNSAFE_INC = 1
    SHELL = /usr/bin/zsh
    TERM = screen

Perl special variables (and OS-specific diagnostics, for MSWin32):

    $^X = /home/sand/src/perl/repoperls/installed-perls/host/k93msid/v5.22.2/fc43/bin/perl
    $UID/$EUID = 1005 / 1005
    $GID = 1005 1005
    $EGID = 1005 1005

Perl module toolchain versions installed:

    Module              Have    
    ------------------- --------
    CPAN                2.38    
    CPAN::Meta          2.150010
    Cwd                 3.75    
    ExtUtils::CBuilder  0.280236
    ExtUtils::Command   7.70    
    ExtUtils::Install   2.22    
    ExtUtils::MakeMaker 7.70    
    ExtUtils::Manifest  1.75    
    ExtUtils::ParseXS   3.51    
    File::Spec          3.75    
    JSON                4.10    
    JSON::PP            4.12    
    Module::Build       0.4234  
    Module::Signature   0.89    
    Parse::CPAN::Meta   2.150010
    Test2               1.302207
    Test::Harness       3.50    
    Test::More          1.302207
    YAML                1.30    
    YAML::Syck          1.34    
    version             0.9930  


--

Summary of my perl5 (revision 5 version 22 subversion 2) configuration:
  Derived from: 9cbffb38735712e3a34e6f537892b6ef06fb815f
  Platform:
    osname=linux, osvers=5.17.0-1-amd64, archname=x86_64-linux-ld
    uname='linux k93msid 5.17.0-1-amd64 #1 smp preempt debian 5.17.3-1 (2022-04-18) x86_64 gnulinux '
    config_args='-Dprefix=/home/sand/src/perl/repoperls/installed-perls/host/k93msid/v5.22.2/fc43 -Dmyhostname=k93msid -Dinstallusrbinperl=n -Uversiononly -Dusedevel -des -Ui_db -Dlibswanted=cl pthread socket inet nsl gdbm dbm malloc dl ld sun m crypt sec util c cposix posix ucb BSD gdbm_compat -Uuseithreads -Duselongdouble -DEBUGGING=both'
    hint=recommended, useposix=true, d_sigaction=define
    useithreads=undef, usemultiplicity=undef
    use64bitint=define, use64bitall=define, uselongdouble=define
    usemymalloc=n, bincompat5005=undef
  Compiler:
    cc='cc', ccflags ='-fwrapv -DDEBUGGING -fno-strict-aliasing -pipe -fstack-protector-strong -I/usr/local/include -D_LARGEFILE_SOURCE -D_FILE_OFFSET_BITS=64 -D_FORTIFY_SOURCE=2',
    optimize='-O2 -g',
    cppflags='-fwrapv -DDEBUGGING -fno-strict-aliasing -pipe -fstack-protector-strong -I/usr/local/include'
    ccversion='', gccversion='11.3.0', gccosandvers=''
    intsize=4, longsize=8, ptrsize=8, doublesize=8, byteorder=12345678, doublekind=3
    d_longlong=define, longlongsize=8, d_longdbl=define, longdblsize=16, longdblkind=3
    ivtype='long', ivsize=8, nvtype='long double', nvsize=16, Off_t='off_t', lseeksize=8
    alignbytes=16, prototype=define
  Linker and Libraries:
    ld='cc', ldflags =' -fstack-protector-strong -L/usr/local/lib'
    libpth=/usr/local/lib /usr/include/x86_64-linux-gnu /usr/lib /lib/x86_64-linux-gnu /lib/../lib /usr/lib/x86_64-linux-gnu /usr/lib/../lib /lib
    libs=-lpthread -lnsl -ldl -lm -lcrypt -lutil -lc
    perllibs=-lpthread -lnsl -ldl -lm -lcrypt -lutil -lc
    libc=libc-2.33.so, so=so, useshrplib=false, libperl=libperl.a
    gnulibc_version='2.33'
  Dynamic Linking:
    dlsrc=dl_dlopen.xs, dlext=so, d_dlsymun=undef, ccdlflags='-Wl,-E'
    cccdlflags='-fPIC', lddlflags='-shared -O2 -g -L/usr/local/lib -fstack-protector-strong'


Characteristics of this binary (from libperl): 
  Compile-time options: DEBUGGING HAS_TIMES PERLIO_LAYERS
                        PERL_DONT_CREATE_GVSV
                        PERL_HASH_FUNC_ONE_AT_A_TIME_HARD PERL_MALLOC_WRAP
                        PERL_NEW_COPY_ON_WRITE PERL_PRESERVE_IVUV
                        PERL_USE_DEVEL USE_64_BIT_ALL USE_64_BIT_INT
                        USE_LARGE_FILES USE_LOCALE USE_LOCALE_COLLATE
                        USE_LOCALE_CTYPE USE_LOCALE_NUMERIC USE_LOCALE_TIME
                        USE_LONG_DOUBLE USE_PERLIO USE_PERL_ATOF
  Locally applied patches:
	uncommitted-changes
  Built under linux
  Compiled at May  4 2022 15:39:11
  %ENV:
    PERL5LIB=""
    PERL5OPT=""
    PERL5_CPANPLUS_IS_RUNNING="588516"
    PERL5_CPAN_IS_RUNNING="588516"
    PERL_CANARY_STABILITY_NOPROMPT="1"
    PERL_MM_USE_DEFAULT="1"
    PERL_USE_UNSAFE_INC="1"
  @INC:
    /home/sand/src/perl/repoperls/installed-perls/host/k93msid/v5.22.2/fc43/lib/site_perl/5.22.2/x86_64-linux-ld
    /home/sand/src/perl/repoperls/installed-perls/host/k93msid/v5.22.2/fc43/lib/site_perl/5.22.2
    /home/sand/src/perl/repoperls/installed-perls/host/k93msid/v5.22.2/fc43/lib/5.22.2/x86_64-linux-ld
    /home/sand/src/perl/repoperls/installed-perls/host/k93msid/v5.22.2/fc43/lib/5.22.2
    .