Crypt-Password-Util v0.17 Perl 5 v5.18.4 amd64-freebsd

Status
Pass
From
Slaven Rezić (SREZIC)
Dist
Crypt-Password-Util v0.17
Platform
Perl 5 v5.18.4 amd64-freebsd
Date
2017-12-22 09:45:25
ID
d6454f86-e6fc-11e7-b725-f281ab008f07
This distribution has been tested as part of the CPAN Testers
project, supporting the Perl programming language.  See
http://wiki.cpantesters.org/ for more information or email
questions to cpan-testers-discuss@perl.org


--
Dear perlancar,

This is a computer-generated report for Crypt-Password-Util-0.17
on perl 5.18.4, created by CPAN-Reporter-1.2018.

Thank you for uploading your work to CPAN.  Congratulations!
All tests were successful.

Sections of this report:

    * Tester comments
    * Program output
    * Prerequisites
    * Environment and other context

------------------------------
TESTER COMMENTS
------------------------------

Additional comments from tester:

none provided

------------------------------
PROGRAM OUTPUT
------------------------------

Output from '/usr/bin/make test':

PERL_DL_NONLAZY=1 "/usr/perl5.18.4p/bin/perl" "-MExtUtils::Command::MM" "-MTest::Harness" "-e" "undef *Test::Harness::Switches; test_harness(0, 'blib/lib', 'blib/arch')" t/*.t
t/00-compile.t ........... ok
# Some crypt() results on this system: [
#   '$6$rounds=15000$lBpXOCA1BtE6qZxC$2r5vMtM74lfu5mm5j0K7lZYeh4sRRgnYgz1T1UM8GdnZjsXbWcz6xUMYXCmGalp5MOFuzYDDB/Es8cfVZk3uZ1',
#   '$6$rounds=15000$YVOmvljbwZZIzg2m$nYkssiFoMkUddJWmbV/iJFpu3Y8kfmwsqWZw2yYpF4Al/GWUGGYK/Oc25Oggp77Jgy7.Uy5VODxGXrpXOfav60',
#   '$6$rounds=15000$VnWH/E.6rwr6vg9J$5hpaJauxtTkrCI4fI8Oupss8XXnbqjMPOUHrYWi2smCj1CKoCQmcrbhsiUOtpZlnKzGlg0B3jgqwoaK3xoM/Y1',
#   '$6$rounds=15000$6O46rVZBiwGVa9Ha$s9WRLUKvdr8gOqW7tnHIpToMItHVhA/osHqCoJbKL4tcUElku0v3jtV1eu2NkJZKEJsfyNf0HeaZxQVAb8Mch.',
#   '$6$rounds=15000$D98OeWRufDDV2N1F$y767uHzbIswGo/gGuGudiirwYjpwHvWksB5SDRNTHFkIC/UQZ.SyQe.TXGM2CxA3TIMT1bgcbVx/28o5BYVVB1'
# ]
t/01-basics.t ............ ok
t/author-pod-coverage.t .. skipped: these tests are for testing by the author
t/author-pod-syntax.t .... skipped: these tests are for testing by the author
All tests successful.
Files=4, Tests=26,  0 wallclock secs ( 0.03 usr  0.00 sys +  0.30 cusr  0.09 csys =  0.42 CPU)
Result: PASS

------------------------------
PREREQUISITES
------------------------------

Prerequisite modules loaded:

requires:

    Module                Need     Have    
    --------------------- -------- --------
    Bytes::Random::Secure 0        0.29    
    Config                0        5.018004
    perl                  5.010001 5.018004

build_requires:

    Module                Need     Have    
    --------------------- -------- --------
    ExtUtils::MakeMaker   0        7.30    
    File::Spec            0        3.40    
    IO::Handle            0        1.34    
    IPC::Open3            0        1.13    
    Sort::Versions        0        1.62    
    Test::More            0.98     1.302103

configure_requires:

    Module                Need     Have    
    --------------------- -------- --------
    ExtUtils::MakeMaker   0        7.30    


------------------------------
ENVIRONMENT AND OTHER CONTEXT
------------------------------

Environment variables:

    PATH = /usr/local/bin:/usr/bin:/bin:/usr/local/sbin:/usr/sbin:/sbin:/home/cpansand/bin/freebsd11.0:/home/cpansand/bin/sh:/home/cpansand/bin:/usr/games:/home/cpansand/devel:/home/eserte/src/srezic-misc/scripts
    PERL5LIB = /home/cpansand/.cpan/build/2017122212/Sort-Versions-1.62-eR9QLp/blib/arch:/home/cpansand/.cpan/build/2017122212/Sort-Versions-1.62-eR9QLp/blib/lib:/home/cpansand/.cpan/build/2017122212/Bytes-Random-Secure-0.29-BSuaEq/blib/arch:/home/cpansand/.cpan/build/2017122212/Bytes-Random-Secure-0.29-BSuaEq/blib/lib:/home/cpansand/.cpan/build/2017122212/Math-Random-ISAAC-1.004-8hLFkc/blib/arch:/home/cpansand/.cpan/build/2017122212/Math-Random-ISAAC-1.004-8hLFkc/blib/lib:/home/cpansand/.cpan/build/2017122212/Test-NoWarnings-1.04-GSHxVj/blib/arch:/home/cpansand/.cpan/build/2017122212/Test-NoWarnings-1.04-GSHxVj/blib/lib:/home/cpansand/.cpan/build/2017122212/Crypt-Random-Seed-0.03-GqxIsq/blib/arch:/home/cpansand/.cpan/build/2017122212/Crypt-Random-Seed-0.03-GqxIsq/blib/lib:/home/cpansand/.cpan/build/2017122212/Crypt-Random-TESHA2-0.01-K44BHM/blib/arch:/home/cpansand/.cpan/build/2017122212/Crypt-Random-TESHA2-0.01-K44BHM/blib/lib
    PERL5OPT = 
    PERL5_CPANPLUS_IS_RUNNING = 98748
    PERL5_CPAN_IS_RUNNING = 98748
    PERL5_CPAN_IS_RUNNING_IN_RECURSION = 98735,98748
    PERLDOC = -MPod::Perldoc::ToTextOverstrike
    PERL_BATCH = yes
    PERL_CANARY_STABILITY_NOPROMPT = 1
    PERL_CPAN_REPORTER_CONFIG = /var/tmp/cpansmoker-1023/2017122212/cpanreporter_000_config.ini
    PERL_EXTUTILS_AUTOINSTALL = --defaultdeps
    SHELL = /usr/local/bin/zsh
    TERM = screen
    TMPDIR = /var/tmp/cpansmoker-1023/2017122212

Perl special variables (and OS-specific diagnostics, for MSWin32):

    $^X = /usr/perl5.18.4p/bin/perl
    $UID/$EUID = 1023 / 1023
    $GID = 1023 1023
    $EGID = 1023 1023

Perl module toolchain versions installed:

    Module              Have    
    ------------------- --------
    CPAN                2.00    
    CPAN::Meta          2.150010
    Cwd                 3.40    
    ExtUtils::CBuilder  0.280210
    ExtUtils::Command   7.30    
    ExtUtils::Install   2.06    
    ExtUtils::MakeMaker 7.30    
    ExtUtils::Manifest  1.70    
    ExtUtils::ParseXS   3.35    
    File::Spec          3.40    
    JSON                2.94    
    JSON::PP            2.94    
    Module::Build       0.4224  
    Module::Signature   n/a     
    Parse::CPAN::Meta   2.150010
    Test::Harness       3.39    
    Test::More          1.302103
    YAML                1.23    
    YAML::Syck          1.30    
    version             0.9918  


--

Summary of my perl5 (revision 5 version 18 subversion 4) configuration:
   
  Platform:
    osname=freebsd, osvers=11.1-stable, archname=amd64-freebsd
    uname='freebsd ali3.bbbike.org 11.1-stable freebsd 11.1-stable #0 b7ba9aef7e5(stable11): wed oct 11 00:23:27 utc 2017 root@ali3.bbbike.org:usrobjhomeprojectsfreebsdsysgeneric amd64 '
    config_args='-ds -e -Dprefix=/usr/perl5.18.4p -Dcf_email=srezic@cpan.org -Doptimize=-O2 -pipe'
    hint=recommended, useposix=true, d_sigaction=define
    useithreads=undef, usemultiplicity=undef
    useperlio=define, d_sfio=undef, uselargefiles=define, usesocks=undef
    use64bitint=define, use64bitall=define, uselongdouble=undef
    usemymalloc=n, bincompat5005=undef
  Compiler:
    cc='cc', ccflags ='-DHAS_FPSETMASK -DHAS_FLOATINGPOINT_H -fno-strict-aliasing -pipe -fstack-protector -I/usr/local/include',
    optimize='-O2 -pipe',
    cppflags='-DHAS_FPSETMASK -DHAS_FLOATINGPOINT_H -fno-strict-aliasing -pipe -fstack-protector -I/usr/local/include'
    ccversion='', gccversion='4.2.1 Compatible FreeBSD Clang 5.0.0 (tags/RELEASE_500/final 312559)', gccosandvers=''
    intsize=4, longsize=8, ptrsize=8, doublesize=8, byteorder=12345678
    d_longlong=define, longlongsize=8, d_longdbl=define, longdblsize=16
    ivtype='long', ivsize=8, nvtype='double', nvsize=8, Off_t='off_t', lseeksize=8
    alignbytes=8, prototype=define
  Linker and Libraries:
    ld='cc', ldflags ='-pthread -Wl,-E  -fstack-protector -L/usr/local/lib'
    libpth=/usr/lib /usr/local/lib
    libs=-lgdbm -lm -lcrypt -lutil -lc
    perllibs=-lm -lcrypt -lutil -lc
    libc=, so=so, useshrplib=false, libperl=libperl.a
    gnulibc_version=''
  Dynamic Linking:
    dlsrc=dl_dlopen.xs, dlext=so, d_dlsymun=undef, ccdlflags=' '
    cccdlflags='-DPIC -fPIC', lddlflags='-shared  -L/usr/local/lib -fstack-protector'


Characteristics of this binary (from libperl): 
  Compile-time options: HAS_TIMES PERLIO_LAYERS PERL_DONT_CREATE_GVSV
                        PERL_HASH_FUNC_ONE_AT_A_TIME_HARD PERL_MALLOC_WRAP
                        PERL_PRESERVE_IVUV PERL_SAWAMPERSAND USE_64_BIT_ALL
                        USE_64_BIT_INT USE_LARGE_FILES USE_LOCALE
                        USE_LOCALE_COLLATE USE_LOCALE_CTYPE
                        USE_LOCALE_NUMERIC USE_PERLIO USE_PERL_ATOF
  Built under freebsd
  Compiled at Oct 19 2017 14:17:00
  %ENV:
    PERL5LIB="/home/cpansand/.cpan/build/2017122212/Sort-Versions-1.62-eR9QLp/blib/arch:/home/cpansand/.cpan/build/2017122212/Sort-Versions-1.62-eR9QLp/blib/lib:/home/cpansand/.cpan/build/2017122212/Bytes-Random-Secure-0.29-BSuaEq/blib/arch:/home/cpansand/.cpan/build/2017122212/Bytes-Random-Secure-0.29-BSuaEq/blib/lib:/home/cpansand/.cpan/build/2017122212/Math-Random-ISAAC-1.004-8hLFkc/blib/arch:/home/cpansand/.cpan/build/2017122212/Math-Random-ISAAC-1.004-8hLFkc/blib/lib:/home/cpansand/.cpan/build/2017122212/Test-NoWarnings-1.04-GSHxVj/blib/arch:/home/cpansand/.cpan/build/2017122212/Test-NoWarnings-1.04-GSHxVj/blib/lib:/home/cpansand/.cpan/build/2017122212/Crypt-Random-Seed-0.03-GqxIsq/blib/arch:/home/cpansand/.cpan/build/2017122212/Crypt-Random-Seed-0.03-GqxIsq/blib/lib:/home/cpansand/.cpan/build/2017122212/Crypt-Random-TESHA2-0.01-K44BHM/blib/arch:/home/cpansand/.cpan/build/2017122212/Crypt-Random-TESHA2-0.01-K44BHM/blib/lib"
    PERL5OPT=""
    PERL5_CPANPLUS_IS_RUNNING="98748"
    PERL5_CPAN_IS_RUNNING="98748"
    PERL5_CPAN_IS_RUNNING_IN_RECURSION="98735,98748"
    PERLDOC="-MPod::Perldoc::ToTextOverstrike"
    PERL_BATCH="yes"
    PERL_CANARY_STABILITY_NOPROMPT="1"
    PERL_CPAN_REPORTER_CONFIG="/var/tmp/cpansmoker-1023/2017122212/cpanreporter_000_config.ini"
    PERL_EXTUTILS_AUTOINSTALL="--defaultdeps"
  @INC:
    /home/cpansand/.cpan/build/2017122212/Sort-Versions-1.62-eR9QLp/blib/arch
    /home/cpansand/.cpan/build/2017122212/Sort-Versions-1.62-eR9QLp/blib/lib
    /home/cpansand/.cpan/build/2017122212/Bytes-Random-Secure-0.29-BSuaEq/blib/arch
    /home/cpansand/.cpan/build/2017122212/Bytes-Random-Secure-0.29-BSuaEq/blib/lib
    /home/cpansand/.cpan/build/2017122212/Math-Random-ISAAC-1.004-8hLFkc/blib/arch
    /home/cpansand/.cpan/build/2017122212/Math-Random-ISAAC-1.004-8hLFkc/blib/lib
    /home/cpansand/.cpan/build/2017122212/Test-NoWarnings-1.04-GSHxVj/blib/arch
    /home/cpansand/.cpan/build/2017122212/Test-NoWarnings-1.04-GSHxVj/blib/lib
    /home/cpansand/.cpan/build/2017122212/Crypt-Random-Seed-0.03-GqxIsq/blib/arch
    /home/cpansand/.cpan/build/2017122212/Crypt-Random-Seed-0.03-GqxIsq/blib/lib
    /home/cpansand/.cpan/build/2017122212/Crypt-Random-TESHA2-0.01-K44BHM/blib/arch
    /home/cpansand/.cpan/build/2017122212/Crypt-Random-TESHA2-0.01-K44BHM/blib/lib
    /usr/perl5.18.4p/lib/site_perl/5.18.4/amd64-freebsd
    /usr/perl5.18.4p/lib/site_perl/5.18.4
    /usr/perl5.18.4p/lib/5.18.4/amd64-freebsd
    /usr/perl5.18.4p/lib/5.18.4
    .