Dist-Zilla-Plugin-GenerateFile-FromShareDir v0.015 Perl 5 v5.20.0 amd64-freebsd

Status
Pass
From
Slaven Rezić
Dist
Dist-Zilla-Plugin-GenerateFile-FromShareDir v0.015
Platform
Perl 5 v5.20.0 amd64-freebsd
Date
2021-03-23 21:58:01
ID
d6210c74-8c22-11eb-a097-9d181f24ea8f
This distribution has been tested as part of the CPAN Testers
project, supporting the Perl programming language.  See
http://wiki.cpantesters.org/ for more information or email
questions to cpan-testers-discuss@perl.org


--
Dear Karen Etheridge,

This is a computer-generated report for Dist-Zilla-Plugin-GenerateFile-FromShareDir-0.015
on perl 5.20.0, created by CPAN-Reporter-1.2018.

Thank you for uploading your work to CPAN.  Congratulations!
All tests were successful.

Sections of this report:

    * Tester comments
    * Program output
    * Prerequisites
    * Environment and other context

------------------------------
TESTER COMMENTS
------------------------------

Additional comments from tester:

none provided

------------------------------
PROGRAM OUTPUT
------------------------------

Output from './Build test':

# 
# Versions for all modules listed in MYMETA.json (including optional ones):
# 
# === Configure Requires ===
# 
#     Module               Want  Have
#     ------------------- ----- -----
#     ExtUtils::MakeMaker   any  7.58
#     Module::Build::Tiny 0.034 0.039
# 
# === Test Requires ===
# 
#     Module                Want     Have
#     -------------------- ----- --------
#     File::Spec             any     3.75
#     Module::Metadata       any 1.000036
#     Test::DZil             any    6.017
#     Test::Deep             any    1.130
#     Test::Fatal            any    0.016
#     Test::File::ShareDir   any 1.001001
#     Test::More            0.88 1.302183
#     Test::Warnings       0.009    0.030
#     if                     any   0.0608
#     open                   any     1.10
#     utf8                   any     1.13
# 
# === Test Recommends ===
# 
#     Module         Want     Have
#     ---------- -------- --------
#     CPAN::Meta 2.120900 2.150010
# 
# === Runtime Requires ===
# 
#     Module                               Want   Have
#     ----------------------------------- ----- ------
#     Dist::Zilla::File::InMemory           any  6.017
#     Dist::Zilla::Role::AfterBuild         any  6.017
#     Dist::Zilla::Role::AfterRelease       any  6.017
#     Dist::Zilla::Role::FileGatherer       any  6.017
#     Dist::Zilla::Role::FileMunger         any  6.017
#     Dist::Zilla::Role::RepoFileInjector 0.006  0.007
#     Dist::Zilla::Role::TextTemplate       any  6.017
#     Encode                                any   3.08
#     File::ShareDir                        any  1.118
#     Moose                                 any 2.2013
#     Moose::Util                           any 2.2013
#     Moose::Util::TypeConstraints          any 2.2013
#     MooseX::SlurpyConstructor             1.2    1.2
#     Path::Tiny                           0.04  0.118
#     namespace::autoclean                  any   0.29
#     strict                                any   1.08
#     warnings                              any   1.23
# 
# === Other Modules ===
# 
#     Module            Have
#     --------------- ------
#     Encode            3.08
#     File::Temp      0.2311
#     JSON::PP          4.05
#     Module::Runtime  0.016
#     Pod::Coverage     0.23
#     Sub::Name         0.21
#     YAML              1.30
#     autodie           2.33
# 
t/00-report-prereqs.t ............. ok
t/01-basic.t ...................... ok
t/02-other-encoding.t ............. ok
t/03-write-to-root.t .............. ok
t/05-build-release.t .............. ok
t/06-locally-provided-sharedir.t .. ok
# Conflicts detected for Module::Runtime:
#   Moose::Autobox is version 0.15, but must be greater than version 0.15
#   MooseX::Attribute::Dependent is version 1.1.3, but must be greater than version 1.1.3
# Conflicts detected for Moose:
#   Moose::Autobox is version 0.15, but must be greater than version 0.15
#   MooseX::Attribute::Dependent is version 1.1.3, but must be greater than version 1.1.3
t/zzz-check-breaks.t .............. ok
All tests successful.
Files=7, Tests=33, 17 wallclock secs ( 0.02 usr  0.04 sys +  5.47 cusr  0.85 csys =  6.38 CPU)
Result: PASS

------------------------------
PREREQUISITES
------------------------------

Prerequisite modules loaded:

requires:

    Module                              Need     Have    
    ----------------------------------- -------- --------
    Dist::Zilla::File::InMemory         0        6.017   
    Dist::Zilla::Role::AfterBuild       0        6.017   
    Dist::Zilla::Role::AfterRelease     0        6.017   
    Dist::Zilla::Role::FileGatherer     0        6.017   
    Dist::Zilla::Role::FileMunger       0        6.017   
    Dist::Zilla::Role::RepoFileInjector 0.006    0.007   
    Dist::Zilla::Role::TextTemplate     0        6.017   
    Encode                              0        3.08    
    File::ShareDir                      0        1.118   
    Moose                               0        2.2013  
    Moose::Util                         0        2.2013  
    Moose::Util::TypeConstraints        0        2.2013  
    MooseX::SlurpyConstructor           1.2      1.2     
    namespace::autoclean                0        0.29    
    Path::Tiny                          0.04     0.118   
    perl                                5.008    5.020000
    strict                              0        1.08    
    warnings                            0        1.23    

build_requires:

    Module                              Need     Have    
    ----------------------------------- -------- --------
    File::Spec                          0        3.75    
    if                                  0        0.0608  
    Module::Metadata                    0        1.000036
    open                                0        1.10    
    perl                                5.008    5.020000
    Test::Deep                          0        1.130   
    Test::DZil                          0        6.017   
    Test::Fatal                         0        0.016   
    Test::File::ShareDir                0        1.001001
    Test::More                          0.88     1.302183
    Test::Warnings                      0.009    0.030   
    utf8                                0        1.13    

configure_requires:

    Module                              Need     Have    
    ----------------------------------- -------- --------
    ExtUtils::MakeMaker                 0        7.58    
    Module::Build::Tiny                 0.034    0.039   
    perl                                5.006    5.020000

opt_build_requires:

    Module                              Need     Have    
    ----------------------------------- -------- --------
    CPAN::Meta                          2.120900 2.150010


------------------------------
ENVIRONMENT AND OTHER CONTEXT
------------------------------

Environment variables:

    LC_ALL = de_DE.ISO8859-1
    PATH = /usr/local/bin:/usr/bin:/bin:/usr/local/sbin:/usr/sbin:/sbin:/home/cpansand/bin/freebsd9.3:/home/cpansand/bin/sh:/home/cpansand/bin:/usr/games:/home/cpansand/devel:/usr/home/eserte/src/srezic-misc/scripts
    PERL5LIB = 
    PERL5OPT = 
    PERL5_CPANPLUS_IS_RUNNING = 44971
    PERL5_CPAN_IS_RUNNING = 44971
    PERL5_CPAN_IS_RUNNING_IN_RECURSION = 44880,44971
    PERLDOC = -MPod::Perldoc::ToTextOverstrike
    PERL_BATCH = yes
    PERL_CANARY_STABILITY_NOPROMPT = 1
    PERL_CPAN_REPORTER_CONFIG = /var/tmp/cpansmoker-1023/2021032322/cpanreporter_000_config.ini
    PERL_EXTUTILS_AUTOINSTALL = --defaultdeps
    PERL_USE_UNSAFE_INC = 1
    SHELL = /usr/local/bin/zsh
    TERM = screen
    TMPDIR = /var/tmp/cpansmoker-1023/2021032322

Perl special variables (and OS-specific diagnostics, for MSWin32):

    $^X = /usr/perl5.20.0/bin/perl
    $UID/$EUID = 1023 / 1023
    $GID = 1023 1023
    $EGID = 1023 1023

Perl module toolchain versions installed:

    Module              Have    
    ------------------- --------
    CPAN                2.27    
    CPAN::Meta          2.150010
    Cwd                 3.75    
    ExtUtils::CBuilder  0.280231
    ExtUtils::Command   7.58    
    ExtUtils::Install   2.20    
    ExtUtils::MakeMaker 7.58    
    ExtUtils::Manifest  1.73    
    ExtUtils::ParseXS   3.35    
    File::Spec          3.75    
    JSON                4.03    
    JSON::PP            4.05    
    Module::Build       0.4231  
    Module::Signature   0.86    
    Parse::CPAN::Meta   2.150010
    Test::Harness       3.42    
    Test::More          1.302183
    YAML                1.30    
    YAML::Syck          1.33    
    version             0.9924  


--

Summary of my perl5 (revision 5 version 20 subversion 0) configuration:
   
  Platform:
    osname=freebsd, osvers=9.2-release-p4, archname=amd64-freebsd
    uname='freebsd cvrsnica-freebsd-92 9.2-release-p4 freebsd 9.2-release-p4 #0: tue apr 8 18:08:22 utc 2014 root@amd64-builder.daemonology.net:usrobjusrsrcsysgeneric amd64 '
    config_args='-ds -e -Dprefix=/usr/perl5.20.0'
    hint=recommended, useposix=true, d_sigaction=define
    useithreads=undef, usemultiplicity=undef
    use64bitint=define, use64bitall=define, uselongdouble=undef
    usemymalloc=n, bincompat5005=undef
  Compiler:
    cc='cc', ccflags ='-DHAS_FPSETMASK -DHAS_FLOATINGPOINT_H -fno-strict-aliasing -pipe -fstack-protector -I/usr/local/include',
    optimize='-O',
    cppflags='-DHAS_FPSETMASK -DHAS_FLOATINGPOINT_H -fno-strict-aliasing -pipe -fstack-protector -I/usr/local/include'
    ccversion='', gccversion='4.2.1 20070831 patched [FreeBSD]', gccosandvers=''
    intsize=4, longsize=8, ptrsize=8, doublesize=8, byteorder=12345678
    d_longlong=define, longlongsize=8, d_longdbl=define, longdblsize=16
    ivtype='long', ivsize=8, nvtype='double', nvsize=8, Off_t='off_t', lseeksize=8
    alignbytes=8, prototype=define
  Linker and Libraries:
    ld='cc', ldflags ='-Wl,-E  -fstack-protector -L/usr/local/lib'
    libpth=/usr/lib /usr/local/lib /usr/include/gcc/4.2 /usr/lib
    libs=-lgdbm -lm -lcrypt -lutil -lc
    perllibs=-lm -lcrypt -lutil -lc
    libc=, so=so, useshrplib=false, libperl=libperl.a
    gnulibc_version=''
  Dynamic Linking:
    dlsrc=dl_dlopen.xs, dlext=so, d_dlsymun=undef, ccdlflags=' '
    cccdlflags='-DPIC -fPIC', lddlflags='-shared  -L/usr/local/lib -fstack-protector'


Characteristics of this binary (from libperl): 
  Compile-time options: HAS_TIMES PERLIO_LAYERS PERL_DONT_CREATE_GVSV
                        PERL_HASH_FUNC_ONE_AT_A_TIME_HARD PERL_MALLOC_WRAP
                        PERL_NEW_COPY_ON_WRITE PERL_PRESERVE_IVUV
                        USE_64_BIT_ALL USE_64_BIT_INT USE_LARGE_FILES
                        USE_LOCALE USE_LOCALE_COLLATE USE_LOCALE_CTYPE
                        USE_LOCALE_NUMERIC USE_PERLIO USE_PERL_ATOF
  Built under freebsd
  Compiled at May 27 2014 13:55:26
  %ENV:
    PERL5LIB=""
    PERL5OPT=""
    PERL5_CPANPLUS_IS_RUNNING="44971"
    PERL5_CPAN_IS_RUNNING="44971"
    PERL5_CPAN_IS_RUNNING_IN_RECURSION="44880,44971"
    PERLDOC="-MPod::Perldoc::ToTextOverstrike"
    PERL_BATCH="yes"
    PERL_CANARY_STABILITY_NOPROMPT="1"
    PERL_CPAN_REPORTER_CONFIG="/var/tmp/cpansmoker-1023/2021032322/cpanreporter_000_config.ini"
    PERL_EXTUTILS_AUTOINSTALL="--defaultdeps"
    PERL_USE_UNSAFE_INC="1"
  @INC:
    /usr/perl5.20.0/lib/site_perl/5.20.0/amd64-freebsd
    /usr/perl5.20.0/lib/site_perl/5.20.0
    /usr/perl5.20.0/lib/5.20.0/amd64-freebsd
    /usr/perl5.20.0/lib/5.20.0
    .