HTML-Lint v2.32 Perl 5 v5.12.2 MSWin32-x86-multi-thread

Status
Pass
From
Alexandr Ciornii (CHORNY)
Dist
HTML-Lint v2.32
Platform
Perl 5 v5.12.2 MSWin32-x86-multi-thread
Date
2018-11-05 23:00:51
ID
d60eb89f-6c20-1014-b36d-832de2cb87a9
This distribution has been tested as part of the CPAN Testers
project, supporting the Perl programming language.  See
http://wiki.cpantesters.org/ for more information or email
questions to cpan-testers-discuss@perl.org


--
Dear Andy Lester,

This is a computer-generated report for HTML-Lint-2.32
on perl 5.12.2, created by CPAN-Reporter-1.2018.

Thank you for uploading your work to CPAN.  Congratulations!
All tests were successful.

Sections of this report:

    * Tester comments
    * Program output
    * Prerequisites
    * Environment and other context

------------------------------
TESTER COMMENTS
------------------------------

Additional comments from tester:

this report is from an automated smoke testing program
and was not reviewed by a human for accuracy

------------------------------
PROGRAM OUTPUT
------------------------------

Output from 'C:\strawberry\c\bin\dmake.EXE test':

C:\strawberry\perl\bin\perl.exe "-MExtUtils::Command::MM" "-MTest::Harness" "-e" "undef *Test::Harness::Switches; test_harness(0, 'blib\lib', 'blib\arch')" t/*.t
# Testing HTML::Lint 2.32, Perl 5.012002, C:\strawberry\perl\bin\perl.exe
t/00-load.t ..................... ok
t/01-coverage.t ................. ok
t/02-versions.t ................. ok
t/10-test-html-lint.t ........... ok
t/11-test-html-lint-overload.t .. ok
t/12-html_fragment_ok.t ......... ok
t/20-error-types-export.t ....... ok
t/20-error-types-skip.t ......... ok
t/20-error-types.t .............. ok
t/30-test-builder.t ............. ok
t/40-where.t .................... ok
t/50-multiple-files.t ........... ok
t/60-add-tags.t ................. ok
t/api-eof-not-called.t .......... ok
t/api-parse-not-called.t ........ ok
t/attr-invalid-entity.t ......... ok
t/attr-repeated.t ............... ok
t/attr-unclosed-entity.t ........ ok
t/attr-unknown-entity.t ......... ok
t/attr-unknown.t ................ ok
t/attr-use-entity.t ............. ok
t/config-unknown-directive.t .... ok
t/config-unknown-value.t ........ ok
t/doc-tag-required.t ............ ok
t/elem-empty-but-closed.t ....... ok
t/elem-img-alt-missing.t ........ ok
t/elem-img-sizes-missing.t ...... ok
t/elem-input-alt-missing.t ...... ok
t/elem-nonrepeatable.t .......... ok
t/elem-unclosed.t ............... ok
t/elem-unknown.t ................ ok
t/elem-unopened.t ............... ok
t/embed-extensions.t ............ ok
t/nolint.t ...................... ok
t/parse_file.t .................. ok
t/pod-coverage.t ................ ok
t/pod.t ......................... ok
t/random-nobr.t ................. ok
t/strong-id.t ................... ok
t/text-invalid-entity.t ......... ok
t/text-unclosed-entity.t ........ ok
t/text-unknown-entity.t ......... ok
t/text-use-entity.t ............. ok
t/xhtml-html.t .................. ok
All tests successful.
Files=44, Tests=358,  3 wallclock secs ( 0.14 usr +  0.09 sys =  0.23 CPU)
Result: PASS

------------------------------
PREREQUISITES
------------------------------

Prerequisite modules loaded:

requires:

    Module                Need  Have    
    --------------------- ----- --------
    Exporter              0     5.70    
    File::Find            0     1.15    
    HTML::Entities        0     3.69    
    HTML::Parser          3.47  3.71    
    HTML::Tagset          3.03  3.20    
    perl                  5.006 5.012002
    Test::Builder         0     1.001003
    Test::Builder::Tester 0     1.23_003
    Test::More            0     1.001003

build_requires:

    Module                Need  Have    
    --------------------- ----- --------
    ExtUtils::MakeMaker   0     6.98    

configure_requires:

    Module                Need  Have    
    --------------------- ----- --------
    ExtUtils::MakeMaker   0     6.98    


------------------------------
ENVIRONMENT AND OTHER CONTEXT
------------------------------

Environment variables:

    AUTOMATED_TESTING = 1
    COMSPEC = C:\WINDOWS\system32\cmd.exe
    NUMBER_OF_PROCESSORS = 1
    PATH = c:\Windows\system32;c:\Windows\System32\Wbem;C:\Git\cmd;C:\strawberry\c\bin;C:\strawberry\perl\site\bin;C:\strawberry\perl\bin
    PERL5LIB = 
    PERL5OPT = 
    PERL5_CPANPLUS_IS_RUNNING = 1700
    PERL5_CPAN_IS_RUNNING = 1700
    PERL5_CPAN_IS_RUNNING_IN_RECURSION = 2012,1700
    PERL_CR_SMOKER_CURRENT = HTML-Lint-2.32
    PERL_CR_SMOKER_RUNONCE = 1
    PERL_EXTUTILS_AUTOINSTALL = --defaultdeps
    PERL_MM_USE_DEFAULT = 1
    PROCESSOR_IDENTIFIER = x86 Family 18 Model 1 Stepping 0, AuthenticAMD
    TEMP = C:\DOCUME~1\c\LOCALS~1\Temp
    TERM = dumb

Perl special variables (and OS-specific diagnostics, for MSWin32):

    $^X = C:\strawberry\perl\bin\perl.exe
    $UID/$EUID = 0 / 0
    $GID = 0
    $EGID = 0
    Win32::GetOSName = WinXP/.Net
    Win32::GetOSVersion = Service Pack 3, 5, 1, 2600, 2, 3, 0, 256, 1
    Win32::FsType = NTFS
    Win32::IsAdminUser = 1

Perl module toolchain versions installed:

    Module              Have    
    ------------------- --------
    CPAN                2.16    
    CPAN::Meta          2.141520
    Cwd                 3.47    
    ExtUtils::CBuilder  0.280216
    ExtUtils::Command   1.16    
    ExtUtils::Install   1.55    
    ExtUtils::MakeMaker 6.98    
    ExtUtils::Manifest  1.60    
    ExtUtils::ParseXS   3.24    
    File::Spec          3.47    
    JSON                2.90    
    JSON::PP            2.27203 
    Module::Build       0.4206  
    Module::Signature   0.66    
    Parse::CPAN::Meta   1.4414  
    Test::Harness       3.32    
    Test::More          1.001003
    YAML                0.98    
    YAML::Syck          1.27    
    version             0.9908  


--

Summary of my perl5 (revision 5 version 12 subversion 2) configuration:
   
  Platform:
    osname=MSWin32, osvers=5.1, archname=MSWin32-x86-multi-thread
    uname='Win32 strawberryperl 5.12.2.0 #1 Fri Nov  5 05:17:27 2010 i386'
    config_args='undef'
    hint=recommended, useposix=true, d_sigaction=undef
    useithreads=define, usemultiplicity=define
    useperlio=define, d_sfio=undef, uselargefiles=define, usesocks=undef
    use64bitint=undef, use64bitall=undef, uselongdouble=undef
    usemymalloc=n, bincompat5005=undef
  Compiler:
    cc='gcc', ccflags =' -s -O2 -DWIN32 -DHAVE_DES_FCRYPT  -DUSE_SITECUSTOMIZE -DPERL_IMPLICIT_CONTEXT -DPERL_IMPLICIT_SYS -fno-strict-aliasing -mms-bitfields -DPERL_MSVCRT_READFIX',
    optimize='-s -O2',
    cppflags='-DWIN32'
    ccversion='', gccversion='4.4.3', gccosandvers=''
    intsize=4, longsize=4, ptrsize=4, doublesize=8, byteorder=1234
    d_longlong=undef, longlongsize=8, d_longdbl=define, longdblsize=12
    ivtype='long', ivsize=4, nvtype='double', nvsize=8, Off_t='long long', lseeksize=8
    alignbytes=8, prototype=define
  Linker and Libraries:
    ld='g++', ldflags ='-s -L"C:\strawberry\perl\lib\CORE" -L"C:\strawberry\c\lib"'
    libpth=C:\strawberry\c\lib C:\strawberry\c\i686-w64-mingw32\lib
    libs=-lmoldname -lkernel32 -luser32 -lgdi32 -lwinspool -lcomdlg32 -ladvapi32 -lshell32 -lole32 -loleaut32 -lnetapi32 -luuid -lws2_32 -lmpr -lwinmm -lversion -lodbc32 -lodbccp32 -lcomctl32
    perllibs=-lmoldname -lkernel32 -luser32 -lgdi32 -lwinspool -lcomdlg32 -ladvapi32 -lshell32 -lole32 -loleaut32 -lnetapi32 -luuid -lws2_32 -lmpr -lwinmm -lversion -lodbc32 -lodbccp32 -lcomctl32
    libc=, so=dll, useshrplib=true, libperl=libperl512.a
    gnulibc_version=''
  Dynamic Linking:
    dlsrc=dl_win32.xs, dlext=dll, d_dlsymun=undef, ccdlflags=' '
    cccdlflags=' ', lddlflags='-mdll -s -L"C:\strawberry\perl\lib\CORE" -L"C:\strawberry\c\lib"'


Characteristics of this binary (from libperl): 
  Compile-time options: MULTIPLICITY PERL_DONT_CREATE_GVSV
                        PERL_IMPLICIT_CONTEXT PERL_IMPLICIT_SYS
                        PERL_MALLOC_WRAP PL_OP_SLAB_ALLOC USE_ITHREADS
                        USE_LARGE_FILES USE_PERLIO USE_PERL_ATOF
                        USE_SITECUSTOMIZE
  Built under MSWin32
  Compiled at Nov  5 2010 08:39:08
  %ENV:
    PERL5_CPANPLUS_IS_RUNNING="1700"
    PERL5_CPAN_IS_RUNNING="1700"
    PERL5_CPAN_IS_RUNNING_IN_RECURSION="2012,1700"
    PERL_CR_SMOKER_CURRENT="HTML-Lint-2.32"
    PERL_CR_SMOKER_RUNONCE="1"
    PERL_EXTUTILS_AUTOINSTALL="--defaultdeps"
    PERL_MM_USE_DEFAULT="1"
  @INC:
    C:/strawberry/perl/site/lib
    C:/strawberry/perl/vendor/lib
    C:/strawberry/perl/lib
    .