Report for Hash-AutoHash-1.15

Back
From: metabase:user:68a9c4ac-1ec7-11e0-bf29-9c4bfeb2ac3f
Subject: PASS Hash-AutoHash-1.15 v5.10.1 Windows (Cygwin)
Date: 2012-09-19T22:46:22Z

This distribution has been tested as part of the CPAN Testers
project, supporting the Perl programming language.  See
http://wiki.cpantesters.org/ for more information or email
questions to cpan-testers-discuss@perl.org


--
Dear Nathan Goodman,

This is a computer-generated report for Hash-AutoHash-1.15
on perl 5.10.1, created by CPAN-Reporter-1.2006.

Thank you for uploading your work to CPAN.  Congratulations!
All tests were successful.

Sections of this report:

    * Tester comments
    * Program output
    * Prerequisites
    * Environment and other context

------------------------------
TESTER COMMENTS
------------------------------

Additional comments from tester:

this report is from an automated smoke testing program
and was not reviewed by a human for accuracy

------------------------------
PROGRAM OUTPUT
------------------------------

Output from './Build test':

# Testing Hash::AutoHash 1.15, Perl 5.010001, /usr/bin/perl
t/autohash.000.code_exists.t .... ok
t/autohash.001.boilerplate.t .... ok
t/autohash.002.pod.t ............ ok
t/autohash.010.cons_funcs.t ..... ok
t/autohash.011.new_func.t ....... ok
t/autohash.012.new_method.t ..... ok
t/autohash.013.ashash.t ......... ok
t/autohash.013.exthash.t ........ ok
t/autohash.013.extobj.t ......... ok
t/autohash.019.export_ok.t ...... ok
t/autohash.020.class_methods.t .. ok
t/autohash.020.special_keys.t ... ok
t/autohash.020.universal.t ...... ok
t/autohash.030.alias.t .......... ok
t/autohash.030.clear.t .......... ok
t/autohash.030.count_etc.t ...... ok
t/autohash.030.delete.t ......... ok
t/autohash.030.each.t ........... ok
t/autohash.030.exists.t ......... ok
t/autohash.030.get.t ............ ok
t/autohash.030.keys.t ........... ok
t/autohash.030.set.t ............ ok
t/autohash.030.tied.t ........... ok
t/autohash.030.values.t ......... ok
t/autohash.031.delete_exists.t .. ok
t/autohash.031.delete_keys.t .... ok
t/autohash.031.delete_values.t .. ok
t/autohash.040.destroy.t ........ ok
t/autohash.050.child.t .......... ok
t/autohash.050.grandchild.t ..... ok
t/autohash.055.typicalchild.t ... ok
t/autohash.099.docs.t ........... ok
All tests successful.
Files=32, Tests=2812, 22 wallclock secs ( 0.32 usr  0.10 sys +  7.69 cusr  2.07 csys = 10.18 CPU)
Result: PASS

------------------------------
PREREQUISITES
------------------------------

Prerequisite modules loaded:

requires:

    Module                Need   Have    
    --------------------- ------ --------
    Carp                  0      1.11    
    List::MoreUtils       0.09   0.33    
    perl                  v5.8.3 5.010001
    Scalar::Util          1.01   1.21    
    Tie::Hash             1      1.03    
    Tie::ToObject         0      0.03    

build_requires:

    Module                Need   Have    
    --------------------- ------ --------
    Exporter              0      5.63    
    Test::Deep            0      0.108   
    Test::More            0.88   0.98    
    Tie::Hash::MultiValue 0      1.02    

configure_requires:

    Module                Need   Have    
    --------------------- ------ --------
    Module::Build         0.4    0.4003  


------------------------------
ENVIRONMENT AND OTHER CONTEXT
------------------------------

Environment variables:

    AUTOMATED_TESTING = 1
    COMSPEC = C:\WINDOWS\system32\cmd.exe
    LANG = en_US.UTF-8
    NUMBER_OF_PROCESSORS = 1
    PATH = /usr/local/bin:/usr/bin:/cygdrive/c/WINDOWS/system32:/cygdrive/c/WINDOWS:/cygdrive/c/WINDOWS/System32/Wbem:/cygdrive/c/strawberry/c/bin:/cygdrive/c/strawberry/perl/site/bin:/cygdrive/c/strawberry/perl/bin:/cygdrive/c/WINDOWS/system32/WindowsPowerShell/v1.0:/cygdrive/c/progra~1/notepa~1
    PERL5LIB = /home/Archibald/.cpan/build/Tie-Hash-MultiValue-1.02-Q8mO_4/blib/arch:/home/Archibald/.cpan/build/Tie-Hash-MultiValue-1.02-Q8mO_4/blib/lib
    PERL5OPT = 
    PERL5_CPANPLUS_IS_RUNNING = 5020
    PERL5_CPAN_IS_RUNNING = 5020
    PERL5_CPAN_IS_RUNNING_IN_RECURSION = 3624,5020
    PERL_CR_SMOKER_CURRENT = Hash-AutoHash-Record-1.14
    PERL_EXTUTILS_AUTOINSTALL = --defaultdeps
    PERL_JSON_BACKEND = JSON::XS
    PERL_MM_USE_DEFAULT = 1
    PERL_YAML_BACKEND = YAML
    PROCESSOR_IDENTIFIER = x86 Family 6 Model 42 Stepping 7, GenuineIntel
    SHELL = /bin/bash
    TEMP = /tmp
    TERM = xterm

Perl special variables (and OS-specific diagnostics, for MSWin32):

    $^X = /usr/bin/perl
    $UID/$EUID = 1007 / 1007
    $GID = 513 544 545 513
    $EGID = 513 544 545 513

Perl module toolchain versions installed:

    Module              Have    
    ------------------- --------
    CPAN                1.9800  
    CPAN::Meta          2.120351
    Cwd                 3.30    
    ExtUtils::CBuilder  0.2702  
    ExtUtils::Command   1.16_01 
    ExtUtils::Install   1.54    
    ExtUtils::MakeMaker 6.55_02 
    ExtUtils::Manifest  1.56    
    ExtUtils::ParseXS   2.2206  
    File::Spec          3.3001  
    JSON                2.53    
    JSON::PP            2.27200 
    Module::Build       0.4003  
    Module::Signature   0.61    
    Parse::CPAN::Meta   1.4402  
    Test::Harness       3.23    
    Test::More          0.98    
    YAML                0.80    
    YAML::Syck          1.19    
    version             0.96    


--

Summary of my perl5 (revision 5 version 10 subversion 1) configuration:
   
  Platform:
    osname=cygwin, osvers=1.7.5(0.22553), archname=i686-cygwin-thread-multi-64int
    uname='cygwin_nt-5.1 reini 1.7.5(0.22553) 2010-04-12 19:07 i686 cygwin '
    config_args='-de -Dlibperl=cygperl5_10.dll -Dcc=gcc-4 -Dld=g++-4 -Dmksymlinks -Dusethreads -Dmad=y -Doptimize=-O3 -Accflags=-g3'
    hint=recommended, useposix=true, d_sigaction=define
    useithreads=define, usemultiplicity=define
    useperlio=define, d_sfio=undef, uselargefiles=define, usesocks=undef
    use64bitint=define, use64bitall=undef, uselongdouble=undef
    usemymalloc=y, bincompat5005=undef
  Compiler:
    cc='gcc-4', ccflags ='-DPERL_USE_SAFE_PUTENV -U__STRICT_ANSI__ -g3 -fno-strict-aliasing -pipe -fstack-protector -I/usr/local/include',
    optimize='-O3',
    cppflags='-DPERL_USE_SAFE_PUTENV -U__STRICT_ANSI__ -g3 -fno-strict-aliasing -pipe -fstack-protector -I/usr/local/include'
    ccversion='', gccversion='4.3.4 20090804 (release) 1', gccosandvers=''
    intsize=4, longsize=4, ptrsize=4, doublesize=8, byteorder=12345678
    d_longlong=define, longlongsize=8, d_longdbl=define, longdblsize=12
    ivtype='long long', ivsize=8, nvtype='double', nvsize=8, Off_t='off_t', lseeksize=8
    alignbytes=8, prototype=define
  Linker and Libraries:
    ld='g++-4', ldflags =' -Wl,--enable-auto-import -Wl,--export-all-symbols -Wl,--stack,8388608 -Wl,--enable-auto-image-base -fstack-protector -L/usr/local/lib'
    libpth=/usr/local/lib /usr/lib /lib
    libs=-lgdbm -ldb -ldl -lcrypt -lgdbm_compat
    perllibs=-ldl -lcrypt
    libc=/usr/lib/libc.a, so=dll, useshrplib=true, libperl=cygperl5_10.dll
    gnulibc_version=''
  Dynamic Linking:
    dlsrc=dl_dlopen.xs, dlext=dll, d_dlsymun=undef, ccdlflags=' '
    cccdlflags=' ', lddlflags=' --shared  -Wl,--enable-auto-import -Wl,--export-all-symbols -Wl,--stack,8388608 -Wl,--enable-auto-image-base -L/usr/local/lib -fstack-protector'


Characteristics of this binary (from libperl): 
  Compile-time options: MULTIPLICITY MYMALLOC PERL_DONT_CREATE_GVSV
                        PERL_IMPLICIT_CONTEXT PERL_MAD PERL_USE_SAFE_PUTENV
                        USE_64_BIT_INT USE_ITHREADS USE_LARGE_FILES
                        USE_PERLIO USE_REENTRANT_API
  Locally applied patches:
	CYG11 no-bs
	CYG12 no archlib in otherlibdirs
	CYG14 Dynaloader
	CYG15 static-Win32CORE
	CYG17 utf8-paths
	CYG21 LibList-Kid.patch
	CYG22 cygwin-1.7 hints
	CYG23 544-stat
	CYG24 build man pages
	CYG25 rebase_privlib
	Module-Build-0.36_13
	Bug#55162 CYG18 File::Spec::case_tolerant performance
	disable ExtUtils::MakeMaker::Coverage in Sys-Syslog
  Built under cygwin
  Compiled at Aug 28 2010 20:17:29
  %ENV:
    PERL5LIB="/home/Archibald/.cpan/build/Tie-Hash-MultiValue-1.02-Q8mO_4/blib/arch:/home/Archibald/.cpan/build/Tie-Hash-MultiValue-1.02-Q8mO_4/blib/lib"
    PERL5OPT=""
    PERL5_CPANPLUS_IS_RUNNING="5020"
    PERL5_CPAN_IS_RUNNING="5020"
    PERL5_CPAN_IS_RUNNING_IN_RECURSION="3624,5020"
    PERL_CR_SMOKER_CURRENT="Hash-AutoHash-Record-1.14"
    PERL_EXTUTILS_AUTOINSTALL="--defaultdeps"
    PERL_JSON_BACKEND="JSON::XS"
    PERL_MM_USE_DEFAULT="1"
    PERL_YAML_BACKEND="YAML"
    CYGWIN=""
  @INC:
    /home/Archibald/.cpan/build/Tie-Hash-MultiValue-1.02-Q8mO_4/blib/arch
    /home/Archibald/.cpan/build/Tie-Hash-MultiValue-1.02-Q8mO_4/blib/lib
    /usr/lib/perl5/5.10/i686-cygwin
    /usr/lib/perl5/5.10
    /usr/lib/perl5/site_perl/5.10/i686-cygwin
    /usr/lib/perl5/site_perl/5.10
    /usr/lib/perl5/vendor_perl/5.10/i686-cygwin
    /usr/lib/perl5/vendor_perl/5.10
    /usr/lib/perl5/vendor_perl/5.10
    /usr/lib/perl5/site_perl/5.8
    /usr/lib/perl5/vendor_perl/5.8
    .