Syntax-Construct v1.032 Perl 5 v5.20.2 amd64-freebsd
- Status
- Pass
- From
- David Cantrell (DCANTRELL)
- Dist
-
Syntax-Construct v1.032
- Platform
- Perl 5 v5.20.2 amd64-freebsd
- Date
- 2023-05-05 02:45:02
- ID
- d58acf02-eaee-11ed-ad1b-2ff8cba37783
This distribution has been tested as part of the CPAN Testers
project, supporting the Perl programming language. See
http://wiki.cpantesters.org/ for more information or email
questions to cpan-testers-discuss@perl.org
--
Dear E. Choroba,
This is a computer-generated report for Syntax-Construct-1.032
on perl 5.20.2, created by CPAN-Reporter-1.2018.
Thank you for uploading your work to CPAN. Congratulations!
All tests were successful.
Sections of this report:
* Tester comments
* Program output
* Prerequisites
* Environment and other context
------------------------------
TESTER COMMENTS
------------------------------
Additional comments from tester:
this report is from an automated smoke testing program
and was not reviewed by a human for accuracy
------------------------------
PROGRAM OUTPUT
------------------------------
Output from '/usr/bin/make test':
PERL_DL_NONLAZY=1 /usr/home/david/cpantesting/perl-5.20.2/bin/perl "-MExtUtils::Command::MM" "-MTest::Harness" "-e" "undef *Test::Harness::Switches; test_harness(0, 'blib/lib', 'blib/arch')" t/*.t
# Testing Syntax::Construct 1.032, Perl 5.020002, /usr/home/david/cpantesting/perl-5.20.2/bin/perl
t/00-load.t ........ ok
t/01-invalid.t ..... ok
push on reference is experimental at (eval 16) line 1.
keys on reference is experimental at (eval 16) line 1.
keys on reference is experimental at (eval 16) line 1.
Use of bare << to mean <<"" is deprecated at (eval 40) line 1.
Bareword found where operator expected at (eval 54) line 1, near "0xFFp"
(Missing operator before p?)
Wide character in regexp compilation at (eval 61) line 1.
Escape literal pattern white space under /x in regex; marked by <-- HERE in m/a ÃÂ
<-- HERE âÂÂâÂÂâ¨â©b/ at (eval 61) line 1.
Wide character in regexp compilation at (eval 61) line 1.
Escape literal pattern white space under /x in regex; marked by <-- HERE in m/a ÃÂ
â <-- HERE âÂÂâ¨â©b/ at (eval 61) line 1.
Wide character in regexp compilation at (eval 61) line 1.
Escape literal pattern white space under /x in regex; marked by <-- HERE in m/a ÃÂ
âÂÂâ <-- HERE â¨â©b/ at (eval 61) line 1.
Wide character in regexp compilation at (eval 61) line 1.
Escape literal pattern white space under /x in regex; marked by <-- HERE in m/a ÃÂ
âÂÂâÂÂ⨠<-- HERE â©b/ at (eval 61) line 1.
Wide character in regexp compilation at (eval 61) line 1.
Escape literal pattern white space under /x in regex; marked by <-- HERE in m/a ÃÂ
âÂÂâÂÂâ¨â© <-- HERE b/ at (eval 61) line 1.
Bareword found where operator expected at (eval 78) line 1, near "0o12"
(Missing operator before o12?)
Illegal hexadecimal digit ' ' ignored at (eval 80) line 1.
Use of my $_ is experimental at (eval 144) line 1.
Use of bare << to mean <<"" is deprecated at (eval 148) line 1.
Possible unintended interpolation of @APTURE in string at (eval 153) line 1.
Invalid conversion in sprintf: "%.*2$" at (eval 168) line 1.
t/02-constructs.t .. ok
t/03-hooks.t ....... ok
Use of ?PATTERN? without explicit operator is deprecated at (eval 6) line 1.
Useless use of split in void context at (eval 10) line 1.
Array @arr missing the @ in argument 1 of push() at (eval 11) line 1.
t/04-extra.t ....... ok
t/05-functions.t ... ok
t/06-alias.t ....... ok
All tests successful.
Files=7, Tests=138, 6 wallclock secs ( 0.14 usr 0.05 sys + 1.69 cusr 0.32 csys = 2.20 CPU)
Result: PASS
------------------------------
PREREQUISITES
------------------------------
Prerequisite modules loaded:
requires:
Module Need Have
------------------- -------- --------
Config 0 5.020002
locale 0 1.03
perl 5.006002 5.020002
POSIX 0 1.38_03
build_requires:
Module Need Have
------------------- -------- --------
ExtUtils::MakeMaker 0 6.98
File::Spec 0 3.48_01
FindBin 0 1.51
Test::More 0 1.302188
configure_requires:
Module Need Have
------------------- -------- --------
ExtUtils::MakeMaker 0 6.98
------------------------------
ENVIRONMENT AND OTHER CONTEXT
------------------------------
Environment variables:
AUTOMATED_TESTING = 1
LANG = en_GB.UTF-8
NONINTERACTIVE_TESTING = 1
PATH = /home/david/perl5/perlbrew/bin:/home/david/perl5/perlbrew/perls/perl-5.30.2/bin:/home/david/.cargo/bin:/sbin:/bin:/usr/sbin:/usr/bin:/usr/local/sbin:/usr/local/bin:/home/david/bin
PERL = 5.20.2
PERL5LIB =
PERL5OPT =
PERL5_CPANPLUS_IS_RUNNING = 10902
PERL5_CPAN_IS_RUNNING = 10902
PERLBREW_HOME = /home/david/.perlbrew
PERLBREW_MANPATH = /home/david/perl5/perlbrew/perls/perl-5.30.2/man
PERLBREW_PATH = /home/david/perl5/perlbrew/bin:/home/david/perl5/perlbrew/perls/perl-5.30.2/bin
PERLBREW_PERL = perl-5.30.2
PERLBREW_ROOT = /home/david/perl5/perlbrew
PERLBREW_SHELLRC_VERSION = 0.89
PERLBREW_VERSION = 0.89
PERLVER = 5.20.2
PERL_INLINE_DIRECTORY = /home/david/.Inline-5.20.2
PERL_MM_USE_DEFAULT = 1
PERL_USE_UNSAFE_INC = 0
SHELL = /usr/local/bin/bash
TERM = screen
Perl special variables (and OS-specific diagnostics, for MSWin32):
$^X = /usr/home/david/cpantesting/perl-5.20.2/bin/perl
$UID/$EUID = 1001 / 1001
$GID = 1001 1001 0
$EGID = 1001 1001 0
Perl module toolchain versions installed:
Module Have
------------------- --------
CPAN 2.05
CPAN::Meta 2.150010
Cwd 3.48_01
ExtUtils::CBuilder 0.280217
ExtUtils::Command 1.18
ExtUtils::Install 1.67
ExtUtils::MakeMaker 6.98
ExtUtils::Manifest 1.63
ExtUtils::ParseXS 3.44
File::Spec 3.48_01
JSON n/a
JSON::PP 4.07
Module::Build 0.4234
Module::Signature n/a
Parse::CPAN::Meta 2.150010
Test::Harness 3.30
Test::More 1.302188
YAML n/a
YAML::Syck n/a
version 0.9909
--
Summary of my perl5 (revision 5 version 20 subversion 2) configuration:
Platform:
osname=freebsd, osvers=13.0-release-p7, archname=amd64-freebsd
uname='freebsd cpantesting-freebsd-utm.local 13.0-release-p7 freebsd 13.0-release-p7 #0: mon jan 31 18:24:03 utc 2022 root@amd64-builder.daemonology.net:usrobjusrsrcamd64.amd64sysgeneric amd64 '
config_args='-de -Dprefix=/home/david/cpantesting/perl-5.20.2'
hint=recommended, useposix=true, d_sigaction=define
useithreads=undef, usemultiplicity=undef
use64bitint=define, use64bitall=define, uselongdouble=undef
usemymalloc=n, bincompat5005=undef
Compiler:
cc='cc', ccflags ='-DHAS_FPSETMASK -DHAS_FLOATINGPOINT_H -fno-strict-aliasing -pipe -fstack-protector -I/usr/local/include',
optimize='-O2',
cppflags='-DHAS_FPSETMASK -DHAS_FLOATINGPOINT_H -fno-strict-aliasing -pipe -fstack-protector -I/usr/local/include'
ccversion='', gccversion='FreeBSD Clang 11.0.1 (git@github.com:llvm/llvm-project.git llvmorg-11.0.1-0-g43ff75f2c3fe)', gccosandvers=''
intsize=4, longsize=8, ptrsize=8, doublesize=8, byteorder=12345678
d_longlong=define, longlongsize=8, d_longdbl=define, longdblsize=16
ivtype='long', ivsize=8, nvtype='double', nvsize=8, Off_t='off_t', lseeksize=8
alignbytes=8, prototype=define
Linker and Libraries:
ld='cc', ldflags ='-Wl,-E -fstack-protector -L/usr/local/lib'
libpth=/usr/lib /usr/local/lib /usr/lib/clang/11.0.1/lib /usr/lib
libs=-lgdbm -ldl -lm -lcrypt -lutil -lc
perllibs=-ldl -lm -lcrypt -lutil -lc
libc=, so=so, useshrplib=false, libperl=libperl.a
gnulibc_version=''
Dynamic Linking:
dlsrc=dl_dlopen.xs, dlext=so, d_dlsymun=undef, ccdlflags=' '
cccdlflags='-DPIC -fPIC', lddlflags='-shared -L/usr/local/lib -fstack-protector'
Characteristics of this binary (from libperl):
Compile-time options: HAS_TIMES PERLIO_LAYERS PERL_DONT_CREATE_GVSV
PERL_HASH_FUNC_ONE_AT_A_TIME_HARD PERL_MALLOC_WRAP
PERL_NEW_COPY_ON_WRITE PERL_PRESERVE_IVUV
USE_64_BIT_ALL USE_64_BIT_INT USE_LARGE_FILES
USE_LOCALE USE_LOCALE_COLLATE USE_LOCALE_CTYPE
USE_LOCALE_NUMERIC USE_PERLIO USE_PERL_ATOF
Locally applied patches:
Devel::PatchPerl 2.08
Built under freebsd
Compiled at Feb 3 2022 13:12:54
%ENV:
PERL="5.20.2"
PERL5LIB=""
PERL5OPT=""
PERL5_CPANPLUS_IS_RUNNING="10902"
PERL5_CPAN_IS_RUNNING="10902"
PERLBREW_HOME="/home/david/.perlbrew"
PERLBREW_MANPATH="/home/david/perl5/perlbrew/perls/perl-5.30.2/man"
PERLBREW_PATH="/home/david/perl5/perlbrew/bin:/home/david/perl5/perlbrew/perls/perl-5.30.2/bin"
PERLBREW_PERL="perl-5.30.2"
PERLBREW_ROOT="/home/david/perl5/perlbrew"
PERLBREW_SHELLRC_VERSION="0.89"
PERLBREW_VERSION="0.89"
PERLVER="5.20.2"
PERL_INLINE_DIRECTORY="/home/david/.Inline-5.20.2"
PERL_MM_USE_DEFAULT="1"
PERL_USE_UNSAFE_INC="0"
@INC:
/home/david/cpantesting/perl-5.20.2/lib/site_perl/5.20.2/amd64-freebsd
/home/david/cpantesting/perl-5.20.2/lib/site_perl/5.20.2
/home/david/cpantesting/perl-5.20.2/lib/5.20.2/amd64-freebsd
/home/david/cpantesting/perl-5.20.2/lib/5.20.2
.