Report for MooseX-Getopt-Defanged-v1.18.0

Back
From: metabase:user:a2f211e6-b4d8-11e3-8cef-17f887cd97f7
Subject: PASS MooseX-Getopt-Defanged-v1.18.0 v5.14.4 GNU/Linux
Date: 2014-03-26T12:54:57Z

This distribution has been tested as part of the CPAN Testers
project, supporting the Perl programming language.  See
http://wiki.cpantesters.org/ for more information or email
questions to cpan-testers-discuss@perl.org


--
Dear Elliot Shank,

This is a computer-generated report for MooseX-Getopt-Defanged-v1.18.0
on perl 5.14.4, created by CPAN-Reporter-1.2010.

Thank you for uploading your work to CPAN.  Congratulations!
All tests were successful.

Sections of this report:

    * Tester comments
    * Program output
    * Prerequisites
    * Environment and other context

------------------------------
TESTER COMMENTS
------------------------------

Additional comments from tester:

none provided

------------------------------
PROGRAM OUTPUT
------------------------------

Output from './Build test':

Passing a list of values to enum is deprecated. Enum values should be wrapped in an arrayref. at /opt/perl5/perls/perl-5.14.4/lib/site_perl/5.14.4/Test/Compile/Internal.pm line 188.
	eval ' 
#line 188 "/opt/perl5/perls/perl-5.14.4/lib/site_perl/5.14.4/Test/Compile/Internal.pm"
CORE::require($file); 

;' called at /opt/perl5/perls/perl-5.14.4/lib/site_perl/5.14.4/UNIVERSAL/require.pm line 94
	UNIVERSAL::require("MooseX::Getopt::Defanged::Meta::Attribute::Trait::_Getopt") called at /opt/perl5/perls/perl-5.14.4/lib/site_perl/5.14.4/Test/Compile/Internal.pm line 188
	Test::Compile::Internal::__ANON__() called at /opt/perl5/perls/perl-5.14.4/lib/site_perl/5.14.4/Test/Compile/Internal.pm line 307
	Test::Compile::Internal::_run_closure(Test::Compile::Internal=HASH(0x14a8ae0), CODE(0x1457588)) called at /opt/perl5/perls/perl-5.14.4/lib/site_perl/5.14.4/Test/Compile/Internal.pm line 199
	Test::Compile::Internal::pm_file_compiles(Test::Compile::Internal=HASH(0x14a8ae0), "blib/lib/MooseX/Getopt/Defanged/Meta/Attribute/Trait/_Getopt.pm") called at /opt/perl5/perls/perl-5.14.4/lib/site_perl/5.14.4/Test/Compile.pm line 150
	Test::Compile::pm_file_ok("blib/lib/MooseX/Getopt/Defanged/Meta/Attribute/Trait/_Getopt.pm") called at /opt/perl5/perls/perl-5.14.4/lib/site_perl/5.14.4/Test/Compile.pm line 92
	Test::Compile::all_pm_files_ok() called at t/00-use-ok.t line 15
t/00-use-ok.t ..................... ok
Passing a list of values to enum is deprecated. Enum values should be wrapped in an arrayref. at /opt/perl5/perls/perl-5.14.4/lib/site_perl/5.14.4/Module/Runtime.pm line 317.
	Module::Runtime::require_module("MooseX::Getopt::Defanged::Meta::Attribute::Trait::_Getopt") called at /opt/perl5/perls/perl-5.14.4/lib/site_perl/5.14.4/Module/Runtime.pm line 381
	eval {...} called at /opt/perl5/perls/perl-5.14.4/lib/site_perl/5.14.4/Module/Runtime.pm line 381
	Module::Runtime::use_package_optimistically("MooseX::Getopt::Defanged::Meta::Attribute::Trait::_Getopt") called at /opt/perl5/perls/perl-5.14.4/lib/site_perl/5.14.4/x86_64-linux/Moose/Util.pm line 233
	Moose::Util::resolve_metaclass_alias("Attribute", "MooseX::Getopt::Defanged::Meta::Attribute::Trait::_Getopt", "trait", 1) called at /opt/perl5/perls/perl-5.14.4/lib/site_perl/5.14.4/x86_64-linux/Moose/Util.pm line 205
	Moose::Util::resolve_metatrait_alias("Attribute", "MooseX::Getopt::Defanged::Meta::Attribute::Trait::_Getopt") called at /opt/perl5/perls/perl-5.14.4/lib/site_perl/5.14.4/x86_64-linux/Moose/Meta/Attribute.pm line 40
	Moose::Meta::Attribute::try {...} () called at /opt/perl5/perls/perl-5.14.4/lib/site_perl/5.14.4/Try/Tiny.pm line 76
	eval {...} called at /opt/perl5/perls/perl-5.14.4/lib/site_perl/5.14.4/Try/Tiny.pm line 72
	Try::Tiny::try(CODE(0x2e5bb40)) called at /opt/perl5/perls/perl-5.14.4/lib/site_perl/5.14.4/x86_64-linux/Moose/Meta/Attribute.pm line 41
	Moose::Meta::Attribute::does(Moose::Meta::Attribute=HASH(0x2e56770), "MooseX::Getopt::Defanged::Meta::Attribute::Trait::_Getopt") called at /root/.cpan/build/MooseX-Getopt-Defanged-v1.18.0-aj9vA0/blib/lib/MooseX/Getopt/Defanged.pm line 61
	MooseX::Getopt::Defanged::_getopt_get_option_attributes(MooseX::Getopt::Defanged::MinimalConsumer=HASH(0x2cf0a48)) called at /root/.cpan/build/MooseX-Getopt-Defanged-v1.18.0-aj9vA0/blib/lib/MooseX/Getopt/Defanged.pm line 95
	MooseX::Getopt::Defanged::_getopt_invoke_getopt_long(MooseX::Getopt::Defanged::MinimalConsumer=HASH(0x2cf0a48), ARRAY(0x1c2ddb0)) called at /root/.cpan/build/MooseX-Getopt-Defanged-v1.18.0-aj9vA0/blib/lib/MooseX/Getopt/Defanged.pm line 48
	MooseX::Getopt::Defanged::parse_command_line(MooseX::Getopt::Defanged::MinimalConsumer=HASH(0x2cf0a48), ARRAY(0x1c2ddb0)) called at t/getopt.t line 149
	MooseX::Getopt::Defanged::Test::test_3_can_parse_command_line_for_minimal_consumer(MooseX::Getopt::Defanged::Test=HASH(0x2e3aa80)) called at /opt/perl5/perls/perl-5.14.4/lib/site_perl/5.14.4/Test/Class.pm line 289
	eval {...} called at /opt/perl5/perls/perl-5.14.4/lib/site_perl/5.14.4/Test/Class.pm line 289
	Test::Class::_run_method(MooseX::Getopt::Defanged::Test=HASH(0x2e3aa80), "test_3_can_parse_command_line_for_minimal_consumer", ARRAY(0x1ea0740)) called at /opt/perl5/perls/perl-5.14.4/lib/site_perl/5.14.4/Test/Class.pm line 392
	Test::Class::runtests("MooseX::Getopt::Defanged::Test") called at t/getopt.t line 113
t/getopt.t ........................ ok
Passing a list of values to enum is deprecated. Enum values should be wrapped in an arrayref. at /opt/perl5/perls/perl-5.14.4/lib/site_perl/5.14.4/Module/Runtime.pm line 317.
	Module::Runtime::require_module("MooseX::Getopt::Defanged::Meta::Attribute::Trait::_Getopt") called at /opt/perl5/perls/perl-5.14.4/lib/site_perl/5.14.4/Module/Runtime.pm line 381
	eval {...} called at /opt/perl5/perls/perl-5.14.4/lib/site_perl/5.14.4/Module/Runtime.pm line 381
	Module::Runtime::use_package_optimistically("MooseX::Getopt::Defanged::Meta::Attribute::Trait::_Getopt") called at /opt/perl5/perls/perl-5.14.4/lib/site_perl/5.14.4/x86_64-linux/Moose/Util.pm line 233
	Moose::Util::resolve_metaclass_alias("Attribute", "MooseX::Getopt::Defanged::Meta::Attribute::Trait::_Getopt", "trait", 1) called at /opt/perl5/perls/perl-5.14.4/lib/site_perl/5.14.4/x86_64-linux/Moose/Util.pm line 205
	Moose::Util::resolve_metatrait_alias("Attribute", "MooseX::Getopt::Defanged::Meta::Attribute::Trait::_Getopt") called at /opt/perl5/perls/perl-5.14.4/lib/site_perl/5.14.4/x86_64-linux/Moose/Meta/Attribute.pm line 40
	Moose::Meta::Attribute::try {...} () called at /opt/perl5/perls/perl-5.14.4/lib/site_perl/5.14.4/Try/Tiny.pm line 76
	eval {...} called at /opt/perl5/perls/perl-5.14.4/lib/site_perl/5.14.4/Try/Tiny.pm line 72
	Try::Tiny::try(CODE(0x1c739e0)) called at /opt/perl5/perls/perl-5.14.4/lib/site_perl/5.14.4/x86_64-linux/Moose/Meta/Attribute.pm line 41
	Moose::Meta::Attribute::does("Moose::Meta::Attribute", "MooseX::Getopt::Defanged::Meta::Attribute::Trait::_Getopt") called at /opt/perl5/perls/perl-5.14.4/lib/site_perl/5.14.4/x86_64-linux/Moose/Meta/Attribute.pm line 134
	Moose::Meta::Attribute::interpolate_class("Moose::Meta::Attribute", HASH(0x132cb00)) called at /opt/perl5/perls/perl-5.14.4/lib/site_perl/5.14.4/x86_64-linux/Moose/Meta/Attribute.pm line 100
	Moose::Meta::Attribute::interpolate_class_and_new("Moose::Meta::Attribute", "test3", "definition_context", HASH(0x1c11848), "traits", ARRAY(0x1707708), "is", "ro", "isa", ...) called at /opt/perl5/perls/perl-5.14.4/lib/site_perl/5.14.4/x86_64-linux/Moose/Meta/Class.pm line 716
	Moose::Meta::Class::_process_new_attribute(Moose::Meta::Class=HASH(0x1704820), "test3", "definition_context", HASH(0x1c11848), "traits", ARRAY(0x1707708), "is", "ro", "isa", ...) called at /opt/perl5/perls/perl-5.14.4/lib/site_perl/5.14.4/x86_64-linux/Moose/Meta/Class.pm line 709
	Moose::Meta::Class::_process_attribute(Moose::Meta::Class=HASH(0x1704820), "test3", "definition_context", HASH(0x1c11848), "traits", ARRAY(0x1707708), "is", "ro", "isa", ...) called at /opt/perl5/perls/perl-5.14.4/lib/site_perl/5.14.4/x86_64-linux/Moose/Meta/Class.pm line 573
	Moose::Meta::Class::add_attribute(Moose::Meta::Class=HASH(0x1704820), "test3", "definition_context", HASH(0x1c11848), "traits", ARRAY(0x1707708), "is", "ro", "isa", ...) called at /opt/perl5/perls/perl-5.14.4/lib/site_perl/5.14.4/x86_64-linux/Moose.pm line 77
	Moose::has(Moose::Meta::Class=HASH(0x1704820), "test3", "traits", ARRAY(0x1707708), "is", "ro", "isa", "Str") called at /opt/perl5/perls/perl-5.14.4/lib/site_perl/5.14.4/x86_64-linux/Moose/Exporter.pm line 405
	Moose::has("test3", "traits", ARRAY(0x1707708), "is", "ro", "isa", "Str") called at t/inheritance.d/lib/MooseX/Getopt/Defanged/BaseClass.pm line 13
	require MooseX/Getopt/Defanged/BaseClass.pm called at /opt/perl5/perls/perl-5.14.4/lib/site_perl/5.14.4/Module/Runtime.pm line 317
	Module::Runtime::require_module("MooseX::Getopt::Defanged::BaseClass") called at /opt/perl5/perls/perl-5.14.4/lib/site_perl/5.14.4/Module/Runtime.pm line 381
	eval {...} called at /opt/perl5/perls/perl-5.14.4/lib/site_perl/5.14.4/Module/Runtime.pm line 381
	Module::Runtime::use_package_optimistically("MooseX::Getopt::Defanged::BaseClass") called at /opt/perl5/perls/perl-5.14.4/lib/site_perl/5.14.4/x86_64-linux/Moose/Util.pm line 343
	Moose::Util::_load_user_class("MooseX::Getopt::Defanged::BaseClass", undef) called at /opt/perl5/perls/perl-5.14.4/lib/site_perl/5.14.4/x86_64-linux/Moose/Meta/Class.pm line 561
	Moose::Meta::Class::superclasses(undef, "MooseX::Getopt::Defanged::BaseClass") called at /opt/perl5/perls/perl-5.14.4/lib/site_perl/5.14.4/x86_64-linux/Moose.pm line 56
	Moose::extends(Moose::Meta::Class=HASH(0x15d2fb0), "MooseX::Getopt::Defanged::BaseClass") called at /opt/perl5/perls/perl-5.14.4/lib/site_perl/5.14.4/x86_64-linux/Moose/Exporter.pm line 405
	Moose::extends("MooseX::Getopt::Defanged::BaseClass") called at t/inheritance.d/lib/MooseX/Getopt/Defanged/SubClass.pm line 11
	require MooseX/Getopt/Defanged/SubClass.pm called at t/inheritance.t line 22
	main::BEGIN() called at /root/.cpan/build/MooseX-Getopt-Defanged-v1.18.0-aj9vA0/blib/lib/MooseX/Getopt/Defanged/Meta/Attribute/Trait/_Getopt.pm line 0
	eval {...} called at /root/.cpan/build/MooseX-Getopt-Defanged-v1.18.0-aj9vA0/blib/lib/MooseX/Getopt/Defanged/Meta/Attribute/Trait/_Getopt.pm line 0
t/inheritance.t ................... ok
Passing a list of values to enum is deprecated. Enum values should be wrapped in an arrayref. at /root/.cpan/build/MooseX-Getopt-Defanged-v1.18.0-aj9vA0/blib/lib/MooseX/Getopt/Defanged/Meta/Attribute/Trait/_Getopt.pm line 0.
	eval {...} called at /root/.cpan/build/MooseX-Getopt-Defanged-v1.18.0-aj9vA0/blib/lib/MooseX/Getopt/Defanged/Meta/Attribute/Trait/_Getopt.pm line 0
t/meta-attribute-trait-_getopt.t .. ok
All tests successful.
Files=4, Tests=380,  3 wallclock secs ( 0.06 usr  0.04 sys +  2.20 cusr  0.34 csys =  2.64 CPU)
Result: PASS

------------------------------
PREREQUISITES
------------------------------

Prerequisite modules loaded:

requires:

    Module                              Need Have    
    ----------------------------------- ---- --------
    autodie                             0    2.23    
    English                             0    1.04    
    Exception::Class                    0    1.37    
    Exporter                            0    5.68    
    Getopt::Long                        0    2.42    
    Moose                               0.92 2.1204  
    Moose::Role                         0.92 2.1204  
    Moose::Util::TypeConstraints        0.92 2.1204  
    MooseX::Accessors::ReadWritePrivate 0    v1.4.0  
    MooseX::AttributeHelpers            0.2  0.23    
    MooseX::StrictConstructor           0.08 0.19    
    Readonly                            0    1.04    
    Scalar::Util                        0    1.38    
    strict                              0    1.04    
    utf8                                0    1.09    
    version                             0    0.88    
    warnings                            0    1.12    

build_requires:

    Module                              Need Have    
    ----------------------------------- ---- --------
    Carp                                0    1.32    
    File::Spec::Functions               0    3.40    
    lib                                 0    0.63    
    overload                            0    1.13    
    parent                              0    0.225   
    Test::Class                         0    0.41    
    Test::Compile                       0    v1.0.1  
    Test::Deep                          0    0.112   
    Test::Exception                     0    0.32    
    Test::Moose                         0    2.1204  
    Test::More                          0.88 1.001002

configure_requires:

    Module                              Need Have    
    ----------------------------------- ---- --------
    Module::Build                       0.33 0.4205  


------------------------------
ENVIRONMENT AND OTHER CONTEXT
------------------------------

Environment variables:

    LANG = en_US.UTF-8
    PATH = /opt/perl-5.14.4/bin:/opt/perl-5.14.4/lib:/opt/python3.3.4/bin:/opt/python3.3.4/lib:/opt/python3.3.4/include:/opt/gcc-4.8.1/bin:/opt/gcc-4.8.1/lib:/opt/gcc-4.8.1/include:/opt/perl-5.14.4/bin:/opt/Komodo/bin:/opt/perl5/bin:/opt/perl5/perls/perl-5.14.4/bin:/opt/perl-5.14.4/bin:/opt/perl-5.14.4/lib:/opt/python3.3.4/bin:/opt/python3.3.4/lib:/opt/python3.3.4/include:/opt/gcc-4.8.1/bin:/opt/gcc-4.8.1/lib:/opt/gcc-4.8.1/include:/opt/perl-5.14.4/bin:/opt/Komodo/bin:/opt/perl-5.14.4/bin:/opt/perl-5.14.4/lib:/opt/python3.3.4/bin:/opt/python3.3.4/lib:/opt/python3.3.4/include:/opt/gcc-4.8.1/bin:/opt/gcc-4.8.1/lib:/opt/gcc-4.8.1/include:/opt/perl-5.14.4/bin:/opt/Komodo/bin:/opt/perl-5.14.4/bin:/opt/perl-5.14.4/lib:/opt/python3.3.4/bin:/opt/python3.3.4/lib:/opt/python3.3.4/include:/opt/gcc-4.8.1/bin:/opt/gcc-4.8.1/lib:/opt/gcc-4.8.1/include:/opt/perl-5.14.4/bin:/opt/Komodo/bin:/opt/perl-5.14.4/bin:/opt/perl-5.14.4/lib:/opt/python3.3.4/bin:/opt/python3.3.4/lib:/opt/python3.3.4/include:/opt/gcc-4.8.1/bin:/opt/gcc-4.8.1/lib:/opt/gcc-4.8.1/include:/opt/perl-5.14.4/bin:/usr/local/sbin:/usr/local/bin:/usr/sbin:/usr/bin:/sbin:/bin
    PERL5LIB = /opt/perl-5.14.4/lib
    PERL5OPT = 
    PERL5_CPANPLUS_IS_RUNNING = 25768
    PERL5_CPAN_IS_RUNNING = 25768
    PERLBREW_BASHRC_VERSION = 0.67
    PERLBREW_HOME = /root/.perlbrew
    PERLBREW_MANPATH = /opt/perl5/perls/perl-5.14.4/man
    PERLBREW_PATH = /opt/perl5/bin:/opt/perl5/perls/perl-5.14.4/bin
    PERLBREW_PERL = perl-5.14.4
    PERLBREW_ROOT = /opt/perl5
    PERLBREW_VERSION = 0.67
    SHELL = /bin/bash
    TERM = xterm

Perl special variables (and OS-specific diagnostics, for MSWin32):

    $^X = /opt/perl5/perls/perl-5.14.4/bin/perl
    $UID/$EUID = 0 / 0
    $GID = 0 0
    $EGID = 0 0

Perl module toolchain versions installed:

    Module              Have    
    ------------------- --------
    CPAN                2.00    
    CPAN::Meta          2.133380
    Cwd                 3.40    
    ExtUtils::CBuilder  0.280203
    ExtUtils::Command   1.17    
    ExtUtils::Install   1.56    
    ExtUtils::MakeMaker 6.88    
    ExtUtils::Manifest  1.60    
    ExtUtils::ParseXS   3.22    
    File::Spec          3.40    
    JSON                2.90    
    JSON::PP            2.27203 
    Module::Build       0.4205  
    Module::Signature   n/a     
    Parse::CPAN::Meta   1.4405  
    Test::Harness       3.30    
    Test::More          1.001002
    YAML                0.90    
    YAML::Syck          1.27    
    version             0.88    


--

Summary of my perl5 (revision 5 version 14 subversion 4) configuration:
   
  Platform:
    osname=linux, osvers=3.8.0-35-generic, archname=x86_64-linux
    uname='linux ubuntu 3.8.0-35-generic #50-ubuntu smp tue dec 3 01:24:59 utc 2013 x86_64 x86_64 x86_64 gnulinux '
    config_args='-de -Dprefix=/opt/perl5/perls/perl-5.14.4 -Aeval:scriptdir=/opt/perl5/perls/perl-5.14.4/bin'
    hint=recommended, useposix=true, d_sigaction=define
    useithreads=undef, usemultiplicity=undef
    useperlio=define, d_sfio=undef, uselargefiles=define, usesocks=undef
    use64bitint=define, use64bitall=define, uselongdouble=undef
    usemymalloc=n, bincompat5005=undef
  Compiler:
    cc='cc', ccflags ='-fno-strict-aliasing -pipe -fstack-protector -I/usr/local/include -D_LARGEFILE_SOURCE -D_FILE_OFFSET_BITS=64',
    optimize='-O2',
    cppflags='-fno-strict-aliasing -pipe -fstack-protector -I/usr/local/include'
    ccversion='', gccversion='4.7.3', gccosandvers=''
    intsize=4, longsize=8, ptrsize=8, doublesize=8, byteorder=12345678
    d_longlong=define, longlongsize=8, d_longdbl=define, longdblsize=16
    ivtype='long', ivsize=8, nvtype='double', nvsize=8, Off_t='off_t', lseeksize=8
    alignbytes=8, prototype=define
  Linker and Libraries:
    ld='cc', ldflags =' -fstack-protector -L/usr/local/lib'
    libpth=/usr/local/lib /lib/x86_64-linux-gnu /lib/../lib /usr/lib/x86_64-linux-gnu /usr/lib/../lib /lib /usr/lib /lib64 /usr/lib64
    libs=-lnsl -lgdbm -ldl -lm -lcrypt -lutil -lc -lgdbm_compat
    perllibs=-lnsl -ldl -lm -lcrypt -lutil -lc
    libc=, so=so, useshrplib=false, libperl=libperl.a
    gnulibc_version='2.17'
  Dynamic Linking:
    dlsrc=dl_dlopen.xs, dlext=so, d_dlsymun=undef, ccdlflags='-Wl,-E'
    cccdlflags='-fPIC', lddlflags='-shared -O2 -L/usr/local/lib -fstack-protector'


Characteristics of this binary (from libperl): 
  Compile-time options: PERL_DONT_CREATE_GVSV PERL_MALLOC_WRAP
                        PERL_PRESERVE_IVUV USE_64_BIT_ALL USE_64_BIT_INT
                        USE_LARGE_FILES USE_PERLIO USE_PERL_ATOF
  Built under linux
  Compiled at Feb 19 2014 14:36:31
  %ENV:
    PERL5LIB="/opt/perl-5.14.4/lib"
    PERL5OPT=""
    PERL5_CPANPLUS_IS_RUNNING="25768"
    PERL5_CPAN_IS_RUNNING="25768"
    PERLBREW_BASHRC_VERSION="0.67"
    PERLBREW_HOME="/root/.perlbrew"
    PERLBREW_MANPATH="/opt/perl5/perls/perl-5.14.4/man"
    PERLBREW_PATH="/opt/perl5/bin:/opt/perl5/perls/perl-5.14.4/bin"
    PERLBREW_PERL="perl-5.14.4"
    PERLBREW_ROOT="/opt/perl5"
    PERLBREW_VERSION="0.67"
  @INC:
    /opt/perl-5.14.4/lib
    /opt/perl5/perls/perl-5.14.4/lib/site_perl/5.14.4/x86_64-linux
    /opt/perl5/perls/perl-5.14.4/lib/site_perl/5.14.4
    /opt/perl5/perls/perl-5.14.4/lib/5.14.4/x86_64-linux
    /opt/perl5/perls/perl-5.14.4/lib/5.14.4
    .