Alien-automake v0.14 Perl 5 v5.24.1 x86_64-linux-thread-multi
- Status
- Pass
- From
- Nigel Horne
- Dist
-
Alien-automake v0.14
- Platform
- Perl 5 v5.24.1 x86_64-linux-thread-multi
- Date
- 2018-03-13 16:30:25
- ID
- d54f58e6-26db-11e8-91ce-d3e3deac0b3f
This distribution has been tested as part of the CPAN Testers
project, supporting the Perl programming language. See
http://wiki.cpantesters.org/ for more information or email
questions to cpan-testers-discuss@perl.org
--
Dear Graham Ollis,
This is a computer-generated report for Alien-automake-0.14
on perl 5.24.1, created by CPAN-Reporter-1.2018.
Thank you for uploading your work to CPAN. Congratulations!
All tests were successful.
Sections of this report:
* Tester comments
* Program output
* Prerequisites
* Environment and other context
------------------------------
TESTER COMMENTS
------------------------------
Additional comments from tester:
this report is from an automated smoke testing program
and was not reviewed by a human for accuracy
------------------------------
PROGRAM OUTPUT
------------------------------
Output from '/usr/bin/make test':
"/home/njh/perl5/perlbrew/perls/perl-5.24.1/bin/perl5.24.1" -MAlien::Build::MM=cmd -e test
PERL_DL_NONLAZY=1 "/home/njh/perl5/perlbrew/perls/perl-5.24.1/bin/perl5.24.1" "-MExtUtils::Command::MM" "-MTest::Harness" "-e" "undef *Test::Harness::Switches; test_harness(0, 'blib/lib', 'blib/arch')" t/*.t
#
#
#
# HARNESS_ACTIVE=1
# HARNESS_OPTIONS=
# HARNESS_VERSION=3.39
# LANG=en_US.UTF-8
# PERL5LIB=/home/njh/.cpan/build/Alien-automake-0.14-1/blib/lib:/home/njh/.cpan/build/Alien-automake-0.14-1/blib/arch:/home/njh/.cpan/build/Alien-autoconf-0.14-1/blib/arch:/home/njh/.cpan/build/Alien-autoconf-0.14-1/blib/lib:/home/njh/.cpan/build/Alien-m4-0.17-1/blib/arch:/home/njh/.cpan/build/Alien-m4-0.17-1/blib/lib:/home/njh/.cpan/build/Alien-Build-1.39-1/blib/arch:/home/njh/.cpan/build/Alien-Build-1.39-1/blib/lib:/home/njh/.cpan/build/File-chdir-0.1010-15/blib/arch:/home/njh/.cpan/build/File-chdir-0.1010-15/blib/lib:/home/njh/.cpan/build/FFI-CheckLib-0.18-1/blib/arch:/home/njh/.cpan/build/FFI-CheckLib-0.18-1/blib/lib:/home/njh/.cpan/build/Test2-Suite-0.000108-36/blib/arch:/home/njh/.cpan/build/Test2-Suite-0.000108-36/blib/lib:/home/njh/.cpan/build/Test-Simple-1.302133-36/blib/arch:/home/njh/.cpan/build/Test-Simple-1.302133-36/blib/lib:/home/njh/.cpan/build/Alien-autoconf-0.14-1/blib/arch:/home/njh/.cpan/build/Alien-autoconf-0.14-1/blib/lib:/home/njh/.cpan/build/Alien-m4-0.17-1/blib/arch:/home/njh/.cpan/build/Alien-m4-0.17-1/blib/lib:/home/njh/.cpan/build/Alien-Build-1.39-1/blib/arch:/home/njh/.cpan/build/Alien-Build-1.39-1/blib/lib:/home/njh/.cpan/build/File-chdir-0.1010-15/blib/arch:/home/njh/.cpan/build/File-chdir-0.1010-15/blib/lib:/home/njh/.cpan/build/FFI-CheckLib-0.18-1/blib/arch:/home/njh/.cpan/build/FFI-CheckLib-0.18-1/blib/lib:/home/njh/.cpan/build/Test2-Suite-0.000108-36/blib/arch:/home/njh/.cpan/build/Test2-Suite-0.000108-36/blib/lib:/home/njh/.cpan/build/Test-Simple-1.302133-36/blib/arch:/home/njh/.cpan/build/Test-Simple-1.302133-36/blib/lib
# PERL5OPT=
# PERL5_CPANPLUS_IS_RUNNING=29225
# PERL5_CPAN_IS_RUNNING=29225
# PERLBREW_HOME=/home/njh/.perlbrew
# PERLBREW_MANPATH=/home/njh/perl5/perlbrew/perls/perl-5.24.1/man
# PERLBREW_PATH=/home/njh/perl5/perlbrew/bin:/home/njh/perl5/perlbrew/perls/perl-5.24.1/bin
# PERLBREW_PERL=perl-5.24.1
# PERLBREW_ROOT=/home/njh/perl5/perlbrew
# PERLBREW_SHELLRC_VERSION=0.82
# PERLBREW_VERSION=0.82
# PERL_DL_NONLAZY=1
# PERL_USE_UNSAFE_INC=1
# SHELL=/bin/sh
#
#
#
# PERL5LIB path
# /home/njh/.cpan/build/Alien-automake-0.14-1/blib/lib
# /home/njh/.cpan/build/Alien-automake-0.14-1/blib/arch
# /home/njh/.cpan/build/Alien-autoconf-0.14-1/blib/arch
# /home/njh/.cpan/build/Alien-autoconf-0.14-1/blib/lib
# /home/njh/.cpan/build/Alien-m4-0.17-1/blib/arch
# /home/njh/.cpan/build/Alien-m4-0.17-1/blib/lib
# /home/njh/.cpan/build/Alien-Build-1.39-1/blib/arch
# /home/njh/.cpan/build/Alien-Build-1.39-1/blib/lib
# /home/njh/.cpan/build/File-chdir-0.1010-15/blib/arch
# /home/njh/.cpan/build/File-chdir-0.1010-15/blib/lib
# /home/njh/.cpan/build/FFI-CheckLib-0.18-1/blib/arch
# /home/njh/.cpan/build/FFI-CheckLib-0.18-1/blib/lib
# /home/njh/.cpan/build/Test2-Suite-0.000108-36/blib/arch
# /home/njh/.cpan/build/Test2-Suite-0.000108-36/blib/lib
# /home/njh/.cpan/build/Test-Simple-1.302133-36/blib/arch
# /home/njh/.cpan/build/Test-Simple-1.302133-36/blib/lib
# /home/njh/.cpan/build/Alien-autoconf-0.14-1/blib/arch
# /home/njh/.cpan/build/Alien-autoconf-0.14-1/blib/lib
# /home/njh/.cpan/build/Alien-m4-0.17-1/blib/arch
# /home/njh/.cpan/build/Alien-m4-0.17-1/blib/lib
# /home/njh/.cpan/build/Alien-Build-1.39-1/blib/arch
# /home/njh/.cpan/build/Alien-Build-1.39-1/blib/lib
# /home/njh/.cpan/build/File-chdir-0.1010-15/blib/arch
# /home/njh/.cpan/build/File-chdir-0.1010-15/blib/lib
# /home/njh/.cpan/build/FFI-CheckLib-0.18-1/blib/arch
# /home/njh/.cpan/build/FFI-CheckLib-0.18-1/blib/lib
# /home/njh/.cpan/build/Test2-Suite-0.000108-36/blib/arch
# /home/njh/.cpan/build/Test2-Suite-0.000108-36/blib/lib
# /home/njh/.cpan/build/Test-Simple-1.302133-36/blib/arch
# /home/njh/.cpan/build/Test-Simple-1.302133-36/blib/lib
#
#
#
# perl 5.024001
# Alien::Base 1.39
# Alien::Build 1.39
# Alien::Build::MM 1.39
# Alien::Build::Plugin::Build::Autoconf 1.39
# Alien::Build::Plugin::Build::MSYS 1.39
# Alien::autoconf 0.14
# Env 1.04
# ExtUtils::MakeMaker 7.28
# Test2::V0 0.000108
# Test::Alien 1.39
# Test::More 1.302133
#
#
#
t/00_diag.t ......... ok
t/01_use.t .......... ok
t/alien_automake.t .. ok
All tests successful.
Files=3, Tests=7, 1 wallclock secs ( 0.04 usr 0.01 sys + 1.16 cusr 0.19 csys = 1.40 CPU)
Result: PASS
------------------------------
PREREQUISITES
------------------------------
Prerequisite modules loaded:
requires:
Module Need Have
------------------------------------- -------- --------
Alien::Base 0.038 1.39
Alien::Build 0.25 1.39
perl 5.008001 5.024001
build_requires:
Module Need Have
------------------------------------- -------- --------
Alien::autoconf 0.05 0.14
Alien::Build 0.49 1.39
Alien::Build::MM 0.32 1.39
Alien::Build::Plugin::Build::Autoconf 0.47 1.39
Alien::m4 0.11 0.17
Archive::Tar 0 2.26
Config 0 5.024001
Env 0 1.04
ExtUtils::MakeMaker 6.52 7.28
HTML::LinkExtor 0 3.69
HTTP::Tiny 0.044 0.070
IO::Zlib 0 1.10
Path::Tiny 0.077 0.104
Sort::Versions 0 1.62
Test2::V0 0.000060 0.000108
Test::Alien 0 1.39
Test::More 0.94 1.302133
URI 0 1.71
URI::Escape 0 3.31
configure_requires:
Module Need Have
------------------------------------- -------- --------
Alien::Build 0.32 1.39
Alien::Build::MM 0.32 1.39
Alien::Build::Plugin::Build::MSYS 0.84 1.39
ExtUtils::MakeMaker 6.52 7.28
perl 5.008001 5.024001
------------------------------
ENVIRONMENT AND OTHER CONTEXT
------------------------------
Environment variables:
AUTOMATED_TESTING = 1
HARNESS_OPTIONS = j2
LANG = en_US.UTF-8
PATH = /home/njh/perl5/perlbrew/bin:/home/njh/perl5/perlbrew/perls/perl-5.24.1/bin:src/njh/smoker/bin:/usr/bin:/bin
PERL5LIB = /home/njh/.cpan/build/Alien-autoconf-0.14-1/blib/arch:/home/njh/.cpan/build/Alien-autoconf-0.14-1/blib/lib:/home/njh/.cpan/build/Alien-m4-0.17-1/blib/arch:/home/njh/.cpan/build/Alien-m4-0.17-1/blib/lib:/home/njh/.cpan/build/Alien-Build-1.39-1/blib/arch:/home/njh/.cpan/build/Alien-Build-1.39-1/blib/lib:/home/njh/.cpan/build/File-chdir-0.1010-15/blib/arch:/home/njh/.cpan/build/File-chdir-0.1010-15/blib/lib:/home/njh/.cpan/build/FFI-CheckLib-0.18-1/blib/arch:/home/njh/.cpan/build/FFI-CheckLib-0.18-1/blib/lib:/home/njh/.cpan/build/Test2-Suite-0.000108-36/blib/arch:/home/njh/.cpan/build/Test2-Suite-0.000108-36/blib/lib:/home/njh/.cpan/build/Test-Simple-1.302133-36/blib/arch:/home/njh/.cpan/build/Test-Simple-1.302133-36/blib/lib
PERL5OPT =
PERL5_CPANPLUS_IS_RUNNING = 29225
PERL5_CPAN_IS_RUNNING = 29225
PERLBREW_HOME = /home/njh/.perlbrew
PERLBREW_MANPATH = /home/njh/perl5/perlbrew/perls/perl-5.24.1/man
PERLBREW_PATH = /home/njh/perl5/perlbrew/bin:/home/njh/perl5/perlbrew/perls/perl-5.24.1/bin
PERLBREW_PERL = perl-5.24.1
PERLBREW_ROOT = /home/njh/perl5/perlbrew
PERLBREW_SHELLRC_VERSION = 0.82
PERLBREW_VERSION = 0.82
SHELL = /bin/sh
Perl special variables (and OS-specific diagnostics, for MSWin32):
$^X = /home/njh/perl5/perlbrew/perls/perl-5.24.1/bin/perl5.24.1
$UID/$EUID = 1000 / 1000
$GID = 1000 4 24 25 29 30 44 46 103 108 115 123 1000
$EGID = 1000 4 24 25 29 30 44 46 103 108 115 123 1000
Perl module toolchain versions installed:
Module Have
------------------- --------
CPAN 2.16
CPAN::Meta 2.150010
Cwd 3.63_01
ExtUtils::CBuilder 0.280225
ExtUtils::Command 7.28
ExtUtils::Install 2.14
ExtUtils::MakeMaker 7.28
ExtUtils::Manifest 1.70
ExtUtils::ParseXS 3.31
File::Spec 3.63_01
JSON 2.94
JSON::PP 2.94
Module::Build 0.4224
Module::Signature n/a
Parse::CPAN::Meta 2.150010
Test::Harness 3.39
Test::More 1.302133
YAML 1.23
YAML::Syck 1.30
version 0.9918
--
Summary of my perl5 (revision 5 version 24 subversion 1) configuration:
Platform:
osname=linux, osvers=4.8.0-2-amd64, archname=x86_64-linux-thread-multi
uname='linux amelia 4.8.0-2-amd64 #1 smp debian 4.8.11-1 (2016-12-02) x86_64 gnulinux '
config_args='-de -Dprefix=/home/njh/perl5/perlbrew/perls/perl-5.24.1 -Duseithreads -Dusemultiplicity -Dusedevel -Accflags= -Aeval:scriptdir=/home/njh/perl5/perlbrew/perls/perl-5.24.1/bin'
hint=recommended, useposix=true, d_sigaction=define
useithreads=define, usemultiplicity=define
use64bitint=define, use64bitall=define, uselongdouble=undef
usemymalloc=n, bincompat5005=undef
Compiler:
cc='cc', ccflags ='-D_REENTRANT -D_GNU_SOURCE -fwrapv -fno-strict-aliasing -pipe -fstack-protector-strong -I/usr/local/include -D_LARGEFILE_SOURCE -D_FILE_OFFSET_BITS=64',
optimize='-O2',
cppflags='-D_REENTRANT -D_GNU_SOURCE -fwrapv -fno-strict-aliasing -pipe -fstack-protector-strong -I/usr/local/include'
ccversion='', gccversion='6.3.0 20161229', gccosandvers=''
intsize=4, longsize=8, ptrsize=8, doublesize=8, byteorder=12345678, doublekind=3
d_longlong=define, longlongsize=8, d_longdbl=define, longdblsize=16, longdblkind=3
ivtype='long', ivsize=8, nvtype='double', nvsize=8, Off_t='off_t', lseeksize=8
alignbytes=8, prototype=define
Linker and Libraries:
ld='cc', ldflags =' -fstack-protector-strong -L/usr/local/lib'
libpth=/usr/local/lib /usr/lib/gcc/x86_64-linux-gnu/6/include-fixed /usr/include/x86_64-linux-gnu /usr/lib /lib/x86_64-linux-gnu /lib/../lib /usr/lib/x86_64-linux-gnu /usr/lib/../lib /lib /lib64 /usr/lib64
libs=-lpthread -lnsl -lgdbm -ldb -ldl -lm -lcrypt -lutil -lc -lgdbm_compat
perllibs=-lpthread -lnsl -ldl -lm -lcrypt -lutil -lc
libc=libc-2.24.so, so=so, useshrplib=false, libperl=libperl.a
gnulibc_version='2.24'
Dynamic Linking:
dlsrc=dl_dlopen.xs, dlext=so, d_dlsymun=undef, ccdlflags='-Wl,-E'
cccdlflags='-fPIC', lddlflags='-shared -O2 -L/usr/local/lib -fstack-protector-strong'
Characteristics of this binary (from libperl):
Compile-time options: HAS_TIMES MULTIPLICITY PERLIO_LAYERS
PERL_COPY_ON_WRITE PERL_DONT_CREATE_GVSV
PERL_HASH_FUNC_ONE_AT_A_TIME_HARD
PERL_IMPLICIT_CONTEXT PERL_MALLOC_WRAP
PERL_PRESERVE_IVUV PERL_USE_DEVEL USE_64_BIT_ALL
USE_64_BIT_INT USE_ITHREADS USE_LARGE_FILES
USE_LOCALE USE_LOCALE_COLLATE USE_LOCALE_CTYPE
USE_LOCALE_NUMERIC USE_LOCALE_TIME USE_PERLIO
USE_PERL_ATOF USE_REENTRANT_API
Built under linux
Compiled at Jan 20 2017 00:33:03
%ENV:
PERL5LIB="/home/njh/.cpan/build/Alien-autoconf-0.14-1/blib/arch:/home/njh/.cpan/build/Alien-autoconf-0.14-1/blib/lib:/home/njh/.cpan/build/Alien-m4-0.17-1/blib/arch:/home/njh/.cpan/build/Alien-m4-0.17-1/blib/lib:/home/njh/.cpan/build/Alien-Build-1.39-1/blib/arch:/home/njh/.cpan/build/Alien-Build-1.39-1/blib/lib:/home/njh/.cpan/build/File-chdir-0.1010-15/blib/arch:/home/njh/.cpan/build/File-chdir-0.1010-15/blib/lib:/home/njh/.cpan/build/FFI-CheckLib-0.18-1/blib/arch:/home/njh/.cpan/build/FFI-CheckLib-0.18-1/blib/lib:/home/njh/.cpan/build/Test2-Suite-0.000108-36/blib/arch:/home/njh/.cpan/build/Test2-Suite-0.000108-36/blib/lib:/home/njh/.cpan/build/Test-Simple-1.302133-36/blib/arch:/home/njh/.cpan/build/Test-Simple-1.302133-36/blib/lib"
PERL5OPT=""
PERL5_CPANPLUS_IS_RUNNING="29225"
PERL5_CPAN_IS_RUNNING="29225"
PERLBREW_HOME="/home/njh/.perlbrew"
PERLBREW_MANPATH="/home/njh/perl5/perlbrew/perls/perl-5.24.1/man"
PERLBREW_PATH="/home/njh/perl5/perlbrew/bin:/home/njh/perl5/perlbrew/perls/perl-5.24.1/bin"
PERLBREW_PERL="perl-5.24.1"
PERLBREW_ROOT="/home/njh/perl5/perlbrew"
PERLBREW_SHELLRC_VERSION="0.82"
PERLBREW_VERSION="0.82"
@INC:
/home/njh/.cpan/build/Alien-autoconf-0.14-1/blib/arch
/home/njh/.cpan/build/Alien-autoconf-0.14-1/blib/lib
/home/njh/.cpan/build/Alien-m4-0.17-1/blib/arch
/home/njh/.cpan/build/Alien-m4-0.17-1/blib/lib
/home/njh/.cpan/build/Alien-Build-1.39-1/blib/arch
/home/njh/.cpan/build/Alien-Build-1.39-1/blib/lib
/home/njh/.cpan/build/File-chdir-0.1010-15/blib/arch
/home/njh/.cpan/build/File-chdir-0.1010-15/blib/lib
/home/njh/.cpan/build/FFI-CheckLib-0.18-1/blib/arch
/home/njh/.cpan/build/FFI-CheckLib-0.18-1/blib/lib
/home/njh/.cpan/build/Test2-Suite-0.000108-36/blib/arch
/home/njh/.cpan/build/Test2-Suite-0.000108-36/blib/lib
/home/njh/.cpan/build/Test-Simple-1.302133-36/blib/arch
/home/njh/.cpan/build/Test-Simple-1.302133-36/blib/lib
/home/njh/perl5/perlbrew/perls/perl-5.24.1/lib/site_perl/5.24.1/x86_64-linux-thread-multi
/home/njh/perl5/perlbrew/perls/perl-5.24.1/lib/site_perl/5.24.1
/home/njh/perl5/perlbrew/perls/perl-5.24.1/lib/5.24.1/x86_64-linux-thread-multi
/home/njh/perl5/perlbrew/perls/perl-5.24.1/lib/5.24.1
.