Report for MozRepl-0.06

Back
From: metabase:user:30f4dfbe-2aae-11df-837a-5e0a49663a4f
Subject: PASS MozRepl-0.06 v5.12.5 GNU/Linux
Date: 2013-01-23T01:25:54Z

This distribution has been tested as part of the CPAN Testers
project, supporting the Perl programming language.  See
http://wiki.cpantesters.org/ for more information or email
questions to cpan-testers-discuss@perl.org


--
Dear Toru Yamaguchi,

This is a computer-generated report for MozRepl-0.06
on perl 5.12.5, created by CPAN-Reporter-1.2009.

Thank you for uploading your work to CPAN.  Congratulations!
All tests were successful.

Sections of this report:

    * Tester comments
    * Program output
    * Prerequisites
    * Environment and other context

------------------------------
TESTER COMMENTS
------------------------------

Additional comments from tester:

this report is from an automated smoke testing program
and was not reviewed by a human for accuracy

------------------------------
PROGRAM OUTPUT
------------------------------

Output from '/usr/bin/make test':

/home/njh/perl5/perlbrew/perls/perl-5.12.5/bin/perl "-Iinc" Makefile.PL --config= --installdeps=Carp::Clan,0,Data::JavaScript::Anon,0,Module::Pluggable::Fast,0,Net::Telnet,0,Template,0,Template::Provider::FromDATA,0,Text::SimpleTable,0

*** Since we're running under CPANPLUS, I'll just let it take care
    of the dependency's installation later.
PERL_DL_NONLAZY=1 /home/njh/perl5/perlbrew/perls/perl-5.12.5/bin/perl "-MExtUtils::Command::MM" "-e" "test_harness(0, 'inc', 'blib/lib', 'blib/arch')" t/00-load.t t/10-plugin-repl-enter.t t/11-plugin-repl-search.t t/12-plugin-repl-inspect.t t/13-plugin-repl-load.t t/14-plugin-repl-rename.t t/15-plugin-repl-print.t t/16-plugin-repl-home.t t/17-plugin-repl-back.t t/18-plugin-repl-util-help_url_for.t t/19-plugin-repl-util-doc_for.t t/20-plugin-json.t t/pod-coverage.t t/pod.t
# Testing MozRepl 0.06
t/00-load.t ........................... ok
[DEBUG] MozRepl logging enabled
[DEBUG] 
---- Client arguments ----
.----------------------+------------------------------------------.
| client_arg_name      | client_arg_value                         |
+----------------------+------------------------------------------+
| host                 | localhost                                |
| port                 | 4242                                     |
| timeout              | 10                                       |
| extra_client_args    | {}                                       |
'----------------------+------------------------------------------'
t/10-plugin-repl-enter.t .............. ok
[DEBUG] MozRepl logging enabled
[DEBUG] 
---- Client arguments ----
.----------------------+------------------------------------------.
| client_arg_name      | client_arg_value                         |
+----------------------+------------------------------------------+
| host                 | localhost                                |
| port                 | 4242                                     |
| timeout              | 10                                       |
| extra_client_args    | {}                                       |
'----------------------+------------------------------------------'
t/11-plugin-repl-search.t ............. ok
[DEBUG] MozRepl logging enabled
[DEBUG] 
---- Client arguments ----
.----------------------+------------------------------------------.
| client_arg_name      | client_arg_value                         |
+----------------------+------------------------------------------+
| host                 | localhost                                |
| port                 | 4242                                     |
| timeout              | 10                                       |
| extra_client_args    | {}                                       |
'----------------------+------------------------------------------'
t/12-plugin-repl-inspect.t ............ ok
[DEBUG] MozRepl logging enabled
[DEBUG] 
---- Client arguments ----
.----------------------+------------------------------------------.
| client_arg_name      | client_arg_value                         |
+----------------------+------------------------------------------+
| host                 | localhost                                |
| port                 | 4242                                     |
| timeout              | 10                                       |
| extra_client_args    | {}                                       |
'----------------------+------------------------------------------'
t/13-plugin-repl-load.t ............... ok
[DEBUG] MozRepl logging enabled
[DEBUG] 
---- Client arguments ----
.----------------------+------------------------------------------.
| client_arg_name      | client_arg_value                         |
+----------------------+------------------------------------------+
| host                 | localhost                                |
| port                 | 4242                                     |
| timeout              | 10                                       |
| extra_client_args    | {}                                       |
'----------------------+------------------------------------------'
t/14-plugin-repl-rename.t ............. ok
[DEBUG] MozRepl logging enabled
[DEBUG] 
---- Client arguments ----
.----------------------+------------------------------------------.
| client_arg_name      | client_arg_value                         |
+----------------------+------------------------------------------+
| host                 | localhost                                |
| port                 | 4242                                     |
| timeout              | 10                                       |
| extra_client_args    | {}                                       |
'----------------------+------------------------------------------'
t/15-plugin-repl-print.t .............. ok
[DEBUG] MozRepl logging enabled
[DEBUG] 
---- Client arguments ----
.----------------------+------------------------------------------.
| client_arg_name      | client_arg_value                         |
+----------------------+------------------------------------------+
| host                 | localhost                                |
| port                 | 4242                                     |
| timeout              | 10                                       |
| extra_client_args    | {}                                       |
'----------------------+------------------------------------------'
t/16-plugin-repl-home.t ............... ok
[DEBUG] MozRepl logging enabled
[DEBUG] 
---- Client arguments ----
.----------------------+------------------------------------------.
| client_arg_name      | client_arg_value                         |
+----------------------+------------------------------------------+
| host                 | localhost                                |
| port                 | 4242                                     |
| timeout              | 10                                       |
| extra_client_args    | {}                                       |
'----------------------+------------------------------------------'
t/17-plugin-repl-back.t ............... ok
[DEBUG] MozRepl logging enabled
[DEBUG] 
---- Client arguments ----
.----------------------+------------------------------------------.
| client_arg_name      | client_arg_value                         |
+----------------------+------------------------------------------+
| host                 | localhost                                |
| port                 | 4242                                     |
| timeout              | 10                                       |
| extra_client_args    | {}                                       |
'----------------------+------------------------------------------'
t/18-plugin-repl-util-help_url_for.t .. ok
[DEBUG] MozRepl logging enabled
[DEBUG] 
---- Client arguments ----
.----------------------+------------------------------------------.
| client_arg_name      | client_arg_value                         |
+----------------------+------------------------------------------+
| host                 | localhost                                |
| port                 | 4242                                     |
| timeout              | 10                                       |
| extra_client_args    | {}                                       |
'----------------------+------------------------------------------'
t/19-plugin-repl-util-doc_for.t ....... ok
[DEBUG] MozRepl logging enabled
[DEBUG] 
---- Client arguments ----
.----------------------+------------------------------------------.
| client_arg_name      | client_arg_value                         |
+----------------------+------------------------------------------+
| host                 | localhost                                |
| port                 | 4242                                     |
| timeout              | 10                                       |
| extra_client_args    | {}                                       |
'----------------------+------------------------------------------'
t/20-plugin-json.t .................... ok
t/pod-coverage.t ...................... ok
t/pod.t ............................... ok
All tests successful.
Files=14, Tests=74,  1 wallclock secs ( 0.05 usr  0.00 sys +  1.02 cusr  0.12 csys =  1.19 CPU)
Result: PASS

------------------------------
PREREQUISITES
------------------------------

Prerequisite modules loaded:

requires:

    Module                       Need Have
    ---------------------------- ---- ----
    Carp::Clan                   0    6.04
    Class::Accessor::Fast        0    0.34
    Class::Data::Inheritable     0    0.08
    Data::Dump                   0    1.21
    Data::JavaScript::Anon       0    1.03
    File::Spec                   0    3.40
    Module::Pluggable::Fast      0    0.19
    Net::Telnet                  0    3.03
  ! Template                     0    n/a 
  ! Template::Provider::FromDATA 0    n/a 
    Text::SimpleTable            0    2.03
    UNIVERSAL::require           0    0.13
    URI                          0    1.60

build_requires:

    Module                       Need Have
    ---------------------------- ---- ----
    ExtUtils::MakeMaker          0    6.64


------------------------------
ENVIRONMENT AND OTHER CONTEXT
------------------------------

Environment variables:

    AUTOMATED_TESTING = 1
    LANG = en_GB.UTF-8
    LANGUAGE = en_GB:en
    LD_LIBRARY_PATH = :/usr/local/lib:/usr/lib/qt-3.3/lib:/usr/X11R6/lib
    MANPATH_WITHOUT_PERLBREW = /usr/local/man:/usr/local/share/man:/usr/share/man:/usr/local/man:/home/njh/man:/usr/share/inn/man:/usr/share/perl5/man:/usr/share/tcl-8.0/man:/usr/share/tclX-8.0.4/man:/usr/share/tix-4.1/man:/usr/share/tk-8.0/man:/usr/server/doc:/usr/share/man:/opt/intel/cc/9.1.038/man
    PATH = /home/njh/perl5/perlbrew/bin:/home/njh/perl5/perlbrew/perls/perl-5.12.5/bin:/home/njh/perl5/perlbrew/bin:/usr/local/bin:/usr/bin:/bin:/usr/local/games:/usr/games:/home/njh/bin
    PATH_WITHOUT_PERLBREW = /usr/local/bin:/usr/bin:/bin:/usr/local/games:/usr/games:/home/njh/bin
    PERL5LIB = /home/njh/.cpan/build/Net-Telnet-3.03-SZ3Gjk/blib/arch:/home/njh/.cpan/build/Net-Telnet-3.03-SZ3Gjk/blib/lib:/home/njh/.cpan/build/Data-JavaScript-Anon-1.03-rripJo/blib/arch:/home/njh/.cpan/build/Data-JavaScript-Anon-1.03-rripJo/blib/lib:/home/njh/.cpan/build/Class-Default-1.51-NEBPFY/blib/arch:/home/njh/.cpan/build/Class-Default-1.51-NEBPFY/blib/lib:/home/njh/.cpan/build/Text-SimpleTable-2.03-p9wASM/blib/arch:/home/njh/.cpan/build/Text-SimpleTable-2.03-p9wASM/blib/lib:/home/njh/.cpan/build/Module-Pluggable-Fast-0.19-t3eupE/blib/arch:/home/njh/.cpan/build/Module-Pluggable-Fast-0.19-t3eupE/blib/lib:/home/njh/.cpan/build/AppConfig-1.66-kRPZoi/blib/arch:/home/njh/.cpan/build/AppConfig-1.66-kRPZoi/blib/lib:/home/njh/.cpan/build/Object-Import-1.004-9bdHAC/blib/arch:/home/njh/.cpan/build/Object-Import-1.004-9bdHAC/blib/lib:/home/njh/.cpan/build/Shell-Command-0.06-SxYhQO/blib/arch:/home/njh/.cpan/build/Shell-Command-0.06-SxYhQO/blib/lib:/home/njh/.cpan/build/WWW-Mechanize-1.72-cpQIg7/blib/arch:/home/njh/.cpan/build/WWW-Mechanize-1.72-cpQIg7/blib/lib:/home/njh/.cpan/build/HTML-Form-6.03-1NQMdT/blib/arch:/home/njh/.cpan/build/HTML-Form-6.03-1NQMdT/blib/lib:/home/njh/.cpan/build/HTML-Tree-5.03-Jm0dhV/blib/arch:/home/njh/.cpan/build/HTML-Tree-5.03-Jm0dhV/blib/lib:/home/njh/.cpan/build/Carp-Clan-6.04-hcqVPo/blib/arch:/home/njh/.cpan/build/Carp-Clan-6.04-hcqVPo/blib/lib:/home/njh/.cpan/build/HTTP-Server-Simple-0.44-_2p2nm/blib/arch:/home/njh/.cpan/build/HTTP-Server-Simple-0.44-_2p2nm/blib/lib
    PERL5OPT = 
    PERL5_CPANPLUS_IS_RUNNING = 23596
    PERL5_CPAN_IS_RUNNING = 23596
    PERL5_MINISMOKEBOX = 0.54
    PERLBREW_BASHRC_VERSION = 0.49
    PERLBREW_HOME = /home/njh/.perlbrew
    PERLBREW_LIB = 
    PERLBREW_MANPATH = /home/njh/perl5/perlbrew/perls/perl-5.12.5/man
    PERLBREW_PATH = /home/njh/perl5/perlbrew/bin:/home/njh/perl5/perlbrew/perls/perl-5.12.5/bin
    PERLBREW_PERL = perl-5.12.5
    PERLBREW_ROOT = /home/njh/perl5/perlbrew
    PERLBREW_VERSION = 0.49
    PERL_EXTUTILS_AUTOINSTALL = --defaultdeps
    PERL_LOCAL_LIB_ROOT = 
    PERL_MB_OPT = 
    PERL_MM_OPT = 
    PERL_MM_USE_DEFAULT = 1
    SHELL = /bin/bash
    TERM = xterm

Perl special variables (and OS-specific diagnostics, for MSWin32):

    $^X = /home/njh/perl5/perlbrew/perls/perl-5.12.5/bin/perl
    $UID/$EUID = 1000 / 1000
    $GID = 1000 24 25 29 30 44 46 108 112 1000
    $EGID = 1000 24 25 29 30 44 46 108 112 1000

Perl module toolchain versions installed:

    Module              Have    
    ------------------- --------
    CPAN                1.9800  
    CPAN::Meta          2.120921
    Cwd                 3.40    
    ExtUtils::CBuilder  0.280205
    ExtUtils::Command   1.17    
    ExtUtils::Install   1.55    
    ExtUtils::MakeMaker 6.64    
    ExtUtils::Manifest  1.61    
    ExtUtils::ParseXS   3.18    
    File::Spec          3.40    
    JSON                2.53    
    JSON::PP            2.27200 
    Module::Build       0.4003  
    Module::Signature   0.70    
    Parse::CPAN::Meta   1.4404  
    Test::Harness       3.26    
    Test::More          0.98    
    YAML                0.84    
    YAML::Syck          1.22    
    version             0.9901  


--

Summary of my perl5 (revision 5 version 12 subversion 5) configuration:
   
  Platform:
    osname=linux, osvers=3.2.0-4-amd64, archname=x86_64-linux-thread-multi
    uname='linux nigelhorne.force9.co.uk 3.2.0-4-amd64 #1 smp debian 3.2.32-1 x86_64 gnulinux '
    config_args='-de -Dprefix=/home/njh/perl5/perlbrew/perls/perl-5.12.5 -Duseithreads -Dusemultiplicity -Accflags=-O2 -W -Wformat=2 -Wswitch -Wshadow -Wwrite-strings -Wuninitialized -Wall -pipe -mtune=native -march=native -fomit-frame-pointer -mfpmath=sse -pedantic -D_FORTIFY_SOURCE=2 -Wpointer-arith -Wstrict-prototypes -fstack-protector -Wstack-protector -Wextra -Wbad-function-cast -Wcast-align -Wcast-qual -Wdisabled-optimization -Wendif-labels -Wfloat-equal -Wformat-nonliteral -Winline -Wmissing-declarations -Wmissing-prototypes -Wnested-externs -Wpointer-arith -Wundef -Wformat-security -Aeval:scriptdir=/home/njh/perl5/perlbrew/perls/perl-5.12.5/bin'
    hint=recommended, useposix=true, d_sigaction=define
    useithreads=define, usemultiplicity=define
    useperlio=define, d_sfio=undef, uselargefiles=define, usesocks=undef
    use64bitint=define, use64bitall=define, uselongdouble=undef
    usemymalloc=n, bincompat5005=undef
  Compiler:
    cc='cc', ccflags ='-D_REENTRANT -D_GNU_SOURCE -O2 -W -Wformat=2 -Wswitch -Wshadow -Wwrite-strings -Wuninitialized -Wall -pipe -mtune=native -march=native -fomit-frame-pointer -mfpmath=sse -pedantic -D_FORTIFY_SOURCE=2 -Wpointer-arith -Wstrict-prototypes -fstack-protector -Wstack-protector -Wextra -Wbad-function-cast -Wcast-align -Wcast-qual -Wdisabled-optimization -Wendif-labels -Wfloat-equal -Wformat-nonliteral -Winline -Wmissing-declarations -Wmissing-prototypes -Wnested-externs -Wpointer-arith -Wundef -Wformat-security -fno-strict-aliasing -I/usr/local/include -D_LARGEFILE_SOURCE -D_FILE_OFFSET_BITS=64',
    optimize='-O2',
    cppflags='-D_REENTRANT -D_GNU_SOURCE -O2 -W -Wformat=2 -Wswitch -Wshadow -Wwrite-strings -Wuninitialized -Wall -pipe -mtune=native -march=native -fomit-frame-pointer -mfpmath=sse -pedantic -D_FORTIFY_SOURCE=2 -Wpointer-arith -Wstrict-prototypes -fstack-protector -Wstack-protector -Wextra -Wbad-function-cast -Wcast-align -Wcast-qual -Wdisabled-optimization -Wendif-labels -Wfloat-equal -Wformat-nonliteral -Winline -Wmissing-declarations -Wmissing-prototypes -Wnested-externs -Wpointer-arith -Wundef -Wformat-security -fno-strict-aliasing -I/usr/local/include'
    ccversion='', gccversion='4.7.2', gccosandvers=''
    intsize=4, longsize=8, ptrsize=8, doublesize=8, byteorder=12345678
    d_longlong=define, longlongsize=8, d_longdbl=define, longdblsize=16
    ivtype='long', ivsize=8, nvtype='double', nvsize=8, Off_t='off_t', lseeksize=8
    alignbytes=8, prototype=define
  Linker and Libraries:
    ld='cc', ldflags =' -fstack-protector -L/usr/local/lib'
    libpth=/usr/local/lib /lib/x86_64-linux-gnu /lib/../lib /usr/lib/x86_64-linux-gnu /usr/lib/../lib /lib /usr/lib
    libs=-lnsl -lgdbm -ldb -ldl -lm -lcrypt -lutil -lpthread -lc -lgdbm_compat
    perllibs=-lnsl -ldl -lm -lcrypt -lutil -lpthread -lc
    libc=, so=so, useshrplib=false, libperl=libperl.a
    gnulibc_version='2.13'
  Dynamic Linking:
    dlsrc=dl_dlopen.xs, dlext=so, d_dlsymun=undef, ccdlflags='-Wl,-E'
    cccdlflags='-fPIC', lddlflags='-shared -O2 -L/usr/local/lib -fstack-protector'


Characteristics of this binary (from libperl): 
  Compile-time options: MULTIPLICITY PERL_DONT_CREATE_GVSV
                        PERL_IMPLICIT_CONTEXT PERL_MALLOC_WRAP USE_64_BIT_ALL
                        USE_64_BIT_INT USE_ITHREADS USE_LARGE_FILES
                        USE_PERLIO USE_PERL_ATOF USE_REENTRANT_API
  Built under linux
  Compiled at Nov 11 2012 14:00:40
  %ENV:
    PERL5LIB="/home/njh/.cpan/build/Net-Telnet-3.03-SZ3Gjk/blib/arch:/home/njh/.cpan/build/Net-Telnet-3.03-SZ3Gjk/blib/lib:/home/njh/.cpan/build/Data-JavaScript-Anon-1.03-rripJo/blib/arch:/home/njh/.cpan/build/Data-JavaScript-Anon-1.03-rripJo/blib/lib:/home/njh/.cpan/build/Class-Default-1.51-NEBPFY/blib/arch:/home/njh/.cpan/build/Class-Default-1.51-NEBPFY/blib/lib:/home/njh/.cpan/build/Text-SimpleTable-2.03-p9wASM/blib/arch:/home/njh/.cpan/build/Text-SimpleTable-2.03-p9wASM/blib/lib:/home/njh/.cpan/build/Module-Pluggable-Fast-0.19-t3eupE/blib/arch:/home/njh/.cpan/build/Module-Pluggable-Fast-0.19-t3eupE/blib/lib:/home/njh/.cpan/build/AppConfig-1.66-kRPZoi/blib/arch:/home/njh/.cpan/build/AppConfig-1.66-kRPZoi/blib/lib:/home/njh/.cpan/build/Object-Import-1.004-9bdHAC/blib/arch:/home/njh/.cpan/build/Object-Import-1.004-9bdHAC/blib/lib:/home/njh/.cpan/build/Shell-Command-0.06-SxYhQO/blib/arch:/home/njh/.cpan/build/Shell-Command-0.06-SxYhQO/blib/lib:/home/njh/.cpan/build/WWW-Mechanize-1.72-cpQIg7/blib/arch:/home/njh/.cpan/build/WWW-Mechanize-1.72-cpQIg7/blib/lib:/home/njh/.cpan/build/HTML-Form-6.03-1NQMdT/blib/arch:/home/njh/.cpan/build/HTML-Form-6.03-1NQMdT/blib/lib:/home/njh/.cpan/build/HTML-Tree-5.03-Jm0dhV/blib/arch:/home/njh/.cpan/build/HTML-Tree-5.03-Jm0dhV/blib/lib:/home/njh/.cpan/build/Carp-Clan-6.04-hcqVPo/blib/arch:/home/njh/.cpan/build/Carp-Clan-6.04-hcqVPo/blib/lib:/home/njh/.cpan/build/HTTP-Server-Simple-0.44-_2p2nm/blib/arch:/home/njh/.cpan/build/HTTP-Server-Simple-0.44-_2p2nm/blib/lib"
    PERL5OPT=""
    PERL5_CPANPLUS_IS_RUNNING="23596"
    PERL5_CPAN_IS_RUNNING="23596"
    PERL5_MINISMOKEBOX="0.54"
    PERLBREW_BASHRC_VERSION="0.49"
    PERLBREW_HOME="/home/njh/.perlbrew"
    PERLBREW_LIB=""
    PERLBREW_MANPATH="/home/njh/perl5/perlbrew/perls/perl-5.12.5/man"
    PERLBREW_PATH="/home/njh/perl5/perlbrew/bin:/home/njh/perl5/perlbrew/perls/perl-5.12.5/bin"
    PERLBREW_PERL="perl-5.12.5"
    PERLBREW_ROOT="/home/njh/perl5/perlbrew"
    PERLBREW_VERSION="0.49"
    PERL_EXTUTILS_AUTOINSTALL="--defaultdeps"
    PERL_LOCAL_LIB_ROOT=""
    PERL_MB_OPT=""
    PERL_MM_OPT=""
    PERL_MM_USE_DEFAULT="1"
  @INC:
    /home/njh/.cpan/build/Net-Telnet-3.03-SZ3Gjk/blib/arch
    /home/njh/.cpan/build/Net-Telnet-3.03-SZ3Gjk/blib/lib
    /home/njh/.cpan/build/Data-JavaScript-Anon-1.03-rripJo/blib/arch
    /home/njh/.cpan/build/Data-JavaScript-Anon-1.03-rripJo/blib/lib
    /home/njh/.cpan/build/Class-Default-1.51-NEBPFY/blib/arch
    /home/njh/.cpan/build/Class-Default-1.51-NEBPFY/blib/lib
    /home/njh/.cpan/build/Text-SimpleTable-2.03-p9wASM/blib/arch
    /home/njh/.cpan/build/Text-SimpleTable-2.03-p9wASM/blib/lib
    /home/njh/.cpan/build/Module-Pluggable-Fast-0.19-t3eupE/blib/arch
    /home/njh/.cpan/build/Module-Pluggable-Fast-0.19-t3eupE/blib/lib
    /home/njh/.cpan/build/AppConfig-1.66-kRPZoi/blib/arch
    /home/njh/.cpan/build/AppConfig-1.66-kRPZoi/blib/lib
    /home/njh/.cpan/build/Object-Import-1.004-9bdHAC/blib/arch
    /home/njh/.cpan/build/Object-Import-1.004-9bdHAC/blib/lib
    /home/njh/.cpan/build/Shell-Command-0.06-SxYhQO/blib/arch
    /home/njh/.cpan/build/Shell-Command-0.06-SxYhQO/blib/lib
    /home/njh/.cpan/build/WWW-Mechanize-1.72-cpQIg7/blib/arch
    /home/njh/.cpan/build/WWW-Mechanize-1.72-cpQIg7/blib/lib
    /home/njh/.cpan/build/HTML-Form-6.03-1NQMdT/blib/arch
    /home/njh/.cpan/build/HTML-Form-6.03-1NQMdT/blib/lib
    /home/njh/.cpan/build/HTML-Tree-5.03-Jm0dhV/blib/arch
    /home/njh/.cpan/build/HTML-Tree-5.03-Jm0dhV/blib/lib
    /home/njh/.cpan/build/Carp-Clan-6.04-hcqVPo/blib/arch
    /home/njh/.cpan/build/Carp-Clan-6.04-hcqVPo/blib/lib
    /home/njh/.cpan/build/HTTP-Server-Simple-0.44-_2p2nm/blib/arch
    /home/njh/.cpan/build/HTTP-Server-Simple-0.44-_2p2nm/blib/lib
    /home/njh/perl5/perlbrew/perls/perl-5.12.5/lib/site_perl/5.12.5/x86_64-linux-thread-multi
    /home/njh/perl5/perlbrew/perls/perl-5.12.5/lib/site_perl/5.12.5
    /home/njh/perl5/perlbrew/perls/perl-5.12.5/lib/5.12.5/x86_64-linux-thread-multi
    /home/njh/perl5/perlbrew/perls/perl-5.12.5/lib/5.12.5
    .