Report for File-Dropbox-0.6

Back
From: metabase:user:314402c4-2aae-11df-837a-5e0a49663a4f
Subject: PASS File-Dropbox-0.6 v5.23.9 GNU/Linux
Date: 2016-03-24T21:17:36Z

This distribution has been tested as part of the CPAN Testers
project, supporting the Perl programming language.  See
http://wiki.cpantesters.org/ for more information or email
questions to cpan-testers-discuss@perl.org


--
Dear Alexander Nazarov,

This is a computer-generated report for File-Dropbox-0.6
on perl 5.23.9, created by CPAN-Reporter-1.2017.

Thank you for uploading your work to CPAN.  Congratulations!
All tests were successful.

Sections of this report:

    * Tester comments
    * Program output
    * Prerequisites
    * Environment and other context

------------------------------
TESTER COMMENTS
------------------------------

Additional comments from tester:

none provided

------------------------------
PROGRAM OUTPUT
------------------------------

Output from './Build test':

given is experimental at /tmpfs/.cpan-build-cpansand/2016032418/File-Dropbox-0.6-27inUg/blib/lib/File/Dropbox.pm line 93.
when is experimental at /tmpfs/.cpan-build-cpansand/2016032418/File-Dropbox-0.6-27inUg/blib/lib/File/Dropbox.pm line 94.
when is experimental at /tmpfs/.cpan-build-cpansand/2016032418/File-Dropbox-0.6-27inUg/blib/lib/File/Dropbox.pm line 96.
when is experimental at /tmpfs/.cpan-build-cpansand/2016032418/File-Dropbox-0.6-27inUg/blib/lib/File/Dropbox.pm line 101.
when is experimental at /tmpfs/.cpan-build-cpansand/2016032418/File-Dropbox-0.6-27inUg/blib/lib/File/Dropbox.pm line 108.
given is experimental at /tmpfs/.cpan-build-cpansand/2016032418/File-Dropbox-0.6-27inUg/blib/lib/File/Dropbox.pm line 216.
when is experimental at /tmpfs/.cpan-build-cpansand/2016032418/File-Dropbox-0.6-27inUg/blib/lib/File/Dropbox.pm line 217.
when is experimental at /tmpfs/.cpan-build-cpansand/2016032418/File-Dropbox-0.6-27inUg/blib/lib/File/Dropbox.pm line 221.
when is experimental at /tmpfs/.cpan-build-cpansand/2016032418/File-Dropbox-0.6-27inUg/blib/lib/File/Dropbox.pm line 225.
given is experimental at /tmpfs/.cpan-build-cpansand/2016032418/File-Dropbox-0.6-27inUg/blib/lib/File/Dropbox.pm line 307.
when is experimental at /tmpfs/.cpan-build-cpansand/2016032418/File-Dropbox-0.6-27inUg/blib/lib/File/Dropbox.pm line 308.
when is experimental at /tmpfs/.cpan-build-cpansand/2016032418/File-Dropbox-0.6-27inUg/blib/lib/File/Dropbox.pm line 310.
when is experimental at /tmpfs/.cpan-build-cpansand/2016032418/File-Dropbox-0.6-27inUg/blib/lib/File/Dropbox.pm line 314.
given is experimental at /tmpfs/.cpan-build-cpansand/2016032418/File-Dropbox-0.6-27inUg/blib/lib/File/Dropbox.pm line 409.
when is experimental at /tmpfs/.cpan-build-cpansand/2016032418/File-Dropbox-0.6-27inUg/blib/lib/File/Dropbox.pm line 410.
when is experimental at /tmpfs/.cpan-build-cpansand/2016032418/File-Dropbox-0.6-27inUg/blib/lib/File/Dropbox.pm line 415.
when is experimental at /tmpfs/.cpan-build-cpansand/2016032418/File-Dropbox-0.6-27inUg/blib/lib/File/Dropbox.pm line 420.
when is experimental at /tmpfs/.cpan-build-cpansand/2016032418/File-Dropbox-0.6-27inUg/blib/lib/File/Dropbox.pm line 427.
when is experimental at /tmpfs/.cpan-build-cpansand/2016032418/File-Dropbox-0.6-27inUg/blib/lib/File/Dropbox.pm line 433.
when is experimental at /tmpfs/.cpan-build-cpansand/2016032418/File-Dropbox-0.6-27inUg/blib/lib/File/Dropbox.pm line 438.
given is experimental at /tmpfs/.cpan-build-cpansand/2016032418/File-Dropbox-0.6-27inUg/blib/lib/File/Dropbox.pm line 471.
when is experimental at /tmpfs/.cpan-build-cpansand/2016032418/File-Dropbox-0.6-27inUg/blib/lib/File/Dropbox.pm line 472.
when is experimental at /tmpfs/.cpan-build-cpansand/2016032418/File-Dropbox-0.6-27inUg/blib/lib/File/Dropbox.pm line 477.
when is experimental at /tmpfs/.cpan-build-cpansand/2016032418/File-Dropbox-0.6-27inUg/blib/lib/File/Dropbox.pm line 482.
when is experimental at /tmpfs/.cpan-build-cpansand/2016032418/File-Dropbox-0.6-27inUg/blib/lib/File/Dropbox.pm line 487.
when is experimental at /tmpfs/.cpan-build-cpansand/2016032418/File-Dropbox-0.6-27inUg/blib/lib/File/Dropbox.pm line 494.
when is experimental at /tmpfs/.cpan-build-cpansand/2016032418/File-Dropbox-0.6-27inUg/blib/lib/File/Dropbox.pm line 500.
when is experimental at /tmpfs/.cpan-build-cpansand/2016032418/File-Dropbox-0.6-27inUg/blib/lib/File/Dropbox.pm line 510.
given is experimental at /tmpfs/.cpan-build-cpansand/2016032418/File-Dropbox-0.6-27inUg/blib/lib/File/Dropbox.pm line 537.
when is experimental at /tmpfs/.cpan-build-cpansand/2016032418/File-Dropbox-0.6-27inUg/blib/lib/File/Dropbox.pm line 538.
given is experimental at /tmpfs/.cpan-build-cpansand/2016032418/File-Dropbox-0.6-27inUg/blib/lib/File/Dropbox.pm line 556.
when is experimental at /tmpfs/.cpan-build-cpansand/2016032418/File-Dropbox-0.6-27inUg/blib/lib/File/Dropbox.pm line 557.
when is experimental at /tmpfs/.cpan-build-cpansand/2016032418/File-Dropbox-0.6-27inUg/blib/lib/File/Dropbox.pm line 561.
when is experimental at /tmpfs/.cpan-build-cpansand/2016032418/File-Dropbox-0.6-27inUg/blib/lib/File/Dropbox.pm line 566.
when is experimental at /tmpfs/.cpan-build-cpansand/2016032418/File-Dropbox-0.6-27inUg/blib/lib/File/Dropbox.pm line 571.
when is experimental at /tmpfs/.cpan-build-cpansand/2016032418/File-Dropbox-0.6-27inUg/blib/lib/File/Dropbox.pm line 576.
when is experimental at /tmpfs/.cpan-build-cpansand/2016032418/File-Dropbox-0.6-27inUg/blib/lib/File/Dropbox.pm line 583.
given is experimental at /tmpfs/.cpan-build-cpansand/2016032418/File-Dropbox-0.6-27inUg/blib/lib/File/Dropbox.pm line 638.
when is experimental at /tmpfs/.cpan-build-cpansand/2016032418/File-Dropbox-0.6-27inUg/blib/lib/File/Dropbox.pm line 639.
when is experimental at /tmpfs/.cpan-build-cpansand/2016032418/File-Dropbox-0.6-27inUg/blib/lib/File/Dropbox.pm line 644.
when is experimental at /tmpfs/.cpan-build-cpansand/2016032418/File-Dropbox-0.6-27inUg/blib/lib/File/Dropbox.pm line 649.
when is experimental at /tmpfs/.cpan-build-cpansand/2016032418/File-Dropbox-0.6-27inUg/blib/lib/File/Dropbox.pm line 656.
when is experimental at /tmpfs/.cpan-build-cpansand/2016032418/File-Dropbox-0.6-27inUg/blib/lib/File/Dropbox.pm line 662.
when is experimental at /tmpfs/.cpan-build-cpansand/2016032418/File-Dropbox-0.6-27inUg/blib/lib/File/Dropbox.pm line 667.
t/01-basic.t ......... ok
given is experimental at /tmpfs/.cpan-build-cpansand/2016032418/File-Dropbox-0.6-27inUg/blib/lib/File/Dropbox.pm line 93.
when is experimental at /tmpfs/.cpan-build-cpansand/2016032418/File-Dropbox-0.6-27inUg/blib/lib/File/Dropbox.pm line 94.
when is experimental at /tmpfs/.cpan-build-cpansand/2016032418/File-Dropbox-0.6-27inUg/blib/lib/File/Dropbox.pm line 96.
when is experimental at /tmpfs/.cpan-build-cpansand/2016032418/File-Dropbox-0.6-27inUg/blib/lib/File/Dropbox.pm line 101.
when is experimental at /tmpfs/.cpan-build-cpansand/2016032418/File-Dropbox-0.6-27inUg/blib/lib/File/Dropbox.pm line 108.
given is experimental at /tmpfs/.cpan-build-cpansand/2016032418/File-Dropbox-0.6-27inUg/blib/lib/File/Dropbox.pm line 216.
when is experimental at /tmpfs/.cpan-build-cpansand/2016032418/File-Dropbox-0.6-27inUg/blib/lib/File/Dropbox.pm line 217.
when is experimental at /tmpfs/.cpan-build-cpansand/2016032418/File-Dropbox-0.6-27inUg/blib/lib/File/Dropbox.pm line 221.
when is experimental at /tmpfs/.cpan-build-cpansand/2016032418/File-Dropbox-0.6-27inUg/blib/lib/File/Dropbox.pm line 225.
given is experimental at /tmpfs/.cpan-build-cpansand/2016032418/File-Dropbox-0.6-27inUg/blib/lib/File/Dropbox.pm line 307.
when is experimental at /tmpfs/.cpan-build-cpansand/2016032418/File-Dropbox-0.6-27inUg/blib/lib/File/Dropbox.pm line 308.
when is experimental at /tmpfs/.cpan-build-cpansand/2016032418/File-Dropbox-0.6-27inUg/blib/lib/File/Dropbox.pm line 310.
when is experimental at /tmpfs/.cpan-build-cpansand/2016032418/File-Dropbox-0.6-27inUg/blib/lib/File/Dropbox.pm line 314.
given is experimental at /tmpfs/.cpan-build-cpansand/2016032418/File-Dropbox-0.6-27inUg/blib/lib/File/Dropbox.pm line 409.
when is experimental at /tmpfs/.cpan-build-cpansand/2016032418/File-Dropbox-0.6-27inUg/blib/lib/File/Dropbox.pm line 410.
when is experimental at /tmpfs/.cpan-build-cpansand/2016032418/File-Dropbox-0.6-27inUg/blib/lib/File/Dropbox.pm line 415.
when is experimental at /tmpfs/.cpan-build-cpansand/2016032418/File-Dropbox-0.6-27inUg/blib/lib/File/Dropbox.pm line 420.
when is experimental at /tmpfs/.cpan-build-cpansand/2016032418/File-Dropbox-0.6-27inUg/blib/lib/File/Dropbox.pm line 427.
when is experimental at /tmpfs/.cpan-build-cpansand/2016032418/File-Dropbox-0.6-27inUg/blib/lib/File/Dropbox.pm line 433.
when is experimental at /tmpfs/.cpan-build-cpansand/2016032418/File-Dropbox-0.6-27inUg/blib/lib/File/Dropbox.pm line 438.
given is experimental at /tmpfs/.cpan-build-cpansand/2016032418/File-Dropbox-0.6-27inUg/blib/lib/File/Dropbox.pm line 471.
when is experimental at /tmpfs/.cpan-build-cpansand/2016032418/File-Dropbox-0.6-27inUg/blib/lib/File/Dropbox.pm line 472.
when is experimental at /tmpfs/.cpan-build-cpansand/2016032418/File-Dropbox-0.6-27inUg/blib/lib/File/Dropbox.pm line 477.
when is experimental at /tmpfs/.cpan-build-cpansand/2016032418/File-Dropbox-0.6-27inUg/blib/lib/File/Dropbox.pm line 482.
when is experimental at /tmpfs/.cpan-build-cpansand/2016032418/File-Dropbox-0.6-27inUg/blib/lib/File/Dropbox.pm line 487.
when is experimental at /tmpfs/.cpan-build-cpansand/2016032418/File-Dropbox-0.6-27inUg/blib/lib/File/Dropbox.pm line 494.
when is experimental at /tmpfs/.cpan-build-cpansand/2016032418/File-Dropbox-0.6-27inUg/blib/lib/File/Dropbox.pm line 500.
when is experimental at /tmpfs/.cpan-build-cpansand/2016032418/File-Dropbox-0.6-27inUg/blib/lib/File/Dropbox.pm line 510.
given is experimental at /tmpfs/.cpan-build-cpansand/2016032418/File-Dropbox-0.6-27inUg/blib/lib/File/Dropbox.pm line 537.
when is experimental at /tmpfs/.cpan-build-cpansand/2016032418/File-Dropbox-0.6-27inUg/blib/lib/File/Dropbox.pm line 538.
given is experimental at /tmpfs/.cpan-build-cpansand/2016032418/File-Dropbox-0.6-27inUg/blib/lib/File/Dropbox.pm line 556.
when is experimental at /tmpfs/.cpan-build-cpansand/2016032418/File-Dropbox-0.6-27inUg/blib/lib/File/Dropbox.pm line 557.
when is experimental at /tmpfs/.cpan-build-cpansand/2016032418/File-Dropbox-0.6-27inUg/blib/lib/File/Dropbox.pm line 561.
when is experimental at /tmpfs/.cpan-build-cpansand/2016032418/File-Dropbox-0.6-27inUg/blib/lib/File/Dropbox.pm line 566.
when is experimental at /tmpfs/.cpan-build-cpansand/2016032418/File-Dropbox-0.6-27inUg/blib/lib/File/Dropbox.pm line 571.
when is experimental at /tmpfs/.cpan-build-cpansand/2016032418/File-Dropbox-0.6-27inUg/blib/lib/File/Dropbox.pm line 576.
when is experimental at /tmpfs/.cpan-build-cpansand/2016032418/File-Dropbox-0.6-27inUg/blib/lib/File/Dropbox.pm line 583.
given is experimental at /tmpfs/.cpan-build-cpansand/2016032418/File-Dropbox-0.6-27inUg/blib/lib/File/Dropbox.pm line 638.
when is experimental at /tmpfs/.cpan-build-cpansand/2016032418/File-Dropbox-0.6-27inUg/blib/lib/File/Dropbox.pm line 639.
when is experimental at /tmpfs/.cpan-build-cpansand/2016032418/File-Dropbox-0.6-27inUg/blib/lib/File/Dropbox.pm line 644.
when is experimental at /tmpfs/.cpan-build-cpansand/2016032418/File-Dropbox-0.6-27inUg/blib/lib/File/Dropbox.pm line 649.
when is experimental at /tmpfs/.cpan-build-cpansand/2016032418/File-Dropbox-0.6-27inUg/blib/lib/File/Dropbox.pm line 656.
when is experimental at /tmpfs/.cpan-build-cpansand/2016032418/File-Dropbox-0.6-27inUg/blib/lib/File/Dropbox.pm line 662.
when is experimental at /tmpfs/.cpan-build-cpansand/2016032418/File-Dropbox-0.6-27inUg/blib/lib/File/Dropbox.pm line 667.
t/02-open.t .......... ok
given is experimental at /tmpfs/.cpan-build-cpansand/2016032418/File-Dropbox-0.6-27inUg/blib/lib/File/Dropbox.pm line 93.
when is experimental at /tmpfs/.cpan-build-cpansand/2016032418/File-Dropbox-0.6-27inUg/blib/lib/File/Dropbox.pm line 94.
when is experimental at /tmpfs/.cpan-build-cpansand/2016032418/File-Dropbox-0.6-27inUg/blib/lib/File/Dropbox.pm line 96.
when is experimental at /tmpfs/.cpan-build-cpansand/2016032418/File-Dropbox-0.6-27inUg/blib/lib/File/Dropbox.pm line 101.
when is experimental at /tmpfs/.cpan-build-cpansand/2016032418/File-Dropbox-0.6-27inUg/blib/lib/File/Dropbox.pm line 108.
given is experimental at /tmpfs/.cpan-build-cpansand/2016032418/File-Dropbox-0.6-27inUg/blib/lib/File/Dropbox.pm line 216.
when is experimental at /tmpfs/.cpan-build-cpansand/2016032418/File-Dropbox-0.6-27inUg/blib/lib/File/Dropbox.pm line 217.
when is experimental at /tmpfs/.cpan-build-cpansand/2016032418/File-Dropbox-0.6-27inUg/blib/lib/File/Dropbox.pm line 221.
when is experimental at /tmpfs/.cpan-build-cpansand/2016032418/File-Dropbox-0.6-27inUg/blib/lib/File/Dropbox.pm line 225.
given is experimental at /tmpfs/.cpan-build-cpansand/2016032418/File-Dropbox-0.6-27inUg/blib/lib/File/Dropbox.pm line 307.
when is experimental at /tmpfs/.cpan-build-cpansand/2016032418/File-Dropbox-0.6-27inUg/blib/lib/File/Dropbox.pm line 308.
when is experimental at /tmpfs/.cpan-build-cpansand/2016032418/File-Dropbox-0.6-27inUg/blib/lib/File/Dropbox.pm line 310.
when is experimental at /tmpfs/.cpan-build-cpansand/2016032418/File-Dropbox-0.6-27inUg/blib/lib/File/Dropbox.pm line 314.
given is experimental at /tmpfs/.cpan-build-cpansand/2016032418/File-Dropbox-0.6-27inUg/blib/lib/File/Dropbox.pm line 409.
when is experimental at /tmpfs/.cpan-build-cpansand/2016032418/File-Dropbox-0.6-27inUg/blib/lib/File/Dropbox.pm line 410.
when is experimental at /tmpfs/.cpan-build-cpansand/2016032418/File-Dropbox-0.6-27inUg/blib/lib/File/Dropbox.pm line 415.
when is experimental at /tmpfs/.cpan-build-cpansand/2016032418/File-Dropbox-0.6-27inUg/blib/lib/File/Dropbox.pm line 420.
when is experimental at /tmpfs/.cpan-build-cpansand/2016032418/File-Dropbox-0.6-27inUg/blib/lib/File/Dropbox.pm line 427.
when is experimental at /tmpfs/.cpan-build-cpansand/2016032418/File-Dropbox-0.6-27inUg/blib/lib/File/Dropbox.pm line 433.
when is experimental at /tmpfs/.cpan-build-cpansand/2016032418/File-Dropbox-0.6-27inUg/blib/lib/File/Dropbox.pm line 438.
given is experimental at /tmpfs/.cpan-build-cpansand/2016032418/File-Dropbox-0.6-27inUg/blib/lib/File/Dropbox.pm line 471.
when is experimental at /tmpfs/.cpan-build-cpansand/2016032418/File-Dropbox-0.6-27inUg/blib/lib/File/Dropbox.pm line 472.
when is experimental at /tmpfs/.cpan-build-cpansand/2016032418/File-Dropbox-0.6-27inUg/blib/lib/File/Dropbox.pm line 477.
when is experimental at /tmpfs/.cpan-build-cpansand/2016032418/File-Dropbox-0.6-27inUg/blib/lib/File/Dropbox.pm line 482.
when is experimental at /tmpfs/.cpan-build-cpansand/2016032418/File-Dropbox-0.6-27inUg/blib/lib/File/Dropbox.pm line 487.
when is experimental at /tmpfs/.cpan-build-cpansand/2016032418/File-Dropbox-0.6-27inUg/blib/lib/File/Dropbox.pm line 494.
when is experimental at /tmpfs/.cpan-build-cpansand/2016032418/File-Dropbox-0.6-27inUg/blib/lib/File/Dropbox.pm line 500.
when is experimental at /tmpfs/.cpan-build-cpansand/2016032418/File-Dropbox-0.6-27inUg/blib/lib/File/Dropbox.pm line 510.
given is experimental at /tmpfs/.cpan-build-cpansand/2016032418/File-Dropbox-0.6-27inUg/blib/lib/File/Dropbox.pm line 537.
when is experimental at /tmpfs/.cpan-build-cpansand/2016032418/File-Dropbox-0.6-27inUg/blib/lib/File/Dropbox.pm line 538.
given is experimental at /tmpfs/.cpan-build-cpansand/2016032418/File-Dropbox-0.6-27inUg/blib/lib/File/Dropbox.pm line 556.
when is experimental at /tmpfs/.cpan-build-cpansand/2016032418/File-Dropbox-0.6-27inUg/blib/lib/File/Dropbox.pm line 557.
when is experimental at /tmpfs/.cpan-build-cpansand/2016032418/File-Dropbox-0.6-27inUg/blib/lib/File/Dropbox.pm line 561.
when is experimental at /tmpfs/.cpan-build-cpansand/2016032418/File-Dropbox-0.6-27inUg/blib/lib/File/Dropbox.pm line 566.
when is experimental at /tmpfs/.cpan-build-cpansand/2016032418/File-Dropbox-0.6-27inUg/blib/lib/File/Dropbox.pm line 571.
when is experimental at /tmpfs/.cpan-build-cpansand/2016032418/File-Dropbox-0.6-27inUg/blib/lib/File/Dropbox.pm line 576.
when is experimental at /tmpfs/.cpan-build-cpansand/2016032418/File-Dropbox-0.6-27inUg/blib/lib/File/Dropbox.pm line 583.
given is experimental at /tmpfs/.cpan-build-cpansand/2016032418/File-Dropbox-0.6-27inUg/blib/lib/File/Dropbox.pm line 638.
when is experimental at /tmpfs/.cpan-build-cpansand/2016032418/File-Dropbox-0.6-27inUg/blib/lib/File/Dropbox.pm line 639.
when is experimental at /tmpfs/.cpan-build-cpansand/2016032418/File-Dropbox-0.6-27inUg/blib/lib/File/Dropbox.pm line 644.
when is experimental at /tmpfs/.cpan-build-cpansand/2016032418/File-Dropbox-0.6-27inUg/blib/lib/File/Dropbox.pm line 649.
when is experimental at /tmpfs/.cpan-build-cpansand/2016032418/File-Dropbox-0.6-27inUg/blib/lib/File/Dropbox.pm line 656.
when is experimental at /tmpfs/.cpan-build-cpansand/2016032418/File-Dropbox-0.6-27inUg/blib/lib/File/Dropbox.pm line 662.
when is experimental at /tmpfs/.cpan-build-cpansand/2016032418/File-Dropbox-0.6-27inUg/blib/lib/File/Dropbox.pm line 667.
t/03-write.t ......... skipped: DROPBOX_AUTH is not set or has wrong value
given is experimental at /tmpfs/.cpan-build-cpansand/2016032418/File-Dropbox-0.6-27inUg/blib/lib/File/Dropbox.pm line 93.
when is experimental at /tmpfs/.cpan-build-cpansand/2016032418/File-Dropbox-0.6-27inUg/blib/lib/File/Dropbox.pm line 94.
when is experimental at /tmpfs/.cpan-build-cpansand/2016032418/File-Dropbox-0.6-27inUg/blib/lib/File/Dropbox.pm line 96.
when is experimental at /tmpfs/.cpan-build-cpansand/2016032418/File-Dropbox-0.6-27inUg/blib/lib/File/Dropbox.pm line 101.
when is experimental at /tmpfs/.cpan-build-cpansand/2016032418/File-Dropbox-0.6-27inUg/blib/lib/File/Dropbox.pm line 108.
given is experimental at /tmpfs/.cpan-build-cpansand/2016032418/File-Dropbox-0.6-27inUg/blib/lib/File/Dropbox.pm line 216.
when is experimental at /tmpfs/.cpan-build-cpansand/2016032418/File-Dropbox-0.6-27inUg/blib/lib/File/Dropbox.pm line 217.
when is experimental at /tmpfs/.cpan-build-cpansand/2016032418/File-Dropbox-0.6-27inUg/blib/lib/File/Dropbox.pm line 221.
when is experimental at /tmpfs/.cpan-build-cpansand/2016032418/File-Dropbox-0.6-27inUg/blib/lib/File/Dropbox.pm line 225.
given is experimental at /tmpfs/.cpan-build-cpansand/2016032418/File-Dropbox-0.6-27inUg/blib/lib/File/Dropbox.pm line 307.
when is experimental at /tmpfs/.cpan-build-cpansand/2016032418/File-Dropbox-0.6-27inUg/blib/lib/File/Dropbox.pm line 308.
when is experimental at /tmpfs/.cpan-build-cpansand/2016032418/File-Dropbox-0.6-27inUg/blib/lib/File/Dropbox.pm line 310.
when is experimental at /tmpfs/.cpan-build-cpansand/2016032418/File-Dropbox-0.6-27inUg/blib/lib/File/Dropbox.pm line 314.
given is experimental at /tmpfs/.cpan-build-cpansand/2016032418/File-Dropbox-0.6-27inUg/blib/lib/File/Dropbox.pm line 409.
when is experimental at /tmpfs/.cpan-build-cpansand/2016032418/File-Dropbox-0.6-27inUg/blib/lib/File/Dropbox.pm line 410.
when is experimental at /tmpfs/.cpan-build-cpansand/2016032418/File-Dropbox-0.6-27inUg/blib/lib/File/Dropbox.pm line 415.
when is experimental at /tmpfs/.cpan-build-cpansand/2016032418/File-Dropbox-0.6-27inUg/blib/lib/File/Dropbox.pm line 420.
when is experimental at /tmpfs/.cpan-build-cpansand/2016032418/File-Dropbox-0.6-27inUg/blib/lib/File/Dropbox.pm line 427.
when is experimental at /tmpfs/.cpan-build-cpansand/2016032418/File-Dropbox-0.6-27inUg/blib/lib/File/Dropbox.pm line 433.
when is experimental at /tmpfs/.cpan-build-cpansand/2016032418/File-Dropbox-0.6-27inUg/blib/lib/File/Dropbox.pm line 438.
given is experimental at /tmpfs/.cpan-build-cpansand/2016032418/File-Dropbox-0.6-27inUg/blib/lib/File/Dropbox.pm line 471.
when is experimental at /tmpfs/.cpan-build-cpansand/2016032418/File-Dropbox-0.6-27inUg/blib/lib/File/Dropbox.pm line 472.
when is experimental at /tmpfs/.cpan-build-cpansand/2016032418/File-Dropbox-0.6-27inUg/blib/lib/File/Dropbox.pm line 477.
when is experimental at /tmpfs/.cpan-build-cpansand/2016032418/File-Dropbox-0.6-27inUg/blib/lib/File/Dropbox.pm line 482.
when is experimental at /tmpfs/.cpan-build-cpansand/2016032418/File-Dropbox-0.6-27inUg/blib/lib/File/Dropbox.pm line 487.
when is experimental at /tmpfs/.cpan-build-cpansand/2016032418/File-Dropbox-0.6-27inUg/blib/lib/File/Dropbox.pm line 494.
when is experimental at /tmpfs/.cpan-build-cpansand/2016032418/File-Dropbox-0.6-27inUg/blib/lib/File/Dropbox.pm line 500.
when is experimental at /tmpfs/.cpan-build-cpansand/2016032418/File-Dropbox-0.6-27inUg/blib/lib/File/Dropbox.pm line 510.
given is experimental at /tmpfs/.cpan-build-cpansand/2016032418/File-Dropbox-0.6-27inUg/blib/lib/File/Dropbox.pm line 537.
when is experimental at /tmpfs/.cpan-build-cpansand/2016032418/File-Dropbox-0.6-27inUg/blib/lib/File/Dropbox.pm line 538.
given is experimental at /tmpfs/.cpan-build-cpansand/2016032418/File-Dropbox-0.6-27inUg/blib/lib/File/Dropbox.pm line 556.
when is experimental at /tmpfs/.cpan-build-cpansand/2016032418/File-Dropbox-0.6-27inUg/blib/lib/File/Dropbox.pm line 557.
when is experimental at /tmpfs/.cpan-build-cpansand/2016032418/File-Dropbox-0.6-27inUg/blib/lib/File/Dropbox.pm line 561.
when is experimental at /tmpfs/.cpan-build-cpansand/2016032418/File-Dropbox-0.6-27inUg/blib/lib/File/Dropbox.pm line 566.
when is experimental at /tmpfs/.cpan-build-cpansand/2016032418/File-Dropbox-0.6-27inUg/blib/lib/File/Dropbox.pm line 571.
when is experimental at /tmpfs/.cpan-build-cpansand/2016032418/File-Dropbox-0.6-27inUg/blib/lib/File/Dropbox.pm line 576.
when is experimental at /tmpfs/.cpan-build-cpansand/2016032418/File-Dropbox-0.6-27inUg/blib/lib/File/Dropbox.pm line 583.
given is experimental at /tmpfs/.cpan-build-cpansand/2016032418/File-Dropbox-0.6-27inUg/blib/lib/File/Dropbox.pm line 638.
when is experimental at /tmpfs/.cpan-build-cpansand/2016032418/File-Dropbox-0.6-27inUg/blib/lib/File/Dropbox.pm line 639.
when is experimental at /tmpfs/.cpan-build-cpansand/2016032418/File-Dropbox-0.6-27inUg/blib/lib/File/Dropbox.pm line 644.
when is experimental at /tmpfs/.cpan-build-cpansand/2016032418/File-Dropbox-0.6-27inUg/blib/lib/File/Dropbox.pm line 649.
when is experimental at /tmpfs/.cpan-build-cpansand/2016032418/File-Dropbox-0.6-27inUg/blib/lib/File/Dropbox.pm line 656.
when is experimental at /tmpfs/.cpan-build-cpansand/2016032418/File-Dropbox-0.6-27inUg/blib/lib/File/Dropbox.pm line 662.
when is experimental at /tmpfs/.cpan-build-cpansand/2016032418/File-Dropbox-0.6-27inUg/blib/lib/File/Dropbox.pm line 667.
t/04-read.t .......... skipped: DROPBOX_AUTH is not set or has wrong value
given is experimental at /tmpfs/.cpan-build-cpansand/2016032418/File-Dropbox-0.6-27inUg/blib/lib/File/Dropbox.pm line 93.
when is experimental at /tmpfs/.cpan-build-cpansand/2016032418/File-Dropbox-0.6-27inUg/blib/lib/File/Dropbox.pm line 94.
when is experimental at /tmpfs/.cpan-build-cpansand/2016032418/File-Dropbox-0.6-27inUg/blib/lib/File/Dropbox.pm line 96.
when is experimental at /tmpfs/.cpan-build-cpansand/2016032418/File-Dropbox-0.6-27inUg/blib/lib/File/Dropbox.pm line 101.
when is experimental at /tmpfs/.cpan-build-cpansand/2016032418/File-Dropbox-0.6-27inUg/blib/lib/File/Dropbox.pm line 108.
given is experimental at /tmpfs/.cpan-build-cpansand/2016032418/File-Dropbox-0.6-27inUg/blib/lib/File/Dropbox.pm line 216.
when is experimental at /tmpfs/.cpan-build-cpansand/2016032418/File-Dropbox-0.6-27inUg/blib/lib/File/Dropbox.pm line 217.
when is experimental at /tmpfs/.cpan-build-cpansand/2016032418/File-Dropbox-0.6-27inUg/blib/lib/File/Dropbox.pm line 221.
when is experimental at /tmpfs/.cpan-build-cpansand/2016032418/File-Dropbox-0.6-27inUg/blib/lib/File/Dropbox.pm line 225.
given is experimental at /tmpfs/.cpan-build-cpansand/2016032418/File-Dropbox-0.6-27inUg/blib/lib/File/Dropbox.pm line 307.
when is experimental at /tmpfs/.cpan-build-cpansand/2016032418/File-Dropbox-0.6-27inUg/blib/lib/File/Dropbox.pm line 308.
when is experimental at /tmpfs/.cpan-build-cpansand/2016032418/File-Dropbox-0.6-27inUg/blib/lib/File/Dropbox.pm line 310.
when is experimental at /tmpfs/.cpan-build-cpansand/2016032418/File-Dropbox-0.6-27inUg/blib/lib/File/Dropbox.pm line 314.
given is experimental at /tmpfs/.cpan-build-cpansand/2016032418/File-Dropbox-0.6-27inUg/blib/lib/File/Dropbox.pm line 409.
when is experimental at /tmpfs/.cpan-build-cpansand/2016032418/File-Dropbox-0.6-27inUg/blib/lib/File/Dropbox.pm line 410.
when is experimental at /tmpfs/.cpan-build-cpansand/2016032418/File-Dropbox-0.6-27inUg/blib/lib/File/Dropbox.pm line 415.
when is experimental at /tmpfs/.cpan-build-cpansand/2016032418/File-Dropbox-0.6-27inUg/blib/lib/File/Dropbox.pm line 420.
when is experimental at /tmpfs/.cpan-build-cpansand/2016032418/File-Dropbox-0.6-27inUg/blib/lib/File/Dropbox.pm line 427.
when is experimental at /tmpfs/.cpan-build-cpansand/2016032418/File-Dropbox-0.6-27inUg/blib/lib/File/Dropbox.pm line 433.
when is experimental at /tmpfs/.cpan-build-cpansand/2016032418/File-Dropbox-0.6-27inUg/blib/lib/File/Dropbox.pm line 438.
given is experimental at /tmpfs/.cpan-build-cpansand/2016032418/File-Dropbox-0.6-27inUg/blib/lib/File/Dropbox.pm line 471.
when is experimental at /tmpfs/.cpan-build-cpansand/2016032418/File-Dropbox-0.6-27inUg/blib/lib/File/Dropbox.pm line 472.
when is experimental at /tmpfs/.cpan-build-cpansand/2016032418/File-Dropbox-0.6-27inUg/blib/lib/File/Dropbox.pm line 477.
when is experimental at /tmpfs/.cpan-build-cpansand/2016032418/File-Dropbox-0.6-27inUg/blib/lib/File/Dropbox.pm line 482.
when is experimental at /tmpfs/.cpan-build-cpansand/2016032418/File-Dropbox-0.6-27inUg/blib/lib/File/Dropbox.pm line 487.
when is experimental at /tmpfs/.cpan-build-cpansand/2016032418/File-Dropbox-0.6-27inUg/blib/lib/File/Dropbox.pm line 494.
when is experimental at /tmpfs/.cpan-build-cpansand/2016032418/File-Dropbox-0.6-27inUg/blib/lib/File/Dropbox.pm line 500.
when is experimental at /tmpfs/.cpan-build-cpansand/2016032418/File-Dropbox-0.6-27inUg/blib/lib/File/Dropbox.pm line 510.
given is experimental at /tmpfs/.cpan-build-cpansand/2016032418/File-Dropbox-0.6-27inUg/blib/lib/File/Dropbox.pm line 537.
when is experimental at /tmpfs/.cpan-build-cpansand/2016032418/File-Dropbox-0.6-27inUg/blib/lib/File/Dropbox.pm line 538.
given is experimental at /tmpfs/.cpan-build-cpansand/2016032418/File-Dropbox-0.6-27inUg/blib/lib/File/Dropbox.pm line 556.
when is experimental at /tmpfs/.cpan-build-cpansand/2016032418/File-Dropbox-0.6-27inUg/blib/lib/File/Dropbox.pm line 557.
when is experimental at /tmpfs/.cpan-build-cpansand/2016032418/File-Dropbox-0.6-27inUg/blib/lib/File/Dropbox.pm line 561.
when is experimental at /tmpfs/.cpan-build-cpansand/2016032418/File-Dropbox-0.6-27inUg/blib/lib/File/Dropbox.pm line 566.
when is experimental at /tmpfs/.cpan-build-cpansand/2016032418/File-Dropbox-0.6-27inUg/blib/lib/File/Dropbox.pm line 571.
when is experimental at /tmpfs/.cpan-build-cpansand/2016032418/File-Dropbox-0.6-27inUg/blib/lib/File/Dropbox.pm line 576.
when is experimental at /tmpfs/.cpan-build-cpansand/2016032418/File-Dropbox-0.6-27inUg/blib/lib/File/Dropbox.pm line 583.
given is experimental at /tmpfs/.cpan-build-cpansand/2016032418/File-Dropbox-0.6-27inUg/blib/lib/File/Dropbox.pm line 638.
when is experimental at /tmpfs/.cpan-build-cpansand/2016032418/File-Dropbox-0.6-27inUg/blib/lib/File/Dropbox.pm line 639.
when is experimental at /tmpfs/.cpan-build-cpansand/2016032418/File-Dropbox-0.6-27inUg/blib/lib/File/Dropbox.pm line 644.
when is experimental at /tmpfs/.cpan-build-cpansand/2016032418/File-Dropbox-0.6-27inUg/blib/lib/File/Dropbox.pm line 649.
when is experimental at /tmpfs/.cpan-build-cpansand/2016032418/File-Dropbox-0.6-27inUg/blib/lib/File/Dropbox.pm line 656.
when is experimental at /tmpfs/.cpan-build-cpansand/2016032418/File-Dropbox-0.6-27inUg/blib/lib/File/Dropbox.pm line 662.
when is experimental at /tmpfs/.cpan-build-cpansand/2016032418/File-Dropbox-0.6-27inUg/blib/lib/File/Dropbox.pm line 667.
t/05-meta.t .......... skipped: DROPBOX_AUTH is not set or has wrong value
given is experimental at /tmpfs/.cpan-build-cpansand/2016032418/File-Dropbox-0.6-27inUg/blib/lib/File/Dropbox.pm line 93.
when is experimental at /tmpfs/.cpan-build-cpansand/2016032418/File-Dropbox-0.6-27inUg/blib/lib/File/Dropbox.pm line 94.
when is experimental at /tmpfs/.cpan-build-cpansand/2016032418/File-Dropbox-0.6-27inUg/blib/lib/File/Dropbox.pm line 96.
when is experimental at /tmpfs/.cpan-build-cpansand/2016032418/File-Dropbox-0.6-27inUg/blib/lib/File/Dropbox.pm line 101.
when is experimental at /tmpfs/.cpan-build-cpansand/2016032418/File-Dropbox-0.6-27inUg/blib/lib/File/Dropbox.pm line 108.
given is experimental at /tmpfs/.cpan-build-cpansand/2016032418/File-Dropbox-0.6-27inUg/blib/lib/File/Dropbox.pm line 216.
when is experimental at /tmpfs/.cpan-build-cpansand/2016032418/File-Dropbox-0.6-27inUg/blib/lib/File/Dropbox.pm line 217.
when is experimental at /tmpfs/.cpan-build-cpansand/2016032418/File-Dropbox-0.6-27inUg/blib/lib/File/Dropbox.pm line 221.
when is experimental at /tmpfs/.cpan-build-cpansand/2016032418/File-Dropbox-0.6-27inUg/blib/lib/File/Dropbox.pm line 225.
given is experimental at /tmpfs/.cpan-build-cpansand/2016032418/File-Dropbox-0.6-27inUg/blib/lib/File/Dropbox.pm line 307.
when is experimental at /tmpfs/.cpan-build-cpansand/2016032418/File-Dropbox-0.6-27inUg/blib/lib/File/Dropbox.pm line 308.
when is experimental at /tmpfs/.cpan-build-cpansand/2016032418/File-Dropbox-0.6-27inUg/blib/lib/File/Dropbox.pm line 310.
when is experimental at /tmpfs/.cpan-build-cpansand/2016032418/File-Dropbox-0.6-27inUg/blib/lib/File/Dropbox.pm line 314.
given is experimental at /tmpfs/.cpan-build-cpansand/2016032418/File-Dropbox-0.6-27inUg/blib/lib/File/Dropbox.pm line 409.
when is experimental at /tmpfs/.cpan-build-cpansand/2016032418/File-Dropbox-0.6-27inUg/blib/lib/File/Dropbox.pm line 410.
when is experimental at /tmpfs/.cpan-build-cpansand/2016032418/File-Dropbox-0.6-27inUg/blib/lib/File/Dropbox.pm line 415.
when is experimental at /tmpfs/.cpan-build-cpansand/2016032418/File-Dropbox-0.6-27inUg/blib/lib/File/Dropbox.pm line 420.
when is experimental at /tmpfs/.cpan-build-cpansand/2016032418/File-Dropbox-0.6-27inUg/blib/lib/File/Dropbox.pm line 427.
when is experimental at /tmpfs/.cpan-build-cpansand/2016032418/File-Dropbox-0.6-27inUg/blib/lib/File/Dropbox.pm line 433.
when is experimental at /tmpfs/.cpan-build-cpansand/2016032418/File-Dropbox-0.6-27inUg/blib/lib/File/Dropbox.pm line 438.
given is experimental at /tmpfs/.cpan-build-cpansand/2016032418/File-Dropbox-0.6-27inUg/blib/lib/File/Dropbox.pm line 471.
when is experimental at /tmpfs/.cpan-build-cpansand/2016032418/File-Dropbox-0.6-27inUg/blib/lib/File/Dropbox.pm line 472.
when is experimental at /tmpfs/.cpan-build-cpansand/2016032418/File-Dropbox-0.6-27inUg/blib/lib/File/Dropbox.pm line 477.
when is experimental at /tmpfs/.cpan-build-cpansand/2016032418/File-Dropbox-0.6-27inUg/blib/lib/File/Dropbox.pm line 482.
when is experimental at /tmpfs/.cpan-build-cpansand/2016032418/File-Dropbox-0.6-27inUg/blib/lib/File/Dropbox.pm line 487.
when is experimental at /tmpfs/.cpan-build-cpansand/2016032418/File-Dropbox-0.6-27inUg/blib/lib/File/Dropbox.pm line 494.
when is experimental at /tmpfs/.cpan-build-cpansand/2016032418/File-Dropbox-0.6-27inUg/blib/lib/File/Dropbox.pm line 500.
when is experimental at /tmpfs/.cpan-build-cpansand/2016032418/File-Dropbox-0.6-27inUg/blib/lib/File/Dropbox.pm line 510.
given is experimental at /tmpfs/.cpan-build-cpansand/2016032418/File-Dropbox-0.6-27inUg/blib/lib/File/Dropbox.pm line 537.
when is experimental at /tmpfs/.cpan-build-cpansand/2016032418/File-Dropbox-0.6-27inUg/blib/lib/File/Dropbox.pm line 538.
given is experimental at /tmpfs/.cpan-build-cpansand/2016032418/File-Dropbox-0.6-27inUg/blib/lib/File/Dropbox.pm line 556.
when is experimental at /tmpfs/.cpan-build-cpansand/2016032418/File-Dropbox-0.6-27inUg/blib/lib/File/Dropbox.pm line 557.
when is experimental at /tmpfs/.cpan-build-cpansand/2016032418/File-Dropbox-0.6-27inUg/blib/lib/File/Dropbox.pm line 561.
when is experimental at /tmpfs/.cpan-build-cpansand/2016032418/File-Dropbox-0.6-27inUg/blib/lib/File/Dropbox.pm line 566.
when is experimental at /tmpfs/.cpan-build-cpansand/2016032418/File-Dropbox-0.6-27inUg/blib/lib/File/Dropbox.pm line 571.
when is experimental at /tmpfs/.cpan-build-cpansand/2016032418/File-Dropbox-0.6-27inUg/blib/lib/File/Dropbox.pm line 576.
when is experimental at /tmpfs/.cpan-build-cpansand/2016032418/File-Dropbox-0.6-27inUg/blib/lib/File/Dropbox.pm line 583.
given is experimental at /tmpfs/.cpan-build-cpansand/2016032418/File-Dropbox-0.6-27inUg/blib/lib/File/Dropbox.pm line 638.
when is experimental at /tmpfs/.cpan-build-cpansand/2016032418/File-Dropbox-0.6-27inUg/blib/lib/File/Dropbox.pm line 639.
when is experimental at /tmpfs/.cpan-build-cpansand/2016032418/File-Dropbox-0.6-27inUg/blib/lib/File/Dropbox.pm line 644.
when is experimental at /tmpfs/.cpan-build-cpansand/2016032418/File-Dropbox-0.6-27inUg/blib/lib/File/Dropbox.pm line 649.
when is experimental at /tmpfs/.cpan-build-cpansand/2016032418/File-Dropbox-0.6-27inUg/blib/lib/File/Dropbox.pm line 656.
when is experimental at /tmpfs/.cpan-build-cpansand/2016032418/File-Dropbox-0.6-27inUg/blib/lib/File/Dropbox.pm line 662.
when is experimental at /tmpfs/.cpan-build-cpansand/2016032418/File-Dropbox-0.6-27inUg/blib/lib/File/Dropbox.pm line 667.
t/06-putfile.t ....... skipped: DROPBOX_AUTH is not set or has wrong value
given is experimental at /tmpfs/.cpan-build-cpansand/2016032418/File-Dropbox-0.6-27inUg/blib/lib/File/Dropbox.pm line 93.
when is experimental at /tmpfs/.cpan-build-cpansand/2016032418/File-Dropbox-0.6-27inUg/blib/lib/File/Dropbox.pm line 94.
when is experimental at /tmpfs/.cpan-build-cpansand/2016032418/File-Dropbox-0.6-27inUg/blib/lib/File/Dropbox.pm line 96.
when is experimental at /tmpfs/.cpan-build-cpansand/2016032418/File-Dropbox-0.6-27inUg/blib/lib/File/Dropbox.pm line 101.
when is experimental at /tmpfs/.cpan-build-cpansand/2016032418/File-Dropbox-0.6-27inUg/blib/lib/File/Dropbox.pm line 108.
given is experimental at /tmpfs/.cpan-build-cpansand/2016032418/File-Dropbox-0.6-27inUg/blib/lib/File/Dropbox.pm line 216.
when is experimental at /tmpfs/.cpan-build-cpansand/2016032418/File-Dropbox-0.6-27inUg/blib/lib/File/Dropbox.pm line 217.
when is experimental at /tmpfs/.cpan-build-cpansand/2016032418/File-Dropbox-0.6-27inUg/blib/lib/File/Dropbox.pm line 221.
when is experimental at /tmpfs/.cpan-build-cpansand/2016032418/File-Dropbox-0.6-27inUg/blib/lib/File/Dropbox.pm line 225.
given is experimental at /tmpfs/.cpan-build-cpansand/2016032418/File-Dropbox-0.6-27inUg/blib/lib/File/Dropbox.pm line 307.
when is experimental at /tmpfs/.cpan-build-cpansand/2016032418/File-Dropbox-0.6-27inUg/blib/lib/File/Dropbox.pm line 308.
when is experimental at /tmpfs/.cpan-build-cpansand/2016032418/File-Dropbox-0.6-27inUg/blib/lib/File/Dropbox.pm line 310.
when is experimental at /tmpfs/.cpan-build-cpansand/2016032418/File-Dropbox-0.6-27inUg/blib/lib/File/Dropbox.pm line 314.
given is experimental at /tmpfs/.cpan-build-cpansand/2016032418/File-Dropbox-0.6-27inUg/blib/lib/File/Dropbox.pm line 409.
when is experimental at /tmpfs/.cpan-build-cpansand/2016032418/File-Dropbox-0.6-27inUg/blib/lib/File/Dropbox.pm line 410.
when is experimental at /tmpfs/.cpan-build-cpansand/2016032418/File-Dropbox-0.6-27inUg/blib/lib/File/Dropbox.pm line 415.
when is experimental at /tmpfs/.cpan-build-cpansand/2016032418/File-Dropbox-0.6-27inUg/blib/lib/File/Dropbox.pm line 420.
when is experimental at /tmpfs/.cpan-build-cpansand/2016032418/File-Dropbox-0.6-27inUg/blib/lib/File/Dropbox.pm line 427.
when is experimental at /tmpfs/.cpan-build-cpansand/2016032418/File-Dropbox-0.6-27inUg/blib/lib/File/Dropbox.pm line 433.
when is experimental at /tmpfs/.cpan-build-cpansand/2016032418/File-Dropbox-0.6-27inUg/blib/lib/File/Dropbox.pm line 438.
given is experimental at /tmpfs/.cpan-build-cpansand/2016032418/File-Dropbox-0.6-27inUg/blib/lib/File/Dropbox.pm line 471.
when is experimental at /tmpfs/.cpan-build-cpansand/2016032418/File-Dropbox-0.6-27inUg/blib/lib/File/Dropbox.pm line 472.
when is experimental at /tmpfs/.cpan-build-cpansand/2016032418/File-Dropbox-0.6-27inUg/blib/lib/File/Dropbox.pm line 477.
when is experimental at /tmpfs/.cpan-build-cpansand/2016032418/File-Dropbox-0.6-27inUg/blib/lib/File/Dropbox.pm line 482.
when is experimental at /tmpfs/.cpan-build-cpansand/2016032418/File-Dropbox-0.6-27inUg/blib/lib/File/Dropbox.pm line 487.
when is experimental at /tmpfs/.cpan-build-cpansand/2016032418/File-Dropbox-0.6-27inUg/blib/lib/File/Dropbox.pm line 494.
when is experimental at /tmpfs/.cpan-build-cpansand/2016032418/File-Dropbox-0.6-27inUg/blib/lib/File/Dropbox.pm line 500.
when is experimental at /tmpfs/.cpan-build-cpansand/2016032418/File-Dropbox-0.6-27inUg/blib/lib/File/Dropbox.pm line 510.
given is experimental at /tmpfs/.cpan-build-cpansand/2016032418/File-Dropbox-0.6-27inUg/blib/lib/File/Dropbox.pm line 537.
when is experimental at /tmpfs/.cpan-build-cpansand/2016032418/File-Dropbox-0.6-27inUg/blib/lib/File/Dropbox.pm line 538.
given is experimental at /tmpfs/.cpan-build-cpansand/2016032418/File-Dropbox-0.6-27inUg/blib/lib/File/Dropbox.pm line 556.
when is experimental at /tmpfs/.cpan-build-cpansand/2016032418/File-Dropbox-0.6-27inUg/blib/lib/File/Dropbox.pm line 557.
when is experimental at /tmpfs/.cpan-build-cpansand/2016032418/File-Dropbox-0.6-27inUg/blib/lib/File/Dropbox.pm line 561.
when is experimental at /tmpfs/.cpan-build-cpansand/2016032418/File-Dropbox-0.6-27inUg/blib/lib/File/Dropbox.pm line 566.
when is experimental at /tmpfs/.cpan-build-cpansand/2016032418/File-Dropbox-0.6-27inUg/blib/lib/File/Dropbox.pm line 571.
when is experimental at /tmpfs/.cpan-build-cpansand/2016032418/File-Dropbox-0.6-27inUg/blib/lib/File/Dropbox.pm line 576.
when is experimental at /tmpfs/.cpan-build-cpansand/2016032418/File-Dropbox-0.6-27inUg/blib/lib/File/Dropbox.pm line 583.
given is experimental at /tmpfs/.cpan-build-cpansand/2016032418/File-Dropbox-0.6-27inUg/blib/lib/File/Dropbox.pm line 638.
when is experimental at /tmpfs/.cpan-build-cpansand/2016032418/File-Dropbox-0.6-27inUg/blib/lib/File/Dropbox.pm line 639.
when is experimental at /tmpfs/.cpan-build-cpansand/2016032418/File-Dropbox-0.6-27inUg/blib/lib/File/Dropbox.pm line 644.
when is experimental at /tmpfs/.cpan-build-cpansand/2016032418/File-Dropbox-0.6-27inUg/blib/lib/File/Dropbox.pm line 649.
when is experimental at /tmpfs/.cpan-build-cpansand/2016032418/File-Dropbox-0.6-27inUg/blib/lib/File/Dropbox.pm line 656.
when is experimental at /tmpfs/.cpan-build-cpansand/2016032418/File-Dropbox-0.6-27inUg/blib/lib/File/Dropbox.pm line 662.
when is experimental at /tmpfs/.cpan-build-cpansand/2016032418/File-Dropbox-0.6-27inUg/blib/lib/File/Dropbox.pm line 667.
t/07-contents.t ...... skipped: DROPBOX_AUTH is not set or has wrong value
given is experimental at /tmpfs/.cpan-build-cpansand/2016032418/File-Dropbox-0.6-27inUg/blib/lib/File/Dropbox.pm line 93.
when is experimental at /tmpfs/.cpan-build-cpansand/2016032418/File-Dropbox-0.6-27inUg/blib/lib/File/Dropbox.pm line 94.
when is experimental at /tmpfs/.cpan-build-cpansand/2016032418/File-Dropbox-0.6-27inUg/blib/lib/File/Dropbox.pm line 96.
when is experimental at /tmpfs/.cpan-build-cpansand/2016032418/File-Dropbox-0.6-27inUg/blib/lib/File/Dropbox.pm line 101.
when is experimental at /tmpfs/.cpan-build-cpansand/2016032418/File-Dropbox-0.6-27inUg/blib/lib/File/Dropbox.pm line 108.
given is experimental at /tmpfs/.cpan-build-cpansand/2016032418/File-Dropbox-0.6-27inUg/blib/lib/File/Dropbox.pm line 216.
when is experimental at /tmpfs/.cpan-build-cpansand/2016032418/File-Dropbox-0.6-27inUg/blib/lib/File/Dropbox.pm line 217.
when is experimental at /tmpfs/.cpan-build-cpansand/2016032418/File-Dropbox-0.6-27inUg/blib/lib/File/Dropbox.pm line 221.
when is experimental at /tmpfs/.cpan-build-cpansand/2016032418/File-Dropbox-0.6-27inUg/blib/lib/File/Dropbox.pm line 225.
given is experimental at /tmpfs/.cpan-build-cpansand/2016032418/File-Dropbox-0.6-27inUg/blib/lib/File/Dropbox.pm line 307.
when is experimental at /tmpfs/.cpan-build-cpansand/2016032418/File-Dropbox-0.6-27inUg/blib/lib/File/Dropbox.pm line 308.
when is experimental at /tmpfs/.cpan-build-cpansand/2016032418/File-Dropbox-0.6-27inUg/blib/lib/File/Dropbox.pm line 310.
when is experimental at /tmpfs/.cpan-build-cpansand/2016032418/File-Dropbox-0.6-27inUg/blib/lib/File/Dropbox.pm line 314.
given is experimental at /tmpfs/.cpan-build-cpansand/2016032418/File-Dropbox-0.6-27inUg/blib/lib/File/Dropbox.pm line 409.
when is experimental at /tmpfs/.cpan-build-cpansand/2016032418/File-Dropbox-0.6-27inUg/blib/lib/File/Dropbox.pm line 410.
when is experimental at /tmpfs/.cpan-build-cpansand/2016032418/File-Dropbox-0.6-27inUg/blib/lib/File/Dropbox.pm line 415.
when is experimental at /tmpfs/.cpan-build-cpansand/2016032418/File-Dropbox-0.6-27inUg/blib/lib/File/Dropbox.pm line 420.
when is experimental at /tmpfs/.cpan-build-cpansand/2016032418/File-Dropbox-0.6-27inUg/blib/lib/File/Dropbox.pm line 427.
when is experimental at /tmpfs/.cpan-build-cpansand/2016032418/File-Dropbox-0.6-27inUg/blib/lib/File/Dropbox.pm line 433.
when is experimental at /tmpfs/.cpan-build-cpansand/2016032418/File-Dropbox-0.6-27inUg/blib/lib/File/Dropbox.pm line 438.
given is experimental at /tmpfs/.cpan-build-cpansand/2016032418/File-Dropbox-0.6-27inUg/blib/lib/File/Dropbox.pm line 471.
when is experimental at /tmpfs/.cpan-build-cpansand/2016032418/File-Dropbox-0.6-27inUg/blib/lib/File/Dropbox.pm line 472.
when is experimental at /tmpfs/.cpan-build-cpansand/2016032418/File-Dropbox-0.6-27inUg/blib/lib/File/Dropbox.pm line 477.
when is experimental at /tmpfs/.cpan-build-cpansand/2016032418/File-Dropbox-0.6-27inUg/blib/lib/File/Dropbox.pm line 482.
when is experimental at /tmpfs/.cpan-build-cpansand/2016032418/File-Dropbox-0.6-27inUg/blib/lib/File/Dropbox.pm line 487.
when is experimental at /tmpfs/.cpan-build-cpansand/2016032418/File-Dropbox-0.6-27inUg/blib/lib/File/Dropbox.pm line 494.
when is experimental at /tmpfs/.cpan-build-cpansand/2016032418/File-Dropbox-0.6-27inUg/blib/lib/File/Dropbox.pm line 500.
when is experimental at /tmpfs/.cpan-build-cpansand/2016032418/File-Dropbox-0.6-27inUg/blib/lib/File/Dropbox.pm line 510.
given is experimental at /tmpfs/.cpan-build-cpansand/2016032418/File-Dropbox-0.6-27inUg/blib/lib/File/Dropbox.pm line 537.
when is experimental at /tmpfs/.cpan-build-cpansand/2016032418/File-Dropbox-0.6-27inUg/blib/lib/File/Dropbox.pm line 538.
given is experimental at /tmpfs/.cpan-build-cpansand/2016032418/File-Dropbox-0.6-27inUg/blib/lib/File/Dropbox.pm line 556.
when is experimental at /tmpfs/.cpan-build-cpansand/2016032418/File-Dropbox-0.6-27inUg/blib/lib/File/Dropbox.pm line 557.
when is experimental at /tmpfs/.cpan-build-cpansand/2016032418/File-Dropbox-0.6-27inUg/blib/lib/File/Dropbox.pm line 561.
when is experimental at /tmpfs/.cpan-build-cpansand/2016032418/File-Dropbox-0.6-27inUg/blib/lib/File/Dropbox.pm line 566.
when is experimental at /tmpfs/.cpan-build-cpansand/2016032418/File-Dropbox-0.6-27inUg/blib/lib/File/Dropbox.pm line 571.
when is experimental at /tmpfs/.cpan-build-cpansand/2016032418/File-Dropbox-0.6-27inUg/blib/lib/File/Dropbox.pm line 576.
when is experimental at /tmpfs/.cpan-build-cpansand/2016032418/File-Dropbox-0.6-27inUg/blib/lib/File/Dropbox.pm line 583.
given is experimental at /tmpfs/.cpan-build-cpansand/2016032418/File-Dropbox-0.6-27inUg/blib/lib/File/Dropbox.pm line 638.
when is experimental at /tmpfs/.cpan-build-cpansand/2016032418/File-Dropbox-0.6-27inUg/blib/lib/File/Dropbox.pm line 639.
when is experimental at /tmpfs/.cpan-build-cpansand/2016032418/File-Dropbox-0.6-27inUg/blib/lib/File/Dropbox.pm line 644.
when is experimental at /tmpfs/.cpan-build-cpansand/2016032418/File-Dropbox-0.6-27inUg/blib/lib/File/Dropbox.pm line 649.
when is experimental at /tmpfs/.cpan-build-cpansand/2016032418/File-Dropbox-0.6-27inUg/blib/lib/File/Dropbox.pm line 656.
when is experimental at /tmpfs/.cpan-build-cpansand/2016032418/File-Dropbox-0.6-27inUg/blib/lib/File/Dropbox.pm line 662.
when is experimental at /tmpfs/.cpan-build-cpansand/2016032418/File-Dropbox-0.6-27inUg/blib/lib/File/Dropbox.pm line 667.
t/08-timeout.t ....... skipped: DROPBOX_AUTH is not set or has wrong value
given is experimental at /tmpfs/.cpan-build-cpansand/2016032418/File-Dropbox-0.6-27inUg/blib/lib/File/Dropbox.pm line 93.
when is experimental at /tmpfs/.cpan-build-cpansand/2016032418/File-Dropbox-0.6-27inUg/blib/lib/File/Dropbox.pm line 94.
when is experimental at /tmpfs/.cpan-build-cpansand/2016032418/File-Dropbox-0.6-27inUg/blib/lib/File/Dropbox.pm line 96.
when is experimental at /tmpfs/.cpan-build-cpansand/2016032418/File-Dropbox-0.6-27inUg/blib/lib/File/Dropbox.pm line 101.
when is experimental at /tmpfs/.cpan-build-cpansand/2016032418/File-Dropbox-0.6-27inUg/blib/lib/File/Dropbox.pm line 108.
given is experimental at /tmpfs/.cpan-build-cpansand/2016032418/File-Dropbox-0.6-27inUg/blib/lib/File/Dropbox.pm line 216.
when is experimental at /tmpfs/.cpan-build-cpansand/2016032418/File-Dropbox-0.6-27inUg/blib/lib/File/Dropbox.pm line 217.
when is experimental at /tmpfs/.cpan-build-cpansand/2016032418/File-Dropbox-0.6-27inUg/blib/lib/File/Dropbox.pm line 221.
when is experimental at /tmpfs/.cpan-build-cpansand/2016032418/File-Dropbox-0.6-27inUg/blib/lib/File/Dropbox.pm line 225.
given is experimental at /tmpfs/.cpan-build-cpansand/2016032418/File-Dropbox-0.6-27inUg/blib/lib/File/Dropbox.pm line 307.
when is experimental at /tmpfs/.cpan-build-cpansand/2016032418/File-Dropbox-0.6-27inUg/blib/lib/File/Dropbox.pm line 308.
when is experimental at /tmpfs/.cpan-build-cpansand/2016032418/File-Dropbox-0.6-27inUg/blib/lib/File/Dropbox.pm line 310.
when is experimental at /tmpfs/.cpan-build-cpansand/2016032418/File-Dropbox-0.6-27inUg/blib/lib/File/Dropbox.pm line 314.
given is experimental at /tmpfs/.cpan-build-cpansand/2016032418/File-Dropbox-0.6-27inUg/blib/lib/File/Dropbox.pm line 409.
when is experimental at /tmpfs/.cpan-build-cpansand/2016032418/File-Dropbox-0.6-27inUg/blib/lib/File/Dropbox.pm line 410.
when is experimental at /tmpfs/.cpan-build-cpansand/2016032418/File-Dropbox-0.6-27inUg/blib/lib/File/Dropbox.pm line 415.
when is experimental at /tmpfs/.cpan-build-cpansand/2016032418/File-Dropbox-0.6-27inUg/blib/lib/File/Dropbox.pm line 420.
when is experimental at /tmpfs/.cpan-build-cpansand/2016032418/File-Dropbox-0.6-27inUg/blib/lib/File/Dropbox.pm line 427.
when is experimental at /tmpfs/.cpan-build-cpansand/2016032418/File-Dropbox-0.6-27inUg/blib/lib/File/Dropbox.pm line 433.
when is experimental at /tmpfs/.cpan-build-cpansand/2016032418/File-Dropbox-0.6-27inUg/blib/lib/File/Dropbox.pm line 438.
given is experimental at /tmpfs/.cpan-build-cpansand/2016032418/File-Dropbox-0.6-27inUg/blib/lib/File/Dropbox.pm line 471.
when is experimental at /tmpfs/.cpan-build-cpansand/2016032418/File-Dropbox-0.6-27inUg/blib/lib/File/Dropbox.pm line 472.
when is experimental at /tmpfs/.cpan-build-cpansand/2016032418/File-Dropbox-0.6-27inUg/blib/lib/File/Dropbox.pm line 477.
when is experimental at /tmpfs/.cpan-build-cpansand/2016032418/File-Dropbox-0.6-27inUg/blib/lib/File/Dropbox.pm line 482.
when is experimental at /tmpfs/.cpan-build-cpansand/2016032418/File-Dropbox-0.6-27inUg/blib/lib/File/Dropbox.pm line 487.
when is experimental at /tmpfs/.cpan-build-cpansand/2016032418/File-Dropbox-0.6-27inUg/blib/lib/File/Dropbox.pm line 494.
when is experimental at /tmpfs/.cpan-build-cpansand/2016032418/File-Dropbox-0.6-27inUg/blib/lib/File/Dropbox.pm line 500.
when is experimental at /tmpfs/.cpan-build-cpansand/2016032418/File-Dropbox-0.6-27inUg/blib/lib/File/Dropbox.pm line 510.
given is experimental at /tmpfs/.cpan-build-cpansand/2016032418/File-Dropbox-0.6-27inUg/blib/lib/File/Dropbox.pm line 537.
when is experimental at /tmpfs/.cpan-build-cpansand/2016032418/File-Dropbox-0.6-27inUg/blib/lib/File/Dropbox.pm line 538.
given is experimental at /tmpfs/.cpan-build-cpansand/2016032418/File-Dropbox-0.6-27inUg/blib/lib/File/Dropbox.pm line 556.
when is experimental at /tmpfs/.cpan-build-cpansand/2016032418/File-Dropbox-0.6-27inUg/blib/lib/File/Dropbox.pm line 557.
when is experimental at /tmpfs/.cpan-build-cpansand/2016032418/File-Dropbox-0.6-27inUg/blib/lib/File/Dropbox.pm line 561.
when is experimental at /tmpfs/.cpan-build-cpansand/2016032418/File-Dropbox-0.6-27inUg/blib/lib/File/Dropbox.pm line 566.
when is experimental at /tmpfs/.cpan-build-cpansand/2016032418/File-Dropbox-0.6-27inUg/blib/lib/File/Dropbox.pm line 571.
when is experimental at /tmpfs/.cpan-build-cpansand/2016032418/File-Dropbox-0.6-27inUg/blib/lib/File/Dropbox.pm line 576.
when is experimental at /tmpfs/.cpan-build-cpansand/2016032418/File-Dropbox-0.6-27inUg/blib/lib/File/Dropbox.pm line 583.
given is experimental at /tmpfs/.cpan-build-cpansand/2016032418/File-Dropbox-0.6-27inUg/blib/lib/File/Dropbox.pm line 638.
when is experimental at /tmpfs/.cpan-build-cpansand/2016032418/File-Dropbox-0.6-27inUg/blib/lib/File/Dropbox.pm line 639.
when is experimental at /tmpfs/.cpan-build-cpansand/2016032418/File-Dropbox-0.6-27inUg/blib/lib/File/Dropbox.pm line 644.
when is experimental at /tmpfs/.cpan-build-cpansand/2016032418/File-Dropbox-0.6-27inUg/blib/lib/File/Dropbox.pm line 649.
when is experimental at /tmpfs/.cpan-build-cpansand/2016032418/File-Dropbox-0.6-27inUg/blib/lib/File/Dropbox.pm line 656.
when is experimental at /tmpfs/.cpan-build-cpansand/2016032418/File-Dropbox-0.6-27inUg/blib/lib/File/Dropbox.pm line 662.
when is experimental at /tmpfs/.cpan-build-cpansand/2016032418/File-Dropbox-0.6-27inUg/blib/lib/File/Dropbox.pm line 667.
t/09-movefile.t ...... skipped: DROPBOX_AUTH is not set or has wrong value
given is experimental at /tmpfs/.cpan-build-cpansand/2016032418/File-Dropbox-0.6-27inUg/blib/lib/File/Dropbox.pm line 93.
when is experimental at /tmpfs/.cpan-build-cpansand/2016032418/File-Dropbox-0.6-27inUg/blib/lib/File/Dropbox.pm line 94.
when is experimental at /tmpfs/.cpan-build-cpansand/2016032418/File-Dropbox-0.6-27inUg/blib/lib/File/Dropbox.pm line 96.
when is experimental at /tmpfs/.cpan-build-cpansand/2016032418/File-Dropbox-0.6-27inUg/blib/lib/File/Dropbox.pm line 101.
when is experimental at /tmpfs/.cpan-build-cpansand/2016032418/File-Dropbox-0.6-27inUg/blib/lib/File/Dropbox.pm line 108.
given is experimental at /tmpfs/.cpan-build-cpansand/2016032418/File-Dropbox-0.6-27inUg/blib/lib/File/Dropbox.pm line 216.
when is experimental at /tmpfs/.cpan-build-cpansand/2016032418/File-Dropbox-0.6-27inUg/blib/lib/File/Dropbox.pm line 217.
when is experimental at /tmpfs/.cpan-build-cpansand/2016032418/File-Dropbox-0.6-27inUg/blib/lib/File/Dropbox.pm line 221.
when is experimental at /tmpfs/.cpan-build-cpansand/2016032418/File-Dropbox-0.6-27inUg/blib/lib/File/Dropbox.pm line 225.
given is experimental at /tmpfs/.cpan-build-cpansand/2016032418/File-Dropbox-0.6-27inUg/blib/lib/File/Dropbox.pm line 307.
when is experimental at /tmpfs/.cpan-build-cpansand/2016032418/File-Dropbox-0.6-27inUg/blib/lib/File/Dropbox.pm line 308.
when is experimental at /tmpfs/.cpan-build-cpansand/2016032418/File-Dropbox-0.6-27inUg/blib/lib/File/Dropbox.pm line 310.
when is experimental at /tmpfs/.cpan-build-cpansand/2016032418/File-Dropbox-0.6-27inUg/blib/lib/File/Dropbox.pm line 314.
given is experimental at /tmpfs/.cpan-build-cpansand/2016032418/File-Dropbox-0.6-27inUg/blib/lib/File/Dropbox.pm line 409.
when is experimental at /tmpfs/.cpan-build-cpansand/2016032418/File-Dropbox-0.6-27inUg/blib/lib/File/Dropbox.pm line 410.
when is experimental at /tmpfs/.cpan-build-cpansand/2016032418/File-Dropbox-0.6-27inUg/blib/lib/File/Dropbox.pm line 415.
when is experimental at /tmpfs/.cpan-build-cpansand/2016032418/File-Dropbox-0.6-27inUg/blib/lib/File/Dropbox.pm line 420.
when is experimental at /tmpfs/.cpan-build-cpansand/2016032418/File-Dropbox-0.6-27inUg/blib/lib/File/Dropbox.pm line 427.
when is experimental at /tmpfs/.cpan-build-cpansand/2016032418/File-Dropbox-0.6-27inUg/blib/lib/File/Dropbox.pm line 433.
when is experimental at /tmpfs/.cpan-build-cpansand/2016032418/File-Dropbox-0.6-27inUg/blib/lib/File/Dropbox.pm line 438.
given is experimental at /tmpfs/.cpan-build-cpansand/2016032418/File-Dropbox-0.6-27inUg/blib/lib/File/Dropbox.pm line 471.
when is experimental at /tmpfs/.cpan-build-cpansand/2016032418/File-Dropbox-0.6-27inUg/blib/lib/File/Dropbox.pm line 472.
when is experimental at /tmpfs/.cpan-build-cpansand/2016032418/File-Dropbox-0.6-27inUg/blib/lib/File/Dropbox.pm line 477.
when is experimental at /tmpfs/.cpan-build-cpansand/2016032418/File-Dropbox-0.6-27inUg/blib/lib/File/Dropbox.pm line 482.
when is experimental at /tmpfs/.cpan-build-cpansand/2016032418/File-Dropbox-0.6-27inUg/blib/lib/File/Dropbox.pm line 487.
when is experimental at /tmpfs/.cpan-build-cpansand/2016032418/File-Dropbox-0.6-27inUg/blib/lib/File/Dropbox.pm line 494.
when is experimental at /tmpfs/.cpan-build-cpansand/2016032418/File-Dropbox-0.6-27inUg/blib/lib/File/Dropbox.pm line 500.
when is experimental at /tmpfs/.cpan-build-cpansand/2016032418/File-Dropbox-0.6-27inUg/blib/lib/File/Dropbox.pm line 510.
given is experimental at /tmpfs/.cpan-build-cpansand/2016032418/File-Dropbox-0.6-27inUg/blib/lib/File/Dropbox.pm line 537.
when is experimental at /tmpfs/.cpan-build-cpansand/2016032418/File-Dropbox-0.6-27inUg/blib/lib/File/Dropbox.pm line 538.
given is experimental at /tmpfs/.cpan-build-cpansand/2016032418/File-Dropbox-0.6-27inUg/blib/lib/File/Dropbox.pm line 556.
when is experimental at /tmpfs/.cpan-build-cpansand/2016032418/File-Dropbox-0.6-27inUg/blib/lib/File/Dropbox.pm line 557.
when is experimental at /tmpfs/.cpan-build-cpansand/2016032418/File-Dropbox-0.6-27inUg/blib/lib/File/Dropbox.pm line 561.
when is experimental at /tmpfs/.cpan-build-cpansand/2016032418/File-Dropbox-0.6-27inUg/blib/lib/File/Dropbox.pm line 566.
when is experimental at /tmpfs/.cpan-build-cpansand/2016032418/File-Dropbox-0.6-27inUg/blib/lib/File/Dropbox.pm line 571.
when is experimental at /tmpfs/.cpan-build-cpansand/2016032418/File-Dropbox-0.6-27inUg/blib/lib/File/Dropbox.pm line 576.
when is experimental at /tmpfs/.cpan-build-cpansand/2016032418/File-Dropbox-0.6-27inUg/blib/lib/File/Dropbox.pm line 583.
given is experimental at /tmpfs/.cpan-build-cpansand/2016032418/File-Dropbox-0.6-27inUg/blib/lib/File/Dropbox.pm line 638.
when is experimental at /tmpfs/.cpan-build-cpansand/2016032418/File-Dropbox-0.6-27inUg/blib/lib/File/Dropbox.pm line 639.
when is experimental at /tmpfs/.cpan-build-cpansand/2016032418/File-Dropbox-0.6-27inUg/blib/lib/File/Dropbox.pm line 644.
when is experimental at /tmpfs/.cpan-build-cpansand/2016032418/File-Dropbox-0.6-27inUg/blib/lib/File/Dropbox.pm line 649.
when is experimental at /tmpfs/.cpan-build-cpansand/2016032418/File-Dropbox-0.6-27inUg/blib/lib/File/Dropbox.pm line 656.
when is experimental at /tmpfs/.cpan-build-cpansand/2016032418/File-Dropbox-0.6-27inUg/blib/lib/File/Dropbox.pm line 662.
when is experimental at /tmpfs/.cpan-build-cpansand/2016032418/File-Dropbox-0.6-27inUg/blib/lib/File/Dropbox.pm line 667.
t/10-copyfile.t ...... skipped: DROPBOX_AUTH is not set or has wrong value
given is experimental at /tmpfs/.cpan-build-cpansand/2016032418/File-Dropbox-0.6-27inUg/blib/lib/File/Dropbox.pm line 93.
when is experimental at /tmpfs/.cpan-build-cpansand/2016032418/File-Dropbox-0.6-27inUg/blib/lib/File/Dropbox.pm line 94.
when is experimental at /tmpfs/.cpan-build-cpansand/2016032418/File-Dropbox-0.6-27inUg/blib/lib/File/Dropbox.pm line 96.
when is experimental at /tmpfs/.cpan-build-cpansand/2016032418/File-Dropbox-0.6-27inUg/blib/lib/File/Dropbox.pm line 101.
when is experimental at /tmpfs/.cpan-build-cpansand/2016032418/File-Dropbox-0.6-27inUg/blib/lib/File/Dropbox.pm line 108.
given is experimental at /tmpfs/.cpan-build-cpansand/2016032418/File-Dropbox-0.6-27inUg/blib/lib/File/Dropbox.pm line 216.
when is experimental at /tmpfs/.cpan-build-cpansand/2016032418/File-Dropbox-0.6-27inUg/blib/lib/File/Dropbox.pm line 217.
when is experimental at /tmpfs/.cpan-build-cpansand/2016032418/File-Dropbox-0.6-27inUg/blib/lib/File/Dropbox.pm line 221.
when is experimental at /tmpfs/.cpan-build-cpansand/2016032418/File-Dropbox-0.6-27inUg/blib/lib/File/Dropbox.pm line 225.
given is experimental at /tmpfs/.cpan-build-cpansand/2016032418/File-Dropbox-0.6-27inUg/blib/lib/File/Dropbox.pm line 307.
when is experimental at /tmpfs/.cpan-build-cpansand/2016032418/File-Dropbox-0.6-27inUg/blib/lib/File/Dropbox.pm line 308.
when is experimental at /tmpfs/.cpan-build-cpansand/2016032418/File-Dropbox-0.6-27inUg/blib/lib/File/Dropbox.pm line 310.
when is experimental at /tmpfs/.cpan-build-cpansand/2016032418/File-Dropbox-0.6-27inUg/blib/lib/File/Dropbox.pm line 314.
given is experimental at /tmpfs/.cpan-build-cpansand/2016032418/File-Dropbox-0.6-27inUg/blib/lib/File/Dropbox.pm line 409.
when is experimental at /tmpfs/.cpan-build-cpansand/2016032418/File-Dropbox-0.6-27inUg/blib/lib/File/Dropbox.pm line 410.
when is experimental at /tmpfs/.cpan-build-cpansand/2016032418/File-Dropbox-0.6-27inUg/blib/lib/File/Dropbox.pm line 415.
when is experimental at /tmpfs/.cpan-build-cpansand/2016032418/File-Dropbox-0.6-27inUg/blib/lib/File/Dropbox.pm line 420.
when is experimental at /tmpfs/.cpan-build-cpansand/2016032418/File-Dropbox-0.6-27inUg/blib/lib/File/Dropbox.pm line 427.
when is experimental at /tmpfs/.cpan-build-cpansand/2016032418/File-Dropbox-0.6-27inUg/blib/lib/File/Dropbox.pm line 433.
when is experimental at /tmpfs/.cpan-build-cpansand/2016032418/File-Dropbox-0.6-27inUg/blib/lib/File/Dropbox.pm line 438.
given is experimental at /tmpfs/.cpan-build-cpansand/2016032418/File-Dropbox-0.6-27inUg/blib/lib/File/Dropbox.pm line 471.
when is experimental at /tmpfs/.cpan-build-cpansand/2016032418/File-Dropbox-0.6-27inUg/blib/lib/File/Dropbox.pm line 472.
when is experimental at /tmpfs/.cpan-build-cpansand/2016032418/File-Dropbox-0.6-27inUg/blib/lib/File/Dropbox.pm line 477.
when is experimental at /tmpfs/.cpan-build-cpansand/2016032418/File-Dropbox-0.6-27inUg/blib/lib/File/Dropbox.pm line 482.
when is experimental at /tmpfs/.cpan-build-cpansand/2016032418/File-Dropbox-0.6-27inUg/blib/lib/File/Dropbox.pm line 487.
when is experimental at /tmpfs/.cpan-build-cpansand/2016032418/File-Dropbox-0.6-27inUg/blib/lib/File/Dropbox.pm line 494.
when is experimental at /tmpfs/.cpan-build-cpansand/2016032418/File-Dropbox-0.6-27inUg/blib/lib/File/Dropbox.pm line 500.
when is experimental at /tmpfs/.cpan-build-cpansand/2016032418/File-Dropbox-0.6-27inUg/blib/lib/File/Dropbox.pm line 510.
given is experimental at /tmpfs/.cpan-build-cpansand/2016032418/File-Dropbox-0.6-27inUg/blib/lib/File/Dropbox.pm line 537.
when is experimental at /tmpfs/.cpan-build-cpansand/2016032418/File-Dropbox-0.6-27inUg/blib/lib/File/Dropbox.pm line 538.
given is experimental at /tmpfs/.cpan-build-cpansand/2016032418/File-Dropbox-0.6-27inUg/blib/lib/File/Dropbox.pm line 556.
when is experimental at /tmpfs/.cpan-build-cpansand/2016032418/File-Dropbox-0.6-27inUg/blib/lib/File/Dropbox.pm line 557.
when is experimental at /tmpfs/.cpan-build-cpansand/2016032418/File-Dropbox-0.6-27inUg/blib/lib/File/Dropbox.pm line 561.
when is experimental at /tmpfs/.cpan-build-cpansand/2016032418/File-Dropbox-0.6-27inUg/blib/lib/File/Dropbox.pm line 566.
when is experimental at /tmpfs/.cpan-build-cpansand/2016032418/File-Dropbox-0.6-27inUg/blib/lib/File/Dropbox.pm line 571.
when is experimental at /tmpfs/.cpan-build-cpansand/2016032418/File-Dropbox-0.6-27inUg/blib/lib/File/Dropbox.pm line 576.
when is experimental at /tmpfs/.cpan-build-cpansand/2016032418/File-Dropbox-0.6-27inUg/blib/lib/File/Dropbox.pm line 583.
given is experimental at /tmpfs/.cpan-build-cpansand/2016032418/File-Dropbox-0.6-27inUg/blib/lib/File/Dropbox.pm line 638.
when is experimental at /tmpfs/.cpan-build-cpansand/2016032418/File-Dropbox-0.6-27inUg/blib/lib/File/Dropbox.pm line 639.
when is experimental at /tmpfs/.cpan-build-cpansand/2016032418/File-Dropbox-0.6-27inUg/blib/lib/File/Dropbox.pm line 644.
when is experimental at /tmpfs/.cpan-build-cpansand/2016032418/File-Dropbox-0.6-27inUg/blib/lib/File/Dropbox.pm line 649.
when is experimental at /tmpfs/.cpan-build-cpansand/2016032418/File-Dropbox-0.6-27inUg/blib/lib/File/Dropbox.pm line 656.
when is experimental at /tmpfs/.cpan-build-cpansand/2016032418/File-Dropbox-0.6-27inUg/blib/lib/File/Dropbox.pm line 662.
when is experimental at /tmpfs/.cpan-build-cpansand/2016032418/File-Dropbox-0.6-27inUg/blib/lib/File/Dropbox.pm line 667.
t/11-createfolder.t .. skipped: DROPBOX_AUTH is not set or has wrong value
given is experimental at /tmpfs/.cpan-build-cpansand/2016032418/File-Dropbox-0.6-27inUg/blib/lib/File/Dropbox.pm line 93.
when is experimental at /tmpfs/.cpan-build-cpansand/2016032418/File-Dropbox-0.6-27inUg/blib/lib/File/Dropbox.pm line 94.
when is experimental at /tmpfs/.cpan-build-cpansand/2016032418/File-Dropbox-0.6-27inUg/blib/lib/File/Dropbox.pm line 96.
when is experimental at /tmpfs/.cpan-build-cpansand/2016032418/File-Dropbox-0.6-27inUg/blib/lib/File/Dropbox.pm line 101.
when is experimental at /tmpfs/.cpan-build-cpansand/2016032418/File-Dropbox-0.6-27inUg/blib/lib/File/Dropbox.pm line 108.
given is experimental at /tmpfs/.cpan-build-cpansand/2016032418/File-Dropbox-0.6-27inUg/blib/lib/File/Dropbox.pm line 216.
when is experimental at /tmpfs/.cpan-build-cpansand/2016032418/File-Dropbox-0.6-27inUg/blib/lib/File/Dropbox.pm line 217.
when is experimental at /tmpfs/.cpan-build-cpansand/2016032418/File-Dropbox-0.6-27inUg/blib/lib/File/Dropbox.pm line 221.
when is experimental at /tmpfs/.cpan-build-cpansand/2016032418/File-Dropbox-0.6-27inUg/blib/lib/File/Dropbox.pm line 225.
given is experimental at /tmpfs/.cpan-build-cpansand/2016032418/File-Dropbox-0.6-27inUg/blib/lib/File/Dropbox.pm line 307.
when is experimental at /tmpfs/.cpan-build-cpansand/2016032418/File-Dropbox-0.6-27inUg/blib/lib/File/Dropbox.pm line 308.
when is experimental at /tmpfs/.cpan-build-cpansand/2016032418/File-Dropbox-0.6-27inUg/blib/lib/File/Dropbox.pm line 310.
when is experimental at /tmpfs/.cpan-build-cpansand/2016032418/File-Dropbox-0.6-27inUg/blib/lib/File/Dropbox.pm line 314.
given is experimental at /tmpfs/.cpan-build-cpansand/2016032418/File-Dropbox-0.6-27inUg/blib/lib/File/Dropbox.pm line 409.
when is experimental at /tmpfs/.cpan-build-cpansand/2016032418/File-Dropbox-0.6-27inUg/blib/lib/File/Dropbox.pm line 410.
when is experimental at /tmpfs/.cpan-build-cpansand/2016032418/File-Dropbox-0.6-27inUg/blib/lib/File/Dropbox.pm line 415.
when is experimental at /tmpfs/.cpan-build-cpansand/2016032418/File-Dropbox-0.6-27inUg/blib/lib/File/Dropbox.pm line 420.
when is experimental at /tmpfs/.cpan-build-cpansand/2016032418/File-Dropbox-0.6-27inUg/blib/lib/File/Dropbox.pm line 427.
when is experimental at /tmpfs/.cpan-build-cpansand/2016032418/File-Dropbox-0.6-27inUg/blib/lib/File/Dropbox.pm line 433.
when is experimental at /tmpfs/.cpan-build-cpansand/2016032418/File-Dropbox-0.6-27inUg/blib/lib/File/Dropbox.pm line 438.
given is experimental at /tmpfs/.cpan-build-cpansand/2016032418/File-Dropbox-0.6-27inUg/blib/lib/File/Dropbox.pm line 471.
when is experimental at /tmpfs/.cpan-build-cpansand/2016032418/File-Dropbox-0.6-27inUg/blib/lib/File/Dropbox.pm line 472.
when is experimental at /tmpfs/.cpan-build-cpansand/2016032418/File-Dropbox-0.6-27inUg/blib/lib/File/Dropbox.pm line 477.
when is experimental at /tmpfs/.cpan-build-cpansand/2016032418/File-Dropbox-0.6-27inUg/blib/lib/File/Dropbox.pm line 482.
when is experimental at /tmpfs/.cpan-build-cpansand/2016032418/File-Dropbox-0.6-27inUg/blib/lib/File/Dropbox.pm line 487.
when is experimental at /tmpfs/.cpan-build-cpansand/2016032418/File-Dropbox-0.6-27inUg/blib/lib/File/Dropbox.pm line 494.
when is experimental at /tmpfs/.cpan-build-cpansand/2016032418/File-Dropbox-0.6-27inUg/blib/lib/File/Dropbox.pm line 500.
when is experimental at /tmpfs/.cpan-build-cpansand/2016032418/File-Dropbox-0.6-27inUg/blib/lib/File/Dropbox.pm line 510.
given is experimental at /tmpfs/.cpan-build-cpansand/2016032418/File-Dropbox-0.6-27inUg/blib/lib/File/Dropbox.pm line 537.
when is experimental at /tmpfs/.cpan-build-cpansand/2016032418/File-Dropbox-0.6-27inUg/blib/lib/File/Dropbox.pm line 538.
given is experimental at /tmpfs/.cpan-build-cpansand/2016032418/File-Dropbox-0.6-27inUg/blib/lib/File/Dropbox.pm line 556.
when is experimental at /tmpfs/.cpan-build-cpansand/2016032418/File-Dropbox-0.6-27inUg/blib/lib/File/Dropbox.pm line 557.
when is experimental at /tmpfs/.cpan-build-cpansand/2016032418/File-Dropbox-0.6-27inUg/blib/lib/File/Dropbox.pm line 561.
when is experimental at /tmpfs/.cpan-build-cpansand/2016032418/File-Dropbox-0.6-27inUg/blib/lib/File/Dropbox.pm line 566.
when is experimental at /tmpfs/.cpan-build-cpansand/2016032418/File-Dropbox-0.6-27inUg/blib/lib/File/Dropbox.pm line 571.
when is experimental at /tmpfs/.cpan-build-cpansand/2016032418/File-Dropbox-0.6-27inUg/blib/lib/File/Dropbox.pm line 576.
when is experimental at /tmpfs/.cpan-build-cpansand/2016032418/File-Dropbox-0.6-27inUg/blib/lib/File/Dropbox.pm line 583.
given is experimental at /tmpfs/.cpan-build-cpansand/2016032418/File-Dropbox-0.6-27inUg/blib/lib/File/Dropbox.pm line 638.
when is experimental at /tmpfs/.cpan-build-cpansand/2016032418/File-Dropbox-0.6-27inUg/blib/lib/File/Dropbox.pm line 639.
when is experimental at /tmpfs/.cpan-build-cpansand/2016032418/File-Dropbox-0.6-27inUg/blib/lib/File/Dropbox.pm line 644.
when is experimental at /tmpfs/.cpan-build-cpansand/2016032418/File-Dropbox-0.6-27inUg/blib/lib/File/Dropbox.pm line 649.
when is experimental at /tmpfs/.cpan-build-cpansand/2016032418/File-Dropbox-0.6-27inUg/blib/lib/File/Dropbox.pm line 656.
when is experimental at /tmpfs/.cpan-build-cpansand/2016032418/File-Dropbox-0.6-27inUg/blib/lib/File/Dropbox.pm line 662.
when is experimental at /tmpfs/.cpan-build-cpansand/2016032418/File-Dropbox-0.6-27inUg/blib/lib/File/Dropbox.pm line 667.
t/99-clean.t ......... skipped: DROPBOX_AUTH is not set or has wrong value
All tests successful.
Files=12, Tests=20, 10 wallclock secs ( 0.17 usr  0.26 sys +  2.85 cusr  2.13 csys =  5.41 CPU)
Result: PASS

------------------------------
PREREQUISITES
------------------------------

Prerequisite modules loaded:

requires:

    Module          Need Have  
    --------------- ---- ------
    Furl            2.16 3.08  
    IO::Socket::SSL 1.4  2.024 
    JSON            2.0  2.90  
    Net::DNS::Lite  0.1  0.12  

configure_requires:

    Module          Need Have  
    --------------- ---- ------
    Module::Build   0.40 0.4216


------------------------------
ENVIRONMENT AND OTHER CONTEXT
------------------------------

Environment variables:

    LANG = C
    LC_ALL = de_DE.UTF-8
    PATH = /usr/local/bin:/usr/bin:/bin:/usr/local/sbin:/usr/sbin:/sbin:/home/cpansand/bin/linux-gnu:/home/cpansand/bin/sh:/home/cpansand/bin:/home/cpansand/bin/pistachio-perl/bin:/usr/games:/home/cpansand/devel:/home/eserte/src/srezic-misc/scripts
    PERL5LIB = /home/cpansand/.cpan/build/2016032418/Escape-Houdini-0.2.1-kfqoFW/blib/arch:/home/cpansand/.cpan/build/2016032418/Escape-Houdini-0.2.1-kfqoFW/blib/lib:/home/cpansand/.cpan/build/2016032418/Data-Lotter-0.00004-b3YI5t/blib/arch:/home/cpansand/.cpan/build/2016032418/Data-Lotter-0.00004-b3YI5t/blib/lib:/home/cpansand/.cpan/build/2016032418/Crypt-Lucifer-0.1-aOzpwc/blib/arch:/home/cpansand/.cpan/build/2016032418/Crypt-Lucifer-0.1-aOzpwc/blib/lib:/home/cpansand/.cpan/build/2016032418/Country-Codes-UdLcMH/blib/arch:/home/cpansand/.cpan/build/2016032418/Country-Codes-UdLcMH/blib/lib:/home/cpansand/.cpan/build/2016032418/Acme-require-case-0.012-bn40be/blib/arch:/home/cpansand/.cpan/build/2016032418/Acme-require-case-0.012-bn40be/blib/lib:/home/cpansand/.cpan/build/2016032418/AWS-SQS-Simple-0.02-xZw7Lo/blib/arch:/home/cpansand/.cpan/build/2016032418/AWS-SQS-Simple-0.02-xZw7Lo/blib/lib:/home/cpansand/.cpan/build/2016032418/WebService-Beeminder-0.003-0c92sT/blib/arch:/home/cpansand/.cpan/build/2016032418/WebService-Beeminder-0.003-0c92sT/blib/lib:/home/cpansand/.cpan/build/2016032418/Test-NoXS-1.03-CfGRem/blib/arch:/home/cpansand/.cpan/build/2016032418/Test-NoXS-1.03-CfGRem/blib/lib:/home/cpansand/.cpan/build/2016032418/Querylet-Output-Excel-XLS-0.134-arR_oF/blib/arch:/home/cpansand/.cpan/build/2016032418/Querylet-Output-Excel-XLS-0.134-arR_oF/blib/lib:/home/cpansand/.cpan/build/2016032418/Querylet-0.401-4nkLK1/blib/arch:/home/cpansand/.cpan/build/2016032418/Querylet-0.401-4nkLK1/blib/lib:/home/cpansand/.cpan/build/2016032418/Plack-Session-Store-Transparent-0.03-H8_rrO/blib/arch:/home/cpansand/.cpan/build/2016032418/Plack-Session-Store-Transparent-0.03-H8_rrO/blib/lib:/home/cpansand/.cpan/build/2016032418/POE-Filter-KennySpeak-1.02-L_i7UH/blib/arch:/home/cpansand/.cpan/build/2016032418/POE-Filter-KennySpeak-1.02-L_i7UH/blib/lib:/home/cpansand/.cpan/build/2016032418/POE-Component-Bundle-WebDevelopment-1.001004-QjPkkP/blib/arch:/home/cpansand/.cpan/build/2016032418/POE-Component-Bundle-WebDevelopment-1.001004-QjPkkP/blib/lib:/home/cpansand/.cpan/build/2016032418/App-PNGCrush-0.002-uJ4cTn/blib/arch:/home/cpansand/.cpan/build/2016032418/App-PNGCrush-0.002-uJ4cTn/blib/lib:/home/cpansand/.cpan/build/2016032418/Proc-Reliable-1.16-esV6gQ/blib/arch:/home/cpansand/.cpan/build/2016032418/Proc-Reliable-1.16-esV6gQ/blib/lib:/home/cpansand/.cpan/build/2016032418/WebService-Validator-HTML-W3C-0.28-f_lHe7/blib/arch:/home/cpansand/.cpan/build/2016032418/WebService-Validator-HTML-W3C-0.28-f_lHe7/blib/lib:/home/cpansand/.cpan/build/2016032418/WebService-HtmlKitCom-FavIconFromImage-1.001001-1nJ0M2/blib/arch:/home/cpansand/.cpan/build/2016032418/WebService-HtmlKitCom-FavIconFromImage-1.001001-1nJ0M2/blib/lib:/home/cpansand/.cpan/build/2016032418/WWW-WebDevout-BrowserSupportInfo-0.0103-0qNptn/blib/arch:/home/cpansand/.cpan/build/2016032418/WWW-WebDevout-BrowserSupportInfo-0.0103-0qNptn/blib/lib:/home/cpansand/.cpan/build/2016032418/POE-Component-NonBlockingWrapper-Base-1.001002-sEti6Q/blib/arch:/home/cpansand/.cpan/build/2016032418/POE-Component-NonBlockingWrapper-Base-1.001002-sEti6Q/blib/lib:/home/cpansand/.cpan/build/2016032418/WWW-Alexa-TrafficRank-1.10-6uuWQx/blib/arch:/home/cpansand/.cpan/build/2016032418/WWW-Alexa-TrafficRank-1.10-6uuWQx/blib/lib:/home/cpansand/.cpan/build/2016032418/WWW-Cache-Google-0.04-msE_QY/blib/arch:/home/cpansand/.cpan/build/2016032418/WWW-Cache-Google-0.04-msE_QY/blib/lib:/home/cpansand/.cpan/build/2016032418/Syntax-Highlight-CSS-0.0102-tKhkXZ/blib/arch:/home/cpansand/.cpan/build/2016032418/Syntax-Highlight-CSS-0.0102-tKhkXZ/blib/lib:/home/cpansand/.cpan/build/2016032418/WWW-GetPageTitle-0.0104-64DBkQ/blib/arch:/home/cpansand/.cpan/build/2016032418/WWW-GetPageTitle-0.0104-64DBkQ/blib/lib:/home/cpansand/.cpan/build/2016032418/CSS-Minifier-0.01-aUd3bp/blib/arch:/home/cpansand/.cpan/build/2016032418/CSS-Minifier-0.01-aUd3bp/blib/lib:/home/cpansand/.cpan/build/2016032418/WWW-DoctypeGrabber-0.007-x8M7ed/blib/arch:/home/cpansand/.cpan/build/2016032418/WWW-DoctypeGrabber-0.007-x8M7ed/blib/lib:/home/cpansand/.cpan/build/2016032418/WebService-Validator-CSS-W3C-0.3-PnAgbI/blib/arch:/home/cpansand/.cpan/build/2016032418/WebService-Validator-CSS-W3C-0.3-PnAgbI/blib/lib:/home/cpansand/.cpan/build/2016032418/WWW-Google-PageRank-0.17-xF8r1E/blib/arch:/home/cpansand/.cpan/build/2016032418/WWW-Google-PageRank-0.17-xF8r1E/blib/lib:/home/cpansand/.cpan/build/2016032418/WWW-HTMLTagAttributeCounter-0.0104-Yiwm7n/blib/arch:/home/cpansand/.cpan/build/2016032418/WWW-HTMLTagAttributeCounter-0.0104-Yiwm7n/blib/lib:/home/cpansand/.cpan/build/2016032418/JavaScript-Minifier-1.14-ov11Ns/blib/arch:/home/cpansand/.cpan/build/2016032418/JavaScript-Minifier-1.14-ov11Ns/blib/lib:/home/cpansand/.cpan/build/2016032418/WWW-Lipsum-1.001012-y4EvGh/blib/arch:/home/cpansand/.cpan/build/2016032418/WWW-Lipsum-1.001012-y4EvGh/blib/lib:/home/cpansand/.cpan/build/2016032418/Syntax-Highlight-HTML-0.04-e3Ioje/blib/arch:/home/cpansand/.cpan/build/2016032418/Syntax-Highlight-HTML-0.04-e3Ioje/blib/lib:/home/cpansand/.cpan/build/2016032418/Locale-Maketext-Lexicon-Properties-0.03-tfnLnM/blib/arch:/home/cpansand/.cpan/build/2016032418/Locale-Maketext-Lexicon-Properties-0.03-tfnLnM/blib/lib:/home/cpansand/.cpan/build/2016032418/Lingua-JA-Gairaigo-Fuzzy-0.06-IDIksY/blib/arch:/home/cpansand/.cpan/build/2016032418/Lingua-JA-Gairaigo-Fuzzy-0.06-IDIksY/blib/lib:/home/cpansand/.cpan/build/2016032418/Lingua-JA-FindDates-0.020-9J3nad/blib/arch:/home/cpansand/.cpan/build/2016032418/Lingua-JA-FindDates-0.020-9J3nad/blib/lib:/home/cpansand/.cpan/build/2016032418/Email-Stuff-2.105-mjY3h2/blib/arch:/home/cpansand/.cpan/build/2016032418/Email-Stuff-2.105-mjY3h2/blib/lib:/home/cpansand/.cpan/build/2016032418/AnyEvent-Blackboard-v0.4.10-gxLcP8/blib/arch:/home/cpansand/.cpan/build/2016032418/AnyEvent-Blackboard-v0.4.10-gxLcP8/blib/lib:/home/cpansand/.cpan/build/2016032418/Acme-Lingua-EN-Inflect-Modern-0.006-AsiLdo/blib/arch:/home/cpansand/.cpan/build/2016032418/Acme-Lingua-EN-Inflect-Modern-0.006-AsiLdo/blib/lib:/home/cpansand/.cpan/build/2016032418/warnings-MaybeFatal-0.004-Ho1A7L/blib/arch:/home/cpansand/.cpan/build/2016032418/warnings-MaybeFatal-0.004-Ho1A7L/blib/lib:/home/cpansand/.cpan/build/2016032418/Tk-Month-1.8-7hwIF2/blib/arch:/home/cpansand/.cpan/build/2016032418/Tk-Month-1.8-7hwIF2/blib/lib:/home/cpansand/.cpan/build/2016032418/Text-Nimble-0.002001-AXROHU/blib/arch:/home/cpansand/.cpan/build/2016032418/Text-Nimble-0.002001-AXROHU/blib/lib:/home/cpansand/.cpan/build/2016032418/POE-Component-Server-Inet-0.06-_sD8j7/blib/arch:/home/cpansand/.cpan/build/2016032418/POE-Component-Server-Inet-0.06-_sD8j7/blib/lib:/home/cpansand/.cpan/build/2016032418/JSON-RPC-Simple-0.06-bSjg7G/blib/arch:/home/cpansand/.cpan/build/2016032418/JSON-RPC-Simple-0.06-bSjg7G/blib/lib:/home/cpansand/.cpan/build/2016032418/Bio-MaxQuant-Evidence-Statistics-0.01-2fDn0L/blib/arch:/home/cpansand/.cpan/build/2016032418/Bio-MaxQuant-Evidence-Statistics-0.01-2fDn0L/blib/lib:/home/cpansand/.cpan/build/2016032418/Test-More-Behaviour-1.0.1-LffpVP/blib/arch:/home/cpansand/.cpan/build/2016032418/Test-More-Behaviour-1.0.1-LffpVP/blib/lib:/home/cpansand/.cpan/build/2016032418/App-Office-Contacts-2.04-8Vd7qR/blib/arch:/home/cpansand/.cpan/build/2016032418/App-Office-Contacts-2.04-8Vd7qR/blib/lib:/home/cpansand/.cpan/build/2016032418/Lingua-ENG-Inflect-0.0682-9Uwa_G/blib/arch:/home/cpansand/.cpan/build/2016032418/Lingua-ENG-Inflect-0.0682-9Uwa_G/blib/lib:/home/cpansand/.cpan/build/2016032418/Data-Verifier-0.56-ZU1SRC/blib/arch:/home/cpansand/.cpan/build/2016032418/Data-Verifier-0.56-ZU1SRC/blib/lib:/home/cpansand/.cpan/build/2016032418/Time-Stamp-1.300-3bdUvS/blib/arch:/home/cpansand/.cpan/build/2016032418/Time-Stamp-1.300-3bdUvS/blib/lib:/home/cpansand/.cpan/build/2016032418/CGI-Snapp-Dispatch-1.04-IqKfzL/blib/arch:/home/cpansand/.cpan/build/2016032418/CGI-Snapp-Dispatch-1.04-IqKfzL/blib/lib:/home/cpansand/.cpan/build/2016032418/CGI-Snapp-1.08-tHoheI/blib/arch:/home/cpansand/.cpan/build/2016032418/CGI-Snapp-1.08-tHoheI/blib/lib:/home/cpansand/.cpan/build/2016032418/Proc-Fork-0.804-xnpzIp/blib/arch:/home/cpansand/.cpan/build/2016032418/Proc-Fork-0.804-xnpzIp/blib/lib:/home/cpansand/.cpan/build/2016032418/CGI-PSGI-0.15-JY7IG0/blib/arch:/home/cpansand/.cpan/build/2016032418/CGI-PSGI-0.15-JY7IG0/blib/lib:/home/cpansand/.cpan/build/2016032418/File-Versions-0.07-TqIhor/blib/arch:/home/cpansand/.cpan/build/2016032418/File-Versions-0.07-TqIhor/blib/lib:/home/cpansand/.cpan/build/2016032418/Data-Kanji-Tomoe-0.04-ZGeQyU/blib/arch:/home/cpansand/.cpan/build/2016032418/Data-Kanji-Tomoe-0.04-ZGeQyU/blib/lib:/home/cpansand/.cpan/build/2016032418/CPAN-Nearest-0.12-pmvPxX/blib/arch:/home/cpansand/.cpan/build/2016032418/CPAN-Nearest-0.12-pmvPxX/blib/lib:/home/cpansand/.cpan/build/2016032418/Async-Blackboard-v0.3.14-Tw4CkY/blib/arch:/home/cpansand/.cpan/build/2016032418/Async-Blackboard-v0.3.14-Tw4CkY/blib/lib:/home/cpansand/.cpan/build/2016032418/Acme-GILLIGAN-Utils-0.02-83tpyY/blib/arch:/home/cpansand/.cpan/build/2016032418/Acme-GILLIGAN-Utils-0.02-83tpyY/blib/lib
    PERL5OPT = 
    PERL5_CPANPLUS_IS_RUNNING = 31779
    PERL5_CPAN_IS_RUNNING = 31779
    PERL5_CPAN_IS_RUNNING_IN_RECURSION = 27020,31779
    PERLDOC = -MPod::Perldoc::ToTextOverstrike
    PERL_BATCH = yes
    PERL_CANARY_STABILITY_NOPROMPT = 1
    PERL_CPAN_REPORTER_CONFIG = /var/tmp/cpansmoker-1023/2016032406/cpanreporter_002_config.ini
    PERL_EXTUTILS_AUTOINSTALL = --defaultdeps
    PERL_PARALLEL_SMOKER = yes
    SHELL = /bin/zsh
    TERM = screen
    TMPDIR = /var/tmp/cpansmoker-1023/2016032406

Perl special variables (and OS-specific diagnostics, for MSWin32):

    $^X = /bbbike/perl-5.23.9/bin/perl5.23.9
    $UID/$EUID = 1023 / 1023
    $GID = 1023 1023
    $EGID = 1023 1023

Perl module toolchain versions installed:

    Module              Have    
    ------------------- --------
    CPAN                2.11    
    CPAN::Meta          2.150005
    Cwd                 3.62    
    ExtUtils::CBuilder  0.280225
    ExtUtils::Command   7.10    
    ExtUtils::Install   2.04    
    ExtUtils::MakeMaker 7.10_01 
    ExtUtils::Manifest  1.70    
    ExtUtils::ParseXS   3.31    
    File::Spec          3.62    
    JSON                2.90    
    JSON::PP            2.27300 
    Module::Build       0.4216  
    Module::Signature   0.79    
    Parse::CPAN::Meta   1.4417  
    Test::Harness       3.36    
    Test::More          1.001014
    YAML                1.15    
    YAML::Syck          1.29    
    version             0.9916  


--

Summary of my perl5 (revision 5 version 23 subversion 9) configuration:
   
  Platform:
    osname=linux, osvers=3.2.0-4-amd64, archname=x86_64-linux
    uname='linux eserte 3.2.0-4-amd64 #1 smp debian 3.2.73-2+deb7u3 x86_64 gnulinux '
    config_args='-ds -e -Dprefix=/opt/perl-5.23.9 -Dusedevel -Dusemallocwrap=no -Dcf_email=srezic@cpan.org'
    hint=recommended, useposix=true, d_sigaction=define
    useithreads=undef, usemultiplicity=undef
    use64bitint=define, use64bitall=define, uselongdouble=undef
    usemymalloc=n, bincompat5005=undef
  Compiler:
    cc='cc', ccflags ='-fwrapv -fno-strict-aliasing -pipe -fstack-protector -I/usr/local/include -D_LARGEFILE_SOURCE -D_FILE_OFFSET_BITS=64 -D_FORTIFY_SOURCE=2',
    optimize='-O2',
    cppflags='-fwrapv -fno-strict-aliasing -pipe -fstack-protector -I/usr/local/include'
    ccversion='', gccversion='4.7.2', gccosandvers=''
    intsize=4, longsize=8, ptrsize=8, doublesize=8, byteorder=12345678, doublekind=3
    d_longlong=define, longlongsize=8, d_longdbl=define, longdblsize=16, longdblkind=3
    ivtype='long', ivsize=8, nvtype='double', nvsize=8, Off_t='off_t', lseeksize=8
    alignbytes=8, prototype=define
  Linker and Libraries:
    ld='cc', ldflags =' -fstack-protector -L/usr/local/lib'
    libpth=/usr/local/lib /usr/lib/gcc/x86_64-linux-gnu/4.7/include-fixed /usr/include/x86_64-linux-gnu /usr/lib /lib/x86_64-linux-gnu /lib/../lib /usr/lib/x86_64-linux-gnu /usr/lib/../lib /lib
    libs=-lpthread -lnsl -ldb -ldl -lm -lcrypt -lutil -lc
    perllibs=-lpthread -lnsl -ldl -lm -lcrypt -lutil -lc
    libc=libc-2.13.so, so=so, useshrplib=false, libperl=libperl.a
    gnulibc_version='2.13'
  Dynamic Linking:
    dlsrc=dl_dlopen.xs, dlext=so, d_dlsymun=undef, ccdlflags='-Wl,-E'
    cccdlflags='-fPIC', lddlflags='-shared -O2 -L/usr/local/lib -fstack-protector'


Characteristics of this binary (from libperl): 
  Compile-time options: HAS_TIMES PERLIO_LAYERS PERL_COPY_ON_WRITE
                        PERL_DONT_CREATE_GVSV
                        PERL_HASH_FUNC_ONE_AT_A_TIME_HARD PERL_PRESERVE_IVUV
                        PERL_USE_DEVEL USE_64_BIT_ALL USE_64_BIT_INT
                        USE_LARGE_FILES USE_LOCALE USE_LOCALE_COLLATE
                        USE_LOCALE_CTYPE USE_LOCALE_NUMERIC USE_LOCALE_TIME
                        USE_PERLIO USE_PERL_ATOF
  Built under linux
  Compiled at Mar 20 2016 16:52:33
  %ENV:
    PERL5LIB="/home/cpansand/.cpan/build/2016032418/Escape-Houdini-0.2.1-kfqoFW/blib/arch:/home/cpansand/.cpan/build/2016032418/Escape-Houdini-0.2.1-kfqoFW/blib/lib:/home/cpansand/.cpan/build/2016032418/Data-Lotter-0.00004-b3YI5t/blib/arch:/home/cpansand/.cpan/build/2016032418/Data-Lotter-0.00004-b3YI5t/blib/lib:/home/cpansand/.cpan/build/2016032418/Crypt-Lucifer-0.1-aOzpwc/blib/arch:/home/cpansand/.cpan/build/2016032418/Crypt-Lucifer-0.1-aOzpwc/blib/lib:/home/cpansand/.cpan/build/2016032418/Country-Codes-UdLcMH/blib/arch:/home/cpansand/.cpan/build/2016032418/Country-Codes-UdLcMH/blib/lib:/home/cpansand/.cpan/build/2016032418/Acme-require-case-0.012-bn40be/blib/arch:/home/cpansand/.cpan/build/2016032418/Acme-require-case-0.012-bn40be/blib/lib:/home/cpansand/.cpan/build/2016032418/AWS-SQS-Simple-0.02-xZw7Lo/blib/arch:/home/cpansand/.cpan/build/2016032418/AWS-SQS-Simple-0.02-xZw7Lo/blib/lib:/home/cpansand/.cpan/build/2016032418/WebService-Beeminder-0.003-0c92sT/blib/arch:/home/cpansand/.cpan/build/2016032418/WebService-Beeminder-0.003-0c92sT/blib/lib:/home/cpansand/.cpan/build/2016032418/Test-NoXS-1.03-CfGRem/blib/arch:/home/cpansand/.cpan/build/2016032418/Test-NoXS-1.03-CfGRem/blib/lib:/home/cpansand/.cpan/build/2016032418/Querylet-Output-Excel-XLS-0.134-arR_oF/blib/arch:/home/cpansand/.cpan/build/2016032418/Querylet-Output-Excel-XLS-0.134-arR_oF/blib/lib:/home/cpansand/.cpan/build/2016032418/Querylet-0.401-4nkLK1/blib/arch:/home/cpansand/.cpan/build/2016032418/Querylet-0.401-4nkLK1/blib/lib:/home/cpansand/.cpan/build/2016032418/Plack-Session-Store-Transparent-0.03-H8_rrO/blib/arch:/home/cpansand/.cpan/build/2016032418/Plack-Session-Store-Transparent-0.03-H8_rrO/blib/lib:/home/cpansand/.cpan/build/2016032418/POE-Filter-KennySpeak-1.02-L_i7UH/blib/arch:/home/cpansand/.cpan/build/2016032418/POE-Filter-KennySpeak-1.02-L_i7UH/blib/lib:/home/cpansand/.cpan/build/2016032418/POE-Component-Bundle-WebDevelopment-1.001004-QjPkkP/blib/arch:/home/cpansand/.cpan/build/2016032418/POE-Component-Bundle-WebDevelopment-1.001004-QjPkkP/blib/lib:/home/cpansand/.cpan/build/2016032418/App-PNGCrush-0.002-uJ4cTn/blib/arch:/home/cpansand/.cpan/build/2016032418/App-PNGCrush-0.002-uJ4cTn/blib/lib:/home/cpansand/.cpan/build/2016032418/Proc-Reliable-1.16-esV6gQ/blib/arch:/home/cpansand/.cpan/build/2016032418/Proc-Reliable-1.16-esV6gQ/blib/lib:/home/cpansand/.cpan/build/2016032418/WebService-Validator-HTML-W3C-0.28-f_lHe7/blib/arch:/home/cpansand/.cpan/build/2016032418/WebService-Validator-HTML-W3C-0.28-f_lHe7/blib/lib:/home/cpansand/.cpan/build/2016032418/WebService-HtmlKitCom-FavIconFromImage-1.001001-1nJ0M2/blib/arch:/home/cpansand/.cpan/build/2016032418/WebService-HtmlKitCom-FavIconFromImage-1.001001-1nJ0M2/blib/lib:/home/cpansand/.cpan/build/2016032418/WWW-WebDevout-BrowserSupportInfo-0.0103-0qNptn/blib/arch:/home/cpansand/.cpan/build/2016032418/WWW-WebDevout-BrowserSupportInfo-0.0103-0qNptn/blib/lib:/home/cpansand/.cpan/build/2016032418/POE-Component-NonBlockingWrapper-Base-1.001002-sEti6Q/blib/arch:/home/cpansand/.cpan/build/2016032418/POE-Component-NonBlockingWrapper-Base-1.001002-sEti6Q/blib/lib:/home/cpansand/.cpan/build/2016032418/WWW-Alexa-TrafficRank-1.10-6uuWQx/blib/arch:/home/cpansand/.cpan/build/2016032418/WWW-Alexa-TrafficRank-1.10-6uuWQx/blib/lib:/home/cpansand/.cpan/build/2016032418/WWW-Cache-Google-0.04-msE_QY/blib/arch:/home/cpansand/.cpan/build/2016032418/WWW-Cache-Google-0.04-msE_QY/blib/lib:/home/cpansand/.cpan/build/2016032418/Syntax-Highlight-CSS-0.0102-tKhkXZ/blib/arch:/home/cpansand/.cpan/build/2016032418/Syntax-Highlight-CSS-0.0102-tKhkXZ/blib/lib:/home/cpansand/.cpan/build/2016032418/WWW-GetPageTitle-0.0104-64DBkQ/blib/arch:/home/cpansand/.cpan/build/2016032418/WWW-GetPageTitle-0.0104-64DBkQ/blib/lib:/home/cpansand/.cpan/build/2016032418/CSS-Minifier-0.01-aUd3bp/blib/arch:/home/cpansand/.cpan/build/2016032418/CSS-Minifier-0.01-aUd3bp/blib/lib:/home/cpansand/.cpan/build/2016032418/WWW-DoctypeGrabber-0.007-x8M7ed/blib/arch:/home/cpansand/.cpan/build/2016032418/WWW-DoctypeGrabber-0.007-x8M7ed/blib/lib:/home/cpansand/.cpan/build/2016032418/WebService-Validator-CSS-W3C-0.3-PnAgbI/blib/arch:/home/cpansand/.cpan/build/2016032418/WebService-Validator-CSS-W3C-0.3-PnAgbI/blib/lib:/home/cpansand/.cpan/build/2016032418/WWW-Google-PageRank-0.17-xF8r1E/blib/arch:/home/cpansand/.cpan/build/2016032418/WWW-Google-PageRank-0.17-xF8r1E/blib/lib:/home/cpansand/.cpan/build/2016032418/WWW-HTMLTagAttributeCounter-0.0104-Yiwm7n/blib/arch:/home/cpansand/.cpan/build/2016032418/WWW-HTMLTagAttributeCounter-0.0104-Yiwm7n/blib/lib:/home/cpansand/.cpan/build/2016032418/JavaScript-Minifier-1.14-ov11Ns/blib/arch:/home/cpansand/.cpan/build/2016032418/JavaScript-Minifier-1.14-ov11Ns/blib/lib:/home/cpansand/.cpan/build/2016032418/WWW-Lipsum-1.001012-y4EvGh/blib/arch:/home/cpansand/.cpan/build/2016032418/WWW-Lipsum-1.001012-y4EvGh/blib/lib:/home/cpansand/.cpan/build/2016032418/Syntax-Highlight-HTML-0.04-e3Ioje/blib/arch:/home/cpansand/.cpan/build/2016032418/Syntax-Highlight-HTML-0.04-e3Ioje/blib/lib:/home/cpansand/.cpan/build/2016032418/Locale-Maketext-Lexicon-Properties-0.03-tfnLnM/blib/arch:/home/cpansand/.cpan/build/2016032418/Locale-Maketext-Lexicon-Properties-0.03-tfnLnM/blib/lib:/home/cpansand/.cpan/build/2016032418/Lingua-JA-Gairaigo-Fuzzy-0.06-IDIksY/blib/arch:/home/cpansand/.cpan/build/2016032418/Lingua-JA-Gairaigo-Fuzzy-0.06-IDIksY/blib/lib:/home/cpansand/.cpan/build/2016032418/Lingua-JA-FindDates-0.020-9J3nad/blib/arch:/home/cpansand/.cpan/build/2016032418/Lingua-JA-FindDates-0.020-9J3nad/blib/lib:/home/cpansand/.cpan/build/2016032418/Email-Stuff-2.105-mjY3h2/blib/arch:/home/cpansand/.cpan/build/2016032418/Email-Stuff-2.105-mjY3h2/blib/lib:/home/cpansand/.cpan/build/2016032418/AnyEvent-Blackboard-v0.4.10-gxLcP8/blib/arch:/home/cpansand/.cpan/build/2016032418/AnyEvent-Blackboard-v0.4.10-gxLcP8/blib/lib:/home/cpansand/.cpan/build/2016032418/Acme-Lingua-EN-Inflect-Modern-0.006-AsiLdo/blib/arch:/home/cpansand/.cpan/build/2016032418/Acme-Lingua-EN-Inflect-Modern-0.006-AsiLdo/blib/lib:/home/cpansand/.cpan/build/2016032418/warnings-MaybeFatal-0.004-Ho1A7L/blib/arch:/home/cpansand/.cpan/build/2016032418/warnings-MaybeFatal-0.004-Ho1A7L/blib/lib:/home/cpansand/.cpan/build/2016032418/Tk-Month-1.8-7hwIF2/blib/arch:/home/cpansand/.cpan/build/2016032418/Tk-Month-1.8-7hwIF2/blib/lib:/home/cpansand/.cpan/build/2016032418/Text-Nimble-0.002001-AXROHU/blib/arch:/home/cpansand/.cpan/build/2016032418/Text-Nimble-0.002001-AXROHU/blib/lib:/home/cpansand/.cpan/build/2016032418/POE-Component-Server-Inet-0.06-_sD8j7/blib/arch:/home/cpansand/.cpan/build/2016032418/POE-Component-Server-Inet-0.06-_sD8j7/blib/lib:/home/cpansand/.cpan/build/2016032418/JSON-RPC-Simple-0.06-bSjg7G/blib/arch:/home/cpansand/.cpan/build/2016032418/JSON-RPC-Simple-0.06-bSjg7G/blib/lib:/home/cpansand/.cpan/build/2016032418/Bio-MaxQuant-Evidence-Statistics-0.01-2fDn0L/blib/arch:/home/cpansand/.cpan/build/2016032418/Bio-MaxQuant-Evidence-Statistics-0.01-2fDn0L/blib/lib:/home/cpansand/.cpan/build/2016032418/Test-More-Behaviour-1.0.1-LffpVP/blib/arch:/home/cpansand/.cpan/build/2016032418/Test-More-Behaviour-1.0.1-LffpVP/blib/lib:/home/cpansand/.cpan/build/2016032418/App-Office-Contacts-2.04-8Vd7qR/blib/arch:/home/cpansand/.cpan/build/2016032418/App-Office-Contacts-2.04-8Vd7qR/blib/lib:/home/cpansand/.cpan/build/2016032418/Lingua-ENG-Inflect-0.0682-9Uwa_G/blib/arch:/home/cpansand/.cpan/build/2016032418/Lingua-ENG-Inflect-0.0682-9Uwa_G/blib/lib:/home/cpansand/.cpan/build/2016032418/Data-Verifier-0.56-ZU1SRC/blib/arch:/home/cpansand/.cpan/build/2016032418/Data-Verifier-0.56-ZU1SRC/blib/lib:/home/cpansand/.cpan/build/2016032418/Time-Stamp-1.300-3bdUvS/blib/arch:/home/cpansand/.cpan/build/2016032418/Time-Stamp-1.300-3bdUvS/blib/lib:/home/cpansand/.cpan/build/2016032418/CGI-Snapp-Dispatch-1.04-IqKfzL/blib/arch:/home/cpansand/.cpan/build/2016032418/CGI-Snapp-Dispatch-1.04-IqKfzL/blib/lib:/home/cpansand/.cpan/build/2016032418/CGI-Snapp-1.08-tHoheI/blib/arch:/home/cpansand/.cpan/build/2016032418/CGI-Snapp-1.08-tHoheI/blib/lib:/home/cpansand/.cpan/build/2016032418/Proc-Fork-0.804-xnpzIp/blib/arch:/home/cpansand/.cpan/build/2016032418/Proc-Fork-0.804-xnpzIp/blib/lib:/home/cpansand/.cpan/build/2016032418/CGI-PSGI-0.15-JY7IG0/blib/arch:/home/cpansand/.cpan/build/2016032418/CGI-PSGI-0.15-JY7IG0/blib/lib:/home/cpansand/.cpan/build/2016032418/File-Versions-0.07-TqIhor/blib/arch:/home/cpansand/.cpan/build/2016032418/File-Versions-0.07-TqIhor/blib/lib:/home/cpansand/.cpan/build/2016032418/Data-Kanji-Tomoe-0.04-ZGeQyU/blib/arch:/home/cpansand/.cpan/build/2016032418/Data-Kanji-Tomoe-0.04-ZGeQyU/blib/lib:/home/cpansand/.cpan/build/2016032418/CPAN-Nearest-0.12-pmvPxX/blib/arch:/home/cpansand/.cpan/build/2016032418/CPAN-Nearest-0.12-pmvPxX/blib/lib:/home/cpansand/.cpan/build/2016032418/Async-Blackboard-v0.3.14-Tw4CkY/blib/arch:/home/cpansand/.cpan/build/2016032418/Async-Blackboard-v0.3.14-Tw4CkY/blib/lib:/home/cpansand/.cpan/build/2016032418/Acme-GILLIGAN-Utils-0.02-83tpyY/blib/arch:/home/cpansand/.cpan/build/2016032418/Acme-GILLIGAN-Utils-0.02-83tpyY/blib/lib"
    PERL5OPT=""
    PERL5_CPANPLUS_IS_RUNNING="31779"
    PERL5_CPAN_IS_RUNNING="31779"
    PERL5_CPAN_IS_RUNNING_IN_RECURSION="27020,31779"
    PERLDOC="-MPod::Perldoc::ToTextOverstrike"
    PERL_BATCH="yes"
    PERL_CANARY_STABILITY_NOPROMPT="1"
    PERL_CPAN_REPORTER_CONFIG="/var/tmp/cpansmoker-1023/2016032406/cpanreporter_002_config.ini"
    PERL_EXTUTILS_AUTOINSTALL="--defaultdeps"
    PERL_PARALLEL_SMOKER="yes"
  @INC:
    /home/cpansand/.cpan/build/2016032418/Escape-Houdini-0.2.1-kfqoFW/blib/arch
    /home/cpansand/.cpan/build/2016032418/Escape-Houdini-0.2.1-kfqoFW/blib/lib
    /home/cpansand/.cpan/build/2016032418/Data-Lotter-0.00004-b3YI5t/blib/arch
    /home/cpansand/.cpan/build/2016032418/Data-Lotter-0.00004-b3YI5t/blib/lib
    /home/cpansand/.cpan/build/2016032418/Crypt-Lucifer-0.1-aOzpwc/blib/arch
    /home/cpansand/.cpan/build/2016032418/Crypt-Lucifer-0.1-aOzpwc/blib/lib
    /home/cpansand/.cpan/build/2016032418/Country-Codes-UdLcMH/blib/arch
    /home/cpansand/.cpan/build/2016032418/Country-Codes-UdLcMH/blib/lib
    /home/cpansand/.cpan/build/2016032418/Acme-require-case-0.012-bn40be/blib/arch
    /home/cpansand/.cpan/build/2016032418/Acme-require-case-0.012-bn40be/blib/lib
    /home/cpansand/.cpan/build/2016032418/AWS-SQS-Simple-0.02-xZw7Lo/blib/arch
    /home/cpansand/.cpan/build/2016032418/AWS-SQS-Simple-0.02-xZw7Lo/blib/lib
    /home/cpansand/.cpan/build/2016032418/WebService-Beeminder-0.003-0c92sT/blib/arch
    /home/cpansand/.cpan/build/2016032418/WebService-Beeminder-0.003-0c92sT/blib/lib
    /home/cpansand/.cpan/build/2016032418/Test-NoXS-1.03-CfGRem/blib/arch
    /home/cpansand/.cpan/build/2016032418/Test-NoXS-1.03-CfGRem/blib/lib
    /home/cpansand/.cpan/build/2016032418/Querylet-Output-Excel-XLS-0.134-arR_oF/blib/arch
    /home/cpansand/.cpan/build/2016032418/Querylet-Output-Excel-XLS-0.134-arR_oF/blib/lib
    /home/cpansand/.cpan/build/2016032418/Querylet-0.401-4nkLK1/blib/arch
    /home/cpansand/.cpan/build/2016032418/Querylet-0.401-4nkLK1/blib/lib
    /home/cpansand/.cpan/build/2016032418/Plack-Session-Store-Transparent-0.03-H8_rrO/blib/arch
    /home/cpansand/.cpan/build/2016032418/Plack-Session-Store-Transparent-0.03-H8_rrO/blib/lib
    /home/cpansand/.cpan/build/2016032418/POE-Filter-KennySpeak-1.02-L_i7UH/blib/arch
    /home/cpansand/.cpan/build/2016032418/POE-Filter-KennySpeak-1.02-L_i7UH/blib/lib
    /home/cpansand/.cpan/build/2016032418/POE-Component-Bundle-WebDevelopment-1.001004-QjPkkP/blib/arch
    /home/cpansand/.cpan/build/2016032418/POE-Component-Bundle-WebDevelopment-1.001004-QjPkkP/blib/lib
    /home/cpansand/.cpan/build/2016032418/App-PNGCrush-0.002-uJ4cTn/blib/arch
    /home/cpansand/.cpan/build/2016032418/App-PNGCrush-0.002-uJ4cTn/blib/lib
    /home/cpansand/.cpan/build/2016032418/Proc-Reliable-1.16-esV6gQ/blib/arch
    /home/cpansand/.cpan/build/2016032418/Proc-Reliable-1.16-esV6gQ/blib/lib
    /home/cpansand/.cpan/build/2016032418/WebService-Validator-HTML-W3C-0.28-f_lHe7/blib/arch
    /home/cpansand/.cpan/build/2016032418/WebService-Validator-HTML-W3C-0.28-f_lHe7/blib/lib
    /home/cpansand/.cpan/build/2016032418/WebService-HtmlKitCom-FavIconFromImage-1.001001-1nJ0M2/blib/arch
    /home/cpansand/.cpan/build/2016032418/WebService-HtmlKitCom-FavIconFromImage-1.001001-1nJ0M2/blib/lib
    /home/cpansand/.cpan/build/2016032418/WWW-WebDevout-BrowserSupportInfo-0.0103-0qNptn/blib/arch
    /home/cpansand/.cpan/build/2016032418/WWW-WebDevout-BrowserSupportInfo-0.0103-0qNptn/blib/lib
    /home/cpansand/.cpan/build/2016032418/POE-Component-NonBlockingWrapper-Base-1.001002-sEti6Q/blib/arch
    /home/cpansand/.cpan/build/2016032418/POE-Component-NonBlockingWrapper-Base-1.001002-sEti6Q/blib/lib
    /home/cpansand/.cpan/build/2016032418/WWW-Alexa-TrafficRank-1.10-6uuWQx/blib/arch
    /home/cpansand/.cpan/build/2016032418/WWW-Alexa-TrafficRank-1.10-6uuWQx/blib/lib
    /home/cpansand/.cpan/build/2016032418/WWW-Cache-Google-0.04-msE_QY/blib/arch
    /home/cpansand/.cpan/build/2016032418/WWW-Cache-Google-0.04-msE_QY/blib/lib
    /home/cpansand/.cpan/build/2016032418/Syntax-Highlight-CSS-0.0102-tKhkXZ/blib/arch
    /home/cpansand/.cpan/build/2016032418/Syntax-Highlight-CSS-0.0102-tKhkXZ/blib/lib
    /home/cpansand/.cpan/build/2016032418/WWW-GetPageTitle-0.0104-64DBkQ/blib/arch
    /home/cpansand/.cpan/build/2016032418/WWW-GetPageTitle-0.0104-64DBkQ/blib/lib
    /home/cpansand/.cpan/build/2016032418/CSS-Minifier-0.01-aUd3bp/blib/arch
    /home/cpansand/.cpan/build/2016032418/CSS-Minifier-0.01-aUd3bp/blib/lib
    /home/cpansand/.cpan/build/2016032418/WWW-DoctypeGrabber-0.007-x8M7ed/blib/arch
    /home/cpansand/.cpan/build/2016032418/WWW-DoctypeGrabber-0.007-x8M7ed/blib/lib
    /home/cpansand/.cpan/build/2016032418/WebService-Validator-CSS-W3C-0.3-PnAgbI/blib/arch
    /home/cpansand/.cpan/build/2016032418/WebService-Validator-CSS-W3C-0.3-PnAgbI/blib/lib
    /home/cpansand/.cpan/build/2016032418/WWW-Google-PageRank-0.17-xF8r1E/blib/arch
    /home/cpansand/.cpan/build/2016032418/WWW-Google-PageRank-0.17-xF8r1E/blib/lib
    /home/cpansand/.cpan/build/2016032418/WWW-HTMLTagAttributeCounter-0.0104-Yiwm7n/blib/arch
    /home/cpansand/.cpan/build/2016032418/WWW-HTMLTagAttributeCounter-0.0104-Yiwm7n/blib/lib
    /home/cpansand/.cpan/build/2016032418/JavaScript-Minifier-1.14-ov11Ns/blib/arch
    /home/cpansand/.cpan/build/2016032418/JavaScript-Minifier-1.14-ov11Ns/blib/lib
    /home/cpansand/.cpan/build/2016032418/WWW-Lipsum-1.001012-y4EvGh/blib/arch
    /home/cpansand/.cpan/build/2016032418/WWW-Lipsum-1.001012-y4EvGh/blib/lib
    /home/cpansand/.cpan/build/2016032418/Syntax-Highlight-HTML-0.04-e3Ioje/blib/arch
    /home/cpansand/.cpan/build/2016032418/Syntax-Highlight-HTML-0.04-e3Ioje/blib/lib
    /home/cpansand/.cpan/build/2016032418/Locale-Maketext-Lexicon-Properties-0.03-tfnLnM/blib/arch
    /home/cpansand/.cpan/build/2016032418/Locale-Maketext-Lexicon-Properties-0.03-tfnLnM/blib/lib
    /home/cpansand/.cpan/build/2016032418/Lingua-JA-Gairaigo-Fuzzy-0.06-IDIksY/blib/arch
    /home/cpansand/.cpan/build/2016032418/Lingua-JA-Gairaigo-Fuzzy-0.06-IDIksY/blib/lib
    /home/cpansand/.cpan/build/2016032418/Lingua-JA-FindDates-0.020-9J3nad/blib/arch
    /home/cpansand/.cpan/build/2016032418/Lingua-JA-FindDates-0.020-9J3nad/blib/lib
    /home/cpansand/.cpan/build/2016032418/Email-Stuff-2.105-mjY3h2/blib/arch
    /home/cpansand/.cpan/build/2016032418/Email-Stuff-2.105-mjY3h2/blib/lib
    /home/cpansand/.cpan/build/2016032418/AnyEvent-Blackboard-v0.4.10-gxLcP8/blib/arch
    /home/cpansand/.cpan/build/2016032418/AnyEvent-Blackboard-v0.4.10-gxLcP8/blib/lib
    /home/cpansand/.cpan/build/2016032418/Acme-Lingua-EN-Inflect-Modern-0.006-AsiLdo/blib/arch
    /home/cpansand/.cpan/build/2016032418/Acme-Lingua-EN-Inflect-Modern-0.006-AsiLdo/blib/lib
    /home/cpansand/.cpan/build/2016032418/warnings-MaybeFatal-0.004-Ho1A7L/blib/arch
    /home/cpansand/.cpan/build/2016032418/warnings-MaybeFatal-0.004-Ho1A7L/blib/lib
    /home/cpansand/.cpan/build/2016032418/Tk-Month-1.8-7hwIF2/blib/arch
    /home/cpansand/.cpan/build/2016032418/Tk-Month-1.8-7hwIF2/blib/lib
    /home/cpansand/.cpan/build/2016032418/Text-Nimble-0.002001-AXROHU/blib/arch
    /home/cpansand/.cpan/build/2016032418/Text-Nimble-0.002001-AXROHU/blib/lib
    /home/cpansand/.cpan/build/2016032418/POE-Component-Server-Inet-0.06-_sD8j7/blib/arch
    /home/cpansand/.cpan/build/2016032418/POE-Component-Server-Inet-0.06-_sD8j7/blib/lib
    /home/cpansand/.cpan/build/2016032418/JSON-RPC-Simple-0.06-bSjg7G/blib/arch
    /home/cpansand/.cpan/build/2016032418/JSON-RPC-Simple-0.06-bSjg7G/blib/lib
    /home/cpansand/.cpan/build/2016032418/Bio-MaxQuant-Evidence-Statistics-0.01-2fDn0L/blib/arch
    /home/cpansand/.cpan/build/2016032418/Bio-MaxQuant-Evidence-Statistics-0.01-2fDn0L/blib/lib
    /home/cpansand/.cpan/build/2016032418/Test-More-Behaviour-1.0.1-LffpVP/blib/arch
    /home/cpansand/.cpan/build/2016032418/Test-More-Behaviour-1.0.1-LffpVP/blib/lib
    /home/cpansand/.cpan/build/2016032418/App-Office-Contacts-2.04-8Vd7qR/blib/arch
    /home/cpansand/.cpan/build/2016032418/App-Office-Contacts-2.04-8Vd7qR/blib/lib
    /home/cpansand/.cpan/build/2016032418/Lingua-ENG-Inflect-0.0682-9Uwa_G/blib/arch
    /home/cpansand/.cpan/build/2016032418/Lingua-ENG-Inflect-0.0682-9Uwa_G/blib/lib
    /home/cpansand/.cpan/build/2016032418/Data-Verifier-0.56-ZU1SRC/blib/arch
    /home/cpansand/.cpan/build/2016032418/Data-Verifier-0.56-ZU1SRC/blib/lib
    /home/cpansand/.cpan/build/2016032418/Time-Stamp-1.300-3bdUvS/blib/arch
    /home/cpansand/.cpan/build/2016032418/Time-Stamp-1.300-3bdUvS/blib/lib
    /home/cpansand/.cpan/build/2016032418/CGI-Snapp-Dispatch-1.04-IqKfzL/blib/arch
    /home/cpansand/.cpan/build/2016032418/CGI-Snapp-Dispatch-1.04-IqKfzL/blib/lib
    /home/cpansand/.cpan/build/2016032418/CGI-Snapp-1.08-tHoheI/blib/arch
    /home/cpansand/.cpan/build/2016032418/CGI-Snapp-1.08-tHoheI/blib/lib
    /home/cpansand/.cpan/build/2016032418/Proc-Fork-0.804-xnpzIp/blib/arch
    /home/cpansand/.cpan/build/2016032418/Proc-Fork-0.804-xnpzIp/blib/lib
    /home/cpansand/.cpan/build/2016032418/CGI-PSGI-0.15-JY7IG0/blib/arch
    /home/cpansand/.cpan/build/2016032418/CGI-PSGI-0.15-JY7IG0/blib/lib
    /home/cpansand/.cpan/build/2016032418/File-Versions-0.07-TqIhor/blib/arch
    /home/cpansand/.cpan/build/2016032418/File-Versions-0.07-TqIhor/blib/lib
    /home/cpansand/.cpan/build/2016032418/Data-Kanji-Tomoe-0.04-ZGeQyU/blib/arch
    /home/cpansand/.cpan/build/2016032418/Data-Kanji-Tomoe-0.04-ZGeQyU/blib/lib
    /home/cpansand/.cpan/build/2016032418/CPAN-Nearest-0.12-pmvPxX/blib/arch
    /home/cpansand/.cpan/build/2016032418/CPAN-Nearest-0.12-pmvPxX/blib/lib
    /home/cpansand/.cpan/build/2016032418/Async-Blackboard-v0.3.14-Tw4CkY/blib/arch
    /home/cpansand/.cpan/build/2016032418/Async-Blackboard-v0.3.14-Tw4CkY/blib/lib
    /home/cpansand/.cpan/build/2016032418/Acme-GILLIGAN-Utils-0.02-83tpyY/blib/arch
    /home/cpansand/.cpan/build/2016032418/Acme-GILLIGAN-Utils-0.02-83tpyY/blib/lib
    /opt/perl-5.23.9/lib/site_perl/5.23.9/x86_64-linux
    /opt/perl-5.23.9/lib/site_perl/5.23.9
    /opt/perl-5.23.9/lib/5.23.9/x86_64-linux
    /opt/perl-5.23.9/lib/5.23.9
    .