Report for String-Palindrome-2.000001

Back
From: metabase:user:320bfe00-2aae-11df-837a-5e0a49663a4f
Subject: PASS String-Palindrome-2.000001 v5.17.10 GNU/Linux
Date: 2013-02-23T17:45:36Z

This distribution has been tested as part of the CPAN Testers
project, supporting the Perl programming language.  See
http://wiki.cpantesters.org/ for more information or email
questions to cpan-testers-discuss@perl.org


--
Dear Adam Lesperance,

This is a computer-generated report for String-Palindrome-2.000001
on perl 5.17.10, created by CPAN-Reporter-1.2009.

Thank you for uploading your work to CPAN.  Congratulations!
All tests were successful.

Sections of this report:

    * Tester comments
    * Program output
    * Prerequisites
    * Environment and other context

------------------------------
TESTER COMMENTS
------------------------------

Additional comments from tester:

this report is from an automated smoke testing program
and was not reviewed by a human for accuracy

------------------------------
PROGRAM OUTPUT
------------------------------

Output from './Build test':

t/00-compile.t .................. ok
# 
# 
# perl: v5.17.10 (wanted 5.008) on linux from /tmp/basesmoker-reloperl-eFrW/bin/perl
# 
# Data::Dumper                                  => 2.142      (want any version)
# English                                       => 1.06       (want any version)
# Exporter                                      => 5.67       (want any version)
# File::Find                                    => 1.23       (want any version)
# File::Temp                                    => 0.22_90    (want any version)
# Module::Build                                 => 0.4003     (want 0.3601) 
# Test::More                                    => 0.98       (want 0.88)   
# utf8                                          => 1.10       (want any version)
# vars                                          => 1.03       (want any version)
# 
# Thanks for using my code.  I hope it works for you.
# If not, please try and include this output in the bug report.
# That will help me reproduce the issue and solve you problem.
# 
t/000-report-versions-tiny.t .... ok
t/01-func_test.t ................ ok
t/author-critic.t ............... skipped: these tests are for testing by the author
t/release-common_spelling.t ..... skipped: these tests are for release candidate testing
t/release-consistent-version.t .. skipped: these tests are for release candidate testing
t/release-cpan-changes.t ........ skipped: these tests are for release candidate testing
t/release-dist-manifest.t ....... skipped: these tests are for release candidate testing
t/release-distmeta.t ............ skipped: these tests are for release candidate testing
t/release-eol.t ................. skipped: these tests are for release candidate testing
t/release-has-version.t ......... skipped: these tests are for release candidate testing
t/release-kwalitee.t ............ skipped: these tests are for release candidate testing
t/release-minimum-version.t ..... skipped: these tests are for release candidate testing
t/release-no-tabs.t ............. skipped: these tests are for release candidate testing
t/release-pod-coverage.t ........ skipped: these tests are for release candidate testing
t/release-pod-syntax.t .......... skipped: these tests are for release candidate testing
t/release-portability.t ......... skipped: these tests are for release candidate testing
t/release-synopsis.t ............ skipped: these tests are for release candidate testing
t/release-unused-vars.t ......... skipped: these tests are for release candidate testing
All tests successful.
Files=19, Tests=81,  1 wallclock secs ( 0.08 usr  0.02 sys +  0.39 cusr  0.10 csys =  0.59 CPU)
Result: PASS

------------------------------
PREREQUISITES
------------------------------

Prerequisite modules loaded:

requires:

    Module        Need   Have    
    ------------- ------ --------
    Exporter      0      5.67    
    perl          5.008  5.017010
    utf8          0      1.10    
    vars          0      1.03    

build_requires:

    Module        Need   Have    
    ------------- ------ --------
    Data::Dumper  0      2.142   
    English       0      1.06    
    File::Find    0      1.23    
    File::Temp    0      0.22_90 
    Module::Build 0.3601 0.4003  
    Test::More    0.88   0.98    

configure_requires:

    Module        Need   Have    
    ------------- ------ --------
    Module::Build 0.3601 0.4003  


------------------------------
ENVIRONMENT AND OTHER CONTEXT
------------------------------

Environment variables:

    AUTOMATED_TESTING = 1
    LANG = en_US.UTF-8
    LANGUAGE = en_US:en
    PATH = /usr/lib/ccache:/home/sand/bin:/usr/local/bin:/usr/bin:/bin:/usr/bin/X11:/usr/games:/usr/local/perl/bin:/usr/X11/bin:/sbin:/usr/sbin
    PERL5LIB = /tmp/loop_over_bdir-11651-P__hTE/Sepia-0.992-CplTW6/blib/arch:/tmp/loop_over_bdir-11651-P__hTE/Sepia-0.992-CplTW6/blib/lib:/tmp/loop_over_bdir-11651-P__hTE/Helios-2.60-WasQgC/blib/arch:/tmp/loop_over_bdir-11651-P__hTE/Helios-2.60-WasQgC/blib/lib:/tmp/loop_over_bdir-11651-P__hTE/Encode-IBM-0.11-443Bwk/blib/arch:/tmp/loop_over_bdir-11651-P__hTE/Encode-IBM-0.11-443Bwk/blib/lib
    PERL5OPT = 
    PERL5_CPANPLUS_IS_RUNNING = 31792
    PERL5_CPAN_IS_RUNNING = 31792
    PERL_MM_USE_DEFAULT = 1
    SHELL = /usr/bin/zsh
    TERM = screen

Perl special variables (and OS-specific diagnostics, for MSWin32):

    $^X = /tmp/basesmoker-reloperl-eFrW/bin/perl
    $UID/$EUID = 1005 / 1005
    $GID = 1005 1005
    $EGID = 1005 1005

Perl module toolchain versions installed:

    Module              Have    
    ------------------- --------
    CPAN                1.9800  
    CPAN::Meta          2.120921
    Cwd                 3.40    
    ExtUtils::CBuilder  0.280209
    ExtUtils::Command   1.17    
    ExtUtils::Install   1.59    
    ExtUtils::MakeMaker 6.64    
    ExtUtils::Manifest  1.63    
    ExtUtils::ParseXS   3.18    
    File::Spec          3.40    
    JSON                2.53    
    JSON::PP            2.27200 
    Module::Build       0.4003  
    Module::Signature   0.70    
    Parse::CPAN::Meta   1.4404  
    Test::Harness       3.26    
    Test::More          0.98    
    YAML                0.84    
    YAML::Syck          1.22    
    version             0.9901  


--

Summary of my perl5 (revision 5 version 17 subversion 10) configuration:
  Commit id: c96939e471cb3942b61ec7b103b0449a9fde922d
  Platform:
    osname=linux, osvers=3.2.0-4-amd64, archname=x86_64-linux-ld
    uname='linux k83 3.2.0-4-amd64 #1 smp debian 3.2.35-2 x86_64 gnulinux '
    config_args='-Dprefix=/home/src/perl/repoperls/installed-perls/perl/v5.17.9-14-gc96939e/127e -Dmyhostname=k83 -Dinstallusrbinperl=n -Uversiononly -Dusedevel -des -Ui_db -Uuseithreads -Duselongdouble -DDEBUGGING=-g'
    hint=recommended, useposix=true, d_sigaction=define
    useithreads=undef, usemultiplicity=undef
    useperlio=define, d_sfio=undef, uselargefiles=define, usesocks=undef
    use64bitint=define, use64bitall=define, uselongdouble=define
    usemymalloc=n, bincompat5005=undef
  Compiler:
    cc='cc', ccflags ='-fno-strict-aliasing -pipe -fstack-protector -I/usr/local/include -D_LARGEFILE_SOURCE -D_FILE_OFFSET_BITS=64',
    optimize='-O2 -g',
    cppflags='-fno-strict-aliasing -pipe -fstack-protector -I/usr/local/include'
    ccversion='', gccversion='4.7.2', gccosandvers=''
    intsize=4, longsize=8, ptrsize=8, doublesize=8, byteorder=12345678
    d_longlong=define, longlongsize=8, d_longdbl=define, longdblsize=16
    ivtype='long', ivsize=8, nvtype='long double', nvsize=16, Off_t='off_t', lseeksize=8
    alignbytes=16, prototype=define
  Linker and Libraries:
    ld='cc', ldflags =' -fstack-protector -L/usr/local/lib'
    libpth=/usr/local/lib /lib/x86_64-linux-gnu /lib/../lib /usr/lib/x86_64-linux-gnu /usr/lib/../lib /lib /usr/lib
    libs=-lnsl -lgdbm -ldb -ldl -lm -lcrypt -lutil -lc -lgdbm_compat
    perllibs=-lnsl -ldl -lm -lcrypt -lutil -lc
    libc=, so=so, useshrplib=false, libperl=libperl.a
    gnulibc_version='2.13'
  Dynamic Linking:
    dlsrc=dl_dlopen.xs, dlext=so, d_dlsymun=undef, ccdlflags='-Wl,-E'
    cccdlflags='-fPIC', lddlflags='-shared -O2 -g -L/usr/local/lib -fstack-protector'


Characteristics of this binary (from libperl): 
  Compile-time options: HAS_TIMES PERLIO_LAYERS PERL_DONT_CREATE_GVSV
                        PERL_MALLOC_WRAP PERL_NEW_COPY_ON_WRITE
                        PERL_PRESERVE_IVUV PERL_USE_DEVEL USE_64_BIT_ALL
                        USE_64_BIT_INT USE_LARGE_FILES USE_LOCALE
                        USE_LOCALE_COLLATE USE_LOCALE_CTYPE
                        USE_LOCALE_NUMERIC USE_LONG_DOUBLE USE_PERLIO
                        USE_PERL_ATOF
  Built under linux
  Compiled at Feb 22 2013 21:45:27
  %ENV:
    PERL5LIB="/tmp/loop_over_bdir-11651-P__hTE/Sepia-0.992-CplTW6/blib/arch:/tmp/loop_over_bdir-11651-P__hTE/Sepia-0.992-CplTW6/blib/lib:/tmp/loop_over_bdir-11651-P__hTE/Helios-2.60-WasQgC/blib/arch:/tmp/loop_over_bdir-11651-P__hTE/Helios-2.60-WasQgC/blib/lib:/tmp/loop_over_bdir-11651-P__hTE/Encode-IBM-0.11-443Bwk/blib/arch:/tmp/loop_over_bdir-11651-P__hTE/Encode-IBM-0.11-443Bwk/blib/lib"
    PERL5OPT=""
    PERL5_CPANPLUS_IS_RUNNING="31792"
    PERL5_CPAN_IS_RUNNING="31792"
    PERL_MM_USE_DEFAULT="1"
  @INC:
    /tmp/loop_over_bdir-11651-P__hTE/Sepia-0.992-CplTW6/blib/arch
    /tmp/loop_over_bdir-11651-P__hTE/Sepia-0.992-CplTW6/blib/lib
    /tmp/loop_over_bdir-11651-P__hTE/Helios-2.60-WasQgC/blib/arch
    /tmp/loop_over_bdir-11651-P__hTE/Helios-2.60-WasQgC/blib/lib
    /tmp/loop_over_bdir-11651-P__hTE/Encode-IBM-0.11-443Bwk/blib/arch
    /tmp/loop_over_bdir-11651-P__hTE/Encode-IBM-0.11-443Bwk/blib/lib
    /home/src/perl/repoperls/installed-perls/perl/v5.17.9-14-gc96939e/127e/lib/site_perl/5.17.10/x86_64-linux-ld
    /home/src/perl/repoperls/installed-perls/perl/v5.17.9-14-gc96939e/127e/lib/site_perl/5.17.10
    /home/src/perl/repoperls/installed-perls/perl/v5.17.9-14-gc96939e/127e/lib/5.17.10/x86_64-linux-ld
    /home/src/perl/repoperls/installed-perls/perl/v5.17.9-14-gc96939e/127e/lib/5.17.10
    .