Alien-Base-ModuleBuild v1.17 Perl 5 v5.18.2 x86_64-linux

Status
Pass
From
Andreas J. König (ANDK)
Dist
Alien-Base-ModuleBuild v1.17
Platform
Perl 5 v5.18.2 x86_64-linux
Date
2024-05-08 06:47:25
ID
d480592a-0d06-11ef-b823-719d7088c079
This distribution has been tested as part of the CPAN Testers
project, supporting the Perl programming language.  See
http://wiki.cpantesters.org/ for more information or email
questions to cpan-testers-discuss@perl.org


--
Dear Graham Ollis,

This is a computer-generated report for Alien-Base-ModuleBuild-1.17
on perl 5.18.2, created by CPAN-Reporter-1.2018.

Thank you for uploading your work to CPAN.  Congratulations!
All tests were successful.

Sections of this report:

    * Tester comments
    * Program output
    * Prerequisites
    * Environment and other context

------------------------------
TESTER COMMENTS
------------------------------

Additional comments from tester:

this report is from an automated smoke testing program
and was not reviewed by a human for accuracy

------------------------------
PROGRAM OUTPUT
------------------------------

Output from './Build test':

# 
# 
# 
# HARNESS_ACTIVE=1
# HARNESS_VERSION=3.44
# LANG=en_US.UTF-8
# PERL5LIB=/tmp/loop_over_bdir-3373201-Lahb8K/Alien-Base-ModuleBuild-1.17-0/blib/lib:/tmp/loop_over_bdir-3373201-Lahb8K/Alien-Base-ModuleBuild-1.17-0/blib/arch:
# PERL5OPT=
# PERL5_CPANPLUS_IS_RUNNING=2232941
# PERL5_CPAN_IS_RUNNING=2232941
# PERL_CANARY_STABILITY_NOPROMPT=1
# PERL_DL_NONLAZY=1
# PERL_MM_USE_DEFAULT=1
# PERL_USE_UNSAFE_INC=1
# SHELL=/usr/bin/zsh
# 
# 
# 
# PERL5LIB path
# /tmp/loop_over_bdir-3373201-Lahb8K/Alien-Base-ModuleBuild-1.17-0/blib/lib
# /tmp/loop_over_bdir-3373201-Lahb8K/Alien-Base-ModuleBuild-1.17-0/blib/arch
# 
# 
# 
# perl                    5.018002 linux x86_64-linux
# Acme::Alien::DontPanic  -
# Acme::Alien::DontPanic2 -
# Alien::Base             2.80
# Alien::Base::PkgConfig  2.80
# Archive::Extract        0.88
# Archive::Tar            2.40
# Capture::Tiny           0.48
# Digest::SHA             6.02
# File::chdir             0.1011
# HTML::LinkExtor         3.78
# HTTP::Tiny              0.082
# LWP::UserAgent          6.64
# List::Util              1.63
# Module::Build           0.4231
# Path::Tiny              0.124
# Shell::Config::Generate 0.34
# Shell::Guess            0.09
# Sort::Versions          1.62
# Test2::V0               0.000159
# Text::ParseWords        3.28
# URI                     5.10
# URI::file               5.10
# parent                  0.238
# 
# 
# 
t/00_diag.t .................................. ok
t/alien_base_modulebuild.t ................... ok
t/alien_base_modulebuild_cabinet.t ........... ok
t/alien_base_modulebuild_file.t .............. ok
t/alien_base_modulebuild_repository.t ........ ok
t/alien_base_modulebuild_repository_ftp.t .... ok
t/alien_base_modulebuild_repository_http.t ... ok
t/alien_base_modulebuild_repository_local.t .. ok
t/alien_base_modulebuild_utils.t ............. ok
All tests successful.
Files=9, Tests=56,  8 wallclock secs ( 0.07 usr  0.03 sys +  3.66 cusr  1.49 csys =  5.25 CPU)
Result: PASS

------------------------------
PREREQUISITES
------------------------------

Prerequisite modules loaded:

requires:

    Module                  Need     Have    
    ----------------------- -------- --------
    Alien::Base             0        2.80    
    Alien::Base::PkgConfig  1.20     2.80    
    Archive::Extract        0        0.88    
    Archive::Tar            1.40     2.40    
    Capture::Tiny           0.17     0.48    
    File::chdir             0.1005   0.1011  
    HTTP::Tiny              0.044    0.082   
    List::Util              1.45     1.63    
    Module::Build           0.4004   0.4231  
    parent                  0        0.238   
    Path::Tiny              0.077    0.124   
    perl                    5.008001 5.018002
    Shell::Config::Generate 0        0.34    
    Shell::Guess            0        0.09    
    Sort::Versions          0        1.62    
    Text::ParseWords        3.26     3.28    
    URI                     0        5.10    

build_requires:

    Module                  Need     Have    
    ----------------------- -------- --------
    Module::Build           0.4004   0.4231  
    perl                    5.008001 5.018002
    Test2::V0               0.000121 0.000159
    URI::file               0        5.10    

configure_requires:

    Module                  Need     Have    
    ----------------------- -------- --------
    Module::Build           0.4004   0.4231  
    perl                    5.008001 5.018002


------------------------------
ENVIRONMENT AND OTHER CONTEXT
------------------------------

Environment variables:

    AUTOMATED_TESTING = 1
    LANG = en_US.UTF-8
    LANGUAGE = en_US:en
    PATH = /home/sand/bin:/usr/local/bin:/usr/bin:/bin:/usr/games:/usr/local/perl/bin:/usr/X11/bin:/sbin:/usr/sbin
    PERL5LIB = 
    PERL5OPT = 
    PERL5_CPANPLUS_IS_RUNNING = 2232941
    PERL5_CPAN_IS_RUNNING = 2232941
    PERL_CANARY_STABILITY_NOPROMPT = 1
    PERL_MM_USE_DEFAULT = 1
    PERL_USE_UNSAFE_INC = 1
    SHELL = /usr/bin/zsh
    TERM = screen

Perl special variables (and OS-specific diagnostics, for MSWin32):

    $^X = /home/sand/src/perl/repoperls/installed-perls/host/k93msid/v5.18.2/bb7f/bin/perl
    $UID/$EUID = 1005 / 1005
    $GID = 1005 1005
    $EGID = 1005 1005

Perl module toolchain versions installed:

    Module              Have    
    ------------------- --------
    CPAN                2.34    
    CPAN::Meta          2.150010
    Cwd                 3.75    
    ExtUtils::CBuilder  0.280236
    ExtUtils::Command   7.64    
    ExtUtils::Install   2.06    
    ExtUtils::MakeMaker 7.64    
    ExtUtils::Manifest  1.70    
    ExtUtils::ParseXS   3.51    
    File::Spec          3.75    
    JSON                4.10    
    JSON::PP            2.27202 
    Module::Build       0.4231  
    Module::Signature   0.88    
    Parse::CPAN::Meta   2.150010
    Test::Harness       3.44    
    Test::More          1.302198
    YAML                1.30    
    YAML::Syck          1.34    
    version             0.9929  


--

Summary of my perl5 (revision 5 version 18 subversion 2) configuration:
  Derived from: e2a4306ace4a19cb3a434e4eb9fedad6ff1248b4
  Platform:
    osname=linux, osvers=5.17.0-1-amd64, archname=x86_64-linux
    uname='linux k93msid 5.17.0-1-amd64 #1 smp preempt debian 5.17.3-1 (2022-04-18) x86_64 gnulinux '
    config_args='-Dprefix=/home/sand/src/perl/repoperls/installed-perls/host/k93msid/v5.18.2/bb7f -Dmyhostname=k93msid -Dinstallusrbinperl=n -Uversiononly -Dusedevel -des -Ui_db -Dlibswanted=cl pthread socket inet nsl gdbm dbm malloc dl ld sun m crypt sec util c cposix posix ucb BSD gdbm_compat -Uuseithreads -Uuselongdouble -DEBUGGING=both'
    hint=recommended, useposix=true, d_sigaction=define
    useithreads=undef, usemultiplicity=undef
    useperlio=define, d_sfio=undef, uselargefiles=define, usesocks=undef
    use64bitint=define, use64bitall=define, uselongdouble=undef
    usemymalloc=n, bincompat5005=undef
  Compiler:
    cc='cc', ccflags ='-fwrapv -DDEBUGGING -fno-strict-aliasing -pipe -fstack-protector -I/usr/local/include -D_LARGEFILE_SOURCE -D_FILE_OFFSET_BITS=64',
    optimize='-O2 -g',
    cppflags='-fwrapv -DDEBUGGING -fno-strict-aliasing -pipe -fstack-protector -I/usr/local/include'
    ccversion='', gccversion='11.3.0', gccosandvers=''
    intsize=4, longsize=8, ptrsize=8, doublesize=8, byteorder=12345678
    d_longlong=define, longlongsize=8, d_longdbl=define, longdblsize=16
    ivtype='long', ivsize=8, nvtype='double', nvsize=8, Off_t='off_t', lseeksize=8
    alignbytes=8, prototype=define
  Linker and Libraries:
    ld='cc', ldflags =' -fstack-protector -L/usr/local/lib'
    libpth=/usr/local/lib /lib/x86_64-linux-gnu /lib/../lib /usr/lib/x86_64-linux-gnu /usr/lib/../lib /lib /usr/lib
    libs=-lpthread -lnsl -ldl -lm -lcrypt -lutil -lc
    perllibs=-lpthread -lnsl -ldl -lm -lcrypt -lutil -lc
    libc=libc-2.33.so, so=so, useshrplib=false, libperl=libperl.a
    gnulibc_version='2.33'
  Dynamic Linking:
    dlsrc=dl_dlopen.xs, dlext=so, d_dlsymun=undef, ccdlflags='-Wl,-E'
    cccdlflags='-fPIC', lddlflags='-shared -O2 -g -L/usr/local/lib -fstack-protector'


Characteristics of this binary (from libperl): 
  Compile-time options: DEBUGGING HAS_TIMES PERLIO_LAYERS
                        PERL_DONT_CREATE_GVSV
                        PERL_HASH_FUNC_ONE_AT_A_TIME_HARD PERL_MALLOC_WRAP
                        PERL_PRESERVE_IVUV PERL_SAWAMPERSAND PERL_USE_DEVEL
                        USE_64_BIT_ALL USE_64_BIT_INT USE_LARGE_FILES
                        USE_LOCALE USE_LOCALE_COLLATE USE_LOCALE_CTYPE
                        USE_LOCALE_NUMERIC USE_PERLIO USE_PERL_ATOF
  Locally applied patches:
	uncommitted-changes
  Built under linux
  Compiled at May  4 2022 20:09:42
  %ENV:
    PERL5LIB=""
    PERL5OPT=""
    PERL5_CPANPLUS_IS_RUNNING="2232941"
    PERL5_CPAN_IS_RUNNING="2232941"
    PERL_CANARY_STABILITY_NOPROMPT="1"
    PERL_MM_USE_DEFAULT="1"
    PERL_USE_UNSAFE_INC="1"
  @INC:
    /home/sand/src/perl/repoperls/installed-perls/host/k93msid/v5.18.2/bb7f/lib/site_perl/5.18.2/x86_64-linux
    /home/sand/src/perl/repoperls/installed-perls/host/k93msid/v5.18.2/bb7f/lib/site_perl/5.18.2
    /home/sand/src/perl/repoperls/installed-perls/host/k93msid/v5.18.2/bb7f/lib/5.18.2/x86_64-linux
    /home/sand/src/perl/repoperls/installed-perls/host/k93msid/v5.18.2/bb7f/lib/5.18.2
    .