Amazon-Credentials v1.1.24 Perl 5 v5.22.3 amd64-freebsd

Status
Pass
From
Slaven Rezić
Dist
Amazon-Credentials v1.1.24
Platform
Perl 5 v5.22.3 amd64-freebsd
Date
2023-12-07 04:19:35
ID
d45cb58c-94b7-11ee-83f8-71476e8775ea
This distribution has been tested as part of the CPAN Testers
project, supporting the Perl programming language.  See
http://wiki.cpantesters.org/ for more information or email
questions to cpan-testers-discuss@perl.org


--
Dear Robert Lauer,

This is a computer-generated report for Amazon-Credentials-1.1.24
on perl 5.22.3, created by CPAN-Reporter-1.2019.

Thank you for uploading your work to CPAN.  Congratulations!
All tests were successful.

Sections of this report:

    * Tester comments
    * Program output
    * Prerequisites
    * Environment and other context

------------------------------
TESTER COMMENTS
------------------------------

Additional comments from tester:

none provided

------------------------------
PROGRAM OUTPUT
------------------------------

Output from '/usr/bin/make test':

PERL_DL_NONLAZY=1 "/usr/perl5.22.3p/bin/perl" "-MExtUtils::Command::MM" "-MTest::Harness" "-e" "undef *Test::Harness::Switches; test_harness(0, 'blib/lib', 'blib/arch')" t/*.t
t/00-credentials.t ....... ok
$VAR1 = [
          't/01-credentials.t'
        ];
t/01-credentials.t ....... ok
t/02-credentials.t ....... ok
t/03-container.t ......... ok
t/04-process.t ........... ok
t/05-format.t ............ ok
t/06-security.t .......... ok
t/07-encryption.t ........ ok
t/08-imdsv2.t ............ skipped: set AMAZON_CREDENTIALS_TEST_ALL to test in AWS
t/09-live-credentials.t .. skipped: set AMAZON_CREDENTIALS_TEST_ALL to test in AWS
t/10-logging.t ........... ok
t/11-order.t ............. ok
no credentials available at t/12-error.t line 52.
 at t/12-error.t line 52.
Can't exec "some_process_that_does_not_exist": Datei oder Verzeichnis nicht gefunden at lib/Amazon/Credentials.pm line 482.
t/12-error.t ............. ok
t/13-env.t ............... ok
t/14-utils.t ............. ok
All tests successful.
Files=15, Tests=67,  2 wallclock secs ( 0.03 usr  0.04 sys +  1.09 cusr  0.71 csys =  1.88 CPU)
Result: PASS

------------------------------
PREREQUISITES
------------------------------

Prerequisite modules loaded:

requires:

    Module                  Need     Have    
    ----------------------- -------- --------
    Carp                    1.26     1.50    
    Class::Accessor::Fast   0.31     0.51    
    Config::Tiny            2.28     2.29    
    Date::Format            2.24     2.24    
    English                 1.05     1.09    
    Exporter                5.68     5.77    
    File::chdir             0.1010   0.1010  
    File::Find              0        1.29    
    File::HomeDir           1.00     1.006   
    HTTP::Request           6.00     6.44    
    JSON::PP                4.07     4.16    
    List::Util              1.5      1.63    
    LWP::UserAgent          6.36     6.72    
    MIME::Base64            3.13     3.16    
    POSIX::strptime         0.13     0.13    
    Scalar::Util            1.5      1.63    
    Test::Output            1.033    1.033   
    Time::Local             1.2300   1.35    

build_requires:

    Module                  Need     Have    
    ----------------------- -------- --------
    constant                1.33     1.33    
    Cwd                     3.40     3.75    
    Data::Dumper            2.145    2.183   
    Date::Format            2.24     2.24    
    English                 1.05     1.09    
    ExtUtils::MakeMaker     6.64     7.70    
    File::Path              2.09     2.18    
    File::ShareDir::Install 0        0.14    
    File::Temp              0.2301   0.2311  
    JSON::PP                4.07     4.16    
    MIME::Base64            3.13     3.16    
    Module::Loaded          0        0.08    
    strict                  1.07     1.09    
    Test::More              1.001014 1.302196
    Test::Output            1.031    1.033   
    Test::Without::Module   0        0.21    
    warnings                1.13     1.34    

configure_requires:

    Module                  Need     Have    
    ----------------------- -------- --------
    ExtUtils::MakeMaker     6.64     7.70    
    File::ShareDir::Install 0        0.14    


------------------------------
ENVIRONMENT AND OTHER CONTEXT
------------------------------

Environment variables:

    LC_ALL = de_DE.ISO8859-1
    PATH = /usr/local/bin:/usr/bin:/bin:/usr/local/sbin:/usr/sbin:/sbin:/home/cpansand/bin/freebsd10.3:/home/cpansand/bin/sh:/home/cpansand/bin:/usr/games:/home/cpansand/devel:/home/eserte/src/srezic-misc/scripts
    PERL5LIB = 
    PERL5OPT = 
    PERL5_CPANPLUS_IS_RUNNING = 27573
    PERL5_CPAN_IS_RUNNING = 27573
    PERL5_CPAN_IS_RUNNING_IN_RECURSION = 1117,27573
    PERLDOC = -MPod::Perldoc::ToTextOverstrike
    PERL_BATCH = yes
    PERL_CANARY_STABILITY_NOPROMPT = 1
    PERL_CPAN_REPORTER_CONFIG = /var/tmp/cpansmoker-1023/2023120519/cpanreporter_000_config.ini
    PERL_EXTUTILS_AUTOINSTALL = --defaultdeps
    PERL_USE_UNSAFE_INC = 1
    SHELL = /usr/local/bin/zsh
    TERM = screen
    TMPDIR = /var/tmp/cpansmoker-1023/2023120519

Perl special variables (and OS-specific diagnostics, for MSWin32):

    $^X = /usr/perl5.22.3p/bin/perl
    $UID/$EUID = 1023 / 1023
    $GID = 1023 1023
    $EGID = 1023 1023

Perl module toolchain versions installed:

    Module              Have    
    ------------------- --------
    CPAN                2.34    
    CPAN::Meta          2.150010
    Cwd                 3.75    
    ExtUtils::CBuilder  0.280236
    ExtUtils::Command   7.70    
    ExtUtils::Install   2.22    
    ExtUtils::MakeMaker 7.70    
    ExtUtils::Manifest  1.75    
    ExtUtils::ParseXS   3.51    
    File::Spec          3.75    
    JSON                4.10    
    JSON::PP            4.16    
    Module::Build       0.4234  
    Module::Signature   0.87    
    Parse::CPAN::Meta   2.150010
    Test2               1.302196
    Test::Harness       3.47    
    Test::More          1.302196
    YAML                1.30    
    YAML::Syck          1.34    
    version             0.9930  


--

Summary of my perl5 (revision 5 version 22 subversion 3) configuration:
   
  Platform:
    osname=freebsd, osvers=10.1-release, archname=amd64-freebsd
    uname='freebsd cvrsnica-freebsd-101.herceg.de 10.1-release freebsd 10.1-release #0 r274401: tue nov 11 21:02:49 utc 2014 root@releng1.nyi.freebsd.org:usrobjusrsrcsysgeneric amd64 '
    config_args='-ds -e -Dprefix=/usr/perl5.22.3p -Dcf_email=srezic@cpan.org -Doptimize=-O2 -pipe'
    hint=recommended, useposix=true, d_sigaction=define
    useithreads=undef, usemultiplicity=undef
    use64bitint=define, use64bitall=define, uselongdouble=undef
    usemymalloc=n, bincompat5005=undef
  Compiler:
    cc='cc', ccflags ='-DHAS_FPSETMASK -DHAS_FLOATINGPOINT_H -fno-strict-aliasing -pipe -fstack-protector -I/usr/local/include -D_FORTIFY_SOURCE=2',
    optimize='-O2 -pipe',
    cppflags='-DHAS_FPSETMASK -DHAS_FLOATINGPOINT_H -fno-strict-aliasing -pipe -fstack-protector -I/usr/local/include'
    ccversion='', gccversion='4.2.1 Compatible FreeBSD Clang 3.4.1 (tags/RELEASE_34/dot1-final 208032)', gccosandvers=''
    intsize=4, longsize=8, ptrsize=8, doublesize=8, byteorder=12345678, doublekind=3
    d_longlong=define, longlongsize=8, d_longdbl=define, longdblsize=16, longdblkind=3
    ivtype='long', ivsize=8, nvtype='double', nvsize=8, Off_t='off_t', lseeksize=8
    alignbytes=8, prototype=define
  Linker and Libraries:
    ld='cc', ldflags ='-pthread -Wl,-E  -fstack-protector -L/usr/local/lib'
    libpth=/usr/lib /usr/local/lib /usr/include/clang/3.4.1 /usr/lib
    libs=-lpthread -lgdbm -lm -lcrypt -lutil -lc
    perllibs=-lpthread -lm -lcrypt -lutil -lc
    libc=, so=so, useshrplib=false, libperl=libperl.a
    gnulibc_version=''
  Dynamic Linking:
    dlsrc=dl_dlopen.xs, dlext=so, d_dlsymun=undef, ccdlflags=' '
    cccdlflags='-DPIC -fPIC', lddlflags='-shared  -L/usr/local/lib -fstack-protector'


Characteristics of this binary (from libperl): 
  Compile-time options: HAS_TIMES PERLIO_LAYERS PERL_DONT_CREATE_GVSV
                        PERL_HASH_FUNC_ONE_AT_A_TIME_HARD PERL_MALLOC_WRAP
                        PERL_NEW_COPY_ON_WRITE PERL_PRESERVE_IVUV
                        USE_64_BIT_ALL USE_64_BIT_INT USE_LARGE_FILES
                        USE_LOCALE USE_LOCALE_COLLATE USE_LOCALE_CTYPE
                        USE_LOCALE_NUMERIC USE_LOCALE_TIME USE_PERLIO
                        USE_PERL_ATOF
  Built under freebsd
  Compiled at Jan 15 2017 18:31:13
  %ENV:
    PERL5LIB=""
    PERL5OPT=""
    PERL5_CPANPLUS_IS_RUNNING="27573"
    PERL5_CPAN_IS_RUNNING="27573"
    PERL5_CPAN_IS_RUNNING_IN_RECURSION="1117,27573"
    PERLDOC="-MPod::Perldoc::ToTextOverstrike"
    PERL_BATCH="yes"
    PERL_CANARY_STABILITY_NOPROMPT="1"
    PERL_CPAN_REPORTER_CONFIG="/var/tmp/cpansmoker-1023/2023120519/cpanreporter_000_config.ini"
    PERL_EXTUTILS_AUTOINSTALL="--defaultdeps"
    PERL_USE_UNSAFE_INC="1"
  @INC:
    /usr/perl5.22.3p/lib/site_perl/5.22.3/amd64-freebsd
    /usr/perl5.22.3p/lib/site_perl/5.22.3
    /usr/perl5.22.3p/lib/5.22.3/amd64-freebsd
    /usr/perl5.22.3p/lib/5.22.3
    .