Gtk2-Ex-Splash v53 Perl 5 v5.22.4 x86_64-linux-thread-multi
- Status
- Pass
- From
- Andreas J. König (ANDK)
- Dist
-
Gtk2-Ex-Splash v53
- Platform
- Perl 5 v5.22.4 x86_64-linux-thread-multi
- Date
- 2019-08-22 12:17:37
- ID
- d445472c-c4d6-11e9-b4be-4eb68db2b76f
This distribution has been tested as part of the CPAN Testers
project, supporting the Perl programming language. See
http://wiki.cpantesters.org/ for more information or email
questions to cpan-testers-discuss@perl.org
--
Dear Kevin Ryde,
This is a computer-generated report for Gtk2-Ex-Splash-53
on perl 5.22.4, created by CPAN-Reporter-1.2018.
Thank you for uploading your work to CPAN. Congratulations!
All tests were successful.
Sections of this report:
* Tester comments
* Program output
* Prerequisites
* Environment and other context
------------------------------
TESTER COMMENTS
------------------------------
Additional comments from tester:
this report is from an automated smoke testing program
and was not reviewed by a human for accuracy
------------------------------
PROGRAM OUTPUT
------------------------------
Output from '/usr/bin/make test':
PERL_DL_NONLAZY=1 "/home/sand/src/perl/repoperls/installed-perls/host/k93stretch/v5.22.4/ef9e/bin/perl" "-MExtUtils::Command::MM" "-MTest::Harness" "-e" "undef *Test::Harness::Switches; test_harness(0, 'blib/lib', 'blib/arch')" t/*.t
t/Splash-load.t .... ok
# Perl-Gtk2 version 1.24992
# Perl-Glib version 1.329
# Compiled against Glib version 2.50.3.
# Running on Glib version 2.50.3.
# Compiled against Gtk version 2.24.31.
# Running on Gtk version 2.24.31.
t/Splash-weaken.t .. skipped: Test::Weaken 3 not available -- Can't locate Test/Weaken.pm in @INC (you may need to install the Test::Weaken module) (@INC contains: t /tmp/loop_over_bdir-29537-hI5qav/Gtk2-Ex-Splash-53-0/blib/lib /tmp/loop_over_bdir-29537-hI5qav/Gtk2-Ex-Splash-53-0/blib/arch /tmp/loop_over_bdir-29537-hI5qav/Gtk2-1.24992-0/blib/arch /tmp/loop_over_bdir-29537-hI5qav/Gtk2-1.24992-0/blib/lib /tmp/loop_over_bdir-29537-hI5qav/Pango-1.227-0/blib/arch /tmp/loop_over_bdir-29537-hI5qav/Pango-1.227-0/blib/lib /tmp/loop_over_bdir-29537-hI5qav/Cairo-1.106-0/blib/arch /tmp/loop_over_bdir-29537-hI5qav/Cairo-1.106-0/blib/lib /tmp/loop_over_bdir-29537-hI5qav/Glib-1.329-0/blib/arch /tmp/loop_over_bdir-29537-hI5qav/Glib-1.329-0/blib/lib /tmp/loop_over_bdir-29537-hI5qav/ExtUtils-PkgConfig-1.16-0/blib/arch /tmp/loop_over_bdir-29537-hI5qav/ExtUtils-PkgConfig-1.16-0/blib/lib /tmp/loop_over_bdir-29537-hI5qav/ExtUtils-Depends-0.8000-0/blib/arch /tmp/loop_over_bdir-29537-hI5qav/ExtUtils-Depends-0.8000-0/blib/lib /home/sand/src/perl/repoperls/installed-perls/host/k93stretch/v5.22.4/ef9e/lib/site_perl/5.22.4/x86_64-linux-thread-multi /home/sand/src/perl/repoperls/installed-perls/host/k93stretch/v5.22.4/ef9e/lib/site_perl/5.22.4 /home/sand/src/perl/repoperls/installed-perls/host/k93stretch/v5.22.4/ef9e/lib/5.22.4/x86_64-linux-thread-multi /home/sand/src/perl/repoperls/installed-perls/host/k93stretch/v5.22.4/ef9e/lib/5.22.4 .) at (eval 10) line 1.
# Perl-Gtk2 version 1.24992
# Perl-Glib version 1.329
# Compiled against Glib version 2.50.3.
# Running on Glib version 2.50.3.
# Compiled against Gtk version 2.24.31.
# Running on Gtk version 2.24.31.
# properties:
# pixmap Pixmap
# pixbuf Pixbuf
# filename Filename
t/Splash.t ......... ok
All tests successful.
Files=3, Tests=9, 0 wallclock secs ( 0.02 usr 0.02 sys + 0.23 cusr 0.06 csys = 0.33 CPU)
Result: PASS
------------------------------
PREREQUISITES
------------------------------
Prerequisite modules loaded:
requires:
Module Need Have
---------------------- ----- --------
Glib 1.220 1.329
Glib::Object::Subclass 0 1.329
Gtk2 0 1.24992
perl 5.008 5.022004
build_requires:
Module Need Have
---------------------- ----- --------
ExtUtils::MakeMaker 0 7.36
configure_requires:
Module Need Have
---------------------- ----- --------
ExtUtils::MakeMaker 0 7.36
------------------------------
ENVIRONMENT AND OTHER CONTEXT
------------------------------
Environment variables:
AUTOMATED_TESTING = 1
LANG = C
PATH = /home/sand/bin:/usr/local/bin:/usr/bin:/bin:/usr/games:/usr/local/perl/bin:/usr/X11/bin:/sbin:/usr/sbin
PERL5LIB = /tmp/loop_over_bdir-29537-hI5qav/Gtk2-1.24992-0/blib/arch:/tmp/loop_over_bdir-29537-hI5qav/Gtk2-1.24992-0/blib/lib:/tmp/loop_over_bdir-29537-hI5qav/Pango-1.227-0/blib/arch:/tmp/loop_over_bdir-29537-hI5qav/Pango-1.227-0/blib/lib:/tmp/loop_over_bdir-29537-hI5qav/Cairo-1.106-0/blib/arch:/tmp/loop_over_bdir-29537-hI5qav/Cairo-1.106-0/blib/lib:/tmp/loop_over_bdir-29537-hI5qav/Glib-1.329-0/blib/arch:/tmp/loop_over_bdir-29537-hI5qav/Glib-1.329-0/blib/lib:/tmp/loop_over_bdir-29537-hI5qav/ExtUtils-PkgConfig-1.16-0/blib/arch:/tmp/loop_over_bdir-29537-hI5qav/ExtUtils-PkgConfig-1.16-0/blib/lib:/tmp/loop_over_bdir-29537-hI5qav/ExtUtils-Depends-0.8000-0/blib/arch:/tmp/loop_over_bdir-29537-hI5qav/ExtUtils-Depends-0.8000-0/blib/lib
PERL5OPT =
PERL5_CPANPLUS_IS_RUNNING = 21892
PERL5_CPAN_IS_RUNNING = 21892
PERL_CANARY_STABILITY_NOPROMPT = 1
PERL_MM_USE_DEFAULT = 1
PERL_USE_UNSAFE_INC = 1
SHELL = /usr/bin/zsh
TERM = screen
Perl special variables (and OS-specific diagnostics, for MSWin32):
$^X = /home/sand/src/perl/repoperls/installed-perls/host/k93stretch/v5.22.4/ef9e/bin/perl
$UID/$EUID = 1005 / 1005
$GID = 1005 1005
$EGID = 1005 1005
Perl module toolchain versions installed:
Module Have
------------------- ----------
CPAN 2.26
CPAN::Meta 2.150010
Cwd 3.75
ExtUtils::CBuilder 0.280231
ExtUtils::Command 7.36
ExtUtils::Install 2.06
ExtUtils::MakeMaker 7.36
ExtUtils::Manifest 1.70
ExtUtils::ParseXS 3.28
File::Spec 3.75
JSON 4.02
JSON::PP 2.27300_01
Module::Build 0.4229
Module::Signature 0.83
Parse::CPAN::Meta 2.150010
Test::Harness 3.42
Test::More 1.302164
YAML 1.29
YAML::Syck 1.31
version 0.9924
--
Summary of my perl5 (revision 5 version 22 subversion 4) configuration:
Derived from: a26666a1317770d8a2228ac3657ba58020c3511f
Platform:
osname=linux, osvers=4.9.0-8-amd64, archname=x86_64-linux-thread-multi
uname='linux k93stretch 4.9.0-8-amd64 #1 smp debian 4.9.144-3 (2019-02-02) x86_64 gnulinux '
config_args='-Dprefix=/home/sand/src/perl/repoperls/installed-perls/host/k93stretch/v5.22.4/ef9e -Dmyhostname=k93stretch -Dinstallusrbinperl=n -Uversiononly -Dusedevel -des -Ui_db -Dlibswanted=cl pthread socket inet nsl gdbm dbm malloc dl ld sun m crypt sec util c cposix posix ucb BSD gdbm_compat -Duseithreads -Uuselongdouble -DEBUGGING=-g'
hint=recommended, useposix=true, d_sigaction=define
useithreads=define, usemultiplicity=define
use64bitint=define, use64bitall=define, uselongdouble=undef
usemymalloc=n, bincompat5005=undef
Compiler:
cc='cc', ccflags ='-D_REENTRANT -D_GNU_SOURCE -fwrapv -fno-strict-aliasing -pipe -fstack-protector-strong -I/usr/local/include -D_LARGEFILE_SOURCE -D_FILE_OFFSET_BITS=64',
optimize='-O2 -g',
cppflags='-D_REENTRANT -D_GNU_SOURCE -fwrapv -fno-strict-aliasing -pipe -fstack-protector-strong -I/usr/local/include'
ccversion='', gccversion='6.3.0 20170516', gccosandvers=''
intsize=4, longsize=8, ptrsize=8, doublesize=8, byteorder=12345678, doublekind=3
d_longlong=define, longlongsize=8, d_longdbl=define, longdblsize=16, longdblkind=3
ivtype='long', ivsize=8, nvtype='double', nvsize=8, Off_t='off_t', lseeksize=8
alignbytes=8, prototype=define
Linker and Libraries:
ld='cc', ldflags =' -fstack-protector-strong -L/usr/local/lib'
libpth=/usr/local/lib /usr/lib/gcc/x86_64-linux-gnu/6/include-fixed /usr/include/x86_64-linux-gnu /usr/lib /lib/x86_64-linux-gnu /lib/../lib /usr/lib/x86_64-linux-gnu /usr/lib/../lib /lib
libs=-lpthread -lnsl -ldl -lm -lcrypt -lutil -lc
perllibs=-lpthread -lnsl -ldl -lm -lcrypt -lutil -lc
libc=libc-2.24.so, so=so, useshrplib=false, libperl=libperl.a
gnulibc_version='2.24'
Dynamic Linking:
dlsrc=dl_dlopen.xs, dlext=so, d_dlsymun=undef, ccdlflags='-Wl,-E'
cccdlflags='-fPIC', lddlflags='-shared -O2 -g -L/usr/local/lib -fstack-protector-strong'
Characteristics of this binary (from libperl):
Compile-time options: HAS_TIMES MULTIPLICITY PERLIO_LAYERS
PERL_DONT_CREATE_GVSV
PERL_HASH_FUNC_ONE_AT_A_TIME_HARD
PERL_IMPLICIT_CONTEXT PERL_MALLOC_WRAP
PERL_NEW_COPY_ON_WRITE PERL_PRESERVE_IVUV
PERL_USE_DEVEL USE_64_BIT_ALL USE_64_BIT_INT
USE_ITHREADS USE_LARGE_FILES USE_LOCALE
USE_LOCALE_COLLATE USE_LOCALE_CTYPE
USE_LOCALE_NUMERIC USE_LOCALE_TIME USE_PERLIO
USE_PERL_ATOF USE_REENTRANT_API
Locally applied patches:
uncommitted-changes
Built under linux
Compiled at May 25 2019 06:23:51
%ENV:
PERL5LIB="/tmp/loop_over_bdir-29537-hI5qav/Gtk2-1.24992-0/blib/arch:/tmp/loop_over_bdir-29537-hI5qav/Gtk2-1.24992-0/blib/lib:/tmp/loop_over_bdir-29537-hI5qav/Pango-1.227-0/blib/arch:/tmp/loop_over_bdir-29537-hI5qav/Pango-1.227-0/blib/lib:/tmp/loop_over_bdir-29537-hI5qav/Cairo-1.106-0/blib/arch:/tmp/loop_over_bdir-29537-hI5qav/Cairo-1.106-0/blib/lib:/tmp/loop_over_bdir-29537-hI5qav/Glib-1.329-0/blib/arch:/tmp/loop_over_bdir-29537-hI5qav/Glib-1.329-0/blib/lib:/tmp/loop_over_bdir-29537-hI5qav/ExtUtils-PkgConfig-1.16-0/blib/arch:/tmp/loop_over_bdir-29537-hI5qav/ExtUtils-PkgConfig-1.16-0/blib/lib:/tmp/loop_over_bdir-29537-hI5qav/ExtUtils-Depends-0.8000-0/blib/arch:/tmp/loop_over_bdir-29537-hI5qav/ExtUtils-Depends-0.8000-0/blib/lib"
PERL5OPT=""
PERL5_CPANPLUS_IS_RUNNING="21892"
PERL5_CPAN_IS_RUNNING="21892"
PERL_CANARY_STABILITY_NOPROMPT="1"
PERL_MM_USE_DEFAULT="1"
PERL_USE_UNSAFE_INC="1"
@INC:
/tmp/loop_over_bdir-29537-hI5qav/Gtk2-1.24992-0/blib/arch
/tmp/loop_over_bdir-29537-hI5qav/Gtk2-1.24992-0/blib/lib
/tmp/loop_over_bdir-29537-hI5qav/Pango-1.227-0/blib/arch
/tmp/loop_over_bdir-29537-hI5qav/Pango-1.227-0/blib/lib
/tmp/loop_over_bdir-29537-hI5qav/Cairo-1.106-0/blib/arch
/tmp/loop_over_bdir-29537-hI5qav/Cairo-1.106-0/blib/lib
/tmp/loop_over_bdir-29537-hI5qav/Glib-1.329-0/blib/arch
/tmp/loop_over_bdir-29537-hI5qav/Glib-1.329-0/blib/lib
/tmp/loop_over_bdir-29537-hI5qav/ExtUtils-PkgConfig-1.16-0/blib/arch
/tmp/loop_over_bdir-29537-hI5qav/ExtUtils-PkgConfig-1.16-0/blib/lib
/tmp/loop_over_bdir-29537-hI5qav/ExtUtils-Depends-0.8000-0/blib/arch
/tmp/loop_over_bdir-29537-hI5qav/ExtUtils-Depends-0.8000-0/blib/lib
/home/sand/src/perl/repoperls/installed-perls/host/k93stretch/v5.22.4/ef9e/lib/site_perl/5.22.4/x86_64-linux-thread-multi
/home/sand/src/perl/repoperls/installed-perls/host/k93stretch/v5.22.4/ef9e/lib/site_perl/5.22.4
/home/sand/src/perl/repoperls/installed-perls/host/k93stretch/v5.22.4/ef9e/lib/5.22.4/x86_64-linux-thread-multi
/home/sand/src/perl/repoperls/installed-perls/host/k93stretch/v5.22.4/ef9e/lib/5.22.4
.