Module-Metadata v1.000036 Perl 5 v5.28.0 i686-linux
- Status
- Pass
- From
- Serguei Trouchelle (STRO)
- Dist
-
Module-Metadata v1.000036
- Platform
- Perl 5 v5.28.0 i686-linux
- Date
- 2019-08-14 06:57:49
- ID
- d43f4f4c-be60-11e9-b865-a7850a6af1e7
This distribution has been tested as part of the CPAN Testers
project, supporting the Perl programming language. See
http://wiki.cpantesters.org/ for more information or email
questions to cpan-testers-discuss@perl.org
--
Dear Karen Etheridge,
This is a computer-generated report for Module-Metadata-1.000036
on perl 5.28.0, created by CPAN-Reporter-1.2018.
Thank you for uploading your work to CPAN. Congratulations!
All tests were successful.
Sections of this report:
* Tester comments
* Program output
* Prerequisites
* Environment and other context
------------------------------
TESTER COMMENTS
------------------------------
Additional comments from tester:
none provided
------------------------------
PROGRAM OUTPUT
------------------------------
Output from '/usr/bin/make test':
PERL_DL_NONLAZY=1 "/home/cpantester/perl/5.28.0/bin/perl" "-MExtUtils::Command::MM" "-MTest::Harness" "-e" "undef *Test::Harness::Switches; test_harness(0, 'blib/lib', 'blib/arch')" t/*.t
#
# Versions for all modules listed in MYMETA.json (including optional ones):
#
# === Configure Requires ===
#
# Module Want Have
# ------------------- ---- ----
# ExtUtils::MakeMaker any 7.36
#
# === Build Requires ===
#
# Module Want Have
# ------------------- ---- ----
# ExtUtils::MakeMaker any 7.36
#
# === Test Requires ===
#
# Module Want Have
# ------------------- ---- --------
# Cwd any 3.75
# ExtUtils::MakeMaker any 7.36
# File::Basename any 2.85
# File::Path any 2.16
# File::Spec any 3.75
# File::Temp any 0.2309
# IO::File any 1.39
# Test::More 0.88 1.302162
# lib any 0.64
#
# === Test Recommends ===
#
# Module Want Have
# ---------- -------- --------
# CPAN::Meta 2.120900 2.150010
#
# === Runtime Requires ===
#
# Module Want Have
# ---------- ---- ------
# Carp any 1.50
# Fcntl any 1.13
# File::Find any 1.34
# File::Spec any 3.75
# strict any 1.11
# version 0.87 0.9924
# warnings any 1.42
#
# === Other Modules ===
#
# Module Have
# --------------- ------
# Encode 3.01
# File::Temp 0.2309
# JSON::PP 4.04
# Module::Runtime 0.016
# Pod::Coverage 0.23
# Sub::Name 0.21
# YAML 1.27
# autodie 2.29
#
t/00-report-prereqs.t .. ok
t/contains_pod.t ....... ok
t/encoding.t ........... ok
t/endpod.t ............. ok
t/extract-package.t .... ok
t/extract-version.t .... ok
t/metadata.t ........... ok
t/taint.t .............. ok
t/version.t ............ ok
All tests successful.
Files=9, Tests=349, 42 wallclock secs ( 2.07 usr 0.34 sys + 35.82 cusr 3.36 csys = 41.59 CPU)
Result: PASS
------------------------------
PREREQUISITES
------------------------------
Prerequisite modules loaded:
requires:
Module Need Have
------------------- ----- --------
Carp 0 1.50
Fcntl 0 1.13
File::Find 0 1.34
File::Spec 0 3.75
perl 5.006 5.028000
strict 0 1.11
version 0.87 0.9924
warnings 0 1.42
build_requires:
Module Need Have
------------------- ----- --------
Cwd 0 3.75
ExtUtils::MakeMaker 0 7.36
File::Basename 0 2.85
File::Path 0 2.16
File::Spec 0 3.75
File::Temp 0 0.2309
IO::File 0 1.39
lib 0 0.64
Test::More 0.88 1.302162
configure_requires:
Module Need Have
------------------- ----- --------
ExtUtils::MakeMaker 0 7.36
perl 5.006 5.028000
------------------------------
ENVIRONMENT AND OTHER CONTEXT
------------------------------
Environment variables:
LANG = en_US.UTF-8
NONINTERACTIVE_TESTING = 1
PATH = /home/cpantester/perl/5.28.2/bin:/usr/local/bin:/usr/bin:/bin:/usr/local/games:/usr/games
PERL5LIB =
PERL5OPT =
PERL5_CPANPLUS_IS_RUNNING = 30378
PERL5_CPAN_IS_RUNNING = 30378
PERL_MM_USE_DEFAULT = 1
PERL_USE_UNSAFE_INC = 1
SHELL = /bin/bash
TERM = xterm
Perl special variables (and OS-specific diagnostics, for MSWin32):
$^X = /home/cpantester/perl/5.28.0/bin/perl
$UID/$EUID = 1006 / 1006
$GID = 1006 1006
$EGID = 1006 1006
Perl module toolchain versions installed:
Module Have
------------------- --------
CPAN 2.27
CPAN::Meta 2.150010
Cwd 3.75
ExtUtils::CBuilder 0.280231
ExtUtils::Command 7.36
ExtUtils::Install 2.14
ExtUtils::MakeMaker 7.36
ExtUtils::Manifest 1.72
ExtUtils::ParseXS 3.39
File::Spec 3.75
JSON 4.02
JSON::PP 4.04
Module::Build 0.4229
Module::Signature n/a
Parse::CPAN::Meta 2.150010
Test::Harness 3.42
Test::More 1.302162
YAML 1.27
YAML::Syck 1.31
version 0.9924
--
Summary of my perl5 (revision 5 version 28 subversion 0) configuration:
Platform:
osname=linux
osvers=4.9.0-7-686-pae
archname=i686-linux
uname='linux cthugha 4.9.0-7-686-pae #1 smp debian 4.9.110-1 (2018-07-05) i686 gnulinux '
config_args=''
hint=recommended
useposix=true
d_sigaction=define
useithreads=undef
usemultiplicity=undef
use64bitint=undef
use64bitall=undef
uselongdouble=undef
usemymalloc=n
default_inc_excludes_dot=define
bincompat5005=undef
Compiler:
cc='cc'
ccflags ='-fwrapv -fno-strict-aliasing -pipe -fstack-protector-strong -I/usr/local/include -D_LARGEFILE_SOURCE -D_FILE_OFFSET_BITS=64 -D_FORTIFY_SOURCE=2'
optimize='-O2'
cppflags='-fwrapv -fno-strict-aliasing -pipe -fstack-protector-strong -I/usr/local/include'
ccversion=''
gccversion='6.3.0 20170516'
gccosandvers=''
intsize=4
longsize=4
ptrsize=4
doublesize=8
byteorder=1234
doublekind=3
d_longlong=define
longlongsize=8
d_longdbl=define
longdblsize=12
longdblkind=3
ivtype='long'
ivsize=4
nvtype='double'
nvsize=8
Off_t='off_t'
lseeksize=8
alignbytes=4
prototype=define
Linker and Libraries:
ld='cc'
ldflags =' -fstack-protector-strong -L/usr/local/lib'
libpth=/usr/local/lib /usr/lib/gcc/i686-linux-gnu/6/include-fixed /usr/include/i386-linux-gnu /usr/lib /lib/i386-linux-gnu /lib/../lib /usr/lib/i386-linux-gnu /usr/lib/../lib /lib
libs=-lpthread -lnsl -ldl -lm -lcrypt -lutil -lc
perllibs=-lpthread -lnsl -ldl -lm -lcrypt -lutil -lc
libc=libc-2.24.so
so=so
useshrplib=false
libperl=libperl.a
gnulibc_version='2.24'
Dynamic Linking:
dlsrc=dl_dlopen.xs
dlext=so
d_dlsymun=undef
ccdlflags='-Wl,-E'
cccdlflags='-fPIC'
lddlflags='-shared -O2 -L/usr/local/lib -fstack-protector-strong'
Characteristics of this binary (from libperl):
Compile-time options:
HAS_TIMES
PERLIO_LAYERS
PERL_COPY_ON_WRITE
PERL_DONT_CREATE_GVSV
PERL_MALLOC_WRAP
PERL_OP_PARENT
PERL_PRESERVE_IVUV
USE_LARGE_FILES
USE_LOCALE
USE_LOCALE_COLLATE
USE_LOCALE_CTYPE
USE_LOCALE_NUMERIC
USE_LOCALE_TIME
USE_PERLIO
USE_PERL_ATOF
Built under linux
Compiled at Aug 10 2018 18:59:32
%ENV:
PERL5LIB=""
PERL5OPT=""
PERL5_CPANPLUS_IS_RUNNING="30378"
PERL5_CPAN_IS_RUNNING="30378"
PERL_MM_USE_DEFAULT="1"
PERL_USE_UNSAFE_INC="1"
@INC:
/home/cpantester/perl/5.28.0/lib/site_perl/5.28.0/i686-linux
/home/cpantester/perl/5.28.0/lib/site_perl/5.28.0
/home/cpantester/perl/5.28.0/lib/5.28.0/i686-linux
/home/cpantester/perl/5.28.0/lib/5.28.0
.