Catalyst-Devel v1.42 Perl 5 v5.30.3 sparc64-openbsd
- Status
- Pass
- From
- Dist
-
Catalyst-Devel v1.42
- Platform
- Perl 5 v5.30.3 sparc64-openbsd
- Date
- 2020-12-30 11:26:15
- ID
- d4350ece-4a91-11eb-a688-9cd5ae157fc4
This distribution has been tested as part of the CPAN Testers
project, supporting the Perl programming language. See
http://wiki.cpantesters.org/ for more information or email
questions to cpan-testers-discuss@perl.org
--
Dear Graham Knop,
This is a computer-generated report for Catalyst-Devel-1.42
on perl 5.30.3, created by CPAN-Reporter-1.2018.
Thank you for uploading your work to CPAN. Congratulations!
All tests were successful.
Sections of this report:
* Tester comments
* Program output
* Prerequisites
* Environment and other context
------------------------------
TESTER COMMENTS
------------------------------
Additional comments from tester:
this report is from an automated smoke testing program
and was not reviewed by a human for accuracy
------------------------------
PROGRAM OUTPUT
------------------------------
Output from '/usr/bin/make test':
Skip blib/lib/auto/share/dist/Catalyst-Devel/script/myapp_test.pl.tt (unchanged)
Skip blib/lib/auto/share/dist/Catalyst-Devel/lib/MyApp.pm.tt (unchanged)
Skip blib/lib/auto/share/dist/Catalyst-Devel/t/comptest.tt (unchanged)
Skip blib/lib/auto/share/dist/Catalyst-Devel/root/static/images/btn_88x31_powered.png.bin (unchanged)
Skip blib/lib/auto/share/dist/Catalyst-Devel/Makefile.PL.tt (unchanged)
Skip blib/lib/auto/share/dist/Catalyst-Devel/root/static/images/catalyst_logo.png.bin (unchanged)
Skip blib/lib/auto/share/dist/Catalyst-Devel/script/myapp_create.pl.tt (unchanged)
Skip blib/lib/auto/share/dist/Catalyst-Devel/lib/Helper/compclass.pm.tt (unchanged)
Skip blib/lib/auto/share/dist/Catalyst-Devel/root/static/images/btn_88x31_powered_shadow.png.bin (unchanged)
Skip blib/lib/auto/share/dist/Catalyst-Devel/t/01app.t.tt (unchanged)
Skip blib/lib/auto/share/dist/Catalyst-Devel/root/static/images/btn_88x31_built_shadow.png.bin (unchanged)
Skip blib/lib/auto/share/dist/Catalyst-Devel/root/static/images/btn_120x50_powered_shadow.png.bin (unchanged)
Skip blib/lib/auto/share/dist/Catalyst-Devel/script/myapp_fastcgi.pl.tt (unchanged)
Skip blib/lib/auto/share/dist/Catalyst-Devel/script/myapp_server.pl.tt (unchanged)
Skip blib/lib/auto/share/dist/Catalyst-Devel/script/myapp_cgi.pl.tt (unchanged)
Skip blib/lib/auto/share/dist/Catalyst-Devel/root/static/images/btn_88x31_built.png.bin (unchanged)
Skip blib/lib/auto/share/dist/Catalyst-Devel/myapp.conf.tt (unchanged)
Skip blib/lib/auto/share/dist/Catalyst-Devel/Changes.tt (unchanged)
Skip blib/lib/auto/share/dist/Catalyst-Devel/lib/MyApp/Controller/Root.pm.tt (unchanged)
Skip blib/lib/auto/share/dist/Catalyst-Devel/README.tt (unchanged)
Skip blib/lib/auto/share/dist/Catalyst-Devel/root/static/images/btn_120x50_powered.png.bin (unchanged)
Skip blib/lib/auto/share/dist/Catalyst-Devel/t/03podcoverage.t.tt (unchanged)
Skip blib/lib/auto/share/dist/Catalyst-Devel/myapp.psgi.tt (unchanged)
Skip blib/lib/auto/share/dist/Catalyst-Devel/root/static/images/btn_120x50_built.png.bin (unchanged)
Skip blib/lib/auto/share/dist/Catalyst-Devel/t/02pod.t.tt (unchanged)
Skip blib/lib/auto/share/dist/Catalyst-Devel/root/static/images/btn_120x50_built_shadow.png.bin (unchanged)
Skip blib/lib/auto/share/dist/Catalyst-Devel/root/favicon.ico.bin (unchanged)
PERL_DL_NONLAZY=1 "/usr/bin/perl" "-MExtUtils::Command::MM" "-MTest::Harness" "-e" "undef *Test::Harness::Switches; test_harness(0, 'blib/lib', 'blib/arch')" t/*.t
t/01use.t ......................... ok
t/back_compat.t ................... ok
t/generated_app.t ................. ok
t/get_sharedir_file.t ............. ok
t/optional_http-server-restart.t .. skipped: set TEST_HTTP to enable this test
t/render_file_contents.t .......... ok
t/render_share_dir_file.t ......... ok
All tests successful.
Files=7, Tests=91, 45 wallclock secs ( 0.19 usr 0.20 sys + 36.12 cusr 7.74 csys = 44.25 CPU)
Result: PASS
------------------------------
PREREQUISITES
------------------------------
Prerequisite modules loaded:
requires:
Module Need Have
-------------------------------------- ------- --------
Catalyst 5.90001 5.90128
Catalyst::Action::RenderView 0.10 0.16
Catalyst::Plugin::ConfigLoader 0.30 0.35
Catalyst::Plugin::Static::Simple 0.28 0.36
Config::General 2.42 2.63
File::ChangeNotify 0.07 0.31
File::Copy::Recursive 0 0.45
File::ShareDir 0 1.118
Module::Install 1.02 1.19
Moose 0 2.2013
MooseX::Emulate::Class::Accessor::Fast 0 0.009032
namespace::autoclean 0 0.29
namespace::clean 0 0.27
Path::Class 0.09 0.37
Template 2.14 3.009
build_requires:
Module Need Have
-------------------------------------- ------- --------
Test::Fatal 0.003 0.016
Test::More 0.94 1.302183
configure_requires:
Module Need Have
-------------------------------------- ------- --------
ExtUtils::MakeMaker 0 7.58
File::ShareDir::Install 0 0.13
------------------------------
ENVIRONMENT AND OTHER CONTEXT
------------------------------
Environment variables:
AUTOMATED_TESTING = 1
NONINTERACTIVE_TESTING = 1
PATH = /home/smoker/perl/system/bin:/home/smoker/.plenv/libexec:/home/smoker/.plenv/plugins/perl-build/bin:/home/smoker/.plenv/plugins/plenv-contrib/bin:/home/smoker/.plenv/shims:/home/smoker/.plenv/bin:/home/smoker/bin:/bin:/sbin:/usr/bin:/usr/sbin:/usr/X11R6/bin:/usr/local/bin:/usr/local/sbin:/usr/games
PERL5LIB = /home/smoker/perl/system/lib/perl5
PERL5OPT =
PERL5_CPANPLUS_IS_RUNNING = 57179
PERL5_CPAN_IS_RUNNING = 57179
PERL5_CPAN_IS_RUNNING_IN_RECURSION = 38161,57179
PERL_CARTON_PATH = /home/afresh1/cpan-smoker-setup/local/system
PERL_CR_SMOKER_CURRENT = RapidApp-1.3400
PERL_EXTUTILS_AUTOINSTALL = --defaultdeps
PERL_LOCAL_LIB_ROOT = /home/smoker/perl/system
PERL_MB_OPT = --install_base '/home/smoker/perl/system'
PERL_MM_OPT = INSTALL_BASE=/home/smoker/perl/system
PERL_MM_USE_DEFAULT = 1
PERL_USE_UNSAFE_INC = 1
SHELL = /bin/ksh
TERM = screen
Perl special variables (and OS-specific diagnostics, for MSWin32):
$^X = /usr/bin/perl
$UID/$EUID = 900 / 900
$GID = 900 900
$EGID = 900 900
Perl module toolchain versions installed:
Module Have
------------------- --------
CPAN 2.22
CPAN::Meta 2.150010
Cwd 3.78
ExtUtils::CBuilder 0.280231
ExtUtils::Command 7.58
ExtUtils::Install 2.20
ExtUtils::MakeMaker 7.58
ExtUtils::Manifest 1.72
ExtUtils::ParseXS 3.40
File::Spec 3.78
JSON 4.02
JSON::PP 4.05
Module::Build 0.4231
Module::Signature 0.87
Parse::CPAN::Meta 2.150010
Test::Harness 3.42
Test::More 1.302183
YAML 1.26
YAML::Syck 1.34
version 0.9924
--
Summary of my perl5 (revision 5 version 30 subversion 3) configuration:
Platform:
osname=openbsd
osvers=6.8
archname=sparc64-openbsd
uname='openbsd'
config_args='-dse -Dopenbsd_distribution=defined -Dmksymlinks'
hint=recommended
useposix=true
d_sigaction=define
useithreads=undef
usemultiplicity=undef
use64bitint=define
use64bitall=define
uselongdouble=undef
usemymalloc=n
default_inc_excludes_dot=define
bincompat5005=undef
Compiler:
cc='cc'
ccflags ='-DNO_LOCALE_NUMERIC -DNO_LOCALE_COLLATE -fno-strict-aliasing -fno-delete-null-pointer-checks -pipe -fstack-protector-strong -D_FORTIFY_SOURCE=2 -I/usr/local/include'
optimize='-O2'
cppflags='-DBIG_TIME -DNO_LOCALE_NUMERIC -DNO_LOCALE_COLLATE -fno-strict-aliasing -fno-delete-null-pointer-checks -pipe -fstack-protector-strong -I/usr/local/include'
ccversion=''
gccversion='4.2.1 20070719 '
gccosandvers='openbsd6.8'
intsize=4
longsize=8
ptrsize=8
doublesize=8
byteorder=87654321
doublekind=4
d_longlong=define
longlongsize=8
d_longdbl=define
longdblsize=16
longdblkind=2
ivtype='long'
ivsize=8
nvtype='double'
nvsize=8
Off_t='off_t'
lseeksize=8
alignbytes=8
prototype=define
Linker and Libraries:
ld='cc'
ldflags ='-Wl,-E -fstack-protector-strong -L/usr/local/lib'
libpth=/usr/lib /usr/lib
libs=-lm -lc
perllibs=-lm -lc
libc=/usr/lib/libc.so.96.0
so=so
useshrplib=true
libperl=libperl.so.20.0
gnulibc_version=''
Dynamic Linking:
dlsrc=dl_dlopen.xs
dlext=so
d_dlsymun=undef
ccdlflags='-Wl,-R/usr/libdata/perl5/sparc64-openbsd/CORE'
cccdlflags='-DPIC -fPIC '
lddlflags='-shared -fPIC -fstack-protector-strong -L/usr/local/lib'
Characteristics of this binary (from libperl):
Compile-time options:
HAS_TIMES
PERLIO_LAYERS
PERL_COPY_ON_WRITE
PERL_DONT_CREATE_GVSV
PERL_MALLOC_WRAP
PERL_OP_PARENT
PERL_PRESERVE_IVUV
USE_64_BIT_ALL
USE_64_BIT_INT
USE_LARGE_FILES
USE_LOCALE
USE_LOCALE_CTYPE
USE_LOCALE_TIME
USE_PERLIO
USE_PERL_ATOF
Built under openbsd
%ENV:
PERL5LIB="/home/smoker/perl/system/lib/perl5"
PERL5OPT=""
PERL5_CPANPLUS_IS_RUNNING="57179"
PERL5_CPAN_IS_RUNNING="57179"
PERL5_CPAN_IS_RUNNING_IN_RECURSION="38161,57179"
PERL_CARTON_PATH="/home/afresh1/cpan-smoker-setup/local/system"
PERL_CR_SMOKER_CURRENT="RapidApp-1.3400"
PERL_EXTUTILS_AUTOINSTALL="--defaultdeps"
PERL_LOCAL_LIB_ROOT="/home/smoker/perl/system"
PERL_MB_OPT="--install_base '/home/smoker/perl/system'"
PERL_MM_OPT="INSTALL_BASE=/home/smoker/perl/system"
PERL_MM_USE_DEFAULT="1"
PERL_USE_UNSAFE_INC="1"
@INC:
/home/smoker/perl/system/lib/perl5/sparc64-openbsd
/home/smoker/perl/system/lib/perl5
/usr/local/libdata/perl5/site_perl/sparc64-openbsd
/usr/local/libdata/perl5/site_perl
/usr/libdata/perl5/sparc64-openbsd
/usr/libdata/perl5
.