Report for Module-Install-ReadmeFromPod-0.12

Back
From: metabase:user:320bfe00-2aae-11df-837a-5e0a49663a4f
Subject: PASS Module-Install-ReadmeFromPod-0.12 v5.15.0 GNU/Linux
Date: 2011-05-28T07:19:30Z

This distribution has been tested as part of the CPAN Testers
project, supporting the Perl programming language.  See
http://wiki.cpantesters.org/ for more information or email
questions to cpan-testers-discuss@perl.org


--
Dear Chris Williams,

This is a computer-generated report for Module-Install-ReadmeFromPod-0.12
on perl 5.15.0, created by CPAN-Reporter-1.1902.

Thank you for uploading your work to CPAN.  Congratulations!
All tests were successful.

Sections of this report:

    * Tester comments
    * Program output
    * Prerequisites
    * Environment and other context

------------------------------
TESTER COMMENTS
------------------------------

Additional comments from tester:

this report is from an automated smoke testing program
and was not reviewed by a human for accuracy

------------------------------
PROGRAM OUTPUT
------------------------------

Output from '/usr/bin/make test':

PERL_DL_NONLAZY=1 /home/sand/src/perl/repoperls/installed-perls/perl/v5.14.0-123-g2d42416/2b65/bin/perl "-MExtUtils::Command::MM" "-e" "test_harness(0, 'inc', 'blib/lib', 'blib/arch')" t/*.t
# Testing Module::Install::ReadmeFromPod 0.12, Perl 5.015000, /home/sand/src/perl/repoperls/installed-perls/perl/v5.14.0-123-g2d42416/2b65/bin/perl
t/00_compile.t ....... ok
# include /home/sand/.cpan/build/Module-Install-ReadmeFromPod-0.12-LeHrJF/dist/uvvNiit8By/inc/Module/Install.pm
# include inc/Module/Install/Metadata.pm
# include inc/Module/Install/Base.pm
# include inc/Module/Install/ReadmeFromPod.pm
# Writing README from README.pm
# Multiple extensions found for method 'WriteAll':
# 	1. Module::Install::WriteAll
# 	2. Module::Install::RPM
# Please select one [1]: include inc/Module/Install/WriteAll.pm
# include inc/Module/Install/Makefile.pm
# include inc/Module/Install/Win32.pm
# include inc/Module/Install/Can.pm
# include inc/Module/Install/Fetch.pm
# Writing Makefile for Foo::Bar
# Writing MYMETA.yml
# Writing META.yml
# make[1]: Entering directory `/home/sand/.cpan/build/Module-Install-ReadmeFromPod-0.12-LeHrJF/dist/uvvNiit8By'
# rm -f \
# 	  *.a core \
# 	  core.[0-9] blib/arch/auto/Foo/Bar/extralibs.all \
# 	  core.[0-9][0-9] Bar.bso \
# 	  pm_to_blib.ts core.[0-9][0-9][0-9][0-9] \
# 	  MYMETA.yml Bar.x \
# 	   perl \
# 	  tmon.out *.o \
# 	  pm_to_blib blib/arch/auto/Foo/Bar/extralibs.ld \
# 	  blibdirs.ts core.[0-9][0-9][0-9][0-9][0-9] \
# 	  *perl.core core.*perl.*.? \
# 	  Makefile.aperl perl \
# 	  Bar.def core.[0-9][0-9][0-9] \
# 	  mon.out libBar.def \
# 	  perlmain.c perl.exe \
# 	  so_locations Bar.exp 
# rm -rf \
# 	  blib 
# mv Makefile Makefile.old > /dev/null 2>&1
# rm -f \
# 	  Makefile.old Makefile 
# rm -rf \
# 	  MYMETA.yml Foo-Bar-0.01 
# rm -f Foo-Bar-0.01.tar.gz
# rm -f MANIFEST.bak _build
# /home/sand/src/perl/repoperls/installed-perls/perl/v5.14.0-123-g2d42416/2b65/bin/perl "-Iinc" "-Ilib" "-MModule::Install::Admin" -e "remove_meta()"
# rm -rf inc
# /home/sand/src/perl/repoperls/installed-perls/perl/v5.14.0-123-g2d42416/2b65/bin/perl "-Iinc" "-MExtUtils::Manifest=fullcheck" -e fullcheck
# Problem opening MANIFEST: No such file or directory at /home/src/perl/repoperls/installed-perls/perl/v5.14.0-123-g2d42416/2b65/lib/5.15.0/ExtUtils/Manifest.pm line 344.
# Problem opening MANIFEST: No such file or directory at /home/src/perl/repoperls/installed-perls/perl/v5.14.0-123-g2d42416/2b65/lib/5.15.0/ExtUtils/Manifest.pm line 344.
# Not in MANIFEST: Makefile.PL
# Not in MANIFEST: README
# Not in MANIFEST: README.pm
# make[1]: Leaving directory `/home/sand/.cpan/build/Module-Install-ReadmeFromPod-0.12-LeHrJF/dist/uvvNiit8By'
t/01_dist.t .......... ok
# include /home/sand/.cpan/build/Module-Install-ReadmeFromPod-0.12-LeHrJF/dist/LANyYzydBm/inc/Module/Install.pm
# include inc/Module/Install/Metadata.pm
# include inc/Module/Install/Base.pm
# include inc/Module/Install/ReadmeFromPod.pm
# Writing README from README.pm
# include inc/Module/Install/Makefile.pm
# Multiple extensions found for method 'WriteAll':
# 	1. Module::Install::WriteAll
# 	2. Module::Install::RPM
# Please select one [1]: include inc/Module/Install/WriteAll.pm
# include inc/Module/Install/Win32.pm
# include inc/Module/Install/Can.pm
# include inc/Module/Install/Fetch.pm
# Writing Makefile for Foo::Bar
# Writing MYMETA.yml
# Writing META.yml
# make[1]: Entering directory `/home/sand/.cpan/build/Module-Install-ReadmeFromPod-0.12-LeHrJF/dist/LANyYzydBm'
# rm -f \
# 	  *.a core \
# 	  core.[0-9] blib/arch/auto/Foo/Bar/extralibs.all \
# 	  core.[0-9][0-9] Bar.bso \
# 	  pm_to_blib.ts core.[0-9][0-9][0-9][0-9] \
# 	  MYMETA.yml Bar.x \
# 	   perl \
# 	  tmon.out *.o \
# 	  pm_to_blib blib/arch/auto/Foo/Bar/extralibs.ld \
# 	  blibdirs.ts core.[0-9][0-9][0-9][0-9][0-9] \
# 	  *perl.core core.*perl.*.? \
# 	  Makefile.aperl perl \
# 	  Bar.def core.[0-9][0-9][0-9] \
# 	  mon.out libBar.def \
# 	  perlmain.c perl.exe \
# 	  so_locations Bar.exp 
# rm -rf \
# 	  blib README 
# mv Makefile Makefile.old > /dev/null 2>&1
# rm -f \
# 	  Makefile.old Makefile 
# rm -rf \
# 	  MYMETA.yml Foo-Bar-0.01 
# rm -f Foo-Bar-0.01.tar.gz
# rm -f MANIFEST.bak _build
# /home/sand/src/perl/repoperls/installed-perls/perl/v5.14.0-123-g2d42416/2b65/bin/perl "-Iinc" "-Ilib" "-MModule::Install::Admin" -e "remove_meta()"
# rm -rf inc
# /home/sand/src/perl/repoperls/installed-perls/perl/v5.14.0-123-g2d42416/2b65/bin/perl "-Iinc" "-MExtUtils::Manifest=fullcheck" -e fullcheck
# Problem opening MANIFEST: No such file or directory at /home/src/perl/repoperls/installed-perls/perl/v5.14.0-123-g2d42416/2b65/lib/5.15.0/ExtUtils/Manifest.pm line 344.
# Problem opening MANIFEST: No such file or directory at /home/src/perl/repoperls/installed-perls/perl/v5.14.0-123-g2d42416/2b65/lib/5.15.0/ExtUtils/Manifest.pm line 344.
# Not in MANIFEST: Makefile.PL
# Not in MANIFEST: README.pm
# make[1]: Leaving directory `/home/sand/.cpan/build/Module-Install-ReadmeFromPod-0.12-LeHrJF/dist/LANyYzydBm'
t/02_clean.t ......... ok
# include /home/sand/.cpan/build/Module-Install-ReadmeFromPod-0.12-LeHrJF/dist/DjAqE2Cvd5/inc/Module/Install.pm
# include inc/Module/Install/Metadata.pm
# include inc/Module/Install/Base.pm
# include inc/Module/Install/Makefile.pm
# include inc/Module/Install/ReadmeFromPod.pm
# Writing README from README.pm
# Multiple extensions found for method 'WriteAll':
# 	1. Module::Install::WriteAll
# 	2. Module::Install::RPM
# Please select one [1]: include inc/Module/Install/WriteAll.pm
# include inc/Module/Install/Win32.pm
# include inc/Module/Install/Can.pm
# include inc/Module/Install/Fetch.pm
# Writing Makefile for Foo::Bar
# Writing MYMETA.yml
# Writing META.yml
# make[1]: Entering directory `/home/sand/.cpan/build/Module-Install-ReadmeFromPod-0.12-LeHrJF/dist/DjAqE2Cvd5'
# rm -f \
# 	  *.a core \
# 	  core.[0-9] blib/arch/auto/Foo/Bar/extralibs.all \
# 	  core.[0-9][0-9] Bar.bso \
# 	  pm_to_blib.ts core.[0-9][0-9][0-9][0-9] \
# 	  MYMETA.yml Bar.x \
# 	   perl \
# 	  tmon.out *.o \
# 	  pm_to_blib blib/arch/auto/Foo/Bar/extralibs.ld \
# 	  blibdirs.ts core.[0-9][0-9][0-9][0-9][0-9] \
# 	  *perl.core core.*perl.*.? \
# 	  Makefile.aperl perl \
# 	  Bar.def core.[0-9][0-9][0-9] \
# 	  mon.out libBar.def \
# 	  perlmain.c perl.exe \
# 	  so_locations Bar.exp 
# rm -rf \
# 	  blib 
# mv Makefile Makefile.old > /dev/null 2>&1
# rm -f \
# 	  Makefile.old Makefile 
# rm -rf \
# 	  MYMETA.yml Foo-Bar-0.01 
# rm -f Foo-Bar-0.01.tar.gz
# rm -f MANIFEST.bak _build
# /home/sand/src/perl/repoperls/installed-perls/perl/v5.14.0-123-g2d42416/2b65/bin/perl "-Iinc" "-Ilib" "-MModule::Install::Admin" -e "remove_meta()"
# rm -rf inc
# /home/sand/src/perl/repoperls/installed-perls/perl/v5.14.0-123-g2d42416/2b65/bin/perl "-Iinc" "-MExtUtils::Manifest=fullcheck" -e fullcheck
# Problem opening MANIFEST: No such file or directory at /home/src/perl/repoperls/installed-perls/perl/v5.14.0-123-g2d42416/2b65/lib/5.15.0/ExtUtils/Manifest.pm line 344.
# Problem opening MANIFEST: No such file or directory at /home/src/perl/repoperls/installed-perls/perl/v5.14.0-123-g2d42416/2b65/lib/5.15.0/ExtUtils/Manifest.pm line 344.
# Not in MANIFEST: Makefile.PL
# Not in MANIFEST: README
# Not in MANIFEST: README.pm
# make[1]: Leaving directory `/home/sand/.cpan/build/Module-Install-ReadmeFromPod-0.12-LeHrJF/dist/DjAqE2Cvd5'
t/03_all_from.t ...... ok
t/99_pod.t ........... ok
t/99_pod_coverage.t .. ok
All tests successful.
Files=6, Tests=12,  4 wallclock secs ( 0.05 usr  0.00 sys +  2.16 cusr  0.59 csys =  2.80 CPU)
Result: PASS

------------------------------
PREREQUISITES
------------------------------

Prerequisite modules loaded:

requires:

    Module              Need  Have    
    ------------------- ----- --------
    Module::Install     0.85  1.01    
    perl                5.006 5.015000
    Pod::Text           3.13  3.15    

build_requires:

    Module              Need  Have    
    ------------------- ----- --------
    Capture::Tiny       0.05  0.11    
    ExtUtils::MakeMaker 6.42  6.57_05 
    File::Temp          0     0.22    
    Test::More          0.47  0.98    

configure_requires:

    Module              Need  Have    
    ------------------- ----- --------
    ExtUtils::MakeMaker 6.42  6.57_05 


------------------------------
ENVIRONMENT AND OTHER CONTEXT
------------------------------

Environment variables:

    AUTOMATED_TESTING = 1
    LANG = en_US.UTF-8
    LANGUAGE = en_US:en
    PATH = /usr/lib/ccache:/home/sand/bin:/usr/local/bin:/usr/bin:/bin:/usr/bin/X11:/usr/games:/usr/local/perl/bin:/usr/X11/bin:/sbin:/usr/sbin
    PERL5LIB = 
    PERL5OPT = 
    PERL5_CPANPLUS_IS_RUNNING = 30668
    PERL5_CPAN_IS_RUNNING = 30668
    PERL_MM_USE_DEFAULT = 1
    SHELL = /usr/bin/zsh
    TERM = screen

Perl special variables (and OS-specific diagnostics, for MSWin32):

    $^X = /home/sand/src/perl/repoperls/installed-perls/perl/v5.14.0-123-g2d42416/2b65/bin/perl
    $UID/$EUID = 1001 / 1001
    $GID = 1001 1001
    $EGID = 1001 1001

Perl module toolchain versions installed:

    Module              Have    
    ------------------- --------
    CPAN                1.9600  
    Cwd                 3.36    
    ExtUtils::CBuilder  0.280203
    ExtUtils::Command   1.17    
    ExtUtils::Install   1.56    
    ExtUtils::MakeMaker 6.57_05 
    ExtUtils::Manifest  1.58    
    ExtUtils::ParseXS   2.2210  
    File::Spec          3.33    
    Module::Build       0.3800  
    Module::Signature   0.68    
    Test::Harness       3.23    
    Test::More          0.98    
    YAML                0.73    
    YAML::Syck          1.17    
    version             0.88    


--

Summary of my perl5 (revision 5 version 15 subversion 0) configuration:
  Derived from: 2d42416a02614605eeb3a0729d0e8ba1d00df028
  Platform:
    osname=linux, osvers=2.6.32-5-amd64, archname=x86_64-linux-ld
    uname='linux k81 2.6.32-5-amd64 #1 smp mon mar 7 21:35:22 utc 2011 x86_64 gnulinux '
    config_args='-Dprefix=/home/src/perl/repoperls/installed-perls/perl/v5.14.0-123-g2d42416/2b65 -Dinstallusrbinperl=n -Uversiononly -Dusedevel -des -Ui_db -Uuseithreads -Duselongdouble -DDEBUGGING=-g'
    hint=recommended, useposix=true, d_sigaction=define
    useithreads=undef, usemultiplicity=undef
    useperlio=define, d_sfio=undef, uselargefiles=define, usesocks=undef
    use64bitint=define, use64bitall=define, uselongdouble=define
    usemymalloc=n, bincompat5005=undef
  Compiler:
    cc='cc', ccflags ='-fno-strict-aliasing -pipe -fstack-protector -I/usr/local/include -D_LARGEFILE_SOURCE -D_FILE_OFFSET_BITS=64',
    optimize='-O2 -g',
    cppflags='-fno-strict-aliasing -pipe -fstack-protector -I/usr/local/include'
    ccversion='', gccversion='4.4.5', gccosandvers=''
    intsize=4, longsize=8, ptrsize=8, doublesize=8, byteorder=12345678
    d_longlong=define, longlongsize=8, d_longdbl=define, longdblsize=16
    ivtype='long', ivsize=8, nvtype='long double', nvsize=16, Off_t='off_t', lseeksize=8
    alignbytes=16, prototype=define
  Linker and Libraries:
    ld='cc', ldflags =' -fstack-protector -L/usr/local/lib'
    libpth=/usr/local/lib /lib/../lib /usr/lib/../lib /lib /usr/lib /usr/lib/x86_64-linux-gnu /lib64 /usr/lib64
    libs=-lnsl -ldb -ldl -lm -lcrypt -lutil -lc
    perllibs=-lnsl -ldl -lm -lcrypt -lutil -lc
    libc=/lib/libc-2.11.2.so, so=so, useshrplib=false, libperl=libperl.a
    gnulibc_version='2.11.2'
  Dynamic Linking:
    dlsrc=dl_dlopen.xs, dlext=so, d_dlsymun=undef, ccdlflags='-Wl,-E'
    cccdlflags='-fPIC', lddlflags='-shared -O2 -g -L/usr/local/lib -fstack-protector'


Characteristics of this binary (from libperl): 
  Compile-time options: PERL_DONT_CREATE_GVSV PERL_MALLOC_WRAP
                        PERL_PRESERVE_IVUV PERL_USE_DEVEL USE_64_BIT_ALL
                        USE_64_BIT_INT USE_LARGE_FILES USE_LONG_DOUBLE
                        USE_PERLIO USE_PERL_ATOF
  Locally applied patches:
	uncommitted-changes
  Built under linux
  Compiled at May 19 2011 05:42:57
  %ENV:
    PERL5LIB=""
    PERL5OPT=""
    PERL5_CPANPLUS_IS_RUNNING="30668"
    PERL5_CPAN_IS_RUNNING="30668"
    PERL_MM_USE_DEFAULT="1"
  @INC:
    /home/src/perl/repoperls/installed-perls/perl/v5.14.0-123-g2d42416/2b65/lib/site_perl/5.15.0/x86_64-linux-ld
    /home/src/perl/repoperls/installed-perls/perl/v5.14.0-123-g2d42416/2b65/lib/site_perl/5.15.0
    /home/src/perl/repoperls/installed-perls/perl/v5.14.0-123-g2d42416/2b65/lib/5.15.0/x86_64-linux-ld
    /home/src/perl/repoperls/installed-perls/perl/v5.14.0-123-g2d42416/2b65/lib/5.15.0
    .