Report for XML-Rabbit-0.4.1

Back
From: metabase:user:1af4e314-058e-11e6-8cfa-98c5df7af18b
Subject: PASS XML-Rabbit-0.4.1 v5.24.0 GNU/Linux
Date: 2016-12-15T02:26:04Z

This distribution has been tested as part of the CPAN Testers
project, supporting the Perl programming language.  See
http://wiki.cpantesters.org/ for more information or email
questions to cpan-testers-discuss@perl.org


--
Dear Robin Smidsrod,

This is a computer-generated report for XML-Rabbit-0.4.1
on perl 5.24.0, created by CPAN-Reporter-1.2018.

Thank you for uploading your work to CPAN.  Congratulations!
All tests were successful.

Sections of this report:

    * Tester comments
    * Program output
    * Prerequisites
    * Environment and other context

------------------------------
TESTER COMMENTS
------------------------------

Additional comments from tester:

none provided

------------------------------
PROGRAM OUTPUT
------------------------------

Output from '/usr/bin/make test':

PERL_DL_NONLAZY=1 "/usr/bin/perl" "-MExtUtils::Command::MM" "-MTest::Harness" "-e" "undef *Test::Harness::Switches; test_harness(0, 'blib/lib', 'blib/arch')" t/*.t t/regression/*.t
# Testing XML::Rabbit 0.4.1, Perl 5.024000, /usr/bin/perl
t/00_load.t ........................... ok
# Detected libxml2 version: 20903
t/01_libxml_version.t ................. ok
t/10_parse_xhtml_fh.t ................. ok
t/10_parse_xhtml_file.t ............... ok
t/10_parse_xhtml_string.t ............. ok
t/11_parse_imsqti.t ................... ok
t/12_xpath_value_map.t ................ ok
t/13_xpath_object_map.t ............... ok
t/14_sugar_parse_xhtml_file.t ......... ok
t/15_sugar_parse_imsqti.t ............. ok
t/16_sugar_xpath_value_map.t .......... ok
t/17_sugar_xpath_object_map.t ......... ok
t/18_dump_xml.t ....................... ok
t/19_RT_71815.t ....................... ok
t/20_RT_81519.t ....................... ok
t/author-critic.t ..................... skipped: these tests are for testing by the author
t/regression/node_attribute_traits.t .. ok
t/release-eol.t ....................... skipped: these tests are for release candidate testing
t/release-kwalitee.t .................. skipped: these tests are for release candidate testing
t/release-no-tabs.t ................... skipped: these tests are for release candidate testing
t/release-pod-coverage.t .............. skipped: these tests are for release candidate testing
t/release-pod-syntax.t ................ skipped: these tests are for release candidate testing
All tests successful.
Files=22, Tests=165,  8 wallclock secs ( 0.08 usr  0.02 sys +  7.19 cusr  0.43 csys =  7.72 CPU)
Result: PASS

------------------------------
PREREQUISITES
------------------------------

Prerequisite modules loaded:

requires:

    Module                       Need Have    
    ---------------------------- ---- --------
    Carp                         0    1.40    
    Class::Load                  0    0.23    
    Encode                       0    2.88    
    Moose                        0.89 2.1806  
    Moose::Exporter              0    2.1806  
    Moose::Role                  0    2.1806  
    Moose::Util::TypeConstraints 0    2.1806  
    MooseX::Role::Parameterized  0    1.09    
    namespace::autoclean         0    0.28    
    Perl6::Junction              0    1.60000 
    Scalar::Util                 0    1.46    
    strict                       0    1.11    
    warnings                     0    1.36    
    XML::LibXML                  1.70 2.0128  

build_requires:

    Module                       Need Have    
    ---------------------------- ---- --------
    lib                          0    0.63    
    Test::Exception              0    0.43    
    Test::More                   0    1.302067
    utf8                         0    1.19    

configure_requires:

    Module                       Need Have    
    ---------------------------- ---- --------
    ExtUtils::MakeMaker          6.30 7.24    
    XML::LibXML                  1.70 2.0128  


------------------------------
ENVIRONMENT AND OTHER CONTEXT
------------------------------

Environment variables:

    LANG = en_US.UTF-8
    PATH = /usr/lib64/qt-3.3/bin:/usr/local/bin:/usr/local/sbin:/usr/bin:/usr/sbin:/home/coz/.local/bin:/home/coz/bin
    PERL5LIB = 
    PERL5OPT = 
    PERL5_CPANPLUS_IS_RUNNING = 28273
    PERL5_CPAN_IS_RUNNING = 28273
    SHELL = /bin/bash
    TERM = xterm-256color

Perl special variables (and OS-specific diagnostics, for MSWin32):

    $^X = /usr/bin/perl
    $UID/$EUID = 1000 / 1000
    $GID = 1000 10 971 974 1000
    $EGID = 1000 10 971 974 1000

Perl module toolchain versions installed:

    Module              Have    
    ------------------- --------
    CPAN                2.14    
    CPAN::Meta          2.150010
    Cwd                 3.63    
    ExtUtils::CBuilder  0.280225
    ExtUtils::Command   7.24    
    ExtUtils::Install   2.04    
    ExtUtils::MakeMaker 7.24    
    ExtUtils::Manifest  1.70    
    ExtUtils::ParseXS   3.31    
    File::Spec          3.63    
    JSON                2.90    
    JSON::PP            2.27400 
    Module::Build       0.4220  
    Module::Signature   n/a     
    Parse::CPAN::Meta   2.150010
    Test::Harness       3.36    
    Test::More          1.302067
    YAML                1.20    
    YAML::Syck          n/a     
    version             0.9917  


--

Summary of my perl5 (revision 5 version 24 subversion 0) configuration:
   
  Platform:
    osname=linux, osvers=4.7.9-200.fc24.x86_64, archname=x86_64-linux-thread-multi
    uname='linux buildhw-04.phx2.fedoraproject.org 4.7.9-200.fc24.x86_64 #1 smp thu oct 20 14:26:16 utc 2016 x86_64 x86_64 x86_64 gnulinux '
    config_args='-des -Doptimize=none -Dccflags=-O2 -g -pipe -Wall -Werror=format-security -Wp,-D_FORTIFY_SOURCE=2 -fexceptions -fstack-protector-strong --param=ssp-buffer-size=4 -grecord-gcc-switches  -m64 -mtune=generic -Dldflags=-Wl,-z,relro  -Dccdlflags=-Wl,--enable-new-dtags -Wl,-z,relro  -Dlddlflags=-shared -Wl,-z,relro  -Dshrpdir=/usr/lib64 -DDEBUGGING=-g -Dversion=5.24.0 -Dmyhostname=localhost -Dperladmin=root@localhost -Dcc=gcc -Dcf_by=Red Hat, Inc. -Dprefix=/usr -Dvendorprefix=/usr -Dsiteprefix=/usr/local -Dsitelib=/usr/local/share/perl5 -Dsitearch=/usr/local/lib64/perl5 -Dprivlib=/usr/share/perl5 -Dvendorlib=/usr/share/perl5/vendor_perl -Darchlib=/usr/lib64/perl5 -Dvendorarch=/usr/lib64/perl5/vendor_perl -Darchname=x86_64-linux-thread-multi -Dlibpth=/usr/local/lib64 /lib64 /usr/lib64 -Duseshrplib -Dusethreads -Duseithreads -Dusedtrace=/usr/bin/dtrace -Duselargefiles -Dd_semctl_semun -Di_db -Ui_ndbm -Di_gdbm -Di_shadow -Di_syslog -Dman3ext=3pm -Duseperlio -Dinstallusrbinperl=n -Ubincompat5005 -Uversiononly -Dpager=/usr/bin/less -isr -Dd_gethostent_r_proto -Ud_endhostent_r_proto -Ud_sethostent_r_proto -Ud_endprotoent_r_proto -Ud_setprotoent_r_proto -Ud_endservent_r_proto -Ud_setservent_r_proto -Dscriptdir=/usr/bin -Dusesitecustomize -Duse64bitint1'
    hint=recommended, useposix=true, d_sigaction=define
    useithreads=define, usemultiplicity=define
    use64bitint=define, use64bitall=define, uselongdouble=undef
    usemymalloc=n, bincompat5005=undef
  Compiler:
    cc='gcc', ccflags ='-D_REENTRANT -D_GNU_SOURCE -O2 -g -pipe -Wall -Werror=format-security -Wp,-D_FORTIFY_SOURCE=2 -fexceptions -fstack-protector-strong --param=ssp-buffer-size=4 -grecord-gcc-switches -m64 -mtune=generic -fwrapv -fno-strict-aliasing -I/usr/local/include -D_LARGEFILE_SOURCE -D_FILE_OFFSET_BITS=64',
    optimize='  -g',
    cppflags='-D_REENTRANT -D_GNU_SOURCE -O2 -g -pipe -Wall -Werror=format-security -Wp,-D_FORTIFY_SOURCE=2 -fexceptions -fstack-protector-strong --param=ssp-buffer-size=4 -grecord-gcc-switches -m64 -mtune=generic -fwrapv -fno-strict-aliasing -I/usr/local/include'
    ccversion='', gccversion='6.2.1 20160916 (Red Hat 6.2.1-2)', gccosandvers=''
    intsize=4, longsize=8, ptrsize=8, doublesize=8, byteorder=12345678, doublekind=3
    d_longlong=define, longlongsize=8, d_longdbl=define, longdblsize=16, longdblkind=3
    ivtype='long', ivsize=8, nvtype='double', nvsize=8, Off_t='off_t', lseeksize=8
    alignbytes=8, prototype=define
  Linker and Libraries:
    ld='gcc', ldflags ='-Wl,-z,relro  -fstack-protector-strong -L/usr/local/lib'
    libpth=/usr/local/lib64 /lib64 /usr/lib64 /usr/local/lib /usr/lib /lib/../lib64 /usr/lib/../lib64 /lib
    libs=-lpthread -lresolv -lnsl -lgdbm -ldb -ldl -lm -lcrypt -lutil -lc -lgdbm_compat
    perllibs=-lpthread -lresolv -lnsl -ldl -lm -lcrypt -lutil -lc
    libc=libc-2.24.so, so=so, useshrplib=true, libperl=libperl.so
    gnulibc_version='2.24'
  Dynamic Linking:
    dlsrc=dl_dlopen.xs, dlext=so, d_dlsymun=undef, ccdlflags='-Wl,--enable-new-dtags -Wl,-z,relro '
    cccdlflags='-fPIC', lddlflags='-shared -Wl,-z,relro  -L/usr/local/lib -fstack-protector-strong'


Characteristics of this binary (from libperl): 
  Compile-time options: HAS_TIMES MULTIPLICITY PERLIO_LAYERS
                        PERL_COPY_ON_WRITE PERL_DONT_CREATE_GVSV
                        PERL_HASH_FUNC_ONE_AT_A_TIME_HARD
                        PERL_IMPLICIT_CONTEXT PERL_MALLOC_WRAP
                        PERL_PRESERVE_IVUV USE_64_BIT_ALL USE_64_BIT_INT
                        USE_ITHREADS USE_LARGE_FILES USE_LOCALE
                        USE_LOCALE_COLLATE USE_LOCALE_CTYPE
                        USE_LOCALE_NUMERIC USE_LOCALE_TIME USE_PERLIO
                        USE_PERL_ATOF USE_REENTRANT_API USE_SITECUSTOMIZE
  Locally applied patches:
	Fedora Patch1: Removes date check, Fedora/RHEL specific
	Fedora Patch3: support for libdir64
	Fedora Patch4: use libresolv instead of libbind
	Fedora Patch5: USE_MM_LD_RUN_PATH
	Fedora Patch6: Provide MM::maybe_command independently (bug #1129443)
	Fedora Patch7: Dont run one io test due to random builder failures
	Fedora Patch15: Define SONAME for libperl.so
	Fedora Patch16: Install libperl.so to -Dshrpdir value
	Fedora Patch22: Document Math::BigInt::CalcEmu requires Math::BigInt (CPAN RT#85015)
	Fedora Patch26: Make *DBM_File desctructors thread-safe (RT#61912)
	Fedora Patch27: Make PadlistNAMES() lvalue again (CPAN RT#101063)
	Fedora Patch28: Make magic vtable writable as a work-around for Coro (CPAN RT#101063)
	Fedora Patch30: Replace EU::MakeMaker dependency with EU::MM::Utils in IPC::Cmd (bug #1129443)
	Fedora Patch31: Fix a memory leak in compiling a POSIX class (RT#128313)
	Fedora Patch32: Do not mangle errno from failed socket calls (RT#128316)
	Fedora Patch33: Fix compiling regular expressions like /\X*(?0)/ (RT#128109)
	Fedora Patch34: Do not use unitialized memory in $h{\const} warnings (RT#128189)
	Fedora Patch35: Fix precedence in hv_ename_delete (RT#128086)
	Fedora Patch36: Do not treat %: as a stash (RT#128238)
	Fedora Patch37: Do not crash when inserting a non-stash into a stash (RT#128238)
	Fedora Patch38: Fix line numbers with perl -x (RT#128508)
	Fedora Patch39: Do not let XSLoader load relative paths (CVE-2016-6185)
	Fedora Patch40: Fix a crash when vivifying a stub in a deleted package (RT#128532)
	Fedora Patch41: Fix a crash in "Subroutine redefined" warning (RT#128257)
	Fedora Patch42: Fix a crash in lexical scope warnings (RT#128597)
	Fedora Patch43: Fix handling \N{} in tr for characters in range 128--255 (RT#128734)
	Fedora Patch44: Avoid loading of modules from current directory (CVE-2016-1238)
	Fedora Patch45: Fix crash in "evalbytes S" (RT#129196)
	Fedora Patch46: Fix crash in "evalbytes S" (RT#129196)
	Fedora Patch47: Fix crash in "evalbytes S" (RT#129196)
	Fedora Petch48: Fix crash in splice (RT#129164, RT#129166, RT#129167)
	Fedora Patch49: Fix string overrun in Perl_gv_fetchmethod_pvn_flags (RT#129267)
	Fedora Patch50: Fix string overrun in Perl_gv_fetchmethod_pvn_flags (RT#129267)
	Fedora Patch51: Fix string overrun in Perl_gv_fetchmethod_pvn_flags (RT#129267)
	Fedora Patch52: Fix string overrun in Perl_gv_fetchmethod_pvn_flags (RT#129267)
	Fedora Patch53: Fix string overrun in Perl_gv_fetchmethod_pvn_flags (RT#129267)
	Fedora Patch54: Fix crash when matching UTF-8 string with non-UTF-8 substrings (RT#129350)
	Fedora Patch55: Fix parsing perl options in shell bang line (RT#129336)
	Fedora Patch56: Fix firstchar bitmap under UTF-8 with prefix optimization (RT#129950)
	Fedora Patch57: Avoid infinite loop in h2xs tool if enum and type have the same name (RT130001)
	Fedora Patch58: Fix stack handling when calling chdir without an argument (RT#129130)
	Fedora Patch200: Link XS modules to libperl.so with EU::CBuilder on Linux
	Fedora Patch201: Link XS modules to libperl.so with EU::MM on Linux
  Built under linux
  Compiled at Nov  9 2016 15:17:03
  %ENV:
    PERL5LIB=""
    PERL5OPT=""
    PERL5_CPANPLUS_IS_RUNNING="28273"
    PERL5_CPAN_IS_RUNNING="28273"
  @INC:
    /usr/local/lib64/perl5
    /usr/local/share/perl5
    /usr/lib64/perl5/vendor_perl
    /usr/share/perl5/vendor_perl
    /usr/lib64/perl5
    /usr/share/perl5
    .