Back
From: metabase:user:314402c4-2aae-11df-837a-5e0a49663a4f
Subject: PASS File-DataClass-0.73.1 v5.24.1 GNU/Linux
Date: 2017-07-01T12:35:55Z
This distribution has been tested as part of the CPAN Testers
project, supporting the Perl programming language. See
http://wiki.cpantesters.org/ for more information or email
questions to cpan-testers-discuss@perl.org
--
Dear Peter Flanigan,
This is a computer-generated report for File-DataClass-0.73.1
on perl 5.24.1, created by CPAN-Reporter-1.2018.
Thank you for uploading your work to CPAN. Congratulations!
All tests were successful.
Sections of this report:
* Tester comments
* Program output
* Prerequisites
* Environment and other context
------------------------------
TESTER COMMENTS
------------------------------
Additional comments from tester:
none provided
------------------------------
PROGRAM OUTPUT
------------------------------
Output from './Build test':
OS: linux, Host: centos6
=== Environment variables ===
$AUTHOR_TESTING undef
$AUTOMATED_TESTING undef
$EXTENDED_TESTING undef
$NONINTERACTIVE_TESTING undef
$PERL_CPAN_REPORTER_CONFIG /var/tmp/cpansmoker-1023/2017070112/cpanreporter_000_config.ini
$PERL_CR_SMOKER_CURRENT undef
$PERL5_CPAN_IS_RUNNING 31791
$PERL5_CPANPLUS_IS_VERSION undef
$TEST_CRITIC undef
$TEST_SPELLING undef
Versions for all modules listed in MYMETA.json (including optional ones):
=== Configure Requires ===
Module Want Have
------------- ------ ------
Module::Build 0.4004 0.4224
version 0.88 0.9916
=== Build Requires ===
Module Want Have
------------- ------ ------
Module::Build 0.4004 0.4224
version 0.88 0.9916
=== Test Requires ===
Module Want Have
---------------- ------ --------
Capture::Tiny 0.30 0.46
File::Spec any 3.63_01
File::pushd 1.00 1.014
Module::Build 0.4004 0.4224
Module::Metadata any 1.000031
Path::Tiny 0.013 0.104
Sys::Hostname any 1.20
Test::Deep 0.117 1.127
Test::Requires 0.06 0.10
Text::Diff 1.37 1.44
version 0.88 0.9916
=== Test Recommends ===
Module Want Have
---------- -------- --------
CPAN::Meta 2.120900 2.150005
=== Runtime Requires ===
Module Want Have
-------------------- -------- --------
Cache::FastMmap 1.40 1.45
Class::Null 2.110730 2.110730
File::Path 2.09 2.14
File::ReadBackwards 1.05 1.05
Hash::Merge 0.200 0.200
JSON::MaybeXS 1.003 1.003009
Module::Pluggable 5.1 5.2
Module::Runtime 0.014 0.014
Moo 2.000001 2.003002
Sub::Install 0.928 0.928
Subclass::Of 0.003 0.007
Try::Tiny 0.22 0.28
Type::Tiny 1.000002 1.002001
Unexpected v0.39.0 0.46.1
boolean 0.45 0.46
namespace::autoclean 0.26 0.28
namespace::clean 0.25 0.27
t/00report-metadata.t .. ok
t/02pod.t .............. skipped: POD test only for developers
t/03podcoverage.t ...... skipped: POD coverage test only for developers
t/05kwalitee.t ......... skipped: Kwalitee test only for developers
t/06yaml.t ............. skipped: YAML test only for developers
t/07podspelling.t ...... skipped: POD spelling test only for developers
t/10exception.t ........ ok
t/12types.t ............ ok
t/13functions.t ........ ok
t/15io.t ............... ok
t/17constraints.t ...... ok
t/20data-class.t ....... ok
t/21hash-merge.t ....... ok
t/50json.t ............. ok
All tests successful.
Files=14, Tests=198, 3 wallclock secs ( 0.04 usr 0.06 sys + 1.84 cusr 0.52 csys = 2.46 CPU)
Result: PASS
------------------------------
PREREQUISITES
------------------------------
Prerequisite modules loaded:
requires:
Module Need Have
-------------------- -------- --------
boolean 0.45 0.46
Cache::FastMmap 1.40 1.45
Class::Null 2.110730 2.110730
File::Path 2.09 2.14
File::ReadBackwards 1.05 1.05
Hash::Merge 0.200 0.200
JSON::MaybeXS 1.003 1.003009
Module::Pluggable 5.1 5.2
Module::Runtime 0.014 0.014
Moo 2.000001 2.003002
namespace::autoclean 0.26 0.28
namespace::clean 0.25 0.27
perl 5.010001 5.024001
Sub::Install 0.928 0.928
Subclass::Of 0.003 0.007
Try::Tiny 0.22 0.28
Type::Tiny 1.000002 1.002001
Unexpected v0.39.0 0.46.1
build_requires:
Module Need Have
-------------------- -------- --------
Capture::Tiny 0.30 0.46
File::pushd 1.00 1.014
File::Spec 0 3.63_01
Module::Build 0.4004 0.4224
Module::Metadata 0 1.000031
Path::Tiny 0.013 0.104
Sys::Hostname 0 1.20
Test::Deep 0.117 1.127
Test::Requires 0.06 0.10
Text::Diff 1.37 1.44
version 0.88 0.9916
configure_requires:
Module Need Have
-------------------- -------- --------
Module::Build 0.4004 0.4224
version 0.88 0.9916
------------------------------
ENVIRONMENT AND OTHER CONTEXT
------------------------------
Environment variables:
LANG = en_US.UTF-8
PATH = /usr/local/bin:/usr/bin:/bin:/usr/local/sbin:/usr/sbin:/sbin:/home/cpansand/bin/linux-gnu:/home/cpansand/bin/sh:/home/cpansand/bin:/usr/games:/home/cpansand/devel:/home/eserte/src/srezic-misc/scripts
PERL5LIB = /home/cpansand/.cpan/build/2017070112/Cache-FastMmap-1.45-dX6cZk/blib/arch:/home/cpansand/.cpan/build/2017070112/Cache-FastMmap-1.45-dX6cZk/blib/lib:/home/cpansand/.cpan/build/2017070112/Class-Null-2.110730-gMHi9i/blib/arch:/home/cpansand/.cpan/build/2017070112/Class-Null-2.110730-gMHi9i/blib/lib
PERL5OPT =
PERL5_CPANPLUS_IS_RUNNING = 31791
PERL5_CPAN_IS_RUNNING = 31791
PERL5_CPAN_IS_RUNNING_IN_RECURSION = 31750,31791
PERLDOC = -MPod::Perldoc::ToTextOverstrike
PERL_BATCH = yes
PERL_CANARY_STABILITY_NOPROMPT = 1
PERL_CPAN_REPORTER_CONFIG = /var/tmp/cpansmoker-1023/2017070112/cpanreporter_000_config.ini
PERL_EXTUTILS_AUTOINSTALL = --defaultdeps
SHELL = /bin/zsh
TERM = screen
TMPDIR = /var/tmp/cpansmoker-1023/2017070112
Perl special variables (and OS-specific diagnostics, for MSWin32):
$^X = /opt/perl-5.24.1/bin/perl5.24.1
$UID/$EUID = 1023 / 1023
$GID = 1023 1023
$EGID = 1023 1023
Perl module toolchain versions installed:
Module Have
------------------- ----------
CPAN 2.11_01
CPAN::Meta 2.150005
Cwd 3.63_01
ExtUtils::CBuilder 0.280225
ExtUtils::Command 7.30
ExtUtils::Install 2.06
ExtUtils::MakeMaker 7.30
ExtUtils::Manifest 1.70
ExtUtils::ParseXS 3.31
File::Spec 3.63_01
JSON 2.94
JSON::PP 2.94
Module::Build 0.4224
Module::Signature n/a
Parse::CPAN::Meta 1.4417_001
Test::Harness 3.36_01
Test::More 1.302085
YAML 1.23
YAML::Syck 1.30
version 0.9916
--
Summary of my perl5 (revision 5 version 24 subversion 1) configuration:
Platform:
osname=linux, osvers=2.6.32-696.3.1.el6.x86_64, archname=x86_64-linux
uname='linux centos6 2.6.32-696.3.1.el6.x86_64 #1 smp tue may 30 19:52:55 utc 2017 x86_64 x86_64 x86_64 gnulinux '
config_args='-ds -e -Dprefix=/opt/perl-5.24.1 -Dcf_email=srezic@cpan.org'
hint=recommended, useposix=true, d_sigaction=define
useithreads=undef, usemultiplicity=undef
use64bitint=define, use64bitall=define, uselongdouble=undef
usemymalloc=n, bincompat5005=undef
Compiler:
cc='cc', ccflags ='-fwrapv -fno-strict-aliasing -pipe -fstack-protector -I/usr/local/include -D_LARGEFILE_SOURCE -D_FILE_OFFSET_BITS=64 -D_FORTIFY_SOURCE=2',
optimize='-O2',
cppflags='-fwrapv -fno-strict-aliasing -pipe -fstack-protector -I/usr/local/include'
ccversion='', gccversion='4.4.7 20120313 (Red Hat 4.4.7-18)', gccosandvers=''
intsize=4, longsize=8, ptrsize=8, doublesize=8, byteorder=12345678, doublekind=3
d_longlong=define, longlongsize=8, d_longdbl=define, longdblsize=16, longdblkind=3
ivtype='long', ivsize=8, nvtype='double', nvsize=8, Off_t='off_t', lseeksize=8
alignbytes=8, prototype=define
Linker and Libraries:
ld='cc', ldflags =' -fstack-protector -L/usr/local/lib'
libpth=/usr/local/lib /usr/lib /lib/../lib64 /usr/lib/../lib64 /lib /lib64 /usr/lib64 /usr/local/lib64
libs=-lpthread -lnsl -lgdbm -ldb -ldl -lm -lcrypt -lutil -lc
perllibs=-lpthread -lnsl -ldl -lm -lcrypt -lutil -lc
libc=libc-2.12.so, so=so, useshrplib=false, libperl=libperl.a
gnulibc_version='2.12'
Dynamic Linking:
dlsrc=dl_dlopen.xs, dlext=so, d_dlsymun=undef, ccdlflags='-Wl,-E'
cccdlflags='-fPIC', lddlflags='-shared -O2 -L/usr/local/lib -fstack-protector'
Characteristics of this binary (from libperl):
Compile-time options: HAS_TIMES PERLIO_LAYERS PERL_COPY_ON_WRITE
PERL_DONT_CREATE_GVSV
PERL_HASH_FUNC_ONE_AT_A_TIME_HARD PERL_MALLOC_WRAP
PERL_PRESERVE_IVUV USE_64_BIT_ALL USE_64_BIT_INT
USE_LARGE_FILES USE_LOCALE USE_LOCALE_COLLATE
USE_LOCALE_CTYPE USE_LOCALE_NUMERIC USE_LOCALE_TIME
USE_PERLIO USE_PERL_ATOF
Built under linux
Compiled at Jun 20 2017 18:09:14
%ENV:
PERL5LIB="/home/cpansand/.cpan/build/2017070112/Cache-FastMmap-1.45-dX6cZk/blib/arch:/home/cpansand/.cpan/build/2017070112/Cache-FastMmap-1.45-dX6cZk/blib/lib:/home/cpansand/.cpan/build/2017070112/Class-Null-2.110730-gMHi9i/blib/arch:/home/cpansand/.cpan/build/2017070112/Class-Null-2.110730-gMHi9i/blib/lib"
PERL5OPT=""
PERL5_CPANPLUS_IS_RUNNING="31791"
PERL5_CPAN_IS_RUNNING="31791"
PERL5_CPAN_IS_RUNNING_IN_RECURSION="31750,31791"
PERLDOC="-MPod::Perldoc::ToTextOverstrike"
PERL_BATCH="yes"
PERL_CANARY_STABILITY_NOPROMPT="1"
PERL_CPAN_REPORTER_CONFIG="/var/tmp/cpansmoker-1023/2017070112/cpanreporter_000_config.ini"
PERL_EXTUTILS_AUTOINSTALL="--defaultdeps"
@INC:
/home/cpansand/.cpan/build/2017070112/Cache-FastMmap-1.45-dX6cZk/blib/arch
/home/cpansand/.cpan/build/2017070112/Cache-FastMmap-1.45-dX6cZk/blib/lib
/home/cpansand/.cpan/build/2017070112/Class-Null-2.110730-gMHi9i/blib/arch
/home/cpansand/.cpan/build/2017070112/Class-Null-2.110730-gMHi9i/blib/lib
/opt/perl-5.24.1/lib/site_perl/5.24.1/x86_64-linux
/opt/perl-5.24.1/lib/site_perl/5.24.1
/opt/perl-5.24.1/lib/5.24.1/x86_64-linux
/opt/perl-5.24.1/lib/5.24.1
.