GraphQL v0.54 Perl 5 v5.39.7 x86_64-linux-thread-multi-ld

Status
Pass
From
Andreas J. König (ANDK)
Dist
GraphQL v0.54
Platform
Perl 5 v5.39.7 x86_64-linux-thread-multi-ld
Date
2024-02-19 14:04:41
ID
d3d57100-cf2f-11ee-a0cf-028294925b71
This distribution has been tested as part of the CPAN Testers
project, supporting the Perl programming language.  See
http://wiki.cpantesters.org/ for more information or email
questions to cpan-testers-discuss@perl.org


--
Dear Ed J,

This is a computer-generated report for GraphQL-0.54
on perl 5.39.7, created by CPAN-Reporter-1.2019.

Thank you for uploading your work to CPAN.  Congratulations!
All tests were successful.

Sections of this report:

    * Tester comments
    * Program output
    * Prerequisites
    * Environment and other context

------------------------------
TESTER COMMENTS
------------------------------

Additional comments from tester:

this report is from an automated smoke testing program
and was not reviewed by a human for accuracy

------------------------------
PROGRAM OUTPUT
------------------------------

Output from '/usr/bin/make test':

PERL_DL_NONLAZY=1 "/tmp/basesmoker-reloperl-jG7_/bin/perl" "-MExtUtils::Command::MM" "-MTest::Harness" "-e" "undef *Test::Harness::Switches; test_harness(0, 'blib/lib', 'blib/arch')" t/*.t
# Testing GraphQL 0.54, Perl 5.039007, /tmp/basesmoker-reloperl-jG7_/bin/perl
t/00-load.t ...................... ok
# 
# Versions for all modules listed in MYMETA.json (including optional ones):
# 
# === Configure Requires ===
# 
#     Module              Want Have Where                                                                               Howbig
#     ------------------- ---- ---- ----------------------------------------------------------------------------------- ------
#     ExtUtils::MakeMaker 6.64 7.70 /home/sand/src/perl/repoperls/installed-perls/host/k93focal/v5.39.7/e463/lib/5.39.7 109260
# 
# === Build Requires ===
# 
#     Module              Want Have Where                                                                               Howbig
#     ------------------- ---- ---- ----------------------------------------------------------------------------------- ------
#     ExtUtils::MakeMaker  any 7.70 /home/sand/src/perl/repoperls/installed-perls/host/k93focal/v5.39.7/e463/lib/5.39.7 109260
# 
# === Test Requires ===
# 
#     Module           Want     Have Where                                                                                         Howbig
#     --------------- ----- -------- --------------------------------------------------------------------------------------------- ------
#     Test::Deep      1.127    1.204 /home/sand/src/perl/repoperls/installed-perls/host/k93focal/v5.39.7/e463/lib/site_perl/5.39.7  94122
#     Test::Exception  0.42     0.43 /home/sand/src/perl/repoperls/installed-perls/host/k93focal/v5.39.7/e463/lib/site_perl/5.39.7  15465
#     Test::More       0.88 1.302198 /home/sand/src/perl/repoperls/installed-perls/host/k93focal/v5.39.7/e463/lib/5.39.7            54371
# 
# === Runtime Requires ===
# 
#     Module                        Want     Have Where                                                                                                                      Howbig
#     ------------------------- -------- -------- -------------------------------------------------------------------------------------------------------------------------- ------
#     Attribute::Handlers            any     1.03 /home/sand/src/perl/repoperls/installed-perls/host/k93focal/v5.39.7/e463/lib/5.39.7                                         32913
#     DateTime                       any     1.65 /home/sand/src/perl/repoperls/installed-perls/host/k93focal/v5.39.7/e463/lib/site_perl/5.39.7/x86_64-linux-thread-multi-ld 137251
#     DateTime::Format::ISO8601      any     0.16 /home/sand/src/perl/repoperls/installed-perls/host/k93focal/v5.39.7/e463/lib/site_perl/5.39.7                               46285
#     Devel::StrictMode              any    0.003 /home/sand/src/perl/repoperls/installed-perls/host/k93focal/v5.39.7/e463/lib/site_perl/5.39.7                                3601
#     Function::Parameters      2.001001 2.002004 /home/sand/src/perl/repoperls/installed-perls/host/k93focal/v5.39.7/e463/lib/site_perl/5.39.7/x86_64-linux-thread-multi-ld  52788
#     Import::Into              1.002003 1.002005 /home/sand/src/perl/repoperls/installed-perls/host/k93focal/v5.39.7/e463/lib/site_perl/5.39.7                                8200
#     JSON::MaybeXS             1.003009 1.004005 /home/sand/src/perl/repoperls/installed-perls/host/k93focal/v5.39.7/e463/lib/site_perl/5.39.7                               10545
#     JSON::PP                      2.92     4.16 /home/sand/src/perl/repoperls/installed-perls/host/k93focal/v5.39.7/e463/lib/5.39.7                                        100523
#     Module::Runtime                any    0.016 /home/sand/src/perl/repoperls/installed-perls/host/k93focal/v5.39.7/e463/lib/site_perl/5.39.7                               17521
#     Moo                            any 2.005005 /home/sand/src/perl/repoperls/installed-perls/host/k93focal/v5.39.7/e463/lib/site_perl/5.39.7                               34362
#     MooX::Thunking                0.07     0.08 /home/sand/src/perl/repoperls/installed-perls/host/k93focal/v5.39.7/e463/lib/site_perl/5.39.7                                2601
#     Pegex                         0.64     0.75 /home/sand/src/perl/repoperls/installed-perls/host/k93focal/v5.39.7/e463/lib/site_perl/5.39.7                                 750
#     Return::Type                   any    0.007 /home/sand/src/perl/repoperls/installed-perls/host/k93focal/v5.39.7/e463/lib/site_perl/5.39.7                                7354
#     Type::Tiny                     any 2.004000 /home/sand/src/perl/repoperls/installed-perls/host/k93focal/v5.39.7/e463/lib/site_perl/5.39.7                               78898
#     curry                          any 2.000001 /home/sand/src/perl/repoperls/installed-perls/host/k93focal/v5.39.7/e463/lib/site_perl/5.39.7                                2653
# 
# === Runtime Suggests ===
# 
#     Module             Want Have Where                                                                                                                      Howbig
#     ---------------- ------ ---- -------------------------------------------------------------------------------------------------------------------------- ------
#     Cpanel::JSON::XS 3.0237 4.37 /home/sand/src/perl/repoperls/installed-perls/host/k93focal/v5.39.7/e463/lib/site_perl/5.39.7/x86_64-linux-thread-multi-ld  92107
#     JSON::XS            any 4.03 /home/sand/src/perl/repoperls/installed-perls/host/k93focal/v5.39.7/e463/lib/site_perl/5.39.7/x86_64-linux-thread-multi-ld  69678
# 
t/00-report-prereqs.t ............ ok
t/directives.t ................... ok
t/execution-abstract.t ........... ok
t/execution-directives.t ......... ok
t/execution-execute.t ............ ok
t/execution-lists.t .............. ok
t/execution-nonnull.t ............ ok
t/execution-resolve.t ............ ok
t/execution-schema.t ............. ok
t/execution-sync.t ............... ok
t/execution-variables.t .......... ok
t/language-block-string-value.t .. ok
t/language-lexer.t ............... ok
t/language-parser.t .............. ok
t/language-schema-parser.t ....... ok
t/perl.t ......................... ok
t/subscribe.t .................... ok
t/type-definition.t .............. ok
t/type-enum.t .................... ok
t/type-interface.t ............... ok
t/type-introspection.t ........... ok
t/type-schema.t .................. ok
t/util-buildschema.t ............. ok
All tests successful.
Files=24, Tests=387, 14 wallclock secs ( 0.20 usr  0.08 sys + 13.52 cusr  0.96 csys = 14.76 CPU)
Result: PASS

------------------------------
PREREQUISITES
------------------------------

Prerequisite modules loaded:

requires:

    Module                    Need     Have    
    ------------------------- -------- --------
    Attribute::Handlers       0        1.03    
    curry                     0        2.000001
    DateTime                  0        1.65    
    DateTime::Format::ISO8601 0        0.16    
    Devel::StrictMode         0        0.003   
    Function::Parameters      2.001001 2.002004
    Import::Into              1.002003 1.002005
    JSON::MaybeXS             1.003009 1.004005
    JSON::PP                  2.92     4.16    
    Module::Runtime           0        0.016   
    Moo                       0        2.005005
    MooX::Thunking            0.07     0.08    
    Pegex                     0.64     0.75    
    perl                      5.014    5.039007
    Return::Type              0        0.007   
    Type::Tiny                0        2.004000

build_requires:

    Module                    Need     Have    
    ------------------------- -------- --------
    ExtUtils::MakeMaker       0        7.70    
    Test::Deep                1.127    1.204   
    Test::Exception           0.42     0.43    
    Test::More                0.88     1.302198

configure_requires:

    Module                    Need     Have    
    ------------------------- -------- --------
    ExtUtils::MakeMaker       6.64     7.70    


------------------------------
ENVIRONMENT AND OTHER CONTEXT
------------------------------

Environment variables:

    AUTOMATED_TESTING = 1
    LANG = en_US.UTF-8
    PATH = /home/sand/bin:/usr/local/bin:/usr/local/sbin:/usr/sbin:/usr/bin:/sbin:/bin:/usr/games:/usr/local/games:/snap/bin:/usr/local/perl/bin:/usr/X11/bin
    PERL = /tmp/basesmoker-reloperl-jG7_/bin/perl
    PERL5LIB = /tmp/loop_over_bdir-2802-qxm3c3/dta-tokwrap-0.98-0/blib/arch:/tmp/loop_over_bdir-2802-qxm3c3/dta-tokwrap-0.98-0/blib/lib:/tmp/loop_over_bdir-2802-qxm3c3/LCFG-Build-Tools-0.9.30-0/blib/arch:/tmp/loop_over_bdir-2802-qxm3c3/LCFG-Build-Tools-0.9.30-0/blib/lib:/tmp/loop_over_bdir-2802-qxm3c3/Linux-InitFS-0.2-0/blib/arch:/tmp/loop_over_bdir-2802-qxm3c3/Linux-InitFS-0.2-0/blib/lib:/tmp/loop_over_bdir-2802-qxm3c3/Sysync-0.35-0/blib/arch:/tmp/loop_over_bdir-2802-qxm3c3/Sysync-0.35-0/blib/lib:/tmp/loop_over_bdir-2802-qxm3c3/Devel-Required-0.16-0/blib/arch:/tmp/loop_over_bdir-2802-qxm3c3/Devel-Required-0.16-0/blib/lib:/tmp/loop_over_bdir-2802-qxm3c3/Lingua-BioYaTeA-0.11-0/blib/arch:/tmp/loop_over_bdir-2802-qxm3c3/Lingua-BioYaTeA-0.11-0/blib/lib:/tmp/loop_over_bdir-2802-qxm3c3/RDF-NLP-SPARQLQuery-0.1-0/blib/arch:/tmp/loop_over_bdir-2802-qxm3c3/RDF-NLP-SPARQLQuery-0.1-0/blib/lib:/tmp/loop_over_bdir-2802-qxm3c3/Lingua-YaTeA-0.626-0/blib/arch:/tmp/loop_over_bdir-2802-qxm3c3/Lingua-YaTeA-0.626-0/blib/lib
    PERL5OPT = 
    PERL5_CPANPLUS_IS_RUNNING = 2811
    PERL5_CPAN_IS_RUNNING = 2811
    PERL_CANARY_STABILITY_NOPROMPT = 1
    PERL_MM_USE_DEFAULT = 1
    PERL_USE_UNSAFE_INC = 1
    SHELL = /usr/bin/zsh
    TERM = screen

Perl special variables (and OS-specific diagnostics, for MSWin32):

    $^X = /tmp/basesmoker-reloperl-jG7_/bin/perl
    $UID/$EUID = 1005 / 1005
    $GID = 1005 1005
    $EGID = 1005 1005

Perl module toolchain versions installed:

    Module              Have    
    ------------------- --------
    CPAN                2.36    
    CPAN::Meta          2.150010
    Cwd                 3.90    
    ExtUtils::CBuilder  0.280240
    ExtUtils::Command   7.70    
    ExtUtils::Install   2.22    
    ExtUtils::MakeMaker 7.70    
    ExtUtils::Manifest  1.75    
    ExtUtils::ParseXS   3.51    
    File::Spec          3.90    
    JSON                4.10    
    JSON::PP            4.16    
    Module::Build       0.4234  
    Module::Signature   0.88    
    Parse::CPAN::Meta   2.150010
    Test2               1.302198
    Test::Harness       3.48    
    Test::More          1.302198
    YAML                1.31    
    YAML::Syck          1.34    
    version             0.9930  


--

Summary of my perl5 (revision 5 version 39 subversion 7) configuration:
  Commit id: 96559478fdc3f2fe9c51cad02ebbae0c950b7b68
  Platform:
    osname=linux
    osvers=5.4.0-169-generic
    archname=x86_64-linux-thread-multi-ld
    uname='linux k93focal 5.4.0-169-generic #187-ubuntu smp thu nov 23 14:52:28 utc 2023 x86_64 x86_64 x86_64 gnulinux '
    config_args='-Dprefix=/home/sand/src/perl/repoperls/installed-perls/host/k93focal/v5.39.7/e463 -Dmyhostname=k93focal -Dinstallusrbinperl=n -Uversiononly -Dusedevel -des -Ui_db -Dlibswanted=cl pthread socket inet nsl gdbm dbm malloc dl ld sun m crypt sec util c cposix posix ucb BSD gdbm_compat -Duseithreads -Duselongdouble -DEBUGGING=both'
    hint=recommended
    useposix=true
    d_sigaction=define
    useithreads=define
    usemultiplicity=define
    use64bitint=define
    use64bitall=define
    uselongdouble=define
    usemymalloc=n
    default_inc_excludes_dot=define
  Compiler:
    cc='cc'
    ccflags ='-D_REENTRANT -D_GNU_SOURCE -fwrapv -DDEBUGGING -fno-strict-aliasing -pipe -fstack-protector-strong -I/usr/local/include -D_LARGEFILE_SOURCE -D_FILE_OFFSET_BITS=64'
    optimize='-O2 -g'
    cppflags='-D_REENTRANT -D_GNU_SOURCE -fwrapv -DDEBUGGING -fno-strict-aliasing -pipe -fstack-protector-strong -I/usr/local/include'
    ccversion=''
    gccversion='9.4.0'
    gccosandvers=''
    intsize=4
    longsize=8
    ptrsize=8
    doublesize=8
    byteorder=12345678
    doublekind=3
    d_longlong=define
    longlongsize=8
    d_longdbl=define
    longdblsize=16
    longdblkind=3
    ivtype='long'
    ivsize=8
    nvtype='long double'
    nvsize=16
    Off_t='off_t'
    lseeksize=8
    alignbytes=16
    prototype=define
  Linker and Libraries:
    ld='cc'
    ldflags =' -fstack-protector-strong -L/usr/local/lib'
    libpth=/usr/local/lib /usr/lib/x86_64-linux-gnu /usr/lib /usr/lib64
    libs=-lpthread -lnsl -ldl -lm -lcrypt -lutil -lc
    perllibs=-lpthread -lnsl -ldl -lm -lcrypt -lutil -lc
    libc=libc-2.31.so
    so=so
    useshrplib=false
    libperl=libperl.a
    gnulibc_version='2.31'
  Dynamic Linking:
    dlsrc=dl_dlopen.xs
    dlext=so
    d_dlsymun=undef
    ccdlflags='-Wl,-E'
    cccdlflags='-fPIC'
    lddlflags='-shared -O2 -g -L/usr/local/lib -fstack-protector-strong'


Characteristics of this binary (from libperl): 
  Compile-time options:
    DEBUGGING
    HAS_LONG_DOUBLE
    HAS_STRTOLD
    HAS_TIMES
    MULTIPLICITY
    PERLIO_LAYERS
    PERL_COPY_ON_WRITE
    PERL_DONT_CREATE_GVSV
    PERL_HASH_FUNC_SIPHASH13
    PERL_HASH_USE_SBOX32
    PERL_MALLOC_WRAP
    PERL_OP_PARENT
    PERL_PRESERVE_IVUV
    PERL_TRACK_MEMPOOL
    PERL_USE_DEVEL
    PERL_USE_SAFE_PUTENV
    USE_64_BIT_ALL
    USE_64_BIT_INT
    USE_ITHREADS
    USE_LARGE_FILES
    USE_LOCALE
    USE_LOCALE_COLLATE
    USE_LOCALE_CTYPE
    USE_LOCALE_NUMERIC
    USE_LOCALE_TIME
    USE_LONG_DOUBLE
    USE_PERLIO
    USE_PERL_ATOF
    USE_REENTRANT_API
    USE_THREAD_SAFE_LOCALE
  Built under linux
  Compiled at Jan 20 2024 15:23:25
  %ENV:
    PERL="/tmp/basesmoker-reloperl-jG7_/bin/perl"
    PERL5LIB="/tmp/loop_over_bdir-2802-qxm3c3/dta-tokwrap-0.98-0/blib/arch:/tmp/loop_over_bdir-2802-qxm3c3/dta-tokwrap-0.98-0/blib/lib:/tmp/loop_over_bdir-2802-qxm3c3/LCFG-Build-Tools-0.9.30-0/blib/arch:/tmp/loop_over_bdir-2802-qxm3c3/LCFG-Build-Tools-0.9.30-0/blib/lib:/tmp/loop_over_bdir-2802-qxm3c3/Linux-InitFS-0.2-0/blib/arch:/tmp/loop_over_bdir-2802-qxm3c3/Linux-InitFS-0.2-0/blib/lib:/tmp/loop_over_bdir-2802-qxm3c3/Sysync-0.35-0/blib/arch:/tmp/loop_over_bdir-2802-qxm3c3/Sysync-0.35-0/blib/lib:/tmp/loop_over_bdir-2802-qxm3c3/Devel-Required-0.16-0/blib/arch:/tmp/loop_over_bdir-2802-qxm3c3/Devel-Required-0.16-0/blib/lib:/tmp/loop_over_bdir-2802-qxm3c3/Lingua-BioYaTeA-0.11-0/blib/arch:/tmp/loop_over_bdir-2802-qxm3c3/Lingua-BioYaTeA-0.11-0/blib/lib:/tmp/loop_over_bdir-2802-qxm3c3/RDF-NLP-SPARQLQuery-0.1-0/blib/arch:/tmp/loop_over_bdir-2802-qxm3c3/RDF-NLP-SPARQLQuery-0.1-0/blib/lib:/tmp/loop_over_bdir-2802-qxm3c3/Lingua-YaTeA-0.626-0/blib/arch:/tmp/loop_over_bdir-2802-qxm3c3/Lingua-YaTeA-0.626-0/blib/lib"
    PERL5OPT=""
    PERL5_CPANPLUS_IS_RUNNING="2811"
    PERL5_CPAN_IS_RUNNING="2811"
    PERL_CANARY_STABILITY_NOPROMPT="1"
    PERL_MM_USE_DEFAULT="1"
    PERL_USE_UNSAFE_INC="1"
  @INC:
    /tmp/loop_over_bdir-2802-qxm3c3/dta-tokwrap-0.98-0/blib/arch
    /tmp/loop_over_bdir-2802-qxm3c3/dta-tokwrap-0.98-0/blib/lib
    /tmp/loop_over_bdir-2802-qxm3c3/LCFG-Build-Tools-0.9.30-0/blib/arch
    /tmp/loop_over_bdir-2802-qxm3c3/LCFG-Build-Tools-0.9.30-0/blib/lib
    /tmp/loop_over_bdir-2802-qxm3c3/Linux-InitFS-0.2-0/blib/arch
    /tmp/loop_over_bdir-2802-qxm3c3/Linux-InitFS-0.2-0/blib/lib
    /tmp/loop_over_bdir-2802-qxm3c3/Sysync-0.35-0/blib/arch
    /tmp/loop_over_bdir-2802-qxm3c3/Sysync-0.35-0/blib/lib
    /tmp/loop_over_bdir-2802-qxm3c3/Devel-Required-0.16-0/blib/arch
    /tmp/loop_over_bdir-2802-qxm3c3/Devel-Required-0.16-0/blib/lib
    /tmp/loop_over_bdir-2802-qxm3c3/Lingua-BioYaTeA-0.11-0/blib/arch
    /tmp/loop_over_bdir-2802-qxm3c3/Lingua-BioYaTeA-0.11-0/blib/lib
    /tmp/loop_over_bdir-2802-qxm3c3/RDF-NLP-SPARQLQuery-0.1-0/blib/arch
    /tmp/loop_over_bdir-2802-qxm3c3/RDF-NLP-SPARQLQuery-0.1-0/blib/lib
    /tmp/loop_over_bdir-2802-qxm3c3/Lingua-YaTeA-0.626-0/blib/arch
    /tmp/loop_over_bdir-2802-qxm3c3/Lingua-YaTeA-0.626-0/blib/lib
    /home/sand/src/perl/repoperls/installed-perls/host/k93focal/v5.39.7/e463/lib/site_perl/5.39.7/x86_64-linux-thread-multi-ld
    /home/sand/src/perl/repoperls/installed-perls/host/k93focal/v5.39.7/e463/lib/site_perl/5.39.7
    /home/sand/src/perl/repoperls/installed-perls/host/k93focal/v5.39.7/e463/lib/5.39.7/x86_64-linux-thread-multi-ld
    /home/sand/src/perl/repoperls/installed-perls/host/k93focal/v5.39.7/e463/lib/5.39.7
    .