Back
From: metabase:user:320bfe00-2aae-11df-837a-5e0a49663a4f
Subject: PASS WebService-HealthGraph-0.000004 v5.20.2 GNU/Linux
Date: 2017-08-03T19:42:04Z
This distribution has been tested as part of the CPAN Testers
project, supporting the Perl programming language. See
http://wiki.cpantesters.org/ for more information or email
questions to cpan-testers-discuss@perl.org
--
Dear Olaf Alders,
This is a computer-generated report for WebService-HealthGraph-0.000004
on perl 5.20.2, created by CPAN-Reporter-1.2018.
Thank you for uploading your work to CPAN. Congratulations!
All tests were successful.
Sections of this report:
* Tester comments
* Program output
* Prerequisites
* Environment and other context
------------------------------
TESTER COMMENTS
------------------------------
Additional comments from tester:
this report is from an automated smoke testing program
and was not reviewed by a human for accuracy
------------------------------
PROGRAM OUTPUT
------------------------------
Output from '/usr/bin/make test':
PERL_DL_NONLAZY=1 "/home/sand/src/perl/repoperls/installed-perls/host/k93msid/v5.20.2/a1a1/bin/perl" "-MExtUtils::Command::MM" "-MTest::Harness" "-e" "undef *Test::Harness::Switches; test_harness(0, 'blib/lib', 'blib/arch')" t/*.t
t/author-pod-coverage.t ... skipped: these tests are for testing by the author
t/author-pod-spell.t ...... skipped: these tests are for testing by the author
t/healthgraph-live.t ...... ok
defined(%hash) is deprecated at /home/sand/src/perl/repoperls/installed-perls/host/k93msid/v5.20.2/a1a1/lib/5.20.2/I18N/LangTags/Detect.pm line 140.
(Maybe you should just omit the defined()?)
defined(@array) is deprecated at /home/sand/src/perl/repoperls/installed-perls/host/k93msid/v5.20.2/a1a1/lib/5.20.2/I18N/LangTags/Detect.pm line 140.
(Maybe you should just omit the defined()?)
GET https://api.runkeeper.com/user
.----------------+-----------------------------------------.
| Request Header | Value |
+----------------+-----------------------------------------+
| Accept | application/vnd.com.runkeeper.User+json |
| User-Agent | libwww-perl/6.26 |
'----------------+-----------------------------------------'
==> 401 Unauthorized
.------------------------+---------------------------------------------------------------.
| Response Header | Value |
+------------------------+---------------------------------------------------------------+
| Client-Date | Thu, 03 Aug 2017 19:41:52 GMT |
| Client-Peer | 34.202.30.141:443 |
| Client-Response-Num | 1 |
| Client-SSL-Cert-Issuer | /C=US/ST=Arizona/L=Scottsdale/O=Starfield Technologies, Inc.- |
| | /OU=http://certs.starfieldtech.com/repository//CN=Starfield - |
| | Secure Certificate Authority - G2 |
| Client-SSL-Cert-Subje- | /OU=Domain Control Validated/CN=runkeeper.com |
| ct | |
| Client-SSL-Cipher | ECDHE-RSA-AES128-GCM-SHA256 |
| Client-SSL-Socket-Cla- | IO::Socket::SSL |
| ss | |
| Connection | close |
| Content-Language | en-US |
| Content-Length | 0 |
| Date | Thu, 03 Aug 2017 19:41:52 GMT |
| Server | Apache-Coyote/1.1 |
| WWW-Authenticate | Bearer |
'------------------------+---------------------------------------------------------------'
t/healthgraph.t ........... ok
t/release-cpan-changes.t .. skipped: these tests are for release candidate testing
t/release-synopsis.t ...... skipped: these tests are for release candidate testing
t/release-tidyall.t ....... skipped: these tests are for release candidate testing
All tests successful.
Files=7, Tests=7, 6 wallclock secs ( 0.03 usr 0.04 sys + 1.22 cusr 0.18 csys = 1.47 CPU)
Result: PASS
------------------------------
PREREQUISITES
------------------------------
Prerequisite modules loaded:
requires:
Module Need Have
------------------------- -------- --------
Array::Iterator 0 0.11
JSON::MaybeXS 1.003005 1.003009
LWP::ConsoleLogger::Easy 0 0.000035
LWP::Protocol::https 0 6.07
LWP::UserAgent 6.15 6.26
Moo 2.001001 2.003002
perl 5.006 5.020002
strict 0 1.08
Type::Tiny 1.000005 1.002001
Types::Standard 0 1.002001
Types::URI 0 0.006
URI 1.71 1.72
URI::FromHash 0 0.05
warnings 0 1.23
build_requires:
Module Need Have
------------------------- -------- --------
Data::Printer 0 0.39
DateTime 0 1.42
ExtUtils::MakeMaker 0 7.31_03
List::AllUtils 0 0.14
Test2::Bundle::Extended 0 0.000072
Test2::Plugin::BailOnFail 0 0.000072
Test::RequiresInternet 0 0.05
configure_requires:
Module Need Have
------------------------- -------- --------
ExtUtils::MakeMaker 0 7.31_03
perl 5.006 5.020002
------------------------------
ENVIRONMENT AND OTHER CONTEXT
------------------------------
Environment variables:
AUTOMATED_TESTING = 1
LANG = en_US.UTF-8
PATH = /home/sand/bin:/usr/local/bin:/usr/bin:/bin:/usr/games:/usr/local/perl/bin:/usr/X11/bin:/sbin:/usr/sbin
PERL5LIB =
PERL5OPT =
PERL5_CPANPLUS_IS_RUNNING = 15322
PERL5_CPAN_IS_RUNNING = 15322
PERL_CANARY_STABILITY_NOPROMPT = 1
PERL_MM_USE_DEFAULT = 1
PERL_USE_UNSAFE_INC = 1
SHELL = /usr/bin/zsh
TERM = screen
Perl special variables (and OS-specific diagnostics, for MSWin32):
$^X = /home/sand/src/perl/repoperls/installed-perls/host/k93msid/v5.20.2/a1a1/bin/perl
$UID/$EUID = 1005 / 1005
$GID = 1005 1005
$EGID = 1005 1005
Perl module toolchain versions installed:
Module Have
------------------- --------
CPAN 2.18
CPAN::Meta 2.150010
Cwd 3.62
ExtUtils::CBuilder 0.280226
ExtUtils::Command 7.31_03
ExtUtils::Install 2.10
ExtUtils::MakeMaker 7.31_03
ExtUtils::Manifest 1.70
ExtUtils::ParseXS 3.24
File::Spec 3.62
JSON 2.94
JSON::PP 2.94
Module::Build 0.4224
Module::Signature 0.81
Parse::CPAN::Meta 2.150010
Test::Harness 3.39
Test::More 1.302090
YAML 1.23_002
YAML::Syck 1.30_01
version 0.9918
--
Summary of my perl5 (revision 5 version 20 subversion 2) configuration:
Derived from: c05ce579b6dae0f955ff8922469d49f95f4bf6fd
Platform:
osname=linux, osvers=4.9.0-2-amd64, archname=x86_64-linux-thread-multi-ld
uname='linux k93msid 4.9.0-2-amd64 #1 smp debian 4.9.18-1 (2017-03-30) x86_64 gnulinux '
config_args='-Dprefix=/home/sand/src/perl/repoperls/installed-perls/host/k93msid/v5.20.2/a1a1 -Dmyhostname=k93msid -Dinstallusrbinperl=n -Uversiononly -Dusedevel -des -Ui_db -Dlibswanted=cl pthread socket inet nsl gdbm dbm malloc dl ld sun m crypt sec util c cposix posix ucb BSD gdbm_compat -Duseithreads -Duselongdouble -DDEBUGGING=both'
hint=recommended, useposix=true, d_sigaction=define
useithreads=define, usemultiplicity=define
use64bitint=define, use64bitall=define, uselongdouble=define
usemymalloc=n, bincompat5005=undef
Compiler:
cc='cc', ccflags ='-D_REENTRANT -D_GNU_SOURCE -fwrapv -DDEBUGGING -fno-strict-aliasing -pipe -fstack-protector -I/usr/local/include -D_LARGEFILE_SOURCE -D_FILE_OFFSET_BITS=64',
optimize='-O2 -g',
cppflags='-D_REENTRANT -D_GNU_SOURCE -fwrapv -DDEBUGGING -fno-strict-aliasing -pipe -fstack-protector -I/usr/local/include'
ccversion='', gccversion='6.3.0 20170406', gccosandvers=''
intsize=4, longsize=8, ptrsize=8, doublesize=8, byteorder=12345678
d_longlong=define, longlongsize=8, d_longdbl=define, longdblsize=16
ivtype='long', ivsize=8, nvtype='long double', nvsize=16, Off_t='off_t', lseeksize=8
alignbytes=16, prototype=define
Linker and Libraries:
ld='cc', ldflags =' -fstack-protector -L/usr/local/lib'
libpth=/usr/local/lib /usr/lib/gcc/x86_64-linux-gnu/6/include-fixed /usr/include/x86_64-linux-gnu /usr/lib /lib/x86_64-linux-gnu /lib/../lib /usr/lib/x86_64-linux-gnu /usr/lib/../lib /lib
libs=-lpthread -lnsl -ldl -lm -lcrypt -lutil -lc
perllibs=-lpthread -lnsl -ldl -lm -lcrypt -lutil -lc
libc=libc-2.24.so, so=so, useshrplib=false, libperl=libperl.a
gnulibc_version='2.24'
Dynamic Linking:
dlsrc=dl_dlopen.xs, dlext=so, d_dlsymun=undef, ccdlflags='-Wl,-E'
cccdlflags='-fPIC', lddlflags='-shared -O2 -g -L/usr/local/lib -fstack-protector'
Characteristics of this binary (from libperl):
Compile-time options: DEBUGGING HAS_TIMES MULTIPLICITY PERLIO_LAYERS
PERL_DONT_CREATE_GVSV
PERL_HASH_FUNC_ONE_AT_A_TIME_HARD
PERL_IMPLICIT_CONTEXT PERL_MALLOC_WRAP
PERL_NEW_COPY_ON_WRITE PERL_PRESERVE_IVUV
PERL_TRACK_MEMPOOL PERL_USE_DEVEL USE_64_BIT_ALL
USE_64_BIT_INT USE_ITHREADS USE_LARGE_FILES
USE_LOCALE USE_LOCALE_COLLATE USE_LOCALE_CTYPE
USE_LOCALE_NUMERIC USE_LONG_DOUBLE USE_PERLIO
USE_PERL_ATOF USE_REENTRANT_API
Locally applied patches:
uncommitted-changes
Built under linux
Compiled at Apr 17 2017 06:20:05
%ENV:
PERL5LIB=""
PERL5OPT=""
PERL5_CPANPLUS_IS_RUNNING="15322"
PERL5_CPAN_IS_RUNNING="15322"
PERL_CANARY_STABILITY_NOPROMPT="1"
PERL_MM_USE_DEFAULT="1"
PERL_USE_UNSAFE_INC="1"
@INC:
/home/sand/src/perl/repoperls/installed-perls/host/k93msid/v5.20.2/a1a1/lib/site_perl/5.20.2/x86_64-linux-thread-multi-ld
/home/sand/src/perl/repoperls/installed-perls/host/k93msid/v5.20.2/a1a1/lib/site_perl/5.20.2
/home/sand/src/perl/repoperls/installed-perls/host/k93msid/v5.20.2/a1a1/lib/5.20.2/x86_64-linux-thread-multi-ld
/home/sand/src/perl/repoperls/installed-perls/host/k93msid/v5.20.2/a1a1/lib/5.20.2
.