Path-Iterator-Rule v1.015 Perl 5 v5.32.1 amd64-openbsd

Status
Pass
From
Alceu Rodrigues de Freitas Junior
Dist
Path-Iterator-Rule v1.015
Platform
Perl 5 v5.32.1 amd64-openbsd
Date
2022-05-30 23:32:53
ID
d398c19c-e070-11ec-b737-db65ffa5fe2c
This distribution has been tested as part of the CPAN Testers
project, supporting the Perl programming language.  See
http://wiki.cpantesters.org/ for more information or email
questions to cpan-testers-discuss@perl.org


--
Dear David Golden,

This is a computer-generated report for Path-Iterator-Rule-1.015
on perl 5.32.1, created by CPAN-Reporter-1.2018.

Thank you for uploading your work to CPAN.  Congratulations!
All tests were successful.

Sections of this report:

    * Tester comments
    * Program output
    * Prerequisites
    * Environment and other context

------------------------------
TESTER COMMENTS
------------------------------

Additional comments from tester:

this report is from an automated smoke testing program
and was not reviewed by a human for accuracy

------------------------------
PROGRAM OUTPUT
------------------------------

Output from '/usr/bin/make test':

PERL_DL_NONLAZY=1 "/usr/bin/perl" "-MExtUtils::Command::MM" "-MTest::Harness" "-e" "undef *Test::Harness::Switches; test_harness(0, 'blib/lib', 'blib/arch')" t/*.t
# 
# Versions for all modules listed in MYMETA.json (including optional ones):
# 
# === Configure Requires ===
# 
#     Module              Want Have
#     ------------------- ---- ----
#     ExtUtils::MakeMaker 6.17 7.64
# 
# === Build Requires ===
# 
#     Module              Want Have
#     ------------------- ---- ----
#     ExtUtils::MakeMaker  any 7.64
# 
# === Test Requires ===
# 
#     Module              Want     Have
#     ------------------- ---- --------
#     Exporter             any     5.74
#     ExtUtils::MakeMaker  any     7.64
#     File::Spec           any     3.78
#     File::Temp           any   0.2311
#     File::pushd          any    1.016
#     Path::Tiny           any    0.122
#     Test::Deep           any    1.130
#     Test::Filename      0.03     0.03
#     Test::More          0.92 1.302190
#     lib                  any     0.65
#     parent               any    0.238
# 
# === Test Recommends ===
# 
#     Module         Want     Have
#     ---------- -------- --------
#     CPAN::Meta 2.120900 2.150010
# 
# === Runtime Requires ===
# 
#     Module             Want   Have
#     ------------------ ---- ------
#     Carp                any   1.50
#     File::Basename      any   2.85
#     File::Spec          any   3.78
#     List::Util          any   1.62
#     Number::Compare    0.02   0.03
#     Scalar::Util        any   1.62
#     Text::Glob          any   0.11
#     Try::Tiny           any   0.31
#     if                  any 0.0608
#     strict              any   1.11
#     warnings            any   1.47
#     warnings::register  any   1.04
# 
t/00-report-prereqs.t .... ok
t/basic.t ................ ok
t/breadth-depth-files.t .. ok
t/breadth-depth.t ........ ok
t/children-order.t ....... ok
t/clone.t ................ ok
t/content.t .............. ok
t/error_handler.t ........ ok
t/fast.t ................. ok
t/helpers.t .............. ok
t/logic.t ................ ok
t/min-max-depth.t ........ ok
t/names.t ................ ok
t/perl.t ................. ok
t/pir.t .................. ok
t/relative.t ............. ok
t/stat_tests.t ........... ok
t/stringify.t ............ ok
t/symlink.t .............. ok
t/unsorted.t ............. ok
t/vcs.t .................. ok
t/visitor.t .............. ok
t/x_tests.t .............. ok
All tests successful.
Files=23, Tests=91,  5 wallclock secs ( 0.11 usr  0.07 sys +  3.67 cusr  1.44 csys =  5.29 CPU)
Result: PASS

------------------------------
PREREQUISITES
------------------------------

Prerequisite modules loaded:

requires:

    Module              Need     Have    
    ------------------- -------- --------
    Carp                0        1.50    
    File::Basename      0        2.85    
    File::Spec          0        3.78    
    if                  0        0.0608  
    List::Util          0        1.62    
    Number::Compare     0.02     0.03    
    perl                5.008001 5.032001
    Scalar::Util        0        1.62    
    strict              0        1.11    
    Text::Glob          0        0.11    
    Try::Tiny           0        0.31    
    warnings            0        1.47    
    warnings::register  0        1.04    

build_requires:

    Module              Need     Have    
    ------------------- -------- --------
    Exporter            0        5.74    
    ExtUtils::MakeMaker 0        7.64    
    File::pushd         0        1.016   
    File::Spec          0        3.78    
    File::Temp          0        0.2311  
    lib                 0        0.65    
    parent              0        0.238   
    Path::Tiny          0        0.122   
    Test::Deep          0        1.130   
    Test::Filename      0.03     0.03    
    Test::More          0.92     1.302190

configure_requires:

    Module              Need     Have    
    ------------------- -------- --------
    ExtUtils::MakeMaker 6.17     7.64    
    perl                5.008001 5.032001

opt_build_requires:

    Module              Need     Have    
    ------------------- -------- --------
    CPAN::Meta          2.120900 2.150010


------------------------------
ENVIRONMENT AND OTHER CONTEXT
------------------------------

Environment variables:

    AUTOMATED_TESTING = 1
    PATH = /home/goku/perl5/bin:/usr/bin:/bin:/usr/sbin:/sbin:/usr/X11R6/bin:/usr/local/bin:/usr/local/sbin
    PERL5LIB = /home/goku/perl5/lib/perl5
    PERL5OPT = 
    PERL5_CPANPLUS_IS_RUNNING = 59089
    PERL5_CPAN_IS_RUNNING = 59089
    PERL5_CPAN_IS_RUNNING_IN_RECURSION = 59995,59089
    PERL_CR_SMOKER_CURRENT = Dist-Zilla-PluginBundle-Author-DERIV-0.003
    PERL_EXTUTILS_AUTOINSTALL = --defaultdeps
    PERL_LOCAL_LIB_ROOT = /home/goku/perl5
    PERL_MB_OPT = --install_base "/home/goku/perl5"
    PERL_MM_OPT = INSTALL_BASE=/home/goku/perl5
    PERL_MM_USE_DEFAULT = 1
    PERL_USE_UNSAFE_INC = 1
    SHELL = /bin/ksh
    TERM = xterm-256color

Perl special variables (and OS-specific diagnostics, for MSWin32):

    $^X = /usr/bin/perl
    $UID/$EUID = 1001 / 1001
    $GID = 1002 1002 1001
    $EGID = 1002 1002 1001

Perl module toolchain versions installed:

    Module              Have    
    ------------------- --------
    CPAN                2.34    
    CPAN::Meta          2.150010
    Cwd                 3.78    
    ExtUtils::CBuilder  0.280236
    ExtUtils::Command   7.64    
    ExtUtils::Install   2.20    
    ExtUtils::MakeMaker 7.64    
    ExtUtils::Manifest  1.72    
    ExtUtils::ParseXS   3.40    
    File::Spec          3.78    
    JSON                4.06    
    JSON::PP            4.04    
    Module::Build       0.4231  
    Module::Signature   n/a     
    Parse::CPAN::Meta   2.150010
    Test::Harness       3.44    
    Test::More          1.302190
    YAML                1.30    
    YAML::Syck          1.34    
    version             0.9924  


--

Summary of my perl5 (revision 5 version 32 subversion 1) configuration:
   
  Platform:
    osname=openbsd
    osvers=7.1
    archname=amd64-openbsd
    uname='openbsd'
    config_args='-dse -Dopenbsd_distribution=defined -Dmksymlinks'
    hint=recommended
    useposix=true
    d_sigaction=define
    useithreads=undef
    usemultiplicity=undef
    use64bitint=define
    use64bitall=define
    uselongdouble=undef
    usemymalloc=n
    default_inc_excludes_dot=define
    bincompat5005=undef
  Compiler:
    cc='cc'
    ccflags ='-DNO_LOCALE_NUMERIC -DNO_LOCALE_COLLATE -fno-strict-aliasing -fno-delete-null-pointer-checks -pipe -fstack-protector-strong -I/usr/local/include'
    optimize='-O2'
    cppflags='-DBIG_TIME -DNO_LOCALE_NUMERIC -DNO_LOCALE_COLLATE -fno-strict-aliasing -fno-delete-null-pointer-checks -pipe -fstack-protector-strong -I/usr/local/include'
    ccversion=''
    gccversion='OpenBSD Clang 13.0.0'
    gccosandvers=''
    intsize=4
    longsize=8
    ptrsize=8
    doublesize=8
    byteorder=12345678
    doublekind=3
    d_longlong=define
    longlongsize=8
    d_longdbl=define
    longdblsize=16
    longdblkind=3
    ivtype='long'
    ivsize=8
    nvtype='double'
    nvsize=8
    Off_t='off_t'
    lseeksize=8
    alignbytes=8
    prototype=define
  Linker and Libraries:
    ld='cc'
    ldflags ='-Wl,-E  -fstack-protector-strong -L/usr/local/lib'
    libpth=/usr/lib /usr/lib/clang/13.0.0/lib /usr/lib
    libs=-lm -lc
    perllibs=-lm -lc
    libc=/usr/lib/libc.so.96.1
    so=so
    useshrplib=true
    libperl=libperl.so.22.0
    gnulibc_version=''
  Dynamic Linking:
    dlsrc=dl_dlopen.xs
    dlext=so
    d_dlsymun=undef
    ccdlflags='-Wl,-R/usr/libdata/perl5/amd64-openbsd/CORE'
    cccdlflags='-DPIC -fpic '
    lddlflags='-shared -fpic  -fstack-protector-strong -L/usr/local/lib'


Characteristics of this binary (from libperl): 
  Compile-time options:
    HAS_TIMES
    PERLIO_LAYERS
    PERL_COPY_ON_WRITE
    PERL_DONT_CREATE_GVSV
    PERL_MALLOC_WRAP
    PERL_OP_PARENT
    PERL_PRESERVE_IVUV
    USE_64_BIT_ALL
    USE_64_BIT_INT
    USE_LARGE_FILES
    USE_LOCALE
    USE_LOCALE_CTYPE
    USE_LOCALE_TIME
    USE_PERLIO
    USE_PERL_ATOF
  Built under openbsd
  %ENV:
    PERL5LIB="/home/goku/perl5/lib/perl5"
    PERL5OPT=""
    PERL5_CPANPLUS_IS_RUNNING="59089"
    PERL5_CPAN_IS_RUNNING="59089"
    PERL5_CPAN_IS_RUNNING_IN_RECURSION="59995,59089"
    PERL_CR_SMOKER_CURRENT="Dist-Zilla-PluginBundle-Author-DERIV-0.003"
    PERL_EXTUTILS_AUTOINSTALL="--defaultdeps"
    PERL_LOCAL_LIB_ROOT="/home/goku/perl5"
    PERL_MB_OPT="--install_base "/home/goku/perl5""
    PERL_MM_OPT="INSTALL_BASE=/home/goku/perl5"
    PERL_MM_USE_DEFAULT="1"
    PERL_USE_UNSAFE_INC="1"
  @INC:
    /home/goku/perl5/lib/perl5/amd64-openbsd
    /home/goku/perl5/lib/perl5
    /usr/local/libdata/perl5/site_perl/amd64-openbsd
    /usr/local/libdata/perl5/site_perl
    /usr/libdata/perl5/amd64-openbsd
    /usr/libdata/perl5
    .