Back
From: metabase:user:cba5269c-6e58-1014-92a6-0387276d408b
Subject: PASS HTML-Template-Compiled-Plugin-NumberFormat-0.02 v5.14.2 Dragonfly BSD
Date: 2012-11-24T19:54:58Z
This distribution has been tested as part of the CPAN Testers
project, supporting the Perl programming language.  See
http://wiki.cpantesters.org/ for more information or email
questions to cpan-testers-discuss@perl.org
--
Dear Tina Muller,
This is a computer-generated report for HTML-Template-Compiled-Plugin-NumberFormat-0.02
on perl 5.14.2, created by CPAN-Reporter-1.2006.
Thank you for uploading your work to CPAN.  Congratulations!
All tests were successful.
Sections of this report:
    * Tester comments
    * Program output
    * Prerequisites
    * Environment and other context
------------------------------
TESTER COMMENTS
------------------------------
Additional comments from tester:
this report is from an automated smoke testing program
and was not reviewed by a human for accuracy
------------------------------
PROGRAM OUTPUT
------------------------------
Output from './Build test':
t/01_version.t ........ ok
t/02_pod.t ............ ok
t/03_pod_cover.t ...... ok
t/04_number_format.t .. ok
All tests successful.
Files=4, Tests=10,  0 wallclock secs ( 0.03 usr  0.02 sys +  0.33 cusr  0.13 csys =  0.51 CPU)
Result: PASS
------------------------------
PREREQUISITES
------------------------------
Prerequisite modules loaded:
requires:
    Module                   Need   Have    
    ------------------------ ------ --------
    Carp                     0      1.20    
    Class::Accessor          0      0.34    
    HTML::Template::Compiled 1      1.000   
    Number::Format           1.73   1.73    
    perl                     v5.8.1 5.014002
    Test::More               0      0.98    
build_requires:
    Module                   Need   Have    
    ------------------------ ------ --------
    Module::Build            0.28   0.4003  
    Test::More               0      0.98    
configure_requires:
    Module                   Need   Have    
    ------------------------ ------ --------
    Module::Build            0.28   0.4003  
------------------------------
ENVIRONMENT AND OTHER CONTEXT
------------------------------
Environment variables:
    AUTOMATED_TESTING = 1
    PATH = /home/wose/perl5/bin:/sbin:/bin:/usr/sbin:/usr/bin:/usr/games:/usr/pkg/sbin:/usr/pkg/bin:/usr/pkg/xorg/bin:/usr/local/sbin:/usr/local/bin:/home/wose//bin
    PERL5LIB = /home/wose/.cpan/build/Number-Format-1.73-DgVWRf/blib/arch:/home/wose/.cpan/build/Number-Format-1.73-DgVWRf/blib/lib:/home/wose/.cpan/build/Class-Accessor-0.34-MHksAp/blib/arch:/home/wose/.cpan/build/Class-Accessor-0.34-MHksAp/blib/lib:/home/wose/.cpan/build/HTML-Template-Compiled-1.000-AMXZmq/blib/arch:/home/wose/.cpan/build/HTML-Template-Compiled-1.000-AMXZmq/blib/lib:/home/wose/perl5/lib/perl5/x86_64-dragonfly-thread-multi:/home/wose/perl5/lib/perl5
    PERL5OPT = 
    PERL5_CPANPLUS_IS_RUNNING = 80016
    PERL5_CPAN_IS_RUNNING = 80016
    PERL5_CPAN_IS_RUNNING_IN_RECURSION = 76651,80016
    PERL_CR_SMOKER_CURRENT = HTML-Template-Compiled-Plugin-NumberFormat-0.02
    PERL_EXTUTILS_AUTOINSTALL = --defaultdeps
    PERL_LOCAL_LIB_ROOT = /home/wose/perl5
    PERL_MB_OPT = --install_base /home/wose/perl5
    PERL_MM_OPT = INSTALL_BASE=/home/wose/perl5
    PERL_MM_USE_DEFAULT = 1
    SHELL = zsh
    TERM = screen
    TMPDIR = /home/wose/tmp
Perl special variables (and OS-specific diagnostics, for MSWin32):
    $^X = /usr/pkg/bin/perl
    $UID/$EUID = 1001 / 1001
    $GID = 1003 1003 0
    $EGID = 1003 1003 0
Perl module toolchain versions installed:
    Module              Have    
    ------------------- --------
    CPAN                1.9800  
    CPAN::Meta          2.112150
    Cwd                 3.36    
    ExtUtils::CBuilder  0.280205
    ExtUtils::Command   1.17    
    ExtUtils::Install   1.56    
    ExtUtils::MakeMaker 6.62    
    ExtUtils::Manifest  1.58    
    ExtUtils::ParseXS   2.2210  
    File::Spec          3.33    
    JSON                2.53    
    JSON::PP            2.27105 
    Module::Build       0.4003  
    Module::Signature   n/a     
    Parse::CPAN::Meta   1.4401  
    Test::Harness       3.23    
    Test::More          0.98    
    YAML                0.84    
    YAML::Syck          1.21    
    version             0.9901  
--
Summary of my perl5 (revision 5 version 14 subversion 2) configuration:
   
  Platform:
    osname=dragonfly, osvers=3.1-development, archname=x86_64-dragonfly-thread-multi
    uname='dragonfly pkgbox64.dragonflybsd.org 3.1-development dragonfly v3.1.0.1642.g22c4e-development #0: wed sep 26 15:47:30 pdt 2012 root@pkgbox64.dragonflybsd.org:usrobjusrsrcsyspkgbox64 x86_64 '
    config_args='-sde -D ccflags=  -pthread  -I/usr/include -D ldflags=  -pthread  -L/usr/lib -Wl,-R/usr/lib -Wl,-R/usr/pkg/lib -Duseshrplib -Duseithreads -Uusemymalloc'
    hint=recommended, useposix=true, d_sigaction=define
    useithreads=define, usemultiplicity=define
    useperlio=define, d_sfio=undef, uselargefiles=define, usesocks=undef
    use64bitint=define, use64bitall=define, uselongdouble=undef
    usemymalloc=n, bincompat5005=undef
  Compiler:
    cc='cc', ccflags ='-pthread -I/usr/include -DHAS_FPSETMASK -DHAS_FLOATINGPOINT_H -fno-strict-aliasing -pipe -fstack-protector -I/usr/local/include',
    optimize='  -pthread  -I/usr/include',
    cppflags='-pthread -I/usr/include -DHAS_FPSETMASK -DHAS_FLOATINGPOINT_H -fno-strict-aliasing -pipe -fstack-protector -I/usr/local/include'
    ccversion='', gccversion='4.4.7 2012.03.13', gccosandvers=''
    intsize=4, longsize=8, ptrsize=8, doublesize=8, byteorder=12345678
    d_longlong=define, longlongsize=8, d_longdbl=define, longdblsize=16
    ivtype='long', ivsize=8, nvtype='double', nvsize=8, Off_t='off_t', lseeksize=8
    alignbytes=8, prototype=define
  Linker and Libraries:
    ld='cc', ldflags ='-Wl,-R/usr/pkg/lib -pthread -Wl,-E -fstack-protector'
    libpth=/usr/lib /usr/local/lib
    libs=-lm -lcrypt -lpthread -lrt
    perllibs=-lm -lcrypt -lpthread -lrt
    libc=, so=so, useshrplib=true, libperl=libperl.so
    gnulibc_version=''
  Dynamic Linking:
    dlsrc=dl_dlopen.xs, dlext=so, d_dlsymun=undef, ccdlflags='  -Wl,-R/usr/pkg/lib/perl5/5.14.0/x86_64-dragonfly-thread-multi/CORE'
    cccdlflags='-DPIC -fPIC', lddlflags='-Wl,-R/usr/pkg/lib -shared  -L/usr/local/lib -fstack-protector'
Characteristics of this binary (from libperl): 
  Compile-time options: MULTIPLICITY PERL_DONT_CREATE_GVSV
                        PERL_IMPLICIT_CONTEXT PERL_MALLOC_WRAP
                        PERL_PRESERVE_IVUV USE_64_BIT_ALL USE_64_BIT_INT
                        USE_ITHREADS USE_LARGE_FILES USE_PERLIO USE_PERL_ATOF
                        USE_REENTRANT_API
  Built under dragonfly
  Compiled at Nov  1 2012 06:35:01
  %ENV:
    PERL5LIB="/home/wose/.cpan/build/Number-Format-1.73-DgVWRf/blib/arch:/home/wose/.cpan/build/Number-Format-1.73-DgVWRf/blib/lib:/home/wose/.cpan/build/Class-Accessor-0.34-MHksAp/blib/arch:/home/wose/.cpan/build/Class-Accessor-0.34-MHksAp/blib/lib:/home/wose/.cpan/build/HTML-Template-Compiled-1.000-AMXZmq/blib/arch:/home/wose/.cpan/build/HTML-Template-Compiled-1.000-AMXZmq/blib/lib:/home/wose/perl5/lib/perl5/x86_64-dragonfly-thread-multi:/home/wose/perl5/lib/perl5"
    PERL5OPT=""
    PERL5_CPANPLUS_IS_RUNNING="80016"
    PERL5_CPAN_IS_RUNNING="80016"
    PERL5_CPAN_IS_RUNNING_IN_RECURSION="76651,80016"
    PERL_CR_SMOKER_CURRENT="HTML-Template-Compiled-Plugin-NumberFormat-0.02"
    PERL_EXTUTILS_AUTOINSTALL="--defaultdeps"
    PERL_LOCAL_LIB_ROOT="/home/wose/perl5"
    PERL_MB_OPT="--install_base /home/wose/perl5"
    PERL_MM_OPT="INSTALL_BASE=/home/wose/perl5"
    PERL_MM_USE_DEFAULT="1"
  @INC:
    /home/wose/.cpan/build/Number-Format-1.73-DgVWRf/blib/arch
    /home/wose/.cpan/build/Number-Format-1.73-DgVWRf/blib/lib
    /home/wose/.cpan/build/Class-Accessor-0.34-MHksAp/blib/arch
    /home/wose/.cpan/build/Class-Accessor-0.34-MHksAp/blib/lib
    /home/wose/.cpan/build/HTML-Template-Compiled-1.000-AMXZmq/blib/arch
    /home/wose/.cpan/build/HTML-Template-Compiled-1.000-AMXZmq/blib/lib
    /home/wose/perl5/lib/perl5/x86_64-dragonfly-thread-multi
    /home/wose/perl5/lib/perl5/x86_64-dragonfly-thread-multi
    /home/wose/perl5/lib/perl5
    /usr/pkg/lib/perl5/site_perl/5.14.0/x86_64-dragonfly-thread-multi
    /usr/pkg/lib/perl5/site_perl/5.14.0
    /usr/pkg/lib/perl5/vendor_perl/5.14.0/x86_64-dragonfly-thread-multi
    /usr/pkg/lib/perl5/vendor_perl/5.14.0
    /usr/pkg/lib/perl5/5.14.0/x86_64-dragonfly-thread-multi
    /usr/pkg/lib/perl5/5.14.0
    .