MooseX-Extended v0.35 Perl 5 v5.38.0 x86_64-linux
- Status
- Pass
- From
- Chris Williams (BINGOS)
- Dist
-
MooseX-Extended v0.35
- Platform
- Perl 5 v5.38.0 x86_64-linux
- Date
- 2025-04-24 15:07:23
- ID
- d387c91e-211d-11f0-98b0-b3c3213a625c
This distribution has been tested as part of the CPAN Testers
project, supporting the Perl programming language. See
http://wiki.cpantesters.org/ for more information or email
questions to cpan-testers-discuss@perl.org
--
Dear Curtis Poe,
This is a computer-generated error report created automatically by
CPANPLUS, version 0.9916. Testers personal comments may appear
at the end of this report.
Thank you for uploading your work to CPAN. Congratulations!
All tests were successful.
TEST RESULTS:
Below is the error stack from stage 'make test':
PERL_DL_NONLAZY=1 "/home/cpan/pit/bare/perl-5.38.0/bin/perl" "-MExtUtils::Command::MM" "-MTest::Harness" "-e" "undef *Test::Harness::Switches; test_harness(0, 'blib/lib', 'blib/arch')" t/*.t
# Testing MooseX::Extended 0.35, Perl 5.038000, /home/cpan/pit/bare/perl-5.38.0/bin/perl
t/00-load.t ............... ok
#
# Versions for all modules listed in MYMETA.json (including optional ones):
#
# === Configure Requires ===
#
# Module Want Have
# ------------------- ---- ----
# ExtUtils::MakeMaker any 7.74
#
# === Build Requires ===
#
# Module Want Have
# ------------------- ---- ----
# ExtUtils::MakeMaker any 7.74
#
# === Test Requires ===
#
# Module Want Have
# ------------------- ---- --------
# Capture::Tiny any 0.50
# DateTime any 1.66
# ExtUtils::MakeMaker any 7.74
# File::Spec any 3.88
# List::Util any 1.63
# Scalar::Util any 1.63
# Test::Builder any 1.302210
# Test::More any 1.302210
# Test::Most any 0.38
# base any 2.27
# lib any 0.65
# version any 0.9933
#
# === Test Recommends ===
#
# Module Want Have
# --------------- -------- --------
# CPAN::Meta 2.120900 2.150010
# Data::Printer any 1.002001
# IO::Async::Loop any missing
#
# === Runtime Requires ===
#
# Module Want Have
# ----------------------------- -------- --------
# B::Hooks::AtRuntime 8 8
# Carp any 1.54
# Data::Printer any 1.002001
# Exporter any 5.77
# Import::Into any 1.002005
# Module::Load any 0.36
# Moose any 2.2207
# Moose::Exception any 2.2207
# Moose::Exception::Role::Class any 2.2207
# Moose::Exporter any 2.2207
# Moose::Meta::Role any 2.2207
# Moose::Role any 2.2207
# Moose::Util any 2.2207
# MooseX::Role::WarnOnConflict any 0.01
# MooseX::StrictConstructor any 0.21
# Ref::Util any 0.204
# Storable any 3.32
# Type::Library any 2.008001
# Type::Params any 2.008001
# Type::Tiny 1.012004 2.008001
# Type::Utils any 2.008001
# Types::Common::Numeric any 2.008001
# Types::Common::String any 2.008001
# Types::Standard any 2.008001
# constant any 1.33
# feature any 1.82
# mro any 1.28
# namespace::autoclean any 0.31
# parent any 0.241
# perl 5.020000 5.038000
# strict any 1.12
# true v1.0.2 v1.0.2
# warnings any 1.65
#
# === Runtime Suggests ===
#
# Module Want Have
# ------------------------- -------- --------
# Function::Parameters 2.001003 2.002005
# Future 0.48 missing
# Future::AsyncAwait 0.58 missing
# Syntax::Keyword::MultiSub 0.03 missing
# Syntax::Keyword::Try 0.027 missing
#
t/00-report-prereqs.t ..... ok
t/async.t ................. skipped: Could not load Future::AsyncAwait: Can't locate Future/AsyncAwait.pm in @INC (you may need to install the Future::AsyncAwait module) (@INC entries checked: t/lib /home/cpan/pit/bare/conf/perl-5.38.0/.cpanplus/5.38.0/build/K7_oZq5KkK/MooseX-Extended-0.35/blib/lib /home/cpan/pit/bare/conf/perl-5.38.0/.cpanplus/5.38.0/build/K7_oZq5KkK/MooseX-Extended-0.35/blib/arch /home/cpan/pit/jail/EM3ZkZh89k/lib/perl5/5.38.0/x86_64-linux /home/cpan/pit/jail/EM3ZkZh89k/lib/perl5/5.38.0 /home/cpan/pit/jail/EM3ZkZh89k/lib/perl5/x86_64-linux /home/cpan/pit/jail/EM3ZkZh89k/lib/perl5 /home/cpan/pit/bare/perl-5.38.0/lib/site_perl/5.38.0/x86_64-linux /home/cpan/pit/bare/perl-5.38.0/lib/site_perl/5.38.0 /home/cpan/pit/bare/perl-5.38.0/lib/5.38.0/x86_64-linux /home/cpan/pit/bare/perl-5.38.0/lib/5.38.0 .) at /home/cpan/pit/bare/perl-5.38.0/lib/5.38.0/Module/Load.pm line 78.
t/basic.t ................. ok
t/clone.t ................. ok
t/configuration.t ......... ok
t/custom.t ................ ok
t/exceptions.t ............ ok
t/excludes_field_param.t .. ok
t/field_init_arg.t ........ ok
t/import-lists.t .......... skipped: Could not load Syntax::Keyword::Try: Can't locate Syntax/Keyword/Try.pm in @INC (you may need to install the Syntax::Keyword::Try module) (@INC entries checked: t/lib /home/cpan/pit/bare/conf/perl-5.38.0/.cpanplus/5.38.0/build/K7_oZq5KkK/MooseX-Extended-0.35/blib/lib /home/cpan/pit/bare/conf/perl-5.38.0/.cpanplus/5.38.0/build/K7_oZq5KkK/MooseX-Extended-0.35/blib/arch /home/cpan/pit/jail/EM3ZkZh89k/lib/perl5/5.38.0/x86_64-linux /home/cpan/pit/jail/EM3ZkZh89k/lib/perl5/5.38.0 /home/cpan/pit/jail/EM3ZkZh89k/lib/perl5/x86_64-linux /home/cpan/pit/jail/EM3ZkZh89k/lib/perl5 /home/cpan/pit/bare/perl-5.38.0/lib/site_perl/5.38.0/x86_64-linux /home/cpan/pit/bare/perl-5.38.0/lib/site_perl/5.38.0 /home/cpan/pit/bare/perl-5.38.0/lib/5.38.0/x86_64-linux /home/cpan/pit/bare/perl-5.38.0/lib/5.38.0 .) at /home/cpan/pit/bare/perl-5.38.0/lib/5.38.0/Module/Load.pm line 78.
t/inheritance.t ........... ok
t/inline.t ................ ok
t/method-keyword.t ........ ok
t/moose_compatibility.t ... ok
t/multimethods.t .......... skipped: Could not load Syntax::Keyword::MultiSub: Can't locate Syntax/Keyword/MultiSub.pm in @INC (you may need to install the Syntax::Keyword::MultiSub module) (@INC entries checked: t/lib /home/cpan/pit/bare/conf/perl-5.38.0/.cpanplus/5.38.0/build/K7_oZq5KkK/MooseX-Extended-0.35/blib/lib /home/cpan/pit/bare/conf/perl-5.38.0/.cpanplus/5.38.0/build/K7_oZq5KkK/MooseX-Extended-0.35/blib/arch /home/cpan/pit/jail/EM3ZkZh89k/lib/perl5/5.38.0/x86_64-linux /home/cpan/pit/jail/EM3ZkZh89k/lib/perl5/5.38.0 /home/cpan/pit/jail/EM3ZkZh89k/lib/perl5/x86_64-linux /home/cpan/pit/jail/EM3ZkZh89k/lib/perl5 /home/cpan/pit/bare/perl-5.38.0/lib/site_perl/5.38.0/x86_64-linux /home/cpan/pit/bare/perl-5.38.0/lib/site_perl/5.38.0 /home/cpan/pit/bare/perl-5.38.0/lib/5.38.0/x86_64-linux /home/cpan/pit/bare/perl-5.38.0/lib/5.38.0 .) at /home/cpan/pit/bare/perl-5.38.0/lib/5.38.0/Module/Load.pm line 78.
t/roles.t ................. ok
t/rwp.t ................... ok
t/stringy-eval.t .......... ok
t/try.t ................... skipped: Could not load Syntax::Keyword::Try: Can't locate Syntax/Keyword/Try.pm in @INC (you may need to install the Syntax::Keyword::Try module) (@INC entries checked: t/lib /home/cpan/pit/bare/conf/perl-5.38.0/.cpanplus/5.38.0/build/K7_oZq5KkK/MooseX-Extended-0.35/blib/lib /home/cpan/pit/bare/conf/perl-5.38.0/.cpanplus/5.38.0/build/K7_oZq5KkK/MooseX-Extended-0.35/blib/arch /home/cpan/pit/jail/EM3ZkZh89k/lib/perl5/5.38.0/x86_64-linux /home/cpan/pit/jail/EM3ZkZh89k/lib/perl5/5.38.0 /home/cpan/pit/jail/EM3ZkZh89k/lib/perl5/x86_64-linux /home/cpan/pit/jail/EM3ZkZh89k/lib/perl5 /home/cpan/pit/bare/perl-5.38.0/lib/site_perl/5.38.0/x86_64-linux /home/cpan/pit/bare/perl-5.38.0/lib/site_perl/5.38.0 /home/cpan/pit/bare/perl-5.38.0/lib/5.38.0/x86_64-linux /home/cpan/pit/bare/perl-5.38.0/lib/5.38.0 .) at /home/cpan/pit/bare/perl-5.38.0/lib/5.38.0/Module/Load.pm line 78.
t/types.t ................. ok
t/warnings.t .............. ok
All tests successful.
Files=22, Tests=115, 8 wallclock secs ( 0.09 usr 0.02 sys + 7.14 cusr 1.06 csys = 8.31 CPU)
Result: PASS
PREREQUISITES:
Here is a list of prerequisites you specified and versions we
managed to load:
Module Name Have Want
B::Hooks::AtRuntime 8 8
Capture::Tiny 0.50 0
Carp 1.54 0
Data::Printer 1.002001 0
DateTime 1.66 0
Exporter 5.77 0
ExtUtils::MakeMaker 7.74 0
File::Spec 3.88 0
Import::Into 1.002005 0
List::Util 1.63 0
Module::Load 0.36 0
Moose 2.2207 0
Moose::Exception 2.2207 0
Moose::Exception::Role::Class 2.2207 0
Moose::Exporter 2.2207 0
Moose::Meta::Role 2.2207 0
Moose::Role 2.2207 0
Moose::Util 2.2207 0
MooseX::Role::WarnOnConflict 0.01 0
MooseX::StrictConstructor 0.21 0
Ref::Util 0.204 0
Scalar::Util 1.63 0
Storable 3.32 0
Test::Builder 1.302210 0
Test::More 1.302210 0
Test::Most 0.38 0
Type::Library 2.008001 0
Type::Params 2.008001 0
Type::Tiny 2.008001 1.012004
Type::Utils 2.008001 0
Types::Common::Numeric 2.008001 0
Types::Common::String 2.008001 0
Types::Standard 2.008001 0
base 2.27 0
constant 1.33 0
feature 1.82 0
lib 0.65 0
mro 1.28 0
namespace::autoclean 0.31 0
parent 0.241 0
strict 1.12 0
true v1.0.2 v1.0.2
version 0.9933 0
warnings 1.65 0
Perl module toolchain versions installed:
Module Name Have
CPANPLUS 0.9916
CPANPLUS::Dist::Build 0.90
Cwd 3.89
ExtUtils::CBuilder 0.280238
ExtUtils::Command 7.74
ExtUtils::Install 2.22
ExtUtils::MakeMaker 7.74
ExtUtils::Manifest 1.75
ExtUtils::ParseXS 3.51
File::Spec 3.88
Module::Build 0.4234
Pod::Parser 0
Pod::Simple 3.43
Test2 1.302210
Test::Harness 3.50
Test::More 1.302210
version 0.9933
******************************** NOTE ********************************
The comments above are created mechanically, possibly without manual
checking by the sender. As there are many people performing automatic
tests on each upload to CPAN, it is likely that you will receive
identical messages about the same problem.
If you believe that the message is mistaken, please reply to the first
one with correction and/or additional informations, and do not take
it personally. We appreciate your patience. :)
**********************************************************************
Additional comments:
This report was machine-generated by CPANPLUS::Dist::YACSmoke 1.08.
Powered by minismokebox version 0.68
CPANPLUS is prefering Build.PL
------------------------------
ENVIRONMENT AND OTHER CONTEXT
------------------------------
Environment variables:
AUTOMATED_TESTING = 1
LANG = C.UTF-8
LC_COLLATE = C
NONINTERACTIVE_TESTING = 1
PATH = /usr/local/sbin:/usr/local/bin:/usr/sbin:/usr/bin:/sbin:/bin
PERL5LIB = /home/cpan/pit/jail/EM3ZkZh89k/lib/perl5:/home/cpan/pit/bare/conf/perl-5.38.0/.cpanplus/5.38.0/build/K7_oZq5KkK/MooseX-Extended-0.35/blib/lib:/home/cpan/pit/bare/conf/perl-5.38.0/.cpanplus/5.38.0/build/K7_oZq5KkK/MooseX-Extended-0.35/blib/arch
PERL5_CPANPLUS_IS_RUNNING = 8897
PERL5_CPANPLUS_IS_VERSION = 0.9916
PERL5_MINISMOKEBOX = 0.68
PERL5_YACSMOKE_BASE = /home/cpan/pit/bare/conf/perl-5.38.0
PERL_EXTUTILS_AUTOINSTALL = --defaultdeps
PERL_LOCAL_LIB_ROOT = /home/cpan/pit/jail/EM3ZkZh89k
PERL_MB_OPT = --install_base "/home/cpan/pit/jail/EM3ZkZh89k"
PERL_MM_OPT = INSTALL_BASE=/home/cpan/pit/jail/EM3ZkZh89k
PERL_MM_USE_DEFAULT = 1
PERL_USE_UNSAFE_INC = 1
SHELL = /bin/bash
TERM = screen
Perl special variables (and OS-specific diagnostics, for MSWin32):
Perl: $^X = /home/cpan/pit/bare/perl-5.38.0/bin/perl
UID: $< = 1001
EUID: $> = 1001
GID: $( = 1001 1001
EGID: $) = 1001 1001
-------------------------------
--
Summary of my perl5 (revision 5 version 38 subversion 0) configuration:
Platform:
osname=linux
osvers=5.15.119-0-lts
archname=x86_64-linux
uname='linux agaric 5.15.119-0-lts #1-alpine smp wed, 28 jun 2023 19:17:16 +0000 x86_64 linux '
config_args='-des -Dprefix=/home/cpan/pit/bare/perl-5.38.0'
hint=recommended
useposix=true
d_sigaction=define
useithreads=undef
usemultiplicity=undef
use64bitint=define
use64bitall=define
uselongdouble=undef
usemymalloc=n
default_inc_excludes_dot=define
Compiler:
cc='cc'
ccflags ='-D_GNU_SOURCE -fwrapv -fno-strict-aliasing -pipe -fstack-protector-strong -D_LARGEFILE_SOURCE -D_FILE_OFFSET_BITS=64'
optimize='-O2'
cppflags='-D_GNU_SOURCE -fwrapv -fno-strict-aliasing -pipe -fstack-protector-strong'
ccversion=''
gccversion='10.3.1 20211027'
gccosandvers=''
intsize=4
longsize=8
ptrsize=8
doublesize=8
byteorder=12345678
doublekind=3
d_longlong=define
longlongsize=8
d_longdbl=define
longdblsize=16
longdblkind=3
ivtype='long'
ivsize=8
nvtype='double'
nvsize=8
Off_t='off_t'
lseeksize=8
alignbytes=8
prototype=define
Linker and Libraries:
ld='cc'
ldflags =' -fstack-protector-strong -L/usr/local/lib'
libpth=/usr/lib /usr/local/lib /lib
libs=-lpthread -lgdbm -ldl -lm -lcrypt -lutil -lc -lgdbm_compat
perllibs=-lpthread -ldl -lm -lcrypt -lutil -lc
libc=/usr/lib/libc.a
so=so
useshrplib=false
libperl=libperl.a
gnulibc_version=''
Dynamic Linking:
dlsrc=dl_dlopen.xs
dlext=so
d_dlsymun=undef
ccdlflags='-Wl,-E'
cccdlflags='-fPIC'
lddlflags='-shared -O2 -L/usr/local/lib -fstack-protector-strong'
Characteristics of this binary (from libperl):
Compile-time options:
HAS_LONG_DOUBLE
HAS_STRTOLD
HAS_TIMES
PERLIO_LAYERS
PERL_COPY_ON_WRITE
PERL_DONT_CREATE_GVSV
PERL_HASH_FUNC_SIPHASH13
PERL_HASH_USE_SBOX32
PERL_MALLOC_WRAP
PERL_OP_PARENT
PERL_PRESERVE_IVUV
PERL_USE_SAFE_PUTENV
USE_64_BIT_ALL
USE_64_BIT_INT
USE_LARGE_FILES
USE_LOCALE
USE_LOCALE_COLLATE
USE_LOCALE_CTYPE
USE_LOCALE_NUMERIC
USE_LOCALE_TIME
USE_PERLIO
USE_PERL_ATOF
Built under linux
Compiled at Jul 4 2023 16:34:36
%ENV:
PERL5LIB="/home/cpan/pit/jail/EM3ZkZh89k/lib/perl5:/home/cpan/pit/bare/conf/perl-5.38.0/.cpanplus/5.38.0/build/K7_oZq5KkK/MooseX-Extended-0.35/blib/lib:/home/cpan/pit/bare/conf/perl-5.38.0/.cpanplus/5.38.0/build/K7_oZq5KkK/MooseX-Extended-0.35/blib/arch"
PERL5_CPANPLUS_IS_RUNNING="8897"
PERL5_CPANPLUS_IS_VERSION="0.9916"
PERL5_MINISMOKEBOX="0.68"
PERL5_YACSMOKE_BASE="/home/cpan/pit/bare/conf/perl-5.38.0"
PERL_EXTUTILS_AUTOINSTALL="--defaultdeps"
PERL_LOCAL_LIB_ROOT="/home/cpan/pit/jail/EM3ZkZh89k"
PERL_MB_OPT="--install_base "/home/cpan/pit/jail/EM3ZkZh89k""
PERL_MM_OPT="INSTALL_BASE=/home/cpan/pit/jail/EM3ZkZh89k"
PERL_MM_USE_DEFAULT="1"
PERL_USE_UNSAFE_INC="1"
@INC:
/home/cpan/pit/jail/EM3ZkZh89k/lib/perl5/5.38.0/x86_64-linux
/home/cpan/pit/jail/EM3ZkZh89k/lib/perl5/5.38.0
/home/cpan/pit/jail/EM3ZkZh89k/lib/perl5/x86_64-linux
/home/cpan/pit/jail/EM3ZkZh89k/lib/perl5
/home/cpan/pit/bare/conf/perl-5.38.0/.cpanplus/5.38.0/build/K7_oZq5KkK/MooseX-Extended-0.35/blib/lib
/home/cpan/pit/bare/conf/perl-5.38.0/.cpanplus/5.38.0/build/K7_oZq5KkK/MooseX-Extended-0.35/blib/arch
/home/cpan/pit/bare/perl-5.38.0/lib/site_perl/5.38.0/x86_64-linux
/home/cpan/pit/bare/perl-5.38.0/lib/site_perl/5.38.0
/home/cpan/pit/bare/perl-5.38.0/lib/5.38.0/x86_64-linux
/home/cpan/pit/bare/perl-5.38.0/lib/5.38.0
.