Report for Jedi-Plugin-Session-0.05

Back
From: metabase:user:314402c4-2aae-11df-837a-5e0a49663a4f
Subject: PASS Jedi-Plugin-Session-0.05 v5.22.3 FreeBSD
Date: 2017-02-27T15:38:46Z

This distribution has been tested as part of the CPAN Testers
project, supporting the Perl programming language.  See
http://wiki.cpantesters.org/ for more information or email
questions to cpan-testers-discuss@perl.org


--
Dear celogeek,

This is a computer-generated report for Jedi-Plugin-Session-0.05
on perl 5.22.3, created by CPAN-Reporter-1.2018.

Thank you for uploading your work to CPAN.  Congratulations!
All tests were successful.

Sections of this report:

    * Tester comments
    * Program output
    * Prerequisites
    * Environment and other context

------------------------------
TESTER COMMENTS
------------------------------

Additional comments from tester:

none provided

------------------------------
PROGRAM OUTPUT
------------------------------

Output from './Build test':

t/00-compile.t ........... ok
# Testing with Perl 5.022003, /usr/perl5.22.3p/bin/perl5.22.3
#     B::Hooks::EndOfScope version is 0.21
#     CGI::Cookie version is 4.35
#     Cache::LRU::WithExpires version is 0.03
#     Carp version is 1.38
#     DBIx::Class::Core version is undefined
#     DBIx::Class::Migration version is 0.058
#     DBIx::Class::Schema version is undefined
#     Digest::SHA1 version is 2.13
#     File::ShareDir version is 1.102
#     File::Spec version is 3.62
#     HTTP::Request::Common version is 6.11
#     IO::Handle version is 1.35
#     IPC::Open3 version is 1.18
#     Import::Into version is 1.002005
#     Jedi version is 1.008
#     Jedi::App version is 1.008
#     Module::Build version is 0.422
#     Module::Runtime version is 0.014
#     Moo version is 2.003
#     Moo::Role version is 2.003
#     Path::Class version is 0.37
#     Plack::Test version is undefined
#     Redis version is 1.991
#     Scalar::Util version is 1.47
#     Sereal version is 3.015
#     Test::File::ShareDir version is 1.001001
#     Test::More version is 1.302075
#     Test::Most version is 0.35
#     Time::Duration::Parse version is 0.13
#     base version is 2.22
#     strict version is 1.09
#     warnings version is 1.34
t/000-report-versions.t .. ok
t/author-critic.t ........ skipped: these tests are for testing by the author
t/release-kwalitee.t ..... skipped: these tests are for release candidate testing
t/release-unused-vars.t .. skipped: these tests are for release candidate testing
# Expiration t::lib::session : Waiting 3 s ...
# Expiration t::lib::session_redis : Waiting 3 s ...
[DBICDH] [warn] no need to run upgrade
[DBICDH] [warn] no need to run upgrade
# Expiration t::lib::session_sqlite : Waiting 3 s ...
t/session.t .............. ok
All tests successful.
Files=6, Tests=90, 12 wallclock secs ( 0.00 usr  0.07 sys +  0.70 cusr  2.10 csys =  2.87 CPU)
Result: PASS

------------------------------
PREREQUISITES
------------------------------

Prerequisite modules loaded:

requires:

    Module                  Need   Have    
    ----------------------- ------ --------
    B::Hooks::EndOfScope    0      0.21    
    base                    0      2.22    
    Cache::LRU::WithExpires 0      0.03    
    Carp                    0      1.38    
    CGI::Cookie             0      4.35    
    DBIx::Class::Core       0      0       
    DBIx::Class::Migration  0      0.058   
    DBIx::Class::Schema     0      0       
    Digest::SHA1            0      2.13    
    File::ShareDir          1.00   1.102   
    Import::Into            0      1.002005
    Jedi                    1.002  1.008   
    Module::Runtime         0      0.014   
    Moo                     0      2.003000
    Moo::Role               0      2.003000
    Path::Class             0.33   0.37    
    perl                    5.010  5.022003
    Redis                   0      1.991   
    Sereal                  0      3.015   
    strict                  0      1.09    
    Time::Duration::Parse   0      0.13    
    warnings                0      1.34    

build_requires:

    Module                  Need   Have    
    ----------------------- ------ --------
    File::Spec              0      3.62    
    HTTP::Request::Common   0      6.11    
    IO::Handle              0      1.35    
    IPC::Open3              0      1.18    
    Jedi                    1.002  1.008   
    Jedi::App               0      1.008   
    Module::Build           0.3601 0.4220  
    Path::Class             0.33   0.37    
    perl                    5.010  5.022003
    Plack::Test             0      0       
    Scalar::Util            0      1.47    
    Test::File::ShareDir    0      1.001001
    Test::More              0.94   1.302075
    Test::Most              0      0.35    

configure_requires:

    Module                  Need   Have    
    ----------------------- ------ --------
    Module::Build           0.3601 0.4220  


------------------------------
ENVIRONMENT AND OTHER CONTEXT
------------------------------

Environment variables:

    LC_ALL = de_DE.ISO8859-1
    PATH = /usr/local/bin:/usr/bin:/bin:/usr/local/sbin:/usr/sbin:/sbin:/home/cpansand/bin/freebsd10.3:/home/cpansand/bin/sh:/home/cpansand/bin:/usr/games:/home/cpansand/devel:/home/eserte/src/srezic-misc/scripts
    PERL5LIB = 
    PERL5OPT = 
    PERL5_CPANPLUS_IS_RUNNING = 33099
    PERL5_CPAN_IS_RUNNING = 33099
    PERL5_CPAN_IS_RUNNING_IN_RECURSION = 53929,33099
    PERLDOC = -MPod::Perldoc::ToTextOverstrike
    PERL_BATCH = yes
    PERL_CANARY_STABILITY_NOPROMPT = 1
    PERL_CPAN_REPORTER_CONFIG = /var/tmp/cpansmoker-1023/2017022706/cpanreporter_001_config.ini
    PERL_EXTUTILS_AUTOINSTALL = --defaultdeps
    SHELL = /usr/local/bin/zsh
    TERM = screen
    TMPDIR = /var/tmp/cpansmoker-1023/2017022706

Perl special variables (and OS-specific diagnostics, for MSWin32):

    $^X = /usr/perl5.22.3p/bin/perl5.22.3
    $UID/$EUID = 1023 / 1023
    $GID = 1023 1023
    $EGID = 1023 1023

Perl module toolchain versions installed:

    Module              Have    
    ------------------- --------
    CPAN                2.16    
    CPAN::Meta          2.150010
    Cwd                 3.62    
    ExtUtils::CBuilder  0.280221
    ExtUtils::Command   7.24    
    ExtUtils::Install   2.04    
    ExtUtils::MakeMaker 7.24    
    ExtUtils::Manifest  1.70    
    ExtUtils::ParseXS   3.28    
    File::Spec          3.62    
    JSON                2.90    
    JSON::PP            2.27400 
    Module::Build       0.4220  
    Module::Signature   n/a     
    Parse::CPAN::Meta   2.150010
    Test::Harness       3.35_01 
    Test::More          1.302075
    YAML                1.23    
    YAML::Syck          1.29    
    version             0.9917  


--

Summary of my perl5 (revision 5 version 22 subversion 3) configuration:
   
  Platform:
    osname=freebsd, osvers=10.1-release, archname=amd64-freebsd
    uname='freebsd cvrsnica-freebsd-101.herceg.de 10.1-release freebsd 10.1-release #0 r274401: tue nov 11 21:02:49 utc 2014 root@releng1.nyi.freebsd.org:usrobjusrsrcsysgeneric amd64 '
    config_args='-ds -e -Dprefix=/usr/perl5.22.3p -Dcf_email=srezic@cpan.org -Doptimize=-O2 -pipe'
    hint=recommended, useposix=true, d_sigaction=define
    useithreads=undef, usemultiplicity=undef
    use64bitint=define, use64bitall=define, uselongdouble=undef
    usemymalloc=n, bincompat5005=undef
  Compiler:
    cc='cc', ccflags ='-DHAS_FPSETMASK -DHAS_FLOATINGPOINT_H -fno-strict-aliasing -pipe -fstack-protector -I/usr/local/include -D_FORTIFY_SOURCE=2',
    optimize='-O2 -pipe',
    cppflags='-DHAS_FPSETMASK -DHAS_FLOATINGPOINT_H -fno-strict-aliasing -pipe -fstack-protector -I/usr/local/include'
    ccversion='', gccversion='4.2.1 Compatible FreeBSD Clang 3.4.1 (tags/RELEASE_34/dot1-final 208032)', gccosandvers=''
    intsize=4, longsize=8, ptrsize=8, doublesize=8, byteorder=12345678, doublekind=3
    d_longlong=define, longlongsize=8, d_longdbl=define, longdblsize=16, longdblkind=3
    ivtype='long', ivsize=8, nvtype='double', nvsize=8, Off_t='off_t', lseeksize=8
    alignbytes=8, prototype=define
  Linker and Libraries:
    ld='cc', ldflags ='-pthread -Wl,-E  -fstack-protector -L/usr/local/lib'
    libpth=/usr/lib /usr/local/lib /usr/include/clang/3.4.1 /usr/lib
    libs=-lpthread -lgdbm -lm -lcrypt -lutil -lc
    perllibs=-lpthread -lm -lcrypt -lutil -lc
    libc=, so=so, useshrplib=false, libperl=libperl.a
    gnulibc_version=''
  Dynamic Linking:
    dlsrc=dl_dlopen.xs, dlext=so, d_dlsymun=undef, ccdlflags=' '
    cccdlflags='-DPIC -fPIC', lddlflags='-shared  -L/usr/local/lib -fstack-protector'


Characteristics of this binary (from libperl): 
  Compile-time options: HAS_TIMES PERLIO_LAYERS PERL_DONT_CREATE_GVSV
                        PERL_HASH_FUNC_ONE_AT_A_TIME_HARD PERL_MALLOC_WRAP
                        PERL_NEW_COPY_ON_WRITE PERL_PRESERVE_IVUV
                        USE_64_BIT_ALL USE_64_BIT_INT USE_LARGE_FILES
                        USE_LOCALE USE_LOCALE_COLLATE USE_LOCALE_CTYPE
                        USE_LOCALE_NUMERIC USE_LOCALE_TIME USE_PERLIO
                        USE_PERL_ATOF
  Built under freebsd
  Compiled at Jan 15 2017 18:31:13
  %ENV:
    PERL5LIB=""
    PERL5OPT=""
    PERL5_CPANPLUS_IS_RUNNING="33099"
    PERL5_CPAN_IS_RUNNING="33099"
    PERL5_CPAN_IS_RUNNING_IN_RECURSION="53929,33099"
    PERLDOC="-MPod::Perldoc::ToTextOverstrike"
    PERL_BATCH="yes"
    PERL_CANARY_STABILITY_NOPROMPT="1"
    PERL_CPAN_REPORTER_CONFIG="/var/tmp/cpansmoker-1023/2017022706/cpanreporter_001_config.ini"
    PERL_EXTUTILS_AUTOINSTALL="--defaultdeps"
  @INC:
    /usr/perl5.22.3p/lib/site_perl/5.22.3/amd64-freebsd
    /usr/perl5.22.3p/lib/site_perl/5.22.3
    /usr/perl5.22.3p/lib/5.22.3/amd64-freebsd
    /usr/perl5.22.3p/lib/5.22.3
    .