File-Open-NoCache-ReadOnly v0.05 Perl 5 v5.12.5 x86_64-linux

Status
Pass
From
David Cantrell (DCANTRELL)
Dist
File-Open-NoCache-ReadOnly v0.05
Platform
Perl 5 v5.12.5 x86_64-linux
Date
2025-03-21 04:27:40
ID
d37dc6de-060c-11f0-ac80-c40e62ec7a86
This distribution has been tested as part of the CPAN Testers
project, supporting the Perl programming language.  See
http://wiki.cpantesters.org/ for more information or email
questions to cpan-testers-discuss@perl.org


--
Dear Nigel Horne,

This is a computer-generated report for File-Open-NoCache-ReadOnly-0.05
on perl 5.12.5, created by CPAN-Reporter-1.2019.

Thank you for uploading your work to CPAN.  Congratulations!
All tests were successful.

Sections of this report:

    * Tester comments
    * Program output
    * Prerequisites
    * Environment and other context

------------------------------
TESTER COMMENTS
------------------------------

Additional comments from tester:

this report is from an automated smoke testing program
and was not reviewed by a human for accuracy

------------------------------
PROGRAM OUTPUT
------------------------------

Output from '/usr/bin/make test':

PERL_DL_NONLAZY=1 "/home/david/cpantesting/perl-5.12.5/bin/perl" "-MExtUtils::Command::MM" "-MTest::Harness" "-e" "undef *Test::Harness::Switches; test_harness(0, 'blib/lib', 'blib/arch')" t/*.t
# Testing File::Open::NoCache::ReadOnly 0.05, Perl 5.012005, /home/david/cpantesting/perl-5.12.5/bin/perl
t/00-load.t ........ ok
Usage: File::Open::NoCache::ReadOnly->new(filename => $filename) at t/20-new.t line 19.
t/20-new.t ......... ok
t/30-basics.t ...... ok
t/carp.t ........... ok
t/changes.t ........ skipped: Not running author tests
t/coverage.t ....... ok
t/critic.t ......... skipped: Not running author tests
t/cv.t ............. skipped: Not running author tests
t/dist.t ........... skipped: Not running author tests
t/eof.t ............ skipped: Not running author tests
t/eol.t ............ skipped: Not running author tests
t/gv.t ............. skipped: Not running author tests
t/kwalitee.t ....... skipped: Not running author tests
t/links.t .......... skipped: Not running author tests
t/manifest.t ....... skipped: Not running author tests
t/metrics.t ........ skipped: Not running author tests
t/modules-used.t ... skipped: Not running author tests
t/no404s.t ......... skipped: Not running author tests
# Author tests not required for installation
t/noopentickets.t .. ok
t/noplan.t ......... skipped: Not running author tests
Subroutine IO::AIO::fadvise redefined at t/open.t line 44.
# Ignore redefine messages
# Ignore message about attempt to close twice
Attempt to close object twice at t/open.t line 26.
/asdasd.not.there: No such file or directory at t/open.t line 29.
# Ignore usage messages
Usage: File::Open::NoCache::ReadOnly->new(filename => $filename) at t/open.t line 40.
t/open.t ........... ok
t/pod-cm.t ......... skipped: Test::Pod::Spelling::CommonMistakes required for testing POD spelling
t/pod-synopsis.t ... skipped: Not running author tests
t/pod.t ............ skipped: Not running author tests
t/port.t ........... skipped: Not running author tests
t/prereq.t ......... skipped: Not running author tests
t/snippets.t ....... skipped: Author tests not required for installation
t/spelling.t ....... skipped: Author tests not required for installation
t/strict.t ......... skipped: Not running author tests
t/unused.t ......... skipped: Not running author tests
t/vars.t ........... skipped: Not running author tests
All tests successful.
Files=31, Tests=40, 25 wallclock secs ( 0.11 usr  0.15 sys +  3.76 cusr  0.65 csys =  4.67 CPU)
Result: PASS

------------------------------
PREREQUISITES
------------------------------

Prerequisite modules loaded:

requires:

    Module              Need     Have    
    ------------------- -------- --------
    Carp                0        1.50    
    IO::AIO             0        4.81    
    perl                5.006002 5.012005
    Scalar::Util        0        1.68    

build_requires:

    Module              Need     Have    
    ------------------- -------- --------
    autodie             0        2.37    
    ExtUtils::MakeMaker 0        7.70    
    File::Temp          0        0.2311  
    IPC::System::Simple 0        1.30    
    Test::Carp          0        0.2     
    Test::DescribeMe    0        0.004   
    Test::Exception     0.42     0.43    
    Test::Most          0        0.38    
    Test::Needs         0        0.002010
    Test::NoWarnings    0        1.06    
    Test::Script        1.12     1.29    
    Test::Warn          0        0.37    

configure_requires:

    Module              Need     Have    
    ------------------- -------- --------
    ExtUtils::MakeMaker 0        7.70    


------------------------------
ENVIRONMENT AND OTHER CONTEXT
------------------------------

Environment variables:

    AUTOMATED_TESTING = 1
    LANG = en_GB.UTF-8
    LANGUAGE = en_GB:en
    LC_TERMINAL = iTerm2
    LC_TERMINAL_VERSION = 3.5.11
    NONINTERACTIVE_TESTING = 1
    PATH = /home/david/.nvm/versions/node/v22.14.0/bin:/home/david/.cargo/bin:/home/david/perl5/perlbrew/bin:/home/david/perl5/perlbrew/perls/perl-5.30.2/bin:/home/david/bin:/usr/local/bin:/usr/bin:/bin:/usr/local/games:/usr/games
    PERL = 5.12.5
    PERL5LIB = 
    PERL5OPT = 
    PERL5_CPANPLUS_IS_RUNNING = 468812
    PERL5_CPAN_IS_RUNNING = 468812
    PERLBREW_HOME = /home/david/.perlbrew
    PERLBREW_MANPATH = /home/david/perl5/perlbrew/perls/perl-5.30.2/man
    PERLBREW_PATH = /home/david/perl5/perlbrew/bin:/home/david/perl5/perlbrew/perls/perl-5.30.2/bin
    PERLBREW_PERL = perl-5.30.2
    PERLBREW_ROOT = /home/david/perl5/perlbrew
    PERLBREW_SHELLRC_VERSION = 0.98
    PERLBREW_VERSION = 0.98
    PERLVER = 5.12.5
    PERL_INLINE_DIRECTORY = /home/david/.Inline-5.12.5
    PERL_MM_USE_DEFAULT = 1
    PERL_USE_UNSAFE_INC = 0
    SHELL = /bin/bash
    TERM = screen

Perl special variables (and OS-specific diagnostics, for MSWin32):

    $^X = /home/david/cpantesting/perl-5.12.5/bin/perl
    $UID/$EUID = 1000 / 1000
    $GID = 1000 24 25 27 29 30 44 46 109 1000
    $EGID = 1000 24 25 27 29 30 44 46 109 1000

Perl module toolchain versions installed:

    Module              Have    
    ------------------- --------
    CPAN                2.36    
    CPAN::Meta          2.150010
    Cwd                 3.75    
    ExtUtils::CBuilder  0.280236
    ExtUtils::Command   7.70    
    ExtUtils::Install   2.22    
    ExtUtils::MakeMaker 7.70    
    ExtUtils::Manifest  1.75    
    ExtUtils::ParseXS   3.51    
    File::Spec          3.75    
    JSON                4.10    
    JSON::PP            4.16    
    Module::Build       0.4234  
    Module::Signature   n/a     
    Parse::CPAN::Meta   2.150010
    Test2               1.302207
    Test::Harness       3.50    
    Test::More          1.302207
    YAML                1.31    
    YAML::Syck          1.34    
    version             0.9933  


--

Summary of my perl5 (revision 5 version 12 subversion 5) configuration:
   
  Platform:
    osname=linux, osvers=5.10.0-11-amd64, archname=x86_64-linux
    uname='linux cpantesting-linux 5.10.0-11-amd64 #1 smp debian 5.10.92-1 (2022-01-18) x86_64 gnulinux '
    config_args='-de -Dprefix=/home/david/cpantesting/perl-5.12.5'
    hint=recommended, useposix=true, d_sigaction=define
    useithreads=undef, usemultiplicity=undef
    useperlio=define, d_sfio=undef, uselargefiles=define, usesocks=undef
    use64bitint=define, use64bitall=define, uselongdouble=undef
    usemymalloc=n, bincompat5005=undef
  Compiler:
    cc='cc', ccflags ='-fwrapv -fno-strict-aliasing -pipe -fstack-protector -I/usr/local/include -D_LARGEFILE_SOURCE -D_FILE_OFFSET_BITS=64',
    optimize='-O2',
    cppflags='-fwrapv -fno-strict-aliasing -pipe -fstack-protector -I/usr/local/include'
    ccversion='', gccversion='10.2.1 20210110', gccosandvers=''
    intsize=4, longsize=8, ptrsize=8, doublesize=8, byteorder=12345678
    d_longlong=define, longlongsize=8, d_longdbl=define, longdblsize=16
    ivtype='long', ivsize=8, nvtype='double', nvsize=8, Off_t='off_t', lseeksize=8
    alignbytes=8, prototype=define
  Linker and Libraries:
    ld='cc', ldflags =' -fstack-protector -L/usr/local/lib'
    libpth=/usr/local/lib /lib/x86_64-linux-gnu /lib/../lib /usr/lib/x86_64-linux-gnu /usr/lib/../lib /lib /usr/lib /lib64 /usr/lib64
    libs=-lnsl -ldl -lm -lcrypt -lutil -lc
    perllibs=-lnsl -ldl -lm -lcrypt -lutil -lc
    libc=libc-2.31.so, so=so, useshrplib=false, libperl=libperl.a
    gnulibc_version='2.31'
  Dynamic Linking:
    dlsrc=dl_dlopen.xs, dlext=so, d_dlsymun=undef, ccdlflags='-Wl,-E'
    cccdlflags='-fPIC', lddlflags='-shared -O2 -L/usr/local/lib -fstack-protector'


Characteristics of this binary (from libperl): 
  Compile-time options: PERL_DONT_CREATE_GVSV PERL_MALLOC_WRAP USE_64_BIT_ALL
                        USE_64_BIT_INT USE_LARGE_FILES USE_PERLIO
                        USE_PERL_ATOF
  Locally applied patches:
	Devel::PatchPerl 2.08
  Built under linux
  Compiled at Jul  5 2023 22:36:28
  %ENV:
    PERL="5.12.5"
    PERL5LIB=""
    PERL5OPT=""
    PERL5_CPANPLUS_IS_RUNNING="468812"
    PERL5_CPAN_IS_RUNNING="468812"
    PERLBREW_HOME="/home/david/.perlbrew"
    PERLBREW_MANPATH="/home/david/perl5/perlbrew/perls/perl-5.30.2/man"
    PERLBREW_PATH="/home/david/perl5/perlbrew/bin:/home/david/perl5/perlbrew/perls/perl-5.30.2/bin"
    PERLBREW_PERL="perl-5.30.2"
    PERLBREW_ROOT="/home/david/perl5/perlbrew"
    PERLBREW_SHELLRC_VERSION="0.98"
    PERLBREW_VERSION="0.98"
    PERLVER="5.12.5"
    PERL_INLINE_DIRECTORY="/home/david/.Inline-5.12.5"
    PERL_MM_USE_DEFAULT="1"
    PERL_USE_UNSAFE_INC="0"
  @INC:
    /home/david/cpantesting/perl-5.12.5/lib/site_perl/5.12.5/x86_64-linux
    /home/david/cpantesting/perl-5.12.5/lib/site_perl/5.12.5
    /home/david/cpantesting/perl-5.12.5/lib/5.12.5/x86_64-linux
    /home/david/cpantesting/perl-5.12.5/lib/5.12.5
    .