Report for Pod-Weaver-Section-CollectWithIntro-0.001

Back
From: metabase:user:a0e144f2-373b-11e6-8edd-c6848980b093
Subject: PASS Pod-Weaver-Section-CollectWithIntro-0.001 v5.26.0 GNU/Linux
Date: 2017-04-17T05:29:28Z

This distribution has been tested as part of the CPAN Testers
project, supporting the Perl programming language.  See
http://wiki.cpantesters.org/ for more information or email
questions to cpan-testers-discuss@perl.org


--
Dear Chris Weyl,

This is a computer-generated report for Pod-Weaver-Section-CollectWithIntro-0.001
on perl 5.26.0, created by CPAN-Reporter-1.2018.

Thank you for uploading your work to CPAN.  Congratulations!
All tests were successful.

Sections of this report:

    * Tester comments
    * Program output
    * Prerequisites
    * Environment and other context

------------------------------
TESTER COMMENTS
------------------------------

Additional comments from tester:

this report is from an automated smoke testing program
and was not reviewed by a human for accuracy

------------------------------
PROGRAM OUTPUT
------------------------------

Output from '/usr/bin/make test':

PERL_DL_NONLAZY=1 "/home/cpan3/install/bin/perl" "-MExtUtils::Command::MM" "-MTest::Harness" "-e" "undef *Test::Harness::Switches; test_harness(0, 'blib/lib', 'blib/arch')" t/*.t
# 
# 
# Generated by Dist::Zilla::Plugin::ReportVersions::Tiny v1.08
# perl: 5.026000 (wanted 5.006) on linux from /home/cpan3/install/bin/perl
# 
# ExtUtils::MakeMaker                           => 7.24       (want 6.30)   
# File::Find                                    => 1.34       (want any version)
# File::Temp                                    => 0.2304     (want any version)
# Moose                                         => 2.2004     (want any version)
# Moose::Autobox                                => 0.16       (want 0.10)   
# PPI                                           => 1.221_02   (want any version)
# Pod::Coverage::TrustPod                       => 0.100003   (want any version)
# Pod::Elemental                                => 0.103004   (want any version)
# Pod::Elemental::Element::Pod5::Ordinary       => 0.103004   (want any version)
# Pod::Elemental::Selectors                     => 0.103004   (want any version)
# Pod::Elemental::Transformer::Nester           => 0.103004   (want any version)
# Pod::Elemental::Transformer::Pod5             => 0.103004   (want any version)
# Pod::Weaver                                   => 4.015      (want any version)
# Pod::Weaver::Section::Collect                 => 4.015      (want any version)
# Test::Differences                             => 0.64       (want any version)
# Test::More                                    => 1.302078   (want 0.88)   
# Test::Pod                                     => 1.51       (want 1.41)   
# Test::Pod::Coverage                           => 1.10       (want 1.08)   
# aliased                                       => 0.34       (want any version)
# autobox::Core                                 => 1.33       (want any version)
# namespace::autoclean                          => 0.28       (want any version)
# strict                                        => 1.11       (want any version)
# version                                       => 0.9917     (want 0.9901) 
# warnings                                      => 1.37       (want any version)
# 
# Thanks for using my code.  I hope it works for you.
# If not, please try and include this output in the bug report.
# That will help me reproduce the issue and solve your problem.
# 
t/author-pod-spell.t ............ skipped: these tests are for testing by the author
t/00-compile.t .................. ok
t/000-report-versions-tiny.t .... ok
t/release-consistent-version.t .. skipped: these tests are for release candidate testing
t/release-has-version.t ......... skipped: these tests are for release candidate testing
t/release-eol.t ................. skipped: these tests are for release candidate testing
t/release-no-smart-comments.t ... skipped: these tests are for release candidate testing
t/release-no-tabs.t ............. skipped: these tests are for release candidate testing
t/release-pod-coverage.t ........ skipped: these tests are for release candidate testing
t/release-pod-syntax.t .......... skipped: these tests are for release candidate testing
t/release-portability.t ......... skipped: these tests are for release candidate testing
t/basic.t ....................... ok
All tests successful.
Files=12, Tests=3,  3 wallclock secs ( 0.07 usr  0.00 sys +  3.71 cusr  0.20 csys =  3.98 CPU)
Result: PASS

------------------------------
PREREQUISITES
------------------------------

Prerequisite modules loaded:

requires:

    Module                                  Need Have    
    --------------------------------------- ---- --------
    aliased                                 0    0.34    
    autobox::Core                           0    1.33    
    Moose                                   0    2.2004  
    namespace::autoclean                    0    0.28    
    Pod::Elemental::Element::Pod5::Ordinary 0    0.103004
    Pod::Weaver::Section::Collect           0    4.015   

build_requires:

    Module                                  Need Have    
    --------------------------------------- ---- --------
    File::Find                              0    1.34    
    File::Temp                              0    0.2304  
    Moose::Autobox                          0.10 0.16    
    Pod::Elemental                          0    0.103004
    Pod::Elemental::Selectors               0    0.103004
    Pod::Elemental::Transformer::Nester     0    0.103004
    Pod::Elemental::Transformer::Pod5       0    0.103004
    Pod::Weaver                             0    4.015   
    PPI                                     0    1.221_02
    strict                                  0    1.11    
    Test::Differences                       0    0.64    
    Test::More                              0.88 1.302078
    warnings                                0    1.37    

configure_requires:

    Module                                  Need Have    
    --------------------------------------- ---- --------
    ExtUtils::MakeMaker                     6.30 7.24    


------------------------------
ENVIRONMENT AND OTHER CONTEXT
------------------------------

Environment variables:

    AUTOMATED_TESTING = 1
    HARNESS_OPTIONS = j3
    LANG = en_US.UTF-8
    PATH = /usr/local/bin:/usr/bin:/bin:/usr/local/games:/usr/games
    PERL5LIB = 
    PERL5OPT = 
    PERL5_CPANPLUS_IS_RUNNING = 6701
    PERL5_CPAN_IS_RUNNING = 6701
    PERL5_CPAN_IS_RUNNING_IN_RECURSION = 28781,6701
    PERL_CR_SMOKER_CURRENT = Pod-Weaver-Section-CollectWithIntro-0.001
    PERL_CR_SMOKER_RUNONCE = 1
    PERL_EXTUTILS_AUTOINSTALL = --defaultdeps
    PERL_MM_USE_DEFAULT = 1
    SHELL = /bin/bash
    TERM = putty-256color

Perl special variables (and OS-specific diagnostics, for MSWin32):

    $^X = /home/cpan3/install/bin/perl
    $UID/$EUID = 1004 / 1004
    $GID = 1004 1004
    $EGID = 1004 1004

Perl module toolchain versions installed:

    Module              Have    
    ------------------- --------
    CPAN                2.16    
    CPAN::Meta          2.150010
    Cwd                 3.62    
    ExtUtils::CBuilder  0.280224
    ExtUtils::Command   7.24    
    ExtUtils::Install   2.04    
    ExtUtils::MakeMaker 7.24    
    ExtUtils::Manifest  1.70    
    ExtUtils::ParseXS   3.30    
    File::Spec          3.62    
    JSON                2.91_04 
    JSON::PP            2.27400 
    Module::Build       0.4222  
    Module::Signature   0.81    
    Parse::CPAN::Meta   2.150010
    Test::Harness       3.39    
    Test::More          1.302078
    YAML                1.23    
    YAML::Syck          1.29    
    version             0.9917  


--

Summary of my perl5 (revision 5 version 26 subversion 0) configuration:
  Commit id: f57d8456e7b8d6b2dad0bb49899cfdc68007b794
  Platform:
    osname=linux
    osvers=3.16.0-4-amd64
    archname=x86_64-linux-thread-multi
    uname='linux digitalis 3.16.0-4-amd64 #1 smp debian 3.16.36-1+deb8u2 (2016-10-19) x86_64 gnulinux '
    config_args='-Dusedevel -DDEBUGGING -Dusethreads -Dprefix=/home/cpan3/install -Uversiononly -des'
    hint=recommended
    useposix=true
    d_sigaction=define
    useithreads=define
    usemultiplicity=define
    use64bitint=define
    use64bitall=define
    uselongdouble=undef
    usemymalloc=n
    default_inc_excludes_dot=define
    bincompat5005=undef
  Compiler:
    cc='cc'
    ccflags ='-D_REENTRANT -D_GNU_SOURCE -fwrapv -DDEBUGGING -fno-strict-aliasing -pipe -fstack-protector-strong -I/usr/local/include -D_LARGEFILE_SOURCE -D_FILE_OFFSET_BITS=64 -D_FORTIFY_SOURCE=2'
    optimize='-O2 -g'
    cppflags='-D_REENTRANT -D_GNU_SOURCE -fwrapv -DDEBUGGING -fno-strict-aliasing -pipe -fstack-protector-strong -I/usr/local/include'
    ccversion=''
    gccversion='4.9.2'
    gccosandvers=''
    intsize=4
    longsize=8
    ptrsize=8
    doublesize=8
    byteorder=12345678
    doublekind=3
    d_longlong=define
    longlongsize=8
    d_longdbl=define
    longdblsize=16
    longdblkind=3
    ivtype='long'
    ivsize=8
    nvtype='double'
    nvsize=8
    Off_t='off_t'
    lseeksize=8
    alignbytes=8
    prototype=define
  Linker and Libraries:
    ld='cc'
    ldflags =' -fstack-protector-strong -L/usr/local/lib'
    libpth=/usr/local/lib /usr/lib/gcc/x86_64-linux-gnu/4.9/include-fixed /usr/include/x86_64-linux-gnu /usr/lib /lib/x86_64-linux-gnu /lib/../lib /usr/lib/x86_64-linux-gnu /usr/lib/../lib /lib /lib64 /usr/lib64
    libs=-lpthread -lnsl -ldl -lm -lcrypt -lutil -lc
    perllibs=-lpthread -lnsl -ldl -lm -lcrypt -lutil -lc
    libc=libc-2.19.so
    so=so
    useshrplib=false
    libperl=libperl.a
    gnulibc_version='2.19'
  Dynamic Linking:
    dlsrc=dl_dlopen.xs
    dlext=so
    d_dlsymun=undef
    ccdlflags='-Wl,-E'
    cccdlflags='-fPIC'
    lddlflags='-shared -O2 -g -L/usr/local/lib -fstack-protector-strong'


Characteristics of this binary (from libperl): 
  Compile-time options:
    DEBUGGING
    HAS_TIMES
    MULTIPLICITY
    PERLIO_LAYERS
    PERL_COPY_ON_WRITE
    PERL_DONT_CREATE_GVSV
    PERL_IMPLICIT_CONTEXT
    PERL_MALLOC_WRAP
    PERL_OP_PARENT
    PERL_PRESERVE_IVUV
    PERL_TRACK_MEMPOOL
    PERL_USE_DEVEL
    USE_64_BIT_ALL
    USE_64_BIT_INT
    USE_ITHREADS
    USE_LARGE_FILES
    USE_LOCALE
    USE_LOCALE_COLLATE
    USE_LOCALE_CTYPE
    USE_LOCALE_NUMERIC
    USE_LOCALE_TIME
    USE_PERLIO
    USE_PERL_ATOF
    USE_REENTRANT_API
  Built under linux
  Compiled at Apr 11 2017 21:41:23
  %ENV:
    PERL5LIB=""
    PERL5OPT=""
    PERL5_CPANPLUS_IS_RUNNING="6701"
    PERL5_CPAN_IS_RUNNING="6701"
    PERL5_CPAN_IS_RUNNING_IN_RECURSION="28781,6701"
    PERL_CR_SMOKER_CURRENT="Pod-Weaver-Section-CollectWithIntro-0.001"
    PERL_CR_SMOKER_RUNONCE="1"
    PERL_EXTUTILS_AUTOINSTALL="--defaultdeps"
    PERL_MM_USE_DEFAULT="1"
  @INC:
    /home/cpan3/install/lib/perl5/site_perl/5.26.0/x86_64-linux-thread-multi
    /home/cpan3/install/lib/perl5/site_perl/5.26.0
    /home/cpan3/install/lib/perl5/5.26.0/x86_64-linux-thread-multi
    /home/cpan3/install/lib/perl5/5.26.0