Report for POE-Component-IRC-6.86

Back
From: metabase:user:30f4dfbe-2aae-11df-837a-5e0a49663a4f
Subject: PASS POE-Component-IRC-6.86 v5.18.2 FreeBSD
Date: 2014-06-21T12:01:49Z

This distribution has been tested as part of the CPAN Testers
project, supporting the Perl programming language.  See
http://wiki.cpantesters.org/ for more information or email
questions to cpan-testers-discuss@perl.org


--
Dear Chris Williams,

This is a computer-generated report for POE-Component-IRC-6.86
on perl 5.18.2, created by CPAN-Reporter-1.2011.

Thank you for uploading your work to CPAN.  Congratulations!
All tests were successful.

Sections of this report:

    * Tester comments
    * Program output
    * Prerequisites
    * Environment and other context

------------------------------
TESTER COMMENTS
------------------------------

Additional comments from tester:

this report is from an automated smoke testing program
and was not reviewed by a human for accuracy

------------------------------
PROGRAM OUTPUT
------------------------------

Output from '/usr/bin/make test':

PERL_DL_NONLAZY=1 /usr/home/njh/perl5/perlbrew/perls/perl-5.18.2/bin/perl "-MExtUtils::Command::MM" "-MTest::Harness" "-e" "undef *Test::Harness::Switches; test_harness(0, 'blib/lib', 'blib/arch')" t/01_base/*.t t/02_behavior/*.t t/03_subclasses/*.t t/04_plugins/01_ctcp/*.t t/04_plugins/02_connector/*.t t/04_plugins/03_botaddressed/*.t t/04_plugins/04_bottraffic/*.t t/04_plugins/05_isupport/*.t t/04_plugins/06_plugman/*.t t/04_plugins/07_console/*.t t/04_plugins/08_proxy/*.t t/04_plugins/09_nickreclaim/*.t t/04_plugins/10_followtail/*.t t/04_plugins/11_cycleempty/*.t t/04_plugins/12_autojoin/*.t t/04_plugins/13_botcommand/*.t t/04_plugins/14_logger/*.t t/04_plugins/15_nickservid/*.t t/04_plugins/16_whois/*.t t/04_plugins/17_dcc/*.t t/05_regression/*.t
t/01_base/01_compile.t ............................. ok
t/01_base/02_filters.t ............................. ok
t/01_base/04_pocosi.t .............................. ok
t/02_behavior/01_public_methods.t .................. ok
t/02_behavior/02_connect.t ......................... ok
t/02_behavior/03_socketerr.t ....................... ok
t/02_behavior/04_ipv6.t ............................ ok
t/02_behavior/05_resolver.t ........................ ok
# irc_registered
# irc_connected
# irc_snotice:  '*** Looking up your hostname...' '*' 'verne.freenode.net'
# irc_snotice:  '*** Checking Ident' '*' 'verne.freenode.net'
# irc_snotice:  '*** Found your hostname' '*' 'verne.freenode.net'
# irc_snotice:  '*** No Ident response' '*' 'verne.freenode.net'
# irc_cap:  'ACK' 'identify-msg '
# irc_cap:  'ACK' 'multi-prefix '
# irc_cap:  'LS' 'account-notify extended-join identify-msg multi-prefix sasl'
# irc_001
# irc_002:  'verne.freenode.net' 'Your host is verne.freenode.net[185.30.166.35/6667], running version ircd-seven-1.1.3' [Your host is verne.freenode.net[185.30.166.35/6667], running version ircd-seven-1.1.3]
# irc_003:  'verne.freenode.net' 'This server was created Sat Mar 22 2014 at 14:55:42 EDT' [This server was created Sat Mar 22 2014 at 14:55:42 EDT]
# irc_004:  'verne.freenode.net' 'verne.freenode.net ircd-seven-1.1.3 DOQRSZaghilopswz CFILMPQSbcefgijklmnopqrstvz bkloveqjfI' [verne.freenode.net, ircd-seven-1.1.3, DOQRSZaghilopswz, CFILMPQSbcefgijklmnopqrstvz, bkloveqjfI]
# irc_005:  'verne.freenode.net' 'CHANTYPES=# EXCEPTS INVEX CHANMODES=eIbq,k,flj,CFLMPQScgimnprstz CHANLIMIT=#:120 PREFIX=(ov)@+ MAXLIST=bqeI:100 MODES=4 NETWORK=freenode KNOCK STATUSMSG=@+ CALLERID=g :are supported by this server' [CHANTYPES=#, EXCEPTS, INVEX, CHANMODES=eIbq,k,flj,CFLMPQScgimnprstz, CHANLIMIT=#:120, PREFIX=(ov)@+, MAXLIST=bqeI:100, MODES=4, NETWORK=freenode, KNOCK, STATUSMSG=@+, CALLERID=g, are supported by this server]
# irc_005:  'verne.freenode.net' 'CASEMAPPING=rfc1459 CHARSET=ascii NICKLEN=16 CHANNELLEN=50 TOPICLEN=390 ETRACE CPRIVMSG CNOTICE DEAF=D MONITOR=100 FNC TARGMAX=NAMES:1,LIST:1,KICK:1,WHOIS:1,PRIVMSG:4,NOTICE:4,ACCEPT:,MONITOR: :are supported by this server' [CASEMAPPING=rfc1459, CHARSET=ascii, NICKLEN=16, CHANNELLEN=50, TOPICLEN=390, ETRACE, CPRIVMSG, CNOTICE, DEAF=D, MONITOR=100, FNC, TARGMAX=NAMES:1,LIST:1,KICK:1,WHOIS:1,PRIVMSG:4,NOTICE:4,ACCEPT:,MONITOR:, are supported by this server]
# irc_005:  'verne.freenode.net' 'EXTBAN=$,ajrxz WHOX CLIENTVER=3.0 SAFELIST ELIST=CTU :are supported by this server' [EXTBAN=$,ajrxz, WHOX, CLIENTVER=3.0, SAFELIST, ELIST=CTU, are supported by this server]
# irc_isupport:  'POE::Component::IRC::Plugin::ISupport=HASH(0x294cc4e0)'
# irc_251:  'verne.freenode.net' 'There are 185 users and 82409 invisible on 27 servers' [There are 185 users and 82409 invisible on 27 servers]
# irc_252:  'verne.freenode.net' '30 :IRC Operators online' [30, IRC Operators online]
# irc_253:  'verne.freenode.net' '13 :unknown connection(s)' [13, unknown connection(s)]
# irc_254:  'verne.freenode.net' '51891 :channels formed' [51891, channels formed]
# irc_255:  'verne.freenode.net' 'I have 6259 clients and 1 servers' [I have 6259 clients and 1 servers]
# irc_265:  'verne.freenode.net' '6259 7797 :Current local users 6259, max 7797' [6259, 7797, Current local users 6259, max 7797]
# irc_266:  'verne.freenode.net' '82594 97140 :Current global users 82594, max 97140' [82594, 97140, Current global users 82594, max 97140]
# irc_250:  'verne.freenode.net' 'Highest connection count: 7798 (7797 clients) (289463 connections received)' [Highest connection count: 7798 (7797 clients) (289463 connections received)]
# irc_375:  'verne.freenode.net' '- verne.freenode.net Message of the Day - ' [- verne.freenode.net Message of the Day - ]
# irc_372:  'verne.freenode.net' '- Welcome to verne.freenode.net in Amsterdam, NL.' [- Welcome to verne.freenode.net in Amsterdam, NL.]
# irc_372:  'verne.freenode.net' '- Thanks to http://www.hyperfilter.com/ for sponsoring' [- Thanks to http://www.hyperfilter.com/ for sponsoring]
# irc_372:  'verne.freenode.net' '- this server!' [- this server!]
# irc_372:  'verne.freenode.net' '-  ' [-  ]
# irc_372:  'verne.freenode.net' '-  ' [-  ]
# irc_372:  'verne.freenode.net' '- VERNE, Jules (1828-1905). Born in Nantes, France, Verne was' [- VERNE, Jules (1828-1905). Born in Nantes, France, Verne was]
# irc_372:  'verne.freenode.net' '- a pioneering french author known for novels such as Twenty' [- a pioneering french author known for novels such as Twenty]
# irc_372:  'verne.freenode.net' '- Thousand Leagues Under the Sea, A Journey to the Center of the' [- Thousand Leagues Under the Sea, A Journey to the Center of the]
# irc_372:  'verne.freenode.net' '- Earth, and Around the World in Eighty Days. Often lauded as the' [- Earth, and Around the World in Eighty Days. Often lauded as the]
# irc_372:  'verne.freenode.net' '- Father of science fiction, Verne wrote about concepts such as' [- Father of science fiction, Verne wrote about concepts such as]
# irc_372:  'verne.freenode.net' '- space travel, skyscrapers, and worldwide communications' [- space travel, skyscrapers, and worldwide communications]
# irc_372:  'verne.freenode.net' '- networks long before these ideas became popularised or realised.' [- networks long before these ideas became popularised or realised.]
# irc_372:  'verne.freenode.net' '-  ' [-  ]
# irc_372:  'verne.freenode.net' '- Welcome to freenode - supporting the free and open source' [- Welcome to freenode - supporting the free and open source]
# irc_372:  'verne.freenode.net' '- software communities since 1998.' [- software communities since 1998.]
# irc_372:  'verne.freenode.net' '-  ' [-  ]
# irc_372:  'verne.freenode.net' '- By connecting to freenode you indicate that you have read and' [- By connecting to freenode you indicate that you have read and]
# irc_372:  'verne.freenode.net' '- accept our policies as set out on http://www.freenode.net' [- accept our policies as set out on http://www.freenode.net]
# irc_372:  'verne.freenode.net' '- freenode runs an open proxy scanner. Please join #freenode for' [- freenode runs an open proxy scanner. Please join #freenode for]
# irc_372:  'verne.freenode.net' '- any network-related questions or queries, where a number of' [- any network-related questions or queries, where a number of]
# irc_372:  'verne.freenode.net' '- volunteer staff and helpful users will be happy to assist you.' [- volunteer staff and helpful users will be happy to assist you.]
# irc_372:  'verne.freenode.net' '-  ' [-  ]
# irc_372:  'verne.freenode.net' '- You can meet us at FOSSCON (http://www.fosscon.org) where we get' [- You can meet us at FOSSCON (http://www.fosscon.org) where we get]
# irc_372:  'verne.freenode.net' '- together with like-minded FOSS enthusiasts for talks and' [- together with like-minded FOSS enthusiasts for talks and]
# irc_372:  'verne.freenode.net' '- real-life collaboration.' [- real-life collaboration.]
# irc_372:  'verne.freenode.net' '-  ' [-  ]
# irc_372:  'verne.freenode.net' '- We would like to thank Private Internet Access' [- We would like to thank Private Internet Access]
# irc_372:  'verne.freenode.net' '- (https://www.privateinternetaccess.com/) and the other' [- (https://www.privateinternetaccess.com/) and the other]
# irc_372:  'verne.freenode.net' '- organisations that help keep freenode and our other projects' [- organisations that help keep freenode and our other projects]
# irc_372:  'verne.freenode.net' '- running for their sustained support.' [- running for their sustained support.]
# irc_372:  'verne.freenode.net' '-  ' [-  ]
# irc_372:  'verne.freenode.net' '- In particular we would like to thank the sponsor' [- In particular we would like to thank the sponsor]
# irc_372:  'verne.freenode.net' '- of this server, details of which can be found above.' [- of this server, details of which can be found above.]
# irc_372:  'verne.freenode.net' '-  ' [-  ]
# irc_372:  'verne.freenode.net' '- ***************************************************************' [- ***************************************************************]
# irc_372:  'verne.freenode.net' '- Please read http://blog.freenode.net/2010/11/be-safe-out-there/' [- Please read http://blog.freenode.net/2010/11/be-safe-out-there/]
# irc_372:  'verne.freenode.net' '- ***************************************************************' [- ***************************************************************]
# irc_376:  'verne.freenode.net' 'End of /MOTD command.' [End of /MOTD command.]
# irc_mode:  'PoCoIRC58896' 'PoCoIRC58896' '+i'
# irc_quit:  'PoCoIRC58896!~njh@pool-71-191-146-54.washdc.fios.verizon.net' 'Client Quit'
# irc_error: [Closing Link: pool-71-191-146-54.washdc.fios.verizon.net (Client Quit)]
# irc_disconnected
# irc_plugin_del:  'DCC_1' 'POE::Component::IRC::Plugin::DCC=HASH(0x28b274d0)'
# irc_plugin_del:  'ISupport_1' 'POE::Component::IRC::Plugin::ISupport=HASH(0x294cc4e0)'
# irc_plugin_del:  'Whois_1' 'POE::Component::IRC::Plugin::Whois=HASH(0x294cc4d0)'
# irc_shutdown:  '4'
t/02_behavior/06_online.t .......................... ok
t/02_behavior/07_subclass.t ........................ ok
t/02_behavior/08_parent_session.t .................. ok
t/02_behavior/09_multiple.t ........................ ok
t/02_behavior/10_signal.t .......................... ok
t/02_behavior/11_multi_signal.t .................... ok
t/02_behavior/12_delays.t .......................... ok
t/02_behavior/13_activity.t ........................ ok
t/02_behavior/14_newline.t ......................... ok
t/02_behavior/15_no_stacked_ctcp.t ................. ok
t/02_behavior/16_nonclosing_ctcp.t ................. ok
t/02_behavior/17_raw.t ............................. ok
t/02_behavior/18_shutdown.t ........................ ok
t/03_subclasses/01_state.t ......................... ok
t/03_subclasses/02_qnet.t .......................... ok
t/03_subclasses/03_qnet_state.t .................... ok
t/03_subclasses/04_netsplit.t ...................... ok
t/03_subclasses/05_state_awaypoll.t ................ ok
t/03_subclasses/06_state_nick_sync.t ............... ok
t/04_plugins/01_ctcp/01_load.t ..................... ok
t/04_plugins/01_ctcp/02_replies.t .................. ok
t/04_plugins/02_connector/01_load.t ................ ok
t/04_plugins/02_connector/02_reconnect.t ........... ok
t/04_plugins/03_botaddressed/01_load.t ............. ok
t/04_plugins/03_botaddressed/02_output.t ........... ok
t/04_plugins/04_bottraffic/01_load.t ............... ok
t/04_plugins/04_bottraffic/02_output.t ............. ok
t/04_plugins/05_isupport/01_load.t ................. ok
t/04_plugins/05_isupport/02_isupport.t ............. ok
t/04_plugins/06_plugman/01_load.t .................. ok
t/04_plugins/06_plugman/02_add.t ................... ok
t/04_plugins/06_plugman/03_irc_interface.t ......... ok
t/04_plugins/06_plugman/04_auth_sub.t .............. ok
t/04_plugins/07_console/01_load.t .................. ok
t/04_plugins/08_proxy/01_load.t .................... ok
t/04_plugins/08_proxy/02_connect.t ................. ok
t/04_plugins/09_nickreclaim/01_load.t .............. ok
t/04_plugins/09_nickreclaim/02_reclaim.t ........... ok
t/04_plugins/09_nickreclaim/03_immediate_change.t .. ok
t/04_plugins/09_nickreclaim/04_immediate_quit.t .... ok
t/04_plugins/10_followtail/01_load.t ............... ok
t/04_plugins/11_cycleempty/01_load.t ............... ok
t/04_plugins/11_cycleempty/02_cycle.t .............. ok
t/04_plugins/12_autojoin/01_load.t ................. ok
t/04_plugins/12_autojoin/02_join.t ................. ok
t/04_plugins/12_autojoin/03_banned.t ............... ok
t/04_plugins/12_autojoin/04_kicked.t ............... ok
t/04_plugins/12_autojoin/05_password.t ............. ok
t/04_plugins/12_autojoin/06_kick_ban_password.t .... ok
t/04_plugins/13_botcommand/01_load.t ............... ok
t/04_plugins/13_botcommand/02_commands.t ........... ok
t/04_plugins/13_botcommand/03_options.t ............ ok
t/04_plugins/13_botcommand/04_help.t ............... ok
t/04_plugins/13_botcommand/05_auth_sub.t ........... ok
t/04_plugins/13_botcommand/06_prefix.t ............. ok
t/04_plugins/13_botcommand/07_bare_private.t ....... ok
t/04_plugins/13_botcommand/08_nonword.t ............ ok
t/04_plugins/14_logger/01_load.t ................... ok
t/04_plugins/14_logger/02_public.t ................. ok
t/04_plugins/14_logger/03_private.t ................ ok
t/04_plugins/14_logger/04_dcc_chat.t ............... ok
t/04_plugins/14_logger/05_log_sub.t ................ ok
t/04_plugins/15_nickservid/01_load.t ............... ok
t/04_plugins/16_whois/01_load.t .................... ok
t/04_plugins/16_whois/02_whois.t ................... ok
t/04_plugins/17_dcc/01_load.t ...................... ok
t/04_plugins/17_dcc/02_timeout.t ................... ok
t/04_plugins/17_dcc/03_send.t ...................... ok
t/04_plugins/17_dcc/04_send_spaces.t ............... ok
t/04_plugins/17_dcc/05_resume.t .................... ok
t/04_plugins/17_dcc/06_chat.t ...................... ok
t/04_plugins/17_dcc/07_nat.t ....................... ok
t/05_regression/01_dcc_chat_close.t ................ ok
All tests successful.

Test Summary Report
-------------------
t/02_behavior/06_online.t                        (Wstat: 0 Tests: 5 Failed: 0)
  TODO passed:   2-5
t/03_subclasses/04_netsplit.t                    (Wstat: 0 Tests: 43 Failed: 0)
  TODO passed:   39
Files=81, Tests=1039, 297 wallclock secs ( 2.34 usr  0.98 sys + 193.27 cusr 40.05 csys = 236.64 CPU)
Result: PASS

------------------------------
PREREQUISITES
------------------------------

Prerequisite modules loaded:

requires:

    Module                     Need  Have    
    -------------------------- ----- --------
    IRC::Utils                 0.12  0.12    
    List::MoreUtils            0     0.33    
    POE                        1.311 1.358   
    POE::Component::Syndicator 0     0.06    
    POE::Driver::SysRW         0     1.358   
    POE::Filter::IRCD          2.42  2.44    
    POE::Filter::Line          0     1.358   
    POE::Filter::Stackable     0     1.358   
    POE::Filter::Stream        0     1.358   
    POE::Session               0     1.358   
    POE::Wheel::ReadWrite      0     1.358   
    POE::Wheel::SocketFactory  0     1.358   

build_requires:

    Module                     Need  Have    
    -------------------------- ----- --------
    ExtUtils::MakeMaker        0     6.98    
    Test::Differences          0.61  0.61    
    Test::More                 0.47  1.001003

configure_requires:

    Module                     Need  Have    
    -------------------------- ----- --------
    ExtUtils::MakeMaker        6.30  6.98    


------------------------------
ENVIRONMENT AND OTHER CONTEXT
------------------------------

Environment variables:

    AUTOMATED_TESTING = 1
    PATH = /home/njh/perl5/perlbrew/bin:/home/njh/perl5/perlbrew/perls/perl-5.18.2/bin:/home/njh/perl5/perlbrew/bin:/sbin:/bin:/usr/sbin:/usr/bin:/usr/games:/usr/local/sbin:/usr/local/bin:/home/njh/bin
    PERL5LIB = /home/njh/.cpan/build/POE-Filter-IRCD-2.44-KB7S6A/blib/arch:/home/njh/.cpan/build/POE-Filter-IRCD-2.44-KB7S6A/blib/lib:/home/njh/.cpan/build/IRC-Utils-0.12-V_u3fk/blib/arch:/home/njh/.cpan/build/IRC-Utils-0.12-V_u3fk/blib/lib:/home/njh/.cpan/build/POE-Component-Syndicator-0.06-uN7CB1/blib/arch:/home/njh/.cpan/build/POE-Component-Syndicator-0.06-uN7CB1/blib/lib:/home/njh/.cpan/build/Object-Pluggable-1.29-fJEk3a/blib/arch:/home/njh/.cpan/build/Object-Pluggable-1.29-fJEk3a/blib/lib
    PERL5OPT = 
    PERL5_CPANPLUS_IS_RUNNING = 58464
    PERL5_CPAN_IS_RUNNING = 58464
    PERL5_MINISMOKEBOX = 0.58
    PERLBREW_BASHRC_VERSION = 0.67
    PERLBREW_HOME = /home/njh/.perlbrew
    PERLBREW_MANPATH = /home/njh/perl5/perlbrew/perls/perl-5.18.2/man
    PERLBREW_PATH = /home/njh/perl5/perlbrew/bin:/home/njh/perl5/perlbrew/perls/perl-5.18.2/bin
    PERLBREW_PERL = perl-5.18.2
    PERLBREW_ROOT = /home/njh/perl5/perlbrew
    PERLBREW_VERSION = 0.67
    PERL_EXTUTILS_AUTOINSTALL = --defaultdeps
    PERL_MM_USE_DEFAULT = 1
    SHELL = /bin/bash
    TERM = xterm

Perl special variables (and OS-specific diagnostics, for MSWin32):

    $^X = /usr/home/njh/perl5/perlbrew/perls/perl-5.18.2/bin/perl
    $UID/$EUID = 1000 / 1000
    $GID = 1000 1000 0
    $EGID = 1000 1000 0

Perl module toolchain versions installed:

    Module              Have    
    ------------------- --------
    CPAN                2.05    
    CPAN::Meta          2.141170
    Cwd                 3.40    
    ExtUtils::CBuilder  0.280216
    ExtUtils::Command   1.18    
    ExtUtils::Install   1.63    
    ExtUtils::MakeMaker 6.98    
    ExtUtils::Manifest  1.63    
    ExtUtils::ParseXS   3.24    
    File::Spec          3.40    
    JSON                2.90    
    JSON::PP            2.27203 
    Module::Build       0.4205  
    Module::Signature   n/a     
    Parse::CPAN::Meta   1.4414  
    Test::Harness       3.30    
    Test::More          1.001003
    YAML                0.90    
    YAML::Syck          1.27    
    version             0.9902  


--

Summary of my perl5 (revision 5 version 18 subversion 2) configuration:
   
  Platform:
    osname=freebsd, osvers=9.1-release, archname=i386-freebsd-thread-multi
    uname='freebsd amber 9.1-release freebsd 9.1-release #0 r243826: tue dec 4 06:55:39 utc 2012 root@obrian.cse.buffalo.edu:usrobjusrsrcsysgeneric i386 '
    config_args='-de -Dprefix=/home/njh/perl5/perlbrew/perls/perl-5.18.2 -Duseithreads -Dusemultiplicity -Accflags=-O2 -W -Wformat=2 -Wswitch -Wshadow -Wwrite-strings -Wuninitialized -Wall -pipe -mtune=native -march=native -fomit-frame-pointer -msse2 -msse -mmmx -mfpmath=sse -pedantic -D_FORTIFY_SOURCE=2 -Wpointer-arith -Wstrict-prototypes -fstack-protector -Wstack-protector -Wextra -Wbad-function-cast -Wcast-align -Wcast-qual -Wdisabled-optimization -Wendif-labels -Wfloat-equal -Wformat-nonliteral -Winline -Wmissing-declarations -Wmissing-prototypes -Wnested-externs -Wpointer-arith -Wundef -Wformat-security -ftree-vectorize -ftree-vectorizer-verbose=2 -Aeval:scriptdir=/home/njh/perl5/perlbrew/perls/perl-5.18.2/bin'
    hint=recommended, useposix=true, d_sigaction=define
    useithreads=define, usemultiplicity=define
    useperlio=define, d_sfio=undef, uselargefiles=define, usesocks=undef
    use64bitint=undef, use64bitall=undef, uselongdouble=undef
    usemymalloc=n, bincompat5005=undef
  Compiler:
    cc='cc', ccflags ='-DHAS_FPSETMASK -DHAS_FLOATINGPOINT_H -O2 -W -Wformat=2 -Wswitch -Wshadow -Wwrite-strings -Wuninitialized -Wall -pipe -mtune=native -march=native -fomit-frame-pointer -msse2 -msse -mmmx -mfpmath=sse -pedantic -D_FORTIFY_SOURCE=2 -Wpointer-arith -Wstrict-prototypes -fstack-protector -Wstack-protector -Wextra -Wbad-function-cast -Wcast-align -Wcast-qual -Wdisabled-optimization -Wendif-labels -Wfloat-equal -Wformat-nonliteral -Winline -Wmissing-declarations -Wmissing-prototypes -Wnested-externs -Wpointer-arith -Wundef -Wformat-security -ftree-vectorize -ftree-vectorizer-verbose=2 -fno-strict-aliasing -I/usr/local/include',
    optimize='-O',
    cppflags='-DHAS_FPSETMASK -DHAS_FLOATINGPOINT_H -O2 -W -Wformat=2 -Wswitch -Wshadow -Wwrite-strings -Wuninitialized -Wall -pipe -mtune=native -march=native -fomit-frame-pointer -msse2 -msse -mmmx -mfpmath=sse -pedantic -D_FORTIFY_SOURCE=2 -Wpointer-arith -Wstrict-prototypes -fstack-protector -Wstack-protector -Wextra -Wbad-function-cast -Wcast-align -Wcast-qual -Wdisabled-optimization -Wendif-labels -Wfloat-equal -Wformat-nonliteral -Winline -Wmissing-declarations -Wmissing-prototypes -Wnested-externs -Wpointer-arith -Wundef -Wformat-security -ftree-vectorize -ftree-vectorizer-verbose=2 -fno-strict-aliasing -I/usr/local/include'
    ccversion='', gccversion='4.2.1 20070831 patched [FreeBSD]', gccosandvers=''
    intsize=4, longsize=4, ptrsize=4, doublesize=8, byteorder=1234
    d_longlong=define, longlongsize=8, d_longdbl=define, longdblsize=12
    ivtype='long', ivsize=4, nvtype='double', nvsize=8, Off_t='off_t', lseeksize=8
    alignbytes=4, prototype=define
  Linker and Libraries:
    ld='cc', ldflags ='-pthread -Wl,-E  -fstack-protector -L/usr/local/lib'
    libpth=/usr/lib /usr/local/lib
    libs=-lm -lcrypt
    perllibs=-lm -lcrypt
    libc=, so=so, useshrplib=false, libperl=libperl.a
    gnulibc_version=''
  Dynamic Linking:
    dlsrc=dl_dlopen.xs, dlext=so, d_dlsymun=undef, ccdlflags=' '
    cccdlflags='-DPIC -fPIC', lddlflags='-shared  -L/usr/local/lib -fstack-protector'


Characteristics of this binary (from libperl): 
  Compile-time options: HAS_TIMES MULTIPLICITY PERLIO_LAYERS
                        PERL_DONT_CREATE_GVSV
                        PERL_HASH_FUNC_ONE_AT_A_TIME_HARD
                        PERL_IMPLICIT_CONTEXT PERL_MALLOC_WRAP
                        PERL_PRESERVE_IVUV PERL_SAWAMPERSAND USE_ITHREADS
                        USE_LARGE_FILES USE_LOCALE USE_LOCALE_COLLATE
                        USE_LOCALE_CTYPE USE_LOCALE_NUMERIC USE_PERLIO
                        USE_PERL_ATOF USE_REENTRANT_API
  Built under freebsd
  Compiled at Jan 18 2014 17:14:35
  %ENV:
    PERL5LIB="/home/njh/.cpan/build/POE-Filter-IRCD-2.44-KB7S6A/blib/arch:/home/njh/.cpan/build/POE-Filter-IRCD-2.44-KB7S6A/blib/lib:/home/njh/.cpan/build/IRC-Utils-0.12-V_u3fk/blib/arch:/home/njh/.cpan/build/IRC-Utils-0.12-V_u3fk/blib/lib:/home/njh/.cpan/build/POE-Component-Syndicator-0.06-uN7CB1/blib/arch:/home/njh/.cpan/build/POE-Component-Syndicator-0.06-uN7CB1/blib/lib:/home/njh/.cpan/build/Object-Pluggable-1.29-fJEk3a/blib/arch:/home/njh/.cpan/build/Object-Pluggable-1.29-fJEk3a/blib/lib"
    PERL5OPT=""
    PERL5_CPANPLUS_IS_RUNNING="58464"
    PERL5_CPAN_IS_RUNNING="58464"
    PERL5_MINISMOKEBOX="0.58"
    PERLBREW_BASHRC_VERSION="0.67"
    PERLBREW_HOME="/home/njh/.perlbrew"
    PERLBREW_MANPATH="/home/njh/perl5/perlbrew/perls/perl-5.18.2/man"
    PERLBREW_PATH="/home/njh/perl5/perlbrew/bin:/home/njh/perl5/perlbrew/perls/perl-5.18.2/bin"
    PERLBREW_PERL="perl-5.18.2"
    PERLBREW_ROOT="/home/njh/perl5/perlbrew"
    PERLBREW_VERSION="0.67"
    PERL_EXTUTILS_AUTOINSTALL="--defaultdeps"
    PERL_MM_USE_DEFAULT="1"
  @INC:
    /home/njh/.cpan/build/POE-Filter-IRCD-2.44-KB7S6A/blib/arch
    /home/njh/.cpan/build/POE-Filter-IRCD-2.44-KB7S6A/blib/lib
    /home/njh/.cpan/build/IRC-Utils-0.12-V_u3fk/blib/arch
    /home/njh/.cpan/build/IRC-Utils-0.12-V_u3fk/blib/lib
    /home/njh/.cpan/build/POE-Component-Syndicator-0.06-uN7CB1/blib/arch
    /home/njh/.cpan/build/POE-Component-Syndicator-0.06-uN7CB1/blib/lib
    /home/njh/.cpan/build/Object-Pluggable-1.29-fJEk3a/blib/arch
    /home/njh/.cpan/build/Object-Pluggable-1.29-fJEk3a/blib/lib
    /home/njh/perl5/perlbrew/perls/perl-5.18.2/lib/site_perl/5.18.2/i386-freebsd-thread-multi
    /home/njh/perl5/perlbrew/perls/perl-5.18.2/lib/site_perl/5.18.2
    /home/njh/perl5/perlbrew/perls/perl-5.18.2/lib/5.18.2/i386-freebsd-thread-multi
    /home/njh/perl5/perlbrew/perls/perl-5.18.2/lib/5.18.2
    .